{"text_format":"3","workbook":"xlsx","n_sheets":9,"sheets":["Steps","PI","S","PQ","Static ID Table","Cover","Instructions","Audit notes","P&Cs "],"not_rendered":{"images":2,"defined_names":7},"read":"whole","date_system":"1900"}

{"sheet":"Steps","index":0,"n_rows":13,"n_cols":3,"rows_kept":13,"hidden":true}
["Preparatory Steps:",null,"Additional notes"]
["i","Run Get Sections flow","only necessary if sections have been updated since last run"]
["ii","Run Get Sections:Subsections Flow","not necessary for new checklists (checklists that have already been run once will already have existing Section:Subsection relationships)"]
["iii","Save document as YYMMDD_PC_FAP_Interim"]
["Process Run:"]
[1,"Run Get P&Cs flow with correct HTTPS filter"]
[2,"Copy section guids from PI table to unique sections table, remove duplicates, and organize by order"]
[3,"Copy subsection guids from PI table to unique subsections table, remove duplicates"]
[4,"Copy subsection AND section guids from PI table and paste into Section:Subsection table, remove duplicates based on Title column"]
[5,"Run Section:Subsection Flow"]
[6,"run PQ flow"]
[7,"add P&C guids that didn't get retrieved from PQ flow run to the bottom of the table on Sheet \"PQ\""]
[8,"run build flow"]

{"sheet":"PI","index":1,"n_rows":143,"n_cols":24,"rows_kept":143,"hidden":true}
["GUID","Column1","Number","PGUID","P","CGUID","C","L","LGUID","MGUID","M","JG","GG","SGUID","S","Sbody","Order","SSGUID","SS","Ssbody","Column2","NA Exempt","PHU","justification"]
["5daR9wN7iqTSOfNZubjNDm",null,"G1","4PfToMuI0tVWknFcO19tiI","The producer informs the workers of the GRASP assessment and its scope at least two working days before the date of assessment.","4TkA3K053g7gaDhDkDuHGP","The term “inform” shall require the producer to include reference to the key areas of the standards.\nThe term “GRASP scope” shall require the producer to provide workers with/remind workers of where to access the producer’s human rights policy and/or NIG. These requirements shall also cover any subcontracted labor. For family farms without hired workers, “workers” shall refer to core family members working on the farm.\nException: For unannounced assessments, this P&C shall be considered compliant. \n","oOfpsr1EZQ6CxCOIvBlFe",{"$f":"INDEX(Level[Level],MATCH(PIs[[#This Row],[L]],Level[GUID],0),1)","v":"Minor Must"},null,null,"The assessor shall check documental evidence and, where interviews are possible, cross-check such documental evidence with workers testimony of the workers and worker representation.",null,"538rGD6MQerNMNSCfcYCp7",{"$f":"INDEX(allsections[[S]:[Order]],MATCH(PIs[[#This Row],[SGUID]],allsections[SGUID],0),1)","v":"GENERAL"},{"$f":"INDEX(allsections[[S]:[Order]],MATCH(PIs[[#This Row],[SGUID]],allsections[SGUID],0),2)","v":"-"},{"$f":"INDEX(allsections[[S]:[Order]],MATCH(PIs[[#This Row],[SGUID]],allsections[SGUID],0),3)","v":1},"5TvyR0UgB0EOmnMkFaZftX",{"$f":"INDEX(allsections[[S]:[Order]],MATCH(PIs[[#This Row],[SSGUID]],allsections[SGUID],0),1)","v":"-"},{"$f":"INDEX(allsections[[S]:[Order]],MATCH(PIs[[#This Row],[SSGUID]],allsections[SGUID],0),2)","v":"-"},{"$f":"INDEX(S2PQ_relational[],MATCH(PIs[[#This Row],[GUID]],S2PQ_relational[PIGUID],0),2)","v":"4Avk7C7MmAoFg744HYI5OO"},false]
["1qADWk8X0Hyx4oiNlVbcwH",null,"G4","5ENZaiOqq7tLU0hORsaYuz","Effective corrective actions are taken to address all non-compliant Major Musts and at least a percentage of Minor Musts detected during the self-assessment/internal GRASP assessment. ","3V7AMRflAYt0XyutnqIri9","Before or at the beginning of the assessment, any corrective actions shall be documented. \nThe assessor shall include comments in the assessment report wherever deviations are found between the current assessment and the self-assessment/internal GRASP assessment.","oOfpsr1EZQ6CxCOIvBlFe",{"$f":"INDEX(Level[Level],MATCH(PIs[[#This Row],[L]],Level[GUID],0),1)","v":"Minor Must"},null,null,"Any changes necessary as part of the corrective actions shall have been implemented. \nCompliance is achieved when zero non-conformances are detected during the self-assessment/internal GRASP assessment or if all non-conformances detected during the self-assessment/internal GRASP assessment have been resolved before the CB assessment.\n",null,"538rGD6MQerNMNSCfcYCp7",{"$f":"INDEX(allsections[[S]:[Order]],MATCH(PIs[[#This Row],[SGUID]],allsections[SGUID],0),1)","v":"GENERAL"},{"$f":"INDEX(allsections[[S]:[Order]],MATCH(PIs[[#This Row],[SGUID]],allsections[SGUID],0),2)","v":"-"},{"$f":"INDEX(allsections[[S]:[Order]],MATCH(PIs[[#This Row],[SGUID]],allsections[SGUID],0),3)","v":1},"5TvyR0UgB0EOmnMkFaZftX",{"$f":"INDEX(allsections[[S]:[Order]],MATCH(PIs[[#This Row],[SSGUID]],allsections[SGUID],0),1)","v":"-"},{"$f":"INDEX(allsections[[S]:[Order]],MATCH(PIs[[#This Row],[SSGUID]],allsections[SGUID],0),2)","v":"-"},{"$f":"INDEX(S2PQ_relational[],MATCH(PIs[[#This Row],[GUID]],S2PQ_relational[PIGUID],0),2)","v":"4Avk7C7MmAoFg744HYI5OO"},false]
["1o4ipagm2j86vbWnQ1M7Gc",null,"G4","5ENZaiOqq7tLU0hORsaYuz","Effective corrective actions are taken to address all non-compliant Major Musts and at least a percentage of Minor Musts detected during the self-assessment/internal GRASP assessment. ","3V7AMRflAYt0XyutnqIri9","Before or at the beginning of the assessment, any corrective actions shall be documented. \nThe assessor shall include comments in the assessment report wherever deviations are found between the current assessment and the self-assessment/internal GRASP assessment.","oOfpsr1EZQ6CxCOIvBlFe",{"$f":"INDEX(Level[Level],MATCH(PIs[[#This Row],[L]],Level[GUID],0),1)","v":"Minor Must"},null,null,"Any changes necessary as part of the corrective actions shall have been implemented. \nCompliance is achieved when zero non-conformances are detected during the self-assessment/internal GRASP assessment or if all non-conformances detected during the self-assessment/internal GRASP assessment have been resolved before the CB assessment.",null,"538rGD6MQerNMNSCfcYCp7",{"$f":"INDEX(allsections[[S]:[Order]],MATCH(PIs[[#This Row],[SGUID]],allsections[SGUID],0),1)","v":"GENERAL"},{"$f":"INDEX(allsections[[S]:[Order]],MATCH(PIs[[#This Row],[SGUID]],allsections[SGUID],0),2)","v":"-"},{"$f":"INDEX(allsections[[S]:[Order]],MATCH(PIs[[#This Row],[SGUID]],allsections[SGUID],0),3)","v":1},"5TvyR0UgB0EOmnMkFaZftX",{"$f":"INDEX(allsections[[S]:[Order]],MATCH(PIs[[#This Row],[SSGUID]],allsections[SGUID],0),1)","v":"-"},{"$f":"INDEX(allsections[[S]:[Order]],MATCH(PIs[[#This Row],[SSGUID]],allsections[SGUID],0),2)","v":"-"},{"$f":"INDEX(S2PQ_relational[],MATCH(PIs[[#This Row],[GUID]],S2PQ_relational[PIGUID],0),2)","v":"4Avk7C7MmAoFg744HYI5OO"},false]
["5l7lQUJ4H5ofm7vyAhCQPQ",null,"G3","5aTQsM5I6XdOuaUfKgJCE2","The producer/producer group completes a minimum of one self-assessment/internal GRASP assessment annually. ","2t0EEnWGVWLnMDU2TktWAl","There shall be documented evidence available that a self-assessment/an internal GRASP assessment has been completed under the responsibility of the producer/producer group (this may be carried out by a person other than the producer). The self-assessment/internal GRASP assessment shall have been completed before the CB external assessment and during the time with the highest presence of workers at the farm and when agricultural activities are taking place. For family farms without hired workers, “workers” shall refer to core family members working on the farm.","5nISxpmIvwZJyExTIGOvlS",{"$f":"INDEX(Level[Level],MATCH(PIs[[#This Row],[L]],Level[GUID],0),1)","v":"Major Must"},null,null,"Self-assessments/internal GRASP assessment shall include all applicable P&Cs, even if the relevant tasks are carried out by a subcontracted company/labor. The self-assessment/internal GRASP assessment checklist shall contain comments on the evidence observed for all non-applicable and non-compliant P&Cs.\n",null,"538rGD6MQerNMNSCfcYCp7",{"$f":"INDEX(allsections[[S]:[Order]],MATCH(PIs[[#This Row],[SGUID]],allsections[SGUID],0),1)","v":"GENERAL"},{"$f":"INDEX(allsections[[S]:[Order]],MATCH(PIs[[#This Row],[SGUID]],allsections[SGUID],0),2)","v":"-"},{"$f":"INDEX(allsections[[S]:[Order]],MATCH(PIs[[#This Row],[SGUID]],allsections[SGUID],0),3)","v":1},"5TvyR0UgB0EOmnMkFaZftX",{"$f":"INDEX(allsections[[S]:[Order]],MATCH(PIs[[#This Row],[SSGUID]],allsections[SGUID],0),1)","v":"-"},{"$f":"INDEX(allsections[[S]:[Order]],MATCH(PIs[[#This Row],[SSGUID]],allsections[SGUID],0),2)","v":"-"},{"$f":"INDEX(S2PQ_relational[],MATCH(PIs[[#This Row],[GUID]],S2PQ_relational[PIGUID],0),2)","v":"4Avk7C7MmAoFg744HYI5OO"},false]
["7lTZOj0V0Ao8cJAdaJGgd5",null,"G3","5aTQsM5I6XdOuaUfKgJCE2","The producer/producer group completes a minimum of one self-assessment/internal GRASP assessment annually. ","2t0EEnWGVWLnMDU2TktWAl","There shall be documented evidence available that a self-assessment/an internal GRASP assessment has been completed under the responsibility of the producer/producer group (this may be carried out by a person other than the producer). The self-assessment/internal GRASP assessment shall have been completed before the CB external assessment and during the time with the highest presence of workers at the farm and when agricultural activities are taking place. For family farms without hired workers, “workers” shall refer to core family members working on the farm.","5nISxpmIvwZJyExTIGOvlS",{"$f":"INDEX(Level[Level],MATCH(PIs[[#This Row],[L]],Level[GUID],0),1)","v":"Major Must"},null,null,"Self-assessments/internal GRASP assessment shall include all applicable P&Cs, even if the relevant tasks are carried out by a subcontracted company/labor. The self-assessment/internal GRASP assessment checklist shall contain comments on the evidence observed for all non-applicable and non-compliant P&Cs.\n",null,"538rGD6MQerNMNSCfcYCp7",{"$f":"INDEX(allsections[[S]:[Order]],MATCH(PIs[[#This Row],[SGUID]],allsections[SGUID],0),1)","v":"GENERAL"},{"$f":"INDEX(allsections[[S]:[Order]],MATCH(PIs[[#This Row],[SGUID]],allsections[SGUID],0),2)","v":"-"},{"$f":"INDEX(allsections[[S]:[Order]],MATCH(PIs[[#This Row],[SGUID]],allsections[SGUID],0),3)","v":1},"5TvyR0UgB0EOmnMkFaZftX",{"$f":"INDEX(allsections[[S]:[Order]],MATCH(PIs[[#This Row],[SSGUID]],allsections[SGUID],0),1)","v":"-"},{"$f":"INDEX(allsections[[S]:[Order]],MATCH(PIs[[#This Row],[SSGUID]],allsections[SGUID],0),2)","v":"-"},{"$f":"INDEX(S2PQ_relational[],MATCH(PIs[[#This Row],[GUID]],S2PQ_relational[PIGUID],0),2)","v":"4Avk7C7MmAoFg744HYI5OO"},false]
["2CMiJVpd4Z92GuVArniewu",null,"G2","3v4uNV1CAQAwCUozMu9KPq","The producer provides a register of any/all workers hired and those present on the date of the assessment.","6FP9A4L3N4CfzmAaBjg19c","The register is only a reference to be used by the assessor and not to be kept. Once the assessment is completed, the assessor shall return the register to the producer without keeping copies.\nThe register shall include all workers of the current (calendar/seasonal) year or at least those hired since the last assessment. Use of subcontracted labor, prison labor, and/or family labor shall be clearly indicated. For family farms without hired workers, “workers” shall refer to core family members working on the farm.","oOfpsr1EZQ6CxCOIvBlFe",{"$f":"INDEX(Level[Level],MATCH(PIs[[#This Row],[L]],Level[GUID],0),1)","v":"Minor Must"},null,null,"The register shall contain information (excepting information not legally allowed to be included) on the type of contract, migratory status, date of birth, date of hire, and date of dismissal, as applicable. The producer shall provide verification of all workers present on the date of the assessment.\n",null,"538rGD6MQerNMNSCfcYCp7",{"$f":"INDEX(allsections[[S]:[Order]],MATCH(PIs[[#This Row],[SGUID]],allsections[SGUID],0),1)","v":"GENERAL"},{"$f":"INDEX(allsections[[S]:[Order]],MATCH(PIs[[#This Row],[SGUID]],allsections[SGUID],0),2)","v":"-"},{"$f":"INDEX(allsections[[S]:[Order]],MATCH(PIs[[#This Row],[SGUID]],allsections[SGUID],0),3)","v":1},"5TvyR0UgB0EOmnMkFaZftX",{"$f":"INDEX(allsections[[S]:[Order]],MATCH(PIs[[#This Row],[SSGUID]],allsections[SGUID],0),1)","v":"-"},{"$f":"INDEX(allsections[[S]:[Order]],MATCH(PIs[[#This Row],[SSGUID]],allsections[SGUID],0),2)","v":"-"},{"$f":"INDEX(S2PQ_relational[],MATCH(PIs[[#This Row],[GUID]],S2PQ_relational[PIGUID],0),2)","v":"4Avk7C7MmAoFg744HYI5OO"},false]
["7yA7XRnr1WZ1iZgqnC9ZCF",null,"G2","3v4uNV1CAQAwCUozMu9KPq","The producer provides a register of any/all workers hired and those present on the date of the assessment.","6FP9A4L3N4CfzmAaBjg19c","The register is only a reference to be used by the assessor and not to be kept. Once the assessment is completed, the assessor shall return the register to the producer without keeping copies.\nThe register shall include all workers of the current (calendar/seasonal) year or at least those hired since the last assessment. Use of subcontracted labor, prison labor, and/or family labor shall be clearly indicated. For family farms without hired workers, “workers” shall refer to core family members working on the farm.","oOfpsr1EZQ6CxCOIvBlFe",{"$f":"INDEX(Level[Level],MATCH(PIs[[#This Row],[L]],Level[GUID],0),1)","v":"Minor Must"},null,null,"The register shall contain information (excepting information not legally allowed to be included) on the type of contract, migratory status, date of birth, date of hire, and date of dismissal, as applicable. The producer shall provide verification of all workers present on the date of the assessment.\n",null,"538rGD6MQerNMNSCfcYCp7",{"$f":"INDEX(allsections[[S]:[Order]],MATCH(PIs[[#This Row],[SGUID]],allsections[SGUID],0),1)","v":"GENERAL"},{"$f":"INDEX(allsections[[S]:[Order]],MATCH(PIs[[#This Row],[SGUID]],allsections[SGUID],0),2)","v":"-"},{"$f":"INDEX(allsections[[S]:[Order]],MATCH(PIs[[#This Row],[SGUID]],allsections[SGUID],0),3)","v":1},"5TvyR0UgB0EOmnMkFaZftX",{"$f":"INDEX(allsections[[S]:[Order]],MATCH(PIs[[#This Row],[SSGUID]],allsections[SGUID],0),1)","v":"-"},{"$f":"INDEX(allsections[[S]:[Order]],MATCH(PIs[[#This Row],[SSGUID]],allsections[SGUID],0),2)","v":"-"},{"$f":"INDEX(S2PQ_relational[],MATCH(PIs[[#This Row],[GUID]],S2PQ_relational[PIGUID],0),2)","v":"4Avk7C7MmAoFg744HYI5OO"},false]
["4lVHcGLPT4btdMvIq4YwsF",null,"G1","4PfToMuI0tVWknFcO19tiI","The producer informs the workers of the GRASP assessment and its scope at least two working days before the date of assessment.","4TkA3K053g7gaDhDkDuHGP","The term “inform” shall require the producer to include reference to the key areas of the standards.\nThe term “GRASP scope” shall require the producer to provide workers with/remind workers of where to access the producer’s human rights policy and/or NIG. These requirements shall also cover any subcontracted labor. For family farms without hired workers, “workers” shall refer to core family members working on the farm.\nException: For unannounced assessments, this P&C shall be considered compliant. \n","oOfpsr1EZQ6CxCOIvBlFe",{"$f":"INDEX(Level[Level],MATCH(PIs[[#This Row],[L]],Level[GUID],0),1)","v":"Minor Must"},null,null,"The assessor shall check documental evidence and, where interviews are possible, cross-check such documental evidence with workers testimony of the workers and worker representation.\n",null,"538rGD6MQerNMNSCfcYCp7",{"$f":"INDEX(allsections[[S]:[Order]],MATCH(PIs[[#This Row],[SGUID]],allsections[SGUID],0),1)","v":"GENERAL"},{"$f":"INDEX(allsections[[S]:[Order]],MATCH(PIs[[#This Row],[SGUID]],allsections[SGUID],0),2)","v":"-"},{"$f":"INDEX(allsections[[S]:[Order]],MATCH(PIs[[#This Row],[SGUID]],allsections[SGUID],0),3)","v":1},"5TvyR0UgB0EOmnMkFaZftX",{"$f":"INDEX(allsections[[S]:[Order]],MATCH(PIs[[#This Row],[SSGUID]],allsections[SGUID],0),1)","v":"-"},{"$f":"INDEX(allsections[[S]:[Order]],MATCH(PIs[[#This Row],[SSGUID]],allsections[SGUID],0),2)","v":"-"},{"$f":"INDEX(S2PQ_relational[],MATCH(PIs[[#This Row],[GUID]],S2PQ_relational[PIGUID],0),2)","v":"4Avk7C7MmAoFg744HYI5OO"},false]
["1DtFWIImb9ROE9KpP2DR4A",null,"09.04","2krFusDS0ok7Y8KO6SbO2h","Supervisory staff has been informed of the legal requirements on working age and of the effective remediation plan (when workers under the age 18 are found working in non-compliance). ","157k3yeHwTc8OWpLpj02ip","The term “supervisory staff” shall refer to any staff member in contact with workers or with supervising duties at the production site (e.g., foreman, manager, crew supervisor, etc.). If the producer does not have such staff, the producer shall have knowledge of the GRASP criteria on this topic and shall have a remediation plan.\nThere shall be a documented remediation plan for potential non-compliances of all the P&Cs in this section. Compliance without a remediation plan shall be possible only if no workers are under the age of 18. For Option 2 producer groups, compliance without a remediation plan shall be possible only if there are no family farms among the producer group members and/or none of the producer group members have workers under the age of 18.\nFor family farms without hired workers, “workers” shall refer to core family members working on the farm.\nThe remediation plan shall, at minimum, include written details on how the children will be removed from the workplace and replaced and how the organization is preventing every individual child from entering worse forms of child labor (including hazardous work, slavery-like practices, recruitment into armed conflict, sex work, labor trafficking, and/or illicit activities).\nIn case of non-compliances with P&Cs under this section, immediate remedy for children or young workers shall be provided (i.e., removal from situation). For young workers, in addition to the removal, there shall be assurance of future remediation actions (included in the plan) securing access to adequate work and wages (if applicable). This shall be applicable to family farms accordingly.","oOfpsr1EZQ6CxCOIvBlFe",{"$f":"INDEX(Level[Level],MATCH(PIs[[#This Row],[L]],Level[GUID],0),1)","v":"Minor Must"},null,null,"The plan and follow-up actions shall be documented by the producer and verified by the assessor. \nFor Option 2 producer groups, the plan can be developed at QMS level. \nThe assessor shall check on producer group member level that each producer is aware and has knowledge of the plan (i.e., the plan is available at the production site and staff have been instructed). Documental evidence of the type of information with evidence of participation of the supervisory staff shall be required.\n",null,"3Ff44zJMwGkTtn6xQrauV0",{"$f":"INDEX(allsections[[S]:[Order]],MATCH(PIs[[#This Row],[SGUID]],allsections[SGUID],0),1)","v":"WORKING AGE, CHILD LABOR, AND YOUNG WORKERS"},{"$f":"INDEX(allsections[[S]:[Order]],MATCH(PIs[[#This Row],[SGUID]],allsections[SGUID],0),2)","v":"-"},{"$f":"INDEX(allsections[[S]:[Order]],MATCH(PIs[[#This Row],[SGUID]],allsections[SGUID],0),3)","v":10},"5TvyR0UgB0EOmnMkFaZftX",{"$f":"INDEX(allsections[[S]:[Order]],MATCH(PIs[[#This Row],[SSGUID]],allsections[SGUID],0),1)","v":"-"},{"$f":"INDEX(allsections[[S]:[Order]],MATCH(PIs[[#This Row],[SSGUID]],allsections[SGUID],0),2)","v":"-"},{"$f":"INDEX(S2PQ_relational[],MATCH(PIs[[#This Row],[GUID]],S2PQ_relational[PIGUID],0),2)","v":"4Avk7C7MmAoFg744HYI5OO"},false]
["2j6Ket1Nb7Mbvw9lA7fb04",null,"09.04","2krFusDS0ok7Y8KO6SbO2h","Supervisory staff has been informed of the legal requirements on working age and of the effective remediation plan (when workers under the age 18 are found working in non-compliance). ","157k3yeHwTc8OWpLpj02ip","The term “supervisory staff” shall refer to any staff member in contact with workers or with supervising duties at the production site (e.g., foreman, manager, crew supervisor, etc.). If the producer does not have such staff, the producer shall have knowledge of the GRASP criteria on this topic and shall have a remediation plan.\nThere shall be a documented remediation plan for potential non-compliances of all the P&Cs in this section. Compliance without a remediation plan shall be possible only if no workers are under the age of 18. For Option 2 producer groups, compliance without a remediation plan shall be possible only if there are no family farms among the producer group members and/or none of the producer group members have workers under the age of 18.\nFor family farms without hired workers, “workers” shall refer to core family members working on the farm.\nThe remediation plan shall, at minimum, include written details on how the children will be removed from the workplace and replaced and how the organization is preventing every individual child from entering worse forms of child labor (including hazardous work, slavery-like practices, recruitment into armed conflict, sex work, labor trafficking, and/or illicit activities).\nIn case of non-compliances with P&Cs under this section, immediate remedy for children or young workers shall be provided (i.e., removal from situation). For young workers, in addition to the removal, there shall be assurance of future remediation actions (included in the plan) securing access to adequate work and wages (if applicable). This shall be applicable to family farms accordingly.","oOfpsr1EZQ6CxCOIvBlFe",{"$f":"INDEX(Level[Level],MATCH(PIs[[#This Row],[L]],Level[GUID],0),1)","v":"Minor Must"},null,null,"The plan and follow-up actions shall be documented by the producer and verified by the assessor. \nFor Option 2 producer groups, the plan can be developed at QMS level. \nThe assessor shall check on producer group member level that each producer is aware and has knowledge of the plan (i.e., the plan is available at the production site and staff have been instructed). Documental evidence of the type of information with evidence of participation of the supervisory staff shall be required.\n",null,"3Ff44zJMwGkTtn6xQrauV0",{"$f":"INDEX(allsections[[S]:[Order]],MATCH(PIs[[#This Row],[SGUID]],allsections[SGUID],0),1)","v":"WORKING AGE, CHILD LABOR, AND YOUNG WORKERS"},{"$f":"INDEX(allsections[[S]:[Order]],MATCH(PIs[[#This Row],[SGUID]],allsections[SGUID],0),2)","v":"-"},{"$f":"INDEX(allsections[[S]:[Order]],MATCH(PIs[[#This Row],[SGUID]],allsections[SGUID],0),3)","v":10},"5TvyR0UgB0EOmnMkFaZftX",{"$f":"INDEX(allsections[[S]:[Order]],MATCH(PIs[[#This Row],[SSGUID]],allsections[SGUID],0),1)","v":"-"},{"$f":"INDEX(allsections[[S]:[Order]],MATCH(PIs[[#This Row],[SSGUID]],allsections[SGUID],0),2)","v":"-"},{"$f":"INDEX(S2PQ_relational[],MATCH(PIs[[#This Row],[GUID]],S2PQ_relational[PIGUID],0),2)","v":"4Avk7C7MmAoFg744HYI5OO"},false]
["2qCBkbLsGCA2vaZfEo70jl",null,"09.03","3A96KCKLVlQEQ0ICZbTOW3","Children on family farms shall be employed only by their core family under conditions that support their protection, right to education, and safety. ","15iQLd0WEU80aMlYfduOLo","The term “conditions that support their protection, right to education, and safety” is defined as follows: \nPersons below the legal minimum age of employment working on their family’s farm, shall at least work under the following conditions: \n1. The minors are under direct supervision of their parents or guardians. \n2. Their work is done on their own family farms.\n3. The work tasks do not interfere with schooling (i.e., minors are enrolled in and attend school).\n4. The work is not at night or hazardous in nature.\n5. The work consists of age-appropriate tasks that are of lower risk.\n6. The hours of work are monitored (reported) to be less than those of workers at or above the legal working age, including hours spent in household chores (e.g., cleaning, cooking, childcare, collecting water and firewood).\n7. Parents or guardians declare these conditions in a written self-statement, which is kept on file by the producer and that must be reviewed and cross-checked on site during GRASP assessment.","5nISxpmIvwZJyExTIGOvlS",{"$f":"INDEX(Level[Level],MATCH(PIs[[#This Row],[L]],Level[GUID],0),1)","v":"Major Must"},null,null,"Compliance shall be granted if the assessor has verified that no children (minors under the legal minimum age of employment) are employed or living at the farm. The assessor shall check that no children worked at the farm. \nNot accepted only with the indication of the producer. The assessor shall check each of the above conditions with the producer and provide comments in each of them when children are workers.\nFor Option 2 producer groups, these conditions shall be monitored as a procedure in the GRASP QMS audit and evaluated in the internal GRASP assessment. The producer shall show the results of each of the procedures above to the assessor. \nIf not defined in the NIG or by local law, hazardous conditions are those defined as such in the ILO Convention, or any conditions that could be dangerous to the young workers’ health and safety according to the applicable IFA topic “workers’ well-being” or local regulations. Also considered hazardous are any conditions that jeopardize young workers’ development or prevent them from finishing their compulsory school education.\nThe assessor shall check the record of working hours and cross-check its contents in the workers (children or guardians) interview, where possible, including the confirmation of the nonhazardous nature of the work during worker interview.\nThe assessor shall request and check subcontracted labor information on this P&C.",null,"3Ff44zJMwGkTtn6xQrauV0",{"$f":"INDEX(allsections[[S]:[Order]],MATCH(PIs[[#This Row],[SGUID]],allsections[SGUID],0),1)","v":"WORKING AGE, CHILD LABOR, AND YOUNG WORKERS"},{"$f":"INDEX(allsections[[S]:[Order]],MATCH(PIs[[#This Row],[SGUID]],allsections[SGUID],0),2)","v":"-"},{"$f":"INDEX(allsections[[S]:[Order]],MATCH(PIs[[#This Row],[SGUID]],allsections[SGUID],0),3)","v":10},"5TvyR0UgB0EOmnMkFaZftX",{"$f":"INDEX(allsections[[S]:[Order]],MATCH(PIs[[#This Row],[SSGUID]],allsections[SGUID],0),1)","v":"-"},{"$f":"INDEX(allsections[[S]:[Order]],MATCH(PIs[[#This Row],[SSGUID]],allsections[SGUID],0),2)","v":"-"},{"$f":"INDEX(S2PQ_relational[],MATCH(PIs[[#This Row],[GUID]],S2PQ_relational[PIGUID],0),2)","v":"4Avk7C7MmAoFg744HYI5OO"},false]
["7Gx5HSqj9D3u0n8xv7BWm",null,"09.03","3A96KCKLVlQEQ0ICZbTOW3","Children on family farms shall be employed only by their core family under conditions that support their protection, right to education, and safety. ","15iQLd0WEU80aMlYfduOLo","The term “conditions that support their protection, right to education, and safety” is defined as follows: \nPersons below the legal minimum age of employment working on their family’s farm, shall at least work under the following conditions: \n1. The minors are under direct supervision of their parents or guardians. \n2. Their work is done on their own family farms.\n3. The work tasks do not interfere with schooling (i.e., minors are enrolled in and attend school).\n4. The work is not at night or hazardous in nature.\n5. The work consists of age-appropriate tasks that are of lower risk.\n6. The hours of work are monitored (reported) to be less than those of workers at or above the legal working age, including hours spent in household chores (e.g., cleaning, cooking, childcare, collecting water and firewood).\n7. Parents or guardians declare these conditions in a written self-statement, which is kept on file by the producer and that must be reviewed and cross-checked on site during GRASP assessment.","5nISxpmIvwZJyExTIGOvlS",{"$f":"INDEX(Level[Level],MATCH(PIs[[#This Row],[L]],Level[GUID],0),1)","v":"Major Must"},null,null,"Compliance shall be granted if the assessor has verified that no children (minors under the legal minimum age of employment) are employed or living at the farm. The assessor shall check that no children worked at the farm. \nNot accepted only with the indication of the producer. The assessor shall check each of the above conditions with the producer and provide comments in each of them when children are workers.\nFor Option 2 producer groups, these conditions shall be monitored as a procedure in the GRASP QMS audit and evaluated in the internal GRASP assessment. The producer shall show the results of each of the procedures above to the assessor. \nIf not defined in the NIG or by local law, hazardous conditions are those defined as such in the ILO Convention, or any conditions that could be dangerous to the young workers’ health and safety according to the applicable IFA topic “workers’ well-being” or local regulations. Also considered hazardous are any conditions that jeopardize young workers’ development or prevent them from finishing their compulsory school education.\nThe assessor shall check the record of working hours and cross-check its contents in the workers (children or guardians) interview, where possible, including the confirmation of the nonhazardous nature of the work during worker interview.\nThe assessor shall request and check subcontracted labor information on this P&C.\n",null,"3Ff44zJMwGkTtn6xQrauV0",{"$f":"INDEX(allsections[[S]:[Order]],MATCH(PIs[[#This Row],[SGUID]],allsections[SGUID],0),1)","v":"WORKING AGE, CHILD LABOR, AND YOUNG WORKERS"},{"$f":"INDEX(allsections[[S]:[Order]],MATCH(PIs[[#This Row],[SGUID]],allsections[SGUID],0),2)","v":"-"},{"$f":"INDEX(allsections[[S]:[Order]],MATCH(PIs[[#This Row],[SGUID]],allsections[SGUID],0),3)","v":10},"5TvyR0UgB0EOmnMkFaZftX",{"$f":"INDEX(allsections[[S]:[Order]],MATCH(PIs[[#This Row],[SSGUID]],allsections[SGUID],0),1)","v":"-"},{"$f":"INDEX(allsections[[S]:[Order]],MATCH(PIs[[#This Row],[SSGUID]],allsections[SGUID],0),2)","v":"-"},{"$f":"INDEX(S2PQ_relational[],MATCH(PIs[[#This Row],[GUID]],S2PQ_relational[PIGUID],0),2)","v":"4Avk7C7MmAoFg744HYI5OO"},false]
["60v3YWnkZQm19cqGSHuJdZ",null,"09.02","1pRML6ViDsvlb4HEWBxUJx","The producer checks that no worker under the age of 18 is engaged in night work or tasks that are hazardous in nature in any production site.","4OGuieinpWHzNsuQYnug98","The term “checks” requires that the producer shall identify all workers below the age of 18 and verify that their tasks are not performed at night and are not of a hazardous nature. \nFor family farms without hired workers, “workers” shall refer to core family members working on the farm.\n“Light work”: age-appropriate tasks that are of lower risk and do not interfere with a child’s schooling and leisure time and do not adversely impact health, safety, and development of the minor.\nThe assessor shall check the age of completion of compulsory education.","5nISxpmIvwZJyExTIGOvlS",{"$f":"INDEX(Level[Level],MATCH(PIs[[#This Row],[L]],Level[GUID],0),1)","v":"Major Must"},null,null,"Compliance shall be granted when the assessor has verified that there is no worker below the age of 18. The producer shall provide documents, procedures, and official regulations for review by the assessor.\nIf not indicated in the NIG or by local law, hazardous conditions are those defined as such in the ILO Convention, or any conditions that could be dangerous to the young workers’ health and safety according to the applicable IFA topic “workers’ well-being” or local regulations. Also considered hazardous are any conditions that jeopardize young workers’ development or prevent them from finishing their compulsory school education.\nEvidence shall include the record of working hours, which should be confirmed by the workers interview, including the confirmation of the nonhazardous nature of the work during the worker interview, where possible, and employment contract review.\nThe assessor shall request and check subcontracted labor information on this P&C.\n",null,"3Ff44zJMwGkTtn6xQrauV0",{"$f":"INDEX(allsections[[S]:[Order]],MATCH(PIs[[#This Row],[SGUID]],allsections[SGUID],0),1)","v":"WORKING AGE, CHILD LABOR, AND YOUNG WORKERS"},{"$f":"INDEX(allsections[[S]:[Order]],MATCH(PIs[[#This Row],[SGUID]],allsections[SGUID],0),2)","v":"-"},{"$f":"INDEX(allsections[[S]:[Order]],MATCH(PIs[[#This Row],[SGUID]],allsections[SGUID],0),3)","v":10},"5TvyR0UgB0EOmnMkFaZftX",{"$f":"INDEX(allsections[[S]:[Order]],MATCH(PIs[[#This Row],[SSGUID]],allsections[SGUID],0),1)","v":"-"},{"$f":"INDEX(allsections[[S]:[Order]],MATCH(PIs[[#This Row],[SSGUID]],allsections[SGUID],0),2)","v":"-"},{"$f":"INDEX(S2PQ_relational[],MATCH(PIs[[#This Row],[GUID]],S2PQ_relational[PIGUID],0),2)","v":"4Avk7C7MmAoFg744HYI5OO"},false]
["48Kfoa4PqmcfqhOmRGtnxL",null,"09.02","1pRML6ViDsvlb4HEWBxUJx","The producer checks that no worker under the age of 18 is engaged in night work or tasks that are hazardous in nature in any production site.","4OGuieinpWHzNsuQYnug98","The term “checks” requires that the producer shall identify all workers below the age of 18 and verify that their tasks are not performed at night and are not of a hazardous nature. \nFor family farms without hired workers, “workers” shall refer to core family members working on the farm.\n“Light work”: age-appropriate tasks that are of lower risk and do not interfere with a child’s schooling and leisure time and do not adversely impact health, safety, and development of the minor.\nThe assessor shall check the age of completion of compulsory education.","5nISxpmIvwZJyExTIGOvlS",{"$f":"INDEX(Level[Level],MATCH(PIs[[#This Row],[L]],Level[GUID],0),1)","v":"Major Must"},null,null,"Compliance shall be granted when the assessor has verified that there is no worker below the age of 18. The producer shall provide documents, procedures, and official regulations for review by the assessor.\nIf not indicated in the NIG or by local law, hazardous conditions are those defined as such in the ILO Convention, or any conditions that could be dangerous to the young workers’ health and safety according to the applicable IFA topic “workers’ well-being” or local regulations. Also considered hazardous are any conditions that jeopardize young workers’ development or prevent them from finishing their compulsory school education.\nEvidence shall include the record of working hours, which should be confirmed by the workers interview, including the confirmation of the nonhazardous nature of the work during the worker interview, where possible, and employment contract review.\nThe assessor shall request and check subcontracted labor information on this P&C.",null,"3Ff44zJMwGkTtn6xQrauV0",{"$f":"INDEX(allsections[[S]:[Order]],MATCH(PIs[[#This Row],[SGUID]],allsections[SGUID],0),1)","v":"WORKING AGE, CHILD LABOR, AND YOUNG WORKERS"},{"$f":"INDEX(allsections[[S]:[Order]],MATCH(PIs[[#This Row],[SGUID]],allsections[SGUID],0),2)","v":"-"},{"$f":"INDEX(allsections[[S]:[Order]],MATCH(PIs[[#This Row],[SGUID]],allsections[SGUID],0),3)","v":10},"5TvyR0UgB0EOmnMkFaZftX",{"$f":"INDEX(allsections[[S]:[Order]],MATCH(PIs[[#This Row],[SSGUID]],allsections[SGUID],0),1)","v":"-"},{"$f":"INDEX(allsections[[S]:[Order]],MATCH(PIs[[#This Row],[SSGUID]],allsections[SGUID],0),2)","v":"-"},{"$f":"INDEX(S2PQ_relational[],MATCH(PIs[[#This Row],[GUID]],S2PQ_relational[PIGUID],0),2)","v":"4Avk7C7MmAoFg744HYI5OO"},false]
["4MXkUbBzWPBDeLgWkf1Nrz",null,"09.01","1V39Ohx8ZAheFTweu3cL0N","The producer verifies that no worker below the legal minimum age of employment or the age of completion of compulsory education (whichever provides the highest protection) is working at the production sites.  \n\nThe minimum age of employment shall not be less than 15 years and 13 for light work. For countries exempt from ILO Convention 138, the minimum age of employment shall not be less than 14 and 12 for light work. ","6uDdW2l3q3yJ7Fikmwvqg2","The term “verifies” requires that the producer shall have a verification process or method for checking this information about the workers, including employment agency/subcontracted workers (e.g., checking worker ID, working permit, working registration card, trade union membership card, etc.) and filing a copy. A verbal explanation of the verification process or method shall be sufficient together with documental evidence. \nFor family farms without hired workers, “workers” shall refer to core family members working on the farm.\nThe “production site” shall include any site within the scope of the GRASP assessment and IFA or equivalent standard audit.\nFor service providers or short-term visitors providing production-related activities as defined by IFA, the producer shall verify company ID, personal ID, working permit, working registration card, picture ID when available, etc. \nThe producer shall apply the verification procedure to any person providing work, services, or any activity related to production at the production site or subcontracted sites. The absence of a terms of employment document does not eliminate the obligation to comply with this P&C. In these cases, the producer shall ensure that no persons below the legal minimum age of employment are involved in any working activity unless those allowed to family members in family core business farms.\n“Light work”: age-appropriate tasks that are of lower risk and do not interfere with a child’s schooling and leisure time and do not adversely impact health, safety, and development of the minor.\nIf the age of completion of compulsory education is higher than the legal minimum age of employment, the assessor shall check that the work tasks do not interfere with schooling (e.g., minors are enrolled in and attend school, work schedules allow getting to school, teachers are available at the farm, etc.).\nAny official school/university, government, industry, or trade union program that supervises development of apprenticeships (e.g., traineeship, internship, workplace learning, etc.) shall be documented. Documentation shall include at least the participants’ names, ages, conditions, hours, and parental consents.\n","5nISxpmIvwZJyExTIGOvlS",{"$f":"INDEX(Level[Level],MATCH(PIs[[#This Row],[L]],Level[GUID],0),1)","v":"Major Must"},null,null,"The assessor shall check the validity of the documental evidence (producer shall provide documents, procedures, and official regulations during assessment) and cross-check with the relevant worker in the interview where possible. \nIf no interviews are possible, the assessor shall use document review to check compliance with this P&C. If the verification process is not documented, a detailed verbal explanation by the producer shall be required, together with some documental evidence.\nThe assessor shall check applicable national interpretation guidelines for the age of compulsory schooling completion and the legal minimum age of employment in the country or find information before the assessment, including defined exceptions in the local laws different from the final minimum age established in the criteria and ILO Conventions.\nThe assessor shall comment findings in the report, indicating data used as the legal minimum age of employment and age of workers, to confirm these criteria.\nThe assessor shall request and check subcontracted labor information on this P&C.",null,"3Ff44zJMwGkTtn6xQrauV0",{"$f":"INDEX(allsections[[S]:[Order]],MATCH(PIs[[#This Row],[SGUID]],allsections[SGUID],0),1)","v":"WORKING AGE, CHILD LABOR, AND YOUNG WORKERS"},{"$f":"INDEX(allsections[[S]:[Order]],MATCH(PIs[[#This Row],[SGUID]],allsections[SGUID],0),2)","v":"-"},{"$f":"INDEX(allsections[[S]:[Order]],MATCH(PIs[[#This Row],[SGUID]],allsections[SGUID],0),3)","v":10},"5TvyR0UgB0EOmnMkFaZftX",{"$f":"INDEX(allsections[[S]:[Order]],MATCH(PIs[[#This Row],[SSGUID]],allsections[SGUID],0),1)","v":"-"},{"$f":"INDEX(allsections[[S]:[Order]],MATCH(PIs[[#This Row],[SSGUID]],allsections[SGUID],0),2)","v":"-"},{"$f":"INDEX(S2PQ_relational[],MATCH(PIs[[#This Row],[GUID]],S2PQ_relational[PIGUID],0),2)","v":"4Avk7C7MmAoFg744HYI5OO"},false]
["7LDXR0TA0ZhNC5jVtG46w0",null,"09.01","1V39Ohx8ZAheFTweu3cL0N","The producer verifies that no worker below the legal minimum age of employment or the age of completion of compulsory education (whichever provides the highest protection) is working at the production sites.  \n\nThe minimum age of employment shall not be less than 15 years and 13 for light work. For countries exempt from ILO Convention 138, the minimum age of employment shall not be less than 14 and 12 for light work. ","6uDdW2l3q3yJ7Fikmwvqg2","The term “verifies” requires that the producer shall have a verification process or method for checking this information about the workers, including employment agency/subcontracted workers (e.g., checking worker ID, working permit, working registration card, trade union membership card, etc.) and filing a copy. A verbal explanation of the verification process or method shall be sufficient together with documental evidence. \nFor family farms without hired workers, “workers” shall refer to core family members working on the farm.\nThe “production site” shall include any site within the scope of the GRASP assessment and IFA or equivalent standard audit.\nFor service providers or short-term visitors providing production-related activities as defined by IFA, the producer shall verify company ID, personal ID, working permit, working registration card, picture ID when available, etc. \nThe producer shall apply the verification procedure to any person providing work, services, or any activity related to production at the production site or subcontracted sites. The absence of a terms of employment document does not eliminate the obligation to comply with this P&C. In these cases, the producer shall ensure that no persons below the legal minimum age of employment are involved in any working activity unless those allowed to family members in family core business farms.\n“Light work”: age-appropriate tasks that are of lower risk and do not interfere with a child’s schooling and leisure time and do not adversely impact health, safety, and development of the minor.\nIf the age of completion of compulsory education is higher than the legal minimum age of employment, the assessor shall check that the work tasks do not interfere with schooling (e.g., minors are enrolled in and attend school, work schedules allow getting to school, teachers are available at the farm, etc.).\nAny official school/university, government, industry, or trade union program that supervises development of apprenticeships (e.g., traineeship, internship, workplace learning, etc.) shall be documented. Documentation shall include at least the participants’ names, ages, conditions, hours, and parental consents.\n","5nISxpmIvwZJyExTIGOvlS",{"$f":"INDEX(Level[Level],MATCH(PIs[[#This Row],[L]],Level[GUID],0),1)","v":"Major Must"},null,null,"The assessor shall check the validity of the documental evidence (producer shall provide documents, procedures, and official regulations during assessment) and cross-check with the relevant worker in the interview where possible. \nIf no interviews are possible, the assessor shall use document review to check compliance with this P&C. If the verification process is not documented, a detailed verbal explanation by the producer shall be required, together with some documental evidence.\nThe assessor shall check applicable national interpretation guidelines for the age of compulsory schooling completion and the legal minimum age of employment in the country or find information before the assessment, including defined exceptions in the local laws different from the final minimum age established in the criteria and ILO Conventions.\nThe assessor shall comment findings in the report, indicating data used as the legal minimum age of employment and age of workers, to confirm these criteria.\nThe assessor shall request and check subcontracted labor information on this P&C.\n",null,"3Ff44zJMwGkTtn6xQrauV0",{"$f":"INDEX(allsections[[S]:[Order]],MATCH(PIs[[#This Row],[SGUID]],allsections[SGUID],0),1)","v":"WORKING AGE, CHILD LABOR, AND YOUNG WORKERS"},{"$f":"INDEX(allsections[[S]:[Order]],MATCH(PIs[[#This Row],[SGUID]],allsections[SGUID],0),2)","v":"-"},{"$f":"INDEX(allsections[[S]:[Order]],MATCH(PIs[[#This Row],[SGUID]],allsections[SGUID],0),3)","v":10},"5TvyR0UgB0EOmnMkFaZftX",{"$f":"INDEX(allsections[[S]:[Order]],MATCH(PIs[[#This Row],[SSGUID]],allsections[SGUID],0),1)","v":"-"},{"$f":"INDEX(allsections[[S]:[Order]],MATCH(PIs[[#This Row],[SSGUID]],allsections[SGUID],0),2)","v":"-"},{"$f":"INDEX(S2PQ_relational[],MATCH(PIs[[#This Row],[GUID]],S2PQ_relational[PIGUID],0),2)","v":"4Avk7C7MmAoFg744HYI5OO"},false]
["6Kmhdg9uaBaVHmxDfxHQss",null,"08.04","3ekd214J2602CioIOUVONz","Any deductions from salaries are included in the pay slip and are legally justified in writing, clearly explained, and accepted by the worker in files.","6Mi0Z4HmKLfmRjP6pvvrgP","Pay slips shall include deduction information. There shall be records explaining the deductions. \nIn the case of prior loans and advances, deductions from wages made for their repayment shall not exceed the limits prescribed by national law. Workers shall be duly informed of the terms and conditions for granting and repayment of advances and loans.\nIn the case of recruitment fees, no fees or costs incurred in the recruitment process for workers to secure employment or placement shall be allowed, regardless of the manner, timing, or location in which such fees are imposed or collected, including up-front payments workers have had to make to their recruitment agency or their employer.","5nISxpmIvwZJyExTIGOvlS",{"$f":"INDEX(Level[Level],MATCH(PIs[[#This Row],[L]],Level[GUID],0),1)","v":"Major Must"},null,null,"The assessor shall check compliance with this P&C through document review, cross-checked with interviews where possible. If basic needs like shelter, food, and/or water are paid for by the worker to the producer, the assessor shall request a statement of any standing debt and payments to monitor potential debt bondage. The assessor shall verify that, if deducted from worker income or paid directly by the worker to the employer, costs for basic needs (food, shelter, water, transportation to the workplace) are not excessive, i.e., that they are in line with the usual market prices for said items.\nIf deductions are reported, the assessor shall verify with the producer the deductions and reasoning. The assessor shall cross-check the producer’s statements in the worker interview where possible.\n",null,"7w9H6anypUchjmMOZrr9fi",{"$f":"INDEX(allsections[[S]:[Order]],MATCH(PIs[[#This Row],[SGUID]],allsections[SGUID],0),1)","v":"WAGES"},{"$f":"INDEX(allsections[[S]:[Order]],MATCH(PIs[[#This Row],[SGUID]],allsections[SGUID],0),2)","v":"-"},{"$f":"INDEX(allsections[[S]:[Order]],MATCH(PIs[[#This Row],[SGUID]],allsections[SGUID],0),3)","v":9},"5TvyR0UgB0EOmnMkFaZftX",{"$f":"INDEX(allsections[[S]:[Order]],MATCH(PIs[[#This Row],[SSGUID]],allsections[SGUID],0),1)","v":"-"},{"$f":"INDEX(allsections[[S]:[Order]],MATCH(PIs[[#This Row],[SSGUID]],allsections[SGUID],0),2)","v":"-"},{"$f":"INDEX(S2PQ_relational[],MATCH(PIs[[#This Row],[GUID]],S2PQ_relational[PIGUID],0),2)","v":"7BjiTqdbz9EPX1It8mlxYw"},false]
["47xPHO8UxslhAdrZpPtuo4",null,"08.04","3ekd214J2602CioIOUVONz","Any deductions from salaries are included in the pay slip and are legally justified in writing, clearly explained, and accepted by the worker in files.","6Mi0Z4HmKLfmRjP6pvvrgP","Pay slips shall include deduction information. There shall be records explaining the deductions. \nIn the case of prior loans and advances, deductions from wages made for their repayment shall not exceed the limits prescribed by national law. Workers shall be duly informed of the terms and conditions for granting and repayment of advances and loans.\nIn the case of recruitment fees, no fees or costs incurred in the recruitment process for workers to secure employment or placement shall be allowed, regardless of the manner, timing, or location in which such fees are imposed or collected, including up-front payments workers have had to make to their recruitment agency or their employer.","5nISxpmIvwZJyExTIGOvlS",{"$f":"INDEX(Level[Level],MATCH(PIs[[#This Row],[L]],Level[GUID],0),1)","v":"Major Must"},null,null,"The assessor shall check compliance with this P&C through document review, cross-checked with interviews where possible. If basic needs like shelter, food, and/or water are paid for by the worker to the producer, the assessor shall request a statement of any standing debt and payments to monitor potential debt bondage. The assessor shall verify that, if deducted from worker income or paid directly by the worker to the employer, costs for basic needs (food, shelter, water, transportation to the workplace) are not excessive, i.e., that they are in line with the usual market prices for said items.\nIf deductions are reported, the assessor shall verify with the producer the deductions and reasoning. The assessor shall cross-check the producer’s statements in the worker interview where possible.",null,"7w9H6anypUchjmMOZrr9fi",{"$f":"INDEX(allsections[[S]:[Order]],MATCH(PIs[[#This Row],[SGUID]],allsections[SGUID],0),1)","v":"WAGES"},{"$f":"INDEX(allsections[[S]:[Order]],MATCH(PIs[[#This Row],[SGUID]],allsections[SGUID],0),2)","v":"-"},{"$f":"INDEX(allsections[[S]:[Order]],MATCH(PIs[[#This Row],[SGUID]],allsections[SGUID],0),3)","v":9},"5TvyR0UgB0EOmnMkFaZftX",{"$f":"INDEX(allsections[[S]:[Order]],MATCH(PIs[[#This Row],[SSGUID]],allsections[SGUID],0),1)","v":"-"},{"$f":"INDEX(allsections[[S]:[Order]],MATCH(PIs[[#This Row],[SSGUID]],allsections[SGUID],0),2)","v":"-"},{"$f":"INDEX(S2PQ_relational[],MATCH(PIs[[#This Row],[GUID]],S2PQ_relational[PIGUID],0),2)","v":"7BjiTqdbz9EPX1It8mlxYw"},false]
["3l55YHkfbty5EJ2kS1gub",null,"08.03","3pWWykIIFsUqAuGZz91cXj","All workers earn at least the national minimum wage and/or the collective bargain agreement wage within regular working hours.","58sS7MtoECTG35l8qMrepE","When worker wages are calculated per piece, quota, or unit, this system shall record that minimum wage and/or the collective bargaining agreement wage is obtained within regular working hours.\nAll workers, regardless of their gender, citizenship, or migrant status, shall receive the same remuneration for equal jobs and qualification even when remuneration is above minimum wage.\nThe assessor shall check the number of regular hours (not including overtime) and minimum wage.\nFor agency or subcontracted workers, the assessor shall verify information on terms of employment with workers, where possible. If non-compliance is found, the producer shall document each instance, including corrective steps taken.\n","5nISxpmIvwZJyExTIGOvlS",{"$f":"INDEX(Level[Level],MATCH(PIs[[#This Row],[L]],Level[GUID],0),1)","v":"Major Must"},null,null,"The assessor shall check compliance with this P&C through document review and cross-check with interviews where possible. If no interviews are possible, effective bank records, payroll records, tax records, or documents with the information shall be provided to the assessor to determine compliance.\nThe assessor shall include detailed reference to the minimum wage, wages by collective bargaining agreement, and regulations on working hours in the comments of the report compared with the evidence found.\nThe assessor shall check and report that workers with different gender, citizenship, or migrant status received the same remuneration for equal jobs or qualifications even when remuneration is above the minimum wage.\nThe assessor shall request and check subcontracted labor information on this P&C.",null,"7w9H6anypUchjmMOZrr9fi",{"$f":"INDEX(allsections[[S]:[Order]],MATCH(PIs[[#This Row],[SGUID]],allsections[SGUID],0),1)","v":"WAGES"},{"$f":"INDEX(allsections[[S]:[Order]],MATCH(PIs[[#This Row],[SGUID]],allsections[SGUID],0),2)","v":"-"},{"$f":"INDEX(allsections[[S]:[Order]],MATCH(PIs[[#This Row],[SGUID]],allsections[SGUID],0),3)","v":9},"5TvyR0UgB0EOmnMkFaZftX",{"$f":"INDEX(allsections[[S]:[Order]],MATCH(PIs[[#This Row],[SSGUID]],allsections[SGUID],0),1)","v":"-"},{"$f":"INDEX(allsections[[S]:[Order]],MATCH(PIs[[#This Row],[SSGUID]],allsections[SGUID],0),2)","v":"-"},{"$f":"INDEX(S2PQ_relational[],MATCH(PIs[[#This Row],[GUID]],S2PQ_relational[PIGUID],0),2)","v":"7BjiTqdbz9EPX1It8mlxYw"},false]
["2ddM8JCAfgsJ6XIpNQ4YlB",null,"08.03","3pWWykIIFsUqAuGZz91cXj","All workers earn at least the national minimum wage and/or the collective bargain agreement wage within regular working hours.","58sS7MtoECTG35l8qMrepE","When worker wages are calculated per piece, quota, or unit, this system shall record that minimum wage and/or the collective bargaining agreement wage is obtained within regular working hours.\nAll workers, regardless of their gender, citizenship, or migrant status, shall receive the same remuneration for equal jobs and qualification even when remuneration is above minimum wage.\nThe assessor shall check the number of regular hours (not including overtime) and minimum wage.\nFor agency or subcontracted workers, the assessor shall verify information on terms of employment with workers, where possible. If non-compliance is found, the producer shall document each instance, including corrective steps taken.\n","5nISxpmIvwZJyExTIGOvlS",{"$f":"INDEX(Level[Level],MATCH(PIs[[#This Row],[L]],Level[GUID],0),1)","v":"Major Must"},null,null,"The assessor shall check compliance with this P&C through document review and cross-check with interviews where possible. If no interviews are possible, effective bank records, payroll records, tax records, or documents with the information shall be provided to the assessor to determine compliance.\nThe assessor shall include detailed reference to the minimum wage, wages by collective bargaining agreement, and regulations on working hours in the comments of the report compared with the evidence found.\nThe assessor shall check and report that workers with different gender, citizenship, or migrant status received the same remuneration for equal jobs or qualifications even when remuneration is above the minimum wage.\nThe assessor shall request and check subcontracted labor information on this P&C.\n",null,"7w9H6anypUchjmMOZrr9fi",{"$f":"INDEX(allsections[[S]:[Order]],MATCH(PIs[[#This Row],[SGUID]],allsections[SGUID],0),1)","v":"WAGES"},{"$f":"INDEX(allsections[[S]:[Order]],MATCH(PIs[[#This Row],[SGUID]],allsections[SGUID],0),2)","v":"-"},{"$f":"INDEX(allsections[[S]:[Order]],MATCH(PIs[[#This Row],[SGUID]],allsections[SGUID],0),3)","v":9},"5TvyR0UgB0EOmnMkFaZftX",{"$f":"INDEX(allsections[[S]:[Order]],MATCH(PIs[[#This Row],[SSGUID]],allsections[SGUID],0),1)","v":"-"},{"$f":"INDEX(allsections[[S]:[Order]],MATCH(PIs[[#This Row],[SSGUID]],allsections[SGUID],0),2)","v":"-"},{"$f":"INDEX(S2PQ_relational[],MATCH(PIs[[#This Row],[GUID]],S2PQ_relational[PIGUID],0),2)","v":"7BjiTqdbz9EPX1It8mlxYw"},false]
["61Y0IWjG13DxoG3Uo2hEWK",null,"08.02","6lX70iaOqs2UD0t15yCR2M","Wages, payments, number of hours, government social security/pension contributions, and payroll taxes in the pay slip comply with the employment terms and conditions, with national labor regulations, and/or with collective bargaining agreements.","6sjIqNv3m8KGcLTGwsOjx","The assessor shall check the following information in the sample pay slips: \n1. Social security payments/Pension contributions\n2. Payroll taxes\n3. Wages/Payments (at least minimum wage)\nCompliance with this P&C shall require all items to be correct (verification in pay slips and agreement with terms documents and labor regulations) following the document sampling rules.\n","5nISxpmIvwZJyExTIGOvlS",{"$f":"INDEX(Level[Level],MATCH(PIs[[#This Row],[L]],Level[GUID],0),1)","v":"Major Must"},null,null,"The assessor shall check compliance with this P&C through document review and cross-check with interviews where possible.\n",null,"7w9H6anypUchjmMOZrr9fi",{"$f":"INDEX(allsections[[S]:[Order]],MATCH(PIs[[#This Row],[SGUID]],allsections[SGUID],0),1)","v":"WAGES"},{"$f":"INDEX(allsections[[S]:[Order]],MATCH(PIs[[#This Row],[SGUID]],allsections[SGUID],0),2)","v":"-"},{"$f":"INDEX(allsections[[S]:[Order]],MATCH(PIs[[#This Row],[SGUID]],allsections[SGUID],0),3)","v":9},"5TvyR0UgB0EOmnMkFaZftX",{"$f":"INDEX(allsections[[S]:[Order]],MATCH(PIs[[#This Row],[SSGUID]],allsections[SGUID],0),1)","v":"-"},{"$f":"INDEX(allsections[[S]:[Order]],MATCH(PIs[[#This Row],[SSGUID]],allsections[SGUID],0),2)","v":"-"},{"$f":"INDEX(S2PQ_relational[],MATCH(PIs[[#This Row],[GUID]],S2PQ_relational[PIGUID],0),2)","v":"7BjiTqdbz9EPX1It8mlxYw"},false]
["7L9M3vUuHtx6WK7TuILq92",null,"08.02","6lX70iaOqs2UD0t15yCR2M","Wages, payments, number of hours, government social security/pension contributions, and payroll taxes in the pay slip comply with the employment terms and conditions, with national labor regulations, and/or with collective bargaining agreements.","6sjIqNv3m8KGcLTGwsOjx","The assessor shall check the following information in the sample pay slips: \n1. Social security payments/Pension contributions\n2. Payroll taxes\n3. Wages/Payments (at least minimum wage)\nCompliance with this P&C shall require all items to be correct (verification in pay slips and agreement with terms documents and labor regulations) following the document sampling rules.\n","5nISxpmIvwZJyExTIGOvlS",{"$f":"INDEX(Level[Level],MATCH(PIs[[#This Row],[L]],Level[GUID],0),1)","v":"Major Must"},null,null,"The assessor shall check compliance with this P&C through document review and cross-check with interviews where possible.\n",null,"7w9H6anypUchjmMOZrr9fi",{"$f":"INDEX(allsections[[S]:[Order]],MATCH(PIs[[#This Row],[SGUID]],allsections[SGUID],0),1)","v":"WAGES"},{"$f":"INDEX(allsections[[S]:[Order]],MATCH(PIs[[#This Row],[SGUID]],allsections[SGUID],0),2)","v":"-"},{"$f":"INDEX(allsections[[S]:[Order]],MATCH(PIs[[#This Row],[SGUID]],allsections[SGUID],0),3)","v":9},"5TvyR0UgB0EOmnMkFaZftX",{"$f":"INDEX(allsections[[S]:[Order]],MATCH(PIs[[#This Row],[SSGUID]],allsections[SGUID],0),1)","v":"-"},{"$f":"INDEX(allsections[[S]:[Order]],MATCH(PIs[[#This Row],[SSGUID]],allsections[SGUID],0),2)","v":"-"},{"$f":"INDEX(S2PQ_relational[],MATCH(PIs[[#This Row],[GUID]],S2PQ_relational[PIGUID],0),2)","v":"7BjiTqdbz9EPX1It8mlxYw"},false]
["6qIIzIJVrT5K6kz0wqsNq7",null,"08.01","3b3bJQgGv9yWn4HCGULu5l","Pay slips or registers show the amount of working time (including overtime) or harvest amount and the wages and/or overtime paid.","1yyLfx5DGUUNPS6Oer6dGM","Compliance with this P&C shall require all of the following proven by evidence:\n1. Amount paid for regular time and overtime \n2. Regular working time/harvest amount/any other figure used for payment calculation\n3. Summary of overtime hours on top of regular working time\nWritten pay slips shall be maintained for all current workers and available upon request for the pay period concerned each time that workers are paid.\nFor agency or subcontracted workers, the direct employer shall provide the producer with a copy of a sample pay slip to be kept for assessment purposes.","oOfpsr1EZQ6CxCOIvBlFe",{"$f":"INDEX(Level[Level],MATCH(PIs[[#This Row],[L]],Level[GUID],0),1)","v":"Minor Must"},null,null,"The assessor shall check the existence of the records. Where possible, the assessor shall cross-check the contents of the sample in interviews.\nThe assessor shall request and check subcontracted labor information on this P&C.",null,"7w9H6anypUchjmMOZrr9fi",{"$f":"INDEX(allsections[[S]:[Order]],MATCH(PIs[[#This Row],[SGUID]],allsections[SGUID],0),1)","v":"WAGES"},{"$f":"INDEX(allsections[[S]:[Order]],MATCH(PIs[[#This Row],[SGUID]],allsections[SGUID],0),2)","v":"-"},{"$f":"INDEX(allsections[[S]:[Order]],MATCH(PIs[[#This Row],[SGUID]],allsections[SGUID],0),3)","v":9},"5TvyR0UgB0EOmnMkFaZftX",{"$f":"INDEX(allsections[[S]:[Order]],MATCH(PIs[[#This Row],[SSGUID]],allsections[SGUID],0),1)","v":"-"},{"$f":"INDEX(allsections[[S]:[Order]],MATCH(PIs[[#This Row],[SSGUID]],allsections[SGUID],0),2)","v":"-"},{"$f":"INDEX(S2PQ_relational[],MATCH(PIs[[#This Row],[GUID]],S2PQ_relational[PIGUID],0),2)","v":"7BjiTqdbz9EPX1It8mlxYw"},false]
["2AU0Rll1ZV8PPz420O78db",null,"08.01","3b3bJQgGv9yWn4HCGULu5l","Pay slips or registers show the amount of working time (including overtime) or harvest amount and the wages and/or overtime paid.","1yyLfx5DGUUNPS6Oer6dGM","Compliance with this P&C shall require all of the following proven by evidence:\n1. Amount paid for regular time and overtime \n2. Regular working time/harvest amount/any other figure used for payment calculation\n3. Summary of overtime hours on top of regular working time\nWritten pay slips shall be maintained for all current workers and available upon request for the pay period concerned each time that workers are paid.\nFor agency or subcontracted workers, the direct employer shall provide the producer with a copy of a sample pay slip to be kept for assessment purposes.","oOfpsr1EZQ6CxCOIvBlFe",{"$f":"INDEX(Level[Level],MATCH(PIs[[#This Row],[L]],Level[GUID],0),1)","v":"Minor Must"},null,null,"The assessor shall check the existence of the records. Where possible, the assessor shall cross-check the contents of the sample in interviews.\nThe assessor shall request and check subcontracted labor information on this P&C.\n",null,"7w9H6anypUchjmMOZrr9fi",{"$f":"INDEX(allsections[[S]:[Order]],MATCH(PIs[[#This Row],[SGUID]],allsections[SGUID],0),1)","v":"WAGES"},{"$f":"INDEX(allsections[[S]:[Order]],MATCH(PIs[[#This Row],[SGUID]],allsections[SGUID],0),2)","v":"-"},{"$f":"INDEX(allsections[[S]:[Order]],MATCH(PIs[[#This Row],[SGUID]],allsections[SGUID],0),3)","v":9},"5TvyR0UgB0EOmnMkFaZftX",{"$f":"INDEX(allsections[[S]:[Order]],MATCH(PIs[[#This Row],[SSGUID]],allsections[SGUID],0),1)","v":"-"},{"$f":"INDEX(allsections[[S]:[Order]],MATCH(PIs[[#This Row],[SSGUID]],allsections[SGUID],0),2)","v":"-"},{"$f":"INDEX(S2PQ_relational[],MATCH(PIs[[#This Row],[GUID]],S2PQ_relational[PIGUID],0),2)","v":"7BjiTqdbz9EPX1It8mlxYw"},false]
["7JadSCojAvDNLSHK26BiXc",null,"07.03","5XAIabIJ3Z0wIVsLjkfWB9","The record of payment information is accessible to current workers and kept on file for at least 24 months.","42bpAYiw0T5u6Blr1AnAtH","The term “accessible” shall require that the worker can look at the personal payment information at the production site, or that it is provided by the producer when requested.\n","oOfpsr1EZQ6CxCOIvBlFe",{"$f":"INDEX(Level[Level],MATCH(PIs[[#This Row],[L]],Level[GUID],0),1)","v":"Minor Must"},null,null,"The assessor shall check that workers have access to the payment information and that records are kept on file for at least 24 months.\n",null,"bxrVXJ4xWVl7PtHasGENb",{"$f":"INDEX(allsections[[S]:[Order]],MATCH(PIs[[#This Row],[SGUID]],allsections[SGUID],0),1)","v":"PAYMENTS"},{"$f":"INDEX(allsections[[S]:[Order]],MATCH(PIs[[#This Row],[SGUID]],allsections[SGUID],0),2)","v":"-"},{"$f":"INDEX(allsections[[S]:[Order]],MATCH(PIs[[#This Row],[SGUID]],allsections[SGUID],0),3)","v":8},"5TvyR0UgB0EOmnMkFaZftX",{"$f":"INDEX(allsections[[S]:[Order]],MATCH(PIs[[#This Row],[SSGUID]],allsections[SGUID],0),1)","v":"-"},{"$f":"INDEX(allsections[[S]:[Order]],MATCH(PIs[[#This Row],[SSGUID]],allsections[SGUID],0),2)","v":"-"},{"$f":"INDEX(S2PQ_relational[],MATCH(PIs[[#This Row],[GUID]],S2PQ_relational[PIGUID],0),2)","v":"7BjiTqdbz9EPX1It8mlxYw"},false]
["1V2OcHOgEDqWpRdFnWQeLp",null,"07.03","5XAIabIJ3Z0wIVsLjkfWB9","The record of payment information is accessible to current workers and kept on file for at least 24 months.","42bpAYiw0T5u6Blr1AnAtH","The term “accessible” shall require that the worker can look at the personal payment information at the production site, or that it is provided by the producer when requested.\n","oOfpsr1EZQ6CxCOIvBlFe",{"$f":"INDEX(Level[Level],MATCH(PIs[[#This Row],[L]],Level[GUID],0),1)","v":"Minor Must"},null,null,"The assessor shall check that workers have access to the payment information and that records are kept on file for at least 24 months.\n",null,"bxrVXJ4xWVl7PtHasGENb",{"$f":"INDEX(allsections[[S]:[Order]],MATCH(PIs[[#This Row],[SGUID]],allsections[SGUID],0),1)","v":"PAYMENTS"},{"$f":"INDEX(allsections[[S]:[Order]],MATCH(PIs[[#This Row],[SGUID]],allsections[SGUID],0),2)","v":"-"},{"$f":"INDEX(allsections[[S]:[Order]],MATCH(PIs[[#This Row],[SGUID]],allsections[SGUID],0),3)","v":8},"5TvyR0UgB0EOmnMkFaZftX",{"$f":"INDEX(allsections[[S]:[Order]],MATCH(PIs[[#This Row],[SSGUID]],allsections[SGUID],0),1)","v":"-"},{"$f":"INDEX(allsections[[S]:[Order]],MATCH(PIs[[#This Row],[SSGUID]],allsections[SGUID],0),2)","v":"-"},{"$f":"INDEX(S2PQ_relational[],MATCH(PIs[[#This Row],[GUID]],S2PQ_relational[PIGUID],0),2)","v":"7BjiTqdbz9EPX1It8mlxYw"},false]
["5yTnF65Qbex3e2bAyS1xdt",null,"07.02","7m7zUTuICtjczfkYUdJXwn","The workers are notified about when payments are made.","6BjUaPyZvK0TyNyyc48QdU","The term “notified” shall include the producer making general announcements that payments will be made, and there shall be information in the common rest areas of workers, email, telephone messages, etc., in the predominant language(s) of the workforce and/or pictograms.\n","oOfpsr1EZQ6CxCOIvBlFe",{"$f":"INDEX(Level[Level],MATCH(PIs[[#This Row],[L]],Level[GUID],0),1)","v":"Minor Must"},null,null,"The assessor shall use documents, displays, and, where possible, cross-check with interviews to check whether notification has taken place.\nThe assessor shall request and check subcontracted labor information on this P&C.",null,"bxrVXJ4xWVl7PtHasGENb",{"$f":"INDEX(allsections[[S]:[Order]],MATCH(PIs[[#This Row],[SGUID]],allsections[SGUID],0),1)","v":"PAYMENTS"},{"$f":"INDEX(allsections[[S]:[Order]],MATCH(PIs[[#This Row],[SGUID]],allsections[SGUID],0),2)","v":"-"},{"$f":"INDEX(allsections[[S]:[Order]],MATCH(PIs[[#This Row],[SGUID]],allsections[SGUID],0),3)","v":8},"5TvyR0UgB0EOmnMkFaZftX",{"$f":"INDEX(allsections[[S]:[Order]],MATCH(PIs[[#This Row],[SSGUID]],allsections[SGUID],0),1)","v":"-"},{"$f":"INDEX(allsections[[S]:[Order]],MATCH(PIs[[#This Row],[SSGUID]],allsections[SGUID],0),2)","v":"-"},{"$f":"INDEX(S2PQ_relational[],MATCH(PIs[[#This Row],[GUID]],S2PQ_relational[PIGUID],0),2)","v":"7BjiTqdbz9EPX1It8mlxYw"},false]
["7hjy92CxnhjoqfUf0sxpPm",null,"07.02","7m7zUTuICtjczfkYUdJXwn","The workers are notified about when payments are made.","6BjUaPyZvK0TyNyyc48QdU","The term “notified” shall include the producer making general announcements that payments will be made, and there shall be information in the common rest areas of workers, email, telephone messages, etc., in the predominant language(s) of the workforce and/or pictograms.\n","oOfpsr1EZQ6CxCOIvBlFe",{"$f":"INDEX(Level[Level],MATCH(PIs[[#This Row],[L]],Level[GUID],0),1)","v":"Minor Must"},null,null,"The assessor shall use documents, displays, and, where possible, cross-check with interviews to check whether notification has taken place.\nThe assessor shall request and check subcontracted labor information on this P&C.\n",null,"bxrVXJ4xWVl7PtHasGENb",{"$f":"INDEX(allsections[[S]:[Order]],MATCH(PIs[[#This Row],[SGUID]],allsections[SGUID],0),1)","v":"PAYMENTS"},{"$f":"INDEX(allsections[[S]:[Order]],MATCH(PIs[[#This Row],[SGUID]],allsections[SGUID],0),2)","v":"-"},{"$f":"INDEX(allsections[[S]:[Order]],MATCH(PIs[[#This Row],[SGUID]],allsections[SGUID],0),3)","v":8},"5TvyR0UgB0EOmnMkFaZftX",{"$f":"INDEX(allsections[[S]:[Order]],MATCH(PIs[[#This Row],[SSGUID]],allsections[SGUID],0),1)","v":"-"},{"$f":"INDEX(allsections[[S]:[Order]],MATCH(PIs[[#This Row],[SSGUID]],allsections[SGUID],0),2)","v":"-"},{"$f":"INDEX(S2PQ_relational[],MATCH(PIs[[#This Row],[GUID]],S2PQ_relational[PIGUID],0),2)","v":"7BjiTqdbz9EPX1It8mlxYw"},false]
["5FB5ql1VFtEHzacW0dkEyh",null,"07.01","2ei0h3pa667OEDeDlkAUuQ","Payments to workers are made in accordance with the worker terms and conditions documents.","3W36tg4VktZzky4oWnQjsZ","Records of payments correspond with the terms of employment on:\n- Dates/Intervals of payments\n- Type of payment notification used (e.g., text message, email, announcement, etc.)\n- Amount of payments\n- Method of payments (e.g., bank transfer, cash, etc.)\nFor agencies or subcontracted labor, the worker’s commercial contract shall indicate summary information of subcontracted labor payment details.\n","5nISxpmIvwZJyExTIGOvlS",{"$f":"INDEX(Level[Level],MATCH(PIs[[#This Row],[L]],Level[GUID],0),1)","v":"Major Must"},null,null,"The assessor shall use worker interviews, where possible, to cross-check documents of payment and compliance with the agreed worker’s terms and conditions documents.\nThe assessor shall request and check subcontracted labor information on this P&C.",null,"bxrVXJ4xWVl7PtHasGENb",{"$f":"INDEX(allsections[[S]:[Order]],MATCH(PIs[[#This Row],[SGUID]],allsections[SGUID],0),1)","v":"PAYMENTS"},{"$f":"INDEX(allsections[[S]:[Order]],MATCH(PIs[[#This Row],[SGUID]],allsections[SGUID],0),2)","v":"-"},{"$f":"INDEX(allsections[[S]:[Order]],MATCH(PIs[[#This Row],[SGUID]],allsections[SGUID],0),3)","v":8},"5TvyR0UgB0EOmnMkFaZftX",{"$f":"INDEX(allsections[[S]:[Order]],MATCH(PIs[[#This Row],[SSGUID]],allsections[SGUID],0),1)","v":"-"},{"$f":"INDEX(allsections[[S]:[Order]],MATCH(PIs[[#This Row],[SSGUID]],allsections[SGUID],0),2)","v":"-"},{"$f":"INDEX(S2PQ_relational[],MATCH(PIs[[#This Row],[GUID]],S2PQ_relational[PIGUID],0),2)","v":"7BjiTqdbz9EPX1It8mlxYw"},false]
["1Gw23GHb8dfoPGOAOpNNoF",null,"07.01","2ei0h3pa667OEDeDlkAUuQ","Payments to workers are made in accordance with the worker terms and conditions documents.","3W36tg4VktZzky4oWnQjsZ","Records of payments correspond with the terms of employment on:\n- Dates/Intervals of payments\n- Type of payment notification used (e.g., text message, email, announcement, etc.)\n- Amount of payments\n- Method of payments (e.g., bank transfer, cash, etc.)\nFor agencies or subcontracted labor, the worker’s commercial contract shall indicate summary information of subcontracted labor payment details.\n","5nISxpmIvwZJyExTIGOvlS",{"$f":"INDEX(Level[Level],MATCH(PIs[[#This Row],[L]],Level[GUID],0),1)","v":"Major Must"},null,null,"The assessor shall use worker interviews, where possible, to cross-check documents of payment and compliance with the agreed worker’s terms and conditions documents.\nThe assessor shall request and check subcontracted labor information on this P&C.\n",null,"bxrVXJ4xWVl7PtHasGENb",{"$f":"INDEX(allsections[[S]:[Order]],MATCH(PIs[[#This Row],[SGUID]],allsections[SGUID],0),1)","v":"PAYMENTS"},{"$f":"INDEX(allsections[[S]:[Order]],MATCH(PIs[[#This Row],[SGUID]],allsections[SGUID],0),2)","v":"-"},{"$f":"INDEX(allsections[[S]:[Order]],MATCH(PIs[[#This Row],[SGUID]],allsections[SGUID],0),3)","v":8},"5TvyR0UgB0EOmnMkFaZftX",{"$f":"INDEX(allsections[[S]:[Order]],MATCH(PIs[[#This Row],[SSGUID]],allsections[SGUID],0),1)","v":"-"},{"$f":"INDEX(allsections[[S]:[Order]],MATCH(PIs[[#This Row],[SSGUID]],allsections[SGUID],0),2)","v":"-"},{"$f":"INDEX(S2PQ_relational[],MATCH(PIs[[#This Row],[GUID]],S2PQ_relational[PIGUID],0),2)","v":"7BjiTqdbz9EPX1It8mlxYw"},false]
["71T3wYvAOGC3A8C3dBPDXd",null,"06.09","gGrvSUVd7wAWO9JfHv1JM","The employment terms and conditions document together with other relevant documents of the workers hired during the previous and current production cycles are accessible to workers.","44FJzavqbnXcpxOLlxwMlh","Compliance with this P&C shall require:\n- Availability of the copies at assessment\n- Access of the current workers to the information at any time during the work schedule\nFor subcontracted labor, the register of workers and the direct employer’s document declaring compliance with the producer’s human rights policy shall be available at the production site.","oOfpsr1EZQ6CxCOIvBlFe",{"$f":"INDEX(Level[Level],MATCH(PIs[[#This Row],[L]],Level[GUID],0),1)","v":"Minor Must"},null,null,"The assessor shall check the accessibility of information by workers and cross-check with the workers in the interview, where possible. If no interviews are possible, the assessor shall check documents or evidence from the producer.\nThe assessor shall request and check subcontracted labor information on this P&C.",null,"19R27icHjrePmOqhbMVB4F",{"$f":"INDEX(allsections[[S]:[Order]],MATCH(PIs[[#This Row],[SGUID]],allsections[SGUID],0),1)","v":"TERMS OF EMPLOYMENT DOCUMENTS AND FORCED LABOR INDICATORS"},{"$f":"INDEX(allsections[[S]:[Order]],MATCH(PIs[[#This Row],[SGUID]],allsections[SGUID],0),2)","v":"-"},{"$f":"INDEX(allsections[[S]:[Order]],MATCH(PIs[[#This Row],[SGUID]],allsections[SGUID],0),3)","v":7},"5TvyR0UgB0EOmnMkFaZftX",{"$f":"INDEX(allsections[[S]:[Order]],MATCH(PIs[[#This Row],[SSGUID]],allsections[SGUID],0),1)","v":"-"},{"$f":"INDEX(allsections[[S]:[Order]],MATCH(PIs[[#This Row],[SSGUID]],allsections[SGUID],0),2)","v":"-"},{"$f":"INDEX(S2PQ_relational[],MATCH(PIs[[#This Row],[GUID]],S2PQ_relational[PIGUID],0),2)","v":"7BjiTqdbz9EPX1It8mlxYw"},false]
["169V5uzyn9ByI9Q89OWVYm",null,"06.09","gGrvSUVd7wAWO9JfHv1JM","The employment terms and conditions document together with other relevant documents of the workers hired during the previous and current production cycles are accessible to workers.","44FJzavqbnXcpxOLlxwMlh","Compliance with this P&C shall require:\n- Availability of the copies at assessment\n- Access of the current workers to the information at any time during the work schedule\nFor subcontracted labor, the register of workers and the direct employer’s document declaring compliance with the producer’s human rights policy shall be available at the production site.","oOfpsr1EZQ6CxCOIvBlFe",{"$f":"INDEX(Level[Level],MATCH(PIs[[#This Row],[L]],Level[GUID],0),1)","v":"Minor Must"},null,null,"The assessor shall check the accessibility of information by workers and cross-check with the workers in the interview, where possible. If no interviews are possible, the assessor shall check documents or evidence from the producer.\nThe assessor shall request and check subcontracted labor information on this P&C.\n",null,"19R27icHjrePmOqhbMVB4F",{"$f":"INDEX(allsections[[S]:[Order]],MATCH(PIs[[#This Row],[SGUID]],allsections[SGUID],0),1)","v":"TERMS OF EMPLOYMENT DOCUMENTS AND FORCED LABOR INDICATORS"},{"$f":"INDEX(allsections[[S]:[Order]],MATCH(PIs[[#This Row],[SGUID]],allsections[SGUID],0),2)","v":"-"},{"$f":"INDEX(allsections[[S]:[Order]],MATCH(PIs[[#This Row],[SGUID]],allsections[SGUID],0),3)","v":7},"5TvyR0UgB0EOmnMkFaZftX",{"$f":"INDEX(allsections[[S]:[Order]],MATCH(PIs[[#This Row],[SSGUID]],allsections[SGUID],0),1)","v":"-"},{"$f":"INDEX(allsections[[S]:[Order]],MATCH(PIs[[#This Row],[SSGUID]],allsections[SGUID],0),2)","v":"-"},{"$f":"INDEX(S2PQ_relational[],MATCH(PIs[[#This Row],[GUID]],S2PQ_relational[PIGUID],0),2)","v":"7BjiTqdbz9EPX1It8mlxYw"},false]
["2uY4AAajOUzuQYK0i5HEJS",null,"06.08","25MNpB9m1EYBC4nV42aB02","Changes to the employment terms document have been recorded, communicated, and accepted by the worker. ","3AEAyTYKTm2Q5VbyJPXA4w","The term “changes” shall cover any modification to the original terms including period of employment, contract type (i.e., permanent, period or day laborer, etc.), wages, working hours, breaks, and the basic job description.\nThe term “communicated” shall require documental evidence of agreement to all changes, e.g., document change is signed and dated by the worker, annex with a summary of changes with dates and with the worker’s signature and date.\nThe term “recorded” shall require all changes to be included in the employment terms document or other documents accessible to the worker.\nFor subcontractors, the direct employer shall communicate any changes during the term of the commercial contract to the producer. If there is no communication of changes or if there is incomplete communication, these are considered non-compliances. If non-compliance is found by the producer, the producer shall document each instance including corrective steps taken.\nIf there is evidence of no changes from workers or subcontracted labor, compliance with this P&C has been achieved.","5nISxpmIvwZJyExTIGOvlS",{"$f":"INDEX(Level[Level],MATCH(PIs[[#This Row],[L]],Level[GUID],0),1)","v":"Major Must"},null,null,"The assessor shall use interviews, where possible, to check if the changes are communicated to the workers and how are they communicated. If no interviews are possible, the assessor shall check compliance through document review.\nThe assessor shall request and check subcontracted labor information on this P&C.",null,"19R27icHjrePmOqhbMVB4F",{"$f":"INDEX(allsections[[S]:[Order]],MATCH(PIs[[#This Row],[SGUID]],allsections[SGUID],0),1)","v":"TERMS OF EMPLOYMENT DOCUMENTS AND FORCED LABOR INDICATORS"},{"$f":"INDEX(allsections[[S]:[Order]],MATCH(PIs[[#This Row],[SGUID]],allsections[SGUID],0),2)","v":"-"},{"$f":"INDEX(allsections[[S]:[Order]],MATCH(PIs[[#This Row],[SGUID]],allsections[SGUID],0),3)","v":7},"5TvyR0UgB0EOmnMkFaZftX",{"$f":"INDEX(allsections[[S]:[Order]],MATCH(PIs[[#This Row],[SSGUID]],allsections[SGUID],0),1)","v":"-"},{"$f":"INDEX(allsections[[S]:[Order]],MATCH(PIs[[#This Row],[SSGUID]],allsections[SGUID],0),2)","v":"-"},{"$f":"INDEX(S2PQ_relational[],MATCH(PIs[[#This Row],[GUID]],S2PQ_relational[PIGUID],0),2)","v":"7BjiTqdbz9EPX1It8mlxYw"},false]
["5owSqO99lt8mdba69ziJ02",null,"06.08","25MNpB9m1EYBC4nV42aB02","Changes to the employment terms document have been recorded, communicated, and accepted by the worker. ","3AEAyTYKTm2Q5VbyJPXA4w","The term “changes” shall cover any modification to the original terms including period of employment, contract type (i.e., permanent, period or day laborer, etc.), wages, working hours, breaks, and the basic job description.\nThe term “communicated” shall require documental evidence of agreement to all changes, e.g., document change is signed and dated by the worker, annex with a summary of changes with dates and with the worker’s signature and date.\nThe term “recorded” shall require all changes to be included in the employment terms document or other documents accessible to the worker.\nFor subcontractors, the direct employer shall communicate any changes during the term of the commercial contract to the producer. If there is no communication of changes or if there is incomplete communication, these are considered non-compliances. If non-compliance is found by the producer, the producer shall document each instance including corrective steps taken.\nIf there is evidence of no changes from workers or subcontracted labor, compliance with this P&C has been achieved.","5nISxpmIvwZJyExTIGOvlS",{"$f":"INDEX(Level[Level],MATCH(PIs[[#This Row],[L]],Level[GUID],0),1)","v":"Major Must"},null,null,"The assessor shall use interviews, where possible, to check if the changes are communicated to the workers and how are they communicated. If no interviews are possible, the assessor shall check compliance through document review.\nThe assessor shall request and check subcontracted labor information on this P&C.\n",null,"19R27icHjrePmOqhbMVB4F",{"$f":"INDEX(allsections[[S]:[Order]],MATCH(PIs[[#This Row],[SGUID]],allsections[SGUID],0),1)","v":"TERMS OF EMPLOYMENT DOCUMENTS AND FORCED LABOR INDICATORS"},{"$f":"INDEX(allsections[[S]:[Order]],MATCH(PIs[[#This Row],[SGUID]],allsections[SGUID],0),2)","v":"-"},{"$f":"INDEX(allsections[[S]:[Order]],MATCH(PIs[[#This Row],[SGUID]],allsections[SGUID],0),3)","v":7},"5TvyR0UgB0EOmnMkFaZftX",{"$f":"INDEX(allsections[[S]:[Order]],MATCH(PIs[[#This Row],[SSGUID]],allsections[SGUID],0),1)","v":"-"},{"$f":"INDEX(allsections[[S]:[Order]],MATCH(PIs[[#This Row],[SSGUID]],allsections[SGUID],0),2)","v":"-"},{"$f":"INDEX(S2PQ_relational[],MATCH(PIs[[#This Row],[GUID]],S2PQ_relational[PIGUID],0),2)","v":"7BjiTqdbz9EPX1It8mlxYw"},false]
["OUJXQZSzOeFdIhal7ZoXx",null,"06.07","4pN1BICGnkEbcCuUSVhhzQ","The employment terms and conditions in the document comply with national legislation and collective bargaining agreements.","6jVr5ejqZoc0zqn0vByYuX","For subcontractors, the direct employer terms and conditions shall comply with the national laws independent of the place of hiring or nationality of the workers, and the producer shall be provided with a summary of those terms to be checked.\n","5nISxpmIvwZJyExTIGOvlS",{"$f":"INDEX(Level[Level],MATCH(PIs[[#This Row],[L]],Level[GUID],0),1)","v":"Major Must"},null,null,"The assessor shall check compliance of the details in the document with the local laws in the national interpretation guideline and of the document sample with information from national regulations. Information shall be cross-checked with interviews where possible. If no interviews are possible, the assessor shall check compliance through document review.\nThe assessor shall request and check subcontracted labor information on this P&C.",null,"19R27icHjrePmOqhbMVB4F",{"$f":"INDEX(allsections[[S]:[Order]],MATCH(PIs[[#This Row],[SGUID]],allsections[SGUID],0),1)","v":"TERMS OF EMPLOYMENT DOCUMENTS AND FORCED LABOR INDICATORS"},{"$f":"INDEX(allsections[[S]:[Order]],MATCH(PIs[[#This Row],[SGUID]],allsections[SGUID],0),2)","v":"-"},{"$f":"INDEX(allsections[[S]:[Order]],MATCH(PIs[[#This Row],[SGUID]],allsections[SGUID],0),3)","v":7},"5TvyR0UgB0EOmnMkFaZftX",{"$f":"INDEX(allsections[[S]:[Order]],MATCH(PIs[[#This Row],[SSGUID]],allsections[SGUID],0),1)","v":"-"},{"$f":"INDEX(allsections[[S]:[Order]],MATCH(PIs[[#This Row],[SSGUID]],allsections[SGUID],0),2)","v":"-"},{"$f":"INDEX(S2PQ_relational[],MATCH(PIs[[#This Row],[GUID]],S2PQ_relational[PIGUID],0),2)","v":"7BjiTqdbz9EPX1It8mlxYw"},false]
["LE4NAcmeT6PyqI8qg5XjN",null,"06.07","4pN1BICGnkEbcCuUSVhhzQ","The employment terms and conditions in the document comply with national legislation and collective bargaining agreements.","6jVr5ejqZoc0zqn0vByYuX","For subcontractors, the direct employer terms and conditions shall comply with the national laws independent of the place of hiring or nationality of the workers, and the producer shall be provided with a summary of those terms to be checked.\n","5nISxpmIvwZJyExTIGOvlS",{"$f":"INDEX(Level[Level],MATCH(PIs[[#This Row],[L]],Level[GUID],0),1)","v":"Major Must"},null,null,"The assessor shall check compliance of the details in the document with the local laws in the national interpretation guideline and of the document sample with information from national regulations. Information shall be cross-checked with interviews where possible. If no interviews are possible, the assessor shall check compliance through document review.\nThe assessor shall request and check subcontracted labor information on this P&C.\n",null,"19R27icHjrePmOqhbMVB4F",{"$f":"INDEX(allsections[[S]:[Order]],MATCH(PIs[[#This Row],[SGUID]],allsections[SGUID],0),1)","v":"TERMS OF EMPLOYMENT DOCUMENTS AND FORCED LABOR INDICATORS"},{"$f":"INDEX(allsections[[S]:[Order]],MATCH(PIs[[#This Row],[SGUID]],allsections[SGUID],0),2)","v":"-"},{"$f":"INDEX(allsections[[S]:[Order]],MATCH(PIs[[#This Row],[SGUID]],allsections[SGUID],0),3)","v":7},"5TvyR0UgB0EOmnMkFaZftX",{"$f":"INDEX(allsections[[S]:[Order]],MATCH(PIs[[#This Row],[SSGUID]],allsections[SGUID],0),1)","v":"-"},{"$f":"INDEX(allsections[[S]:[Order]],MATCH(PIs[[#This Row],[SSGUID]],allsections[SGUID],0),2)","v":"-"},{"$f":"INDEX(S2PQ_relational[],MATCH(PIs[[#This Row],[GUID]],S2PQ_relational[PIGUID],0),2)","v":"7BjiTqdbz9EPX1It8mlxYw"},false]
["4lfxJOCcV1ojVuJVjCfBj6",null,"06.06","2osrxWKrJ6rgdbIvNRYc66","The employment terms and conditions documents include up-to-date information on the period of employment, contract type, a basic job description, wages, payments, working hours, breaks, holidays, and information on maternity or sick leave applicable by law.","3In9SO1LvyV4rky1ZWUNYm","The term “up to date” shall require a record of employment changes (changes in hours, type of activity, wages, location, housing, transport, basic information on holidays and maternity leave rights or sick leave, etc.) that will apply.\nIf the worker lives in on-site housing arrangements, the document shall clearly indicate the weekly days off and/or weekly work shifts.\nThe term “contract type” shall refer to the distinction between permanent, seasonal, period or day laborer, or subcontracted employment.\nThe term “wages” shall require including a clear calculation of wages (i.e., inclusive of new forms of shift work, average of hours worked, flex-time arrangements, compressed work weeks, on-call work, along with extended or even 24/7 availability), and final rate to be paid shall also be included in the employment terms and conditions.\nFor subcontracted labor, the direct subcontractor employer shall provide a summary (document) of the terms of employment. Information considered confidential shall be described in general terms (i.e., wages or bonuses shall be described as hourly rates or at least indicating payment of the minimum wage). ","oOfpsr1EZQ6CxCOIvBlFe",{"$f":"INDEX(Level[Level],MATCH(PIs[[#This Row],[L]],Level[GUID],0),1)","v":"Minor Must"},null,null,"During worker interviews, the assessor shall cross-check the contents of the documents directly with the worker’s testimony and the verification process of the producer. The information included in the document shall be complete and correct. If no interviews are possible, the assessor shall check compliance through document review.\nThe assessor shall report details on minimum wage, working hours, and maximum weekly working hours.\nThe assessor shall request and check subcontracted labor information on this P&C.",null,"19R27icHjrePmOqhbMVB4F",{"$f":"INDEX(allsections[[S]:[Order]],MATCH(PIs[[#This Row],[SGUID]],allsections[SGUID],0),1)","v":"TERMS OF EMPLOYMENT DOCUMENTS AND FORCED LABOR INDICATORS"},{"$f":"INDEX(allsections[[S]:[Order]],MATCH(PIs[[#This Row],[SGUID]],allsections[SGUID],0),2)","v":"-"},{"$f":"INDEX(allsections[[S]:[Order]],MATCH(PIs[[#This Row],[SGUID]],allsections[SGUID],0),3)","v":7},"5TvyR0UgB0EOmnMkFaZftX",{"$f":"INDEX(allsections[[S]:[Order]],MATCH(PIs[[#This Row],[SSGUID]],allsections[SGUID],0),1)","v":"-"},{"$f":"INDEX(allsections[[S]:[Order]],MATCH(PIs[[#This Row],[SSGUID]],allsections[SGUID],0),2)","v":"-"},{"$f":"INDEX(S2PQ_relational[],MATCH(PIs[[#This Row],[GUID]],S2PQ_relational[PIGUID],0),2)","v":"7BjiTqdbz9EPX1It8mlxYw"},false]
["5nVsN512P1ihIAlGnEShZx",null,"06.06","2osrxWKrJ6rgdbIvNRYc66","The employment terms and conditions documents include up-to-date information on the period of employment, contract type, a basic job description, wages, payments, working hours, breaks, holidays, and information on maternity or sick leave applicable by law.","3In9SO1LvyV4rky1ZWUNYm","The term “up to date” shall require a record of employment changes (changes in hours, type of activity, wages, location, housing, transport, basic information on holidays and maternity leave rights or sick leave, etc.) that will apply.\nIf the worker lives in on-site housing arrangements, the document shall clearly indicate the weekly days off and/or weekly work shifts.\nThe term “contract type” shall refer to the distinction between permanent, seasonal, period or day laborer, or subcontracted employment.\nThe term “wages” shall require including a clear calculation of wages (i.e., inclusive of new forms of shift work, average of hours worked, flex-time arrangements, compressed work weeks, on-call work, along with extended or even 24/7 availability), and final rate to be paid shall also be included in the employment terms and conditions.\nFor subcontracted labor, the direct subcontractor employer shall provide a summary (document) of the terms of employment. Information considered confidential shall be described in general terms (i.e., wages or bonuses shall be described as hourly rates or at least indicating payment of the minimum wage). ","oOfpsr1EZQ6CxCOIvBlFe",{"$f":"INDEX(Level[Level],MATCH(PIs[[#This Row],[L]],Level[GUID],0),1)","v":"Minor Must"},null,null,"During worker interviews, the assessor shall cross-check the contents of the documents directly with the worker’s testimony and the verification process of the producer. The information included in the document shall be complete and correct. If no interviews are possible, the assessor shall check compliance through document review.\nThe assessor shall report details on minimum wage, working hours, and maximum weekly working hours.\nThe assessor shall request and check subcontracted labor information on this P&C.\n",null,"19R27icHjrePmOqhbMVB4F",{"$f":"INDEX(allsections[[S]:[Order]],MATCH(PIs[[#This Row],[SGUID]],allsections[SGUID],0),1)","v":"TERMS OF EMPLOYMENT DOCUMENTS AND FORCED LABOR INDICATORS"},{"$f":"INDEX(allsections[[S]:[Order]],MATCH(PIs[[#This Row],[SGUID]],allsections[SGUID],0),2)","v":"-"},{"$f":"INDEX(allsections[[S]:[Order]],MATCH(PIs[[#This Row],[SGUID]],allsections[SGUID],0),3)","v":7},"5TvyR0UgB0EOmnMkFaZftX",{"$f":"INDEX(allsections[[S]:[Order]],MATCH(PIs[[#This Row],[SSGUID]],allsections[SGUID],0),1)","v":"-"},{"$f":"INDEX(allsections[[S]:[Order]],MATCH(PIs[[#This Row],[SSGUID]],allsections[SGUID],0),2)","v":"-"},{"$f":"INDEX(S2PQ_relational[],MATCH(PIs[[#This Row],[GUID]],S2PQ_relational[PIGUID],0),2)","v":"7BjiTqdbz9EPX1It8mlxYw"},false]
["7vh4rzn69GDVBFTuIYGSFw",null,"06.05","6KM1RjCbeVlgTJCOIAUPpj","Information on the worker’s full name, nationality, and date of birth is verified by the employer before hiring and has been correctly included in the worker’s terms and conditions documents.","7uFARiArDWVaYTqBEaSPrc","There shall be a verification process or method for the information included in the workers’ terms and conditions documents (e.g., check of worker ID, working permit, working registration card, trade union membership card, etc., with a copy kept on file) to verify the information for all workers, including very short-term workers. \nFor subcontracted labor, the information shall be included in the register (list of those working at the production site) provided to the assessor.","5nISxpmIvwZJyExTIGOvlS",{"$f":"INDEX(Level[Level],MATCH(PIs[[#This Row],[L]],Level[GUID],0),1)","v":"Major Must"},null,null,"During worker interviews, the assessor shall cross-check the contents of the documents directly with the worker’s testimony and the verification process of the producer. The information included in the document shall be complete and correct. If no interviews are possible, the assessor shall check compliance through document review.\nIf the verification process is not documented, a detailed verbal explanation by the producer of the verification together with documental evidence shall be presented.\nThe assessor shall request and check subcontracted labor information on this P&C.",null,"19R27icHjrePmOqhbMVB4F",{"$f":"INDEX(allsections[[S]:[Order]],MATCH(PIs[[#This Row],[SGUID]],allsections[SGUID],0),1)","v":"TERMS OF EMPLOYMENT DOCUMENTS AND FORCED LABOR INDICATORS"},{"$f":"INDEX(allsections[[S]:[Order]],MATCH(PIs[[#This Row],[SGUID]],allsections[SGUID],0),2)","v":"-"},{"$f":"INDEX(allsections[[S]:[Order]],MATCH(PIs[[#This Row],[SGUID]],allsections[SGUID],0),3)","v":7},"5TvyR0UgB0EOmnMkFaZftX",{"$f":"INDEX(allsections[[S]:[Order]],MATCH(PIs[[#This Row],[SSGUID]],allsections[SGUID],0),1)","v":"-"},{"$f":"INDEX(allsections[[S]:[Order]],MATCH(PIs[[#This Row],[SSGUID]],allsections[SGUID],0),2)","v":"-"},{"$f":"INDEX(S2PQ_relational[],MATCH(PIs[[#This Row],[GUID]],S2PQ_relational[PIGUID],0),2)","v":"7BjiTqdbz9EPX1It8mlxYw"},false]
["7iB0AdjwaAwIoJhCjExqqN",null,"06.05","6KM1RjCbeVlgTJCOIAUPpj","Information on the worker’s full name, nationality, and date of birth is verified by the employer before hiring and has been correctly included in the worker’s terms and conditions documents.","7uFARiArDWVaYTqBEaSPrc","There shall be a verification process or method for the information included in the workers’ terms and conditions documents (e.g., check of worker ID, working permit, working registration card, trade union membership card, etc., with a copy kept on file) to verify the information for all workers, including very short-term workers. \nFor subcontracted labor, the information shall be included in the register (list of those working at the production site) provided to the assessor.","5nISxpmIvwZJyExTIGOvlS",{"$f":"INDEX(Level[Level],MATCH(PIs[[#This Row],[L]],Level[GUID],0),1)","v":"Major Must"},null,null,"During worker interviews, the assessor shall cross-check the contents of the documents directly with the worker’s testimony and the verification process of the producer. The information included in the document shall be complete and correct. If no interviews are possible, the assessor shall check compliance through document review.\nIf the verification process is not documented, a detailed verbal explanation by the producer of the verification together with documental evidence shall be presented.\nThe assessor shall request and check subcontracted labor information on this P&C.\n",null,"19R27icHjrePmOqhbMVB4F",{"$f":"INDEX(allsections[[S]:[Order]],MATCH(PIs[[#This Row],[SGUID]],allsections[SGUID],0),1)","v":"TERMS OF EMPLOYMENT DOCUMENTS AND FORCED LABOR INDICATORS"},{"$f":"INDEX(allsections[[S]:[Order]],MATCH(PIs[[#This Row],[SGUID]],allsections[SGUID],0),2)","v":"-"},{"$f":"INDEX(allsections[[S]:[Order]],MATCH(PIs[[#This Row],[SGUID]],allsections[SGUID],0),3)","v":7},"5TvyR0UgB0EOmnMkFaZftX",{"$f":"INDEX(allsections[[S]:[Order]],MATCH(PIs[[#This Row],[SSGUID]],allsections[SGUID],0),1)","v":"-"},{"$f":"INDEX(allsections[[S]:[Order]],MATCH(PIs[[#This Row],[SSGUID]],allsections[SGUID],0),2)","v":"-"},{"$f":"INDEX(S2PQ_relational[],MATCH(PIs[[#This Row],[GUID]],S2PQ_relational[PIGUID],0),2)","v":"7BjiTqdbz9EPX1It8mlxYw"},false]
["1c9fEucPgLEBwZcAB3PJnL",null,"06.04","GRWzi8M3UZSjXjuKRAfLl","For each worker, a document with the employment terms and conditions is available and has existed from the moment the employment relationship started.","aG4IkGjVktLagzsOyXmZb","The term “document with the employment terms and conditions” shall indicate a record in writing, such as a contract, letter of employment, short agreements, or any other type of record that provides details of the employment term agreements. The evidence may consist of several documents with the information.\nFor compliance, it is required that:\n- Documents shall be understood by workers (i.e., available in the predominant language(s) of the workforce, or with proof showing that workers understood the document).\n- The worker shall have a copy and/or these documents shall be accessible.\n- Documents shall include a date of acceptance of the agreement and the employment starting date.\n- If written, the agreement shall be signed and dated by the worker.\nFor subcontracted labor, there shall be a document from the producer for subcontractors and/or employment agency workers instructing the subcontracted laborer about the scope and conditions of the work, detailing the (applicable) information. This document shall be available in the predominant language(s) of the subcontracted workforce and/or pictograms. \nThe direct employer (subcontractor) shall provide the producer with a summary (document) of the terms of employment used. Information considered confidential shall be described in general terms (e.g., wages or bonuses shall be described as hourly rates or at least indicating the minimum wage payment). \nThere shall be a terms and conditions document if prison labor is used.\nThere shall be separate terms and conditions documents when family members or workers are also hired.","5nISxpmIvwZJyExTIGOvlS",{"$f":"INDEX(Level[Level],MATCH(PIs[[#This Row],[L]],Level[GUID],0),1)","v":"Major Must"},null,null,"The assessor shall check the validity of the records used and cross-check with the worker in the interview, where possible. If no interviews are possible, the assessor shall check compliance with this P&C through document review.\nThe assessor shall request and check subcontracted labor information on this P&C.\n",null,"19R27icHjrePmOqhbMVB4F",{"$f":"INDEX(allsections[[S]:[Order]],MATCH(PIs[[#This Row],[SGUID]],allsections[SGUID],0),1)","v":"TERMS OF EMPLOYMENT DOCUMENTS AND FORCED LABOR INDICATORS"},{"$f":"INDEX(allsections[[S]:[Order]],MATCH(PIs[[#This Row],[SGUID]],allsections[SGUID],0),2)","v":"-"},{"$f":"INDEX(allsections[[S]:[Order]],MATCH(PIs[[#This Row],[SGUID]],allsections[SGUID],0),3)","v":7},"5TvyR0UgB0EOmnMkFaZftX",{"$f":"INDEX(allsections[[S]:[Order]],MATCH(PIs[[#This Row],[SSGUID]],allsections[SGUID],0),1)","v":"-"},{"$f":"INDEX(allsections[[S]:[Order]],MATCH(PIs[[#This Row],[SSGUID]],allsections[SGUID],0),2)","v":"-"},{"$f":"INDEX(S2PQ_relational[],MATCH(PIs[[#This Row],[GUID]],S2PQ_relational[PIGUID],0),2)","v":"7BjiTqdbz9EPX1It8mlxYw"},false]
["nLQp6Z2dA0ba8MNAiLJ6s",null,"06.04","GRWzi8M3UZSjXjuKRAfLl","For each worker, a document with the employment terms and conditions is available and has existed from the moment the employment relationship started.","aG4IkGjVktLagzsOyXmZb","The term “document with the employment terms and conditions” shall indicate a record in writing, such as a contract, letter of employment, short agreements, or any other type of record that provides details of the employment term agreements. The evidence may consist of several documents with the information.\nFor compliance, it is required that:\n- Documents shall be understood by workers (i.e., available in the predominant language(s) of the workforce, or with proof showing that workers understood the document).\n- The worker shall have a copy and/or these documents shall be accessible.\n- Documents shall include a date of acceptance of the agreement and the employment starting date.\n- If written, the agreement shall be signed and dated by the worker.\nFor subcontracted labor, there shall be a document from the producer for subcontractors and/or employment agency workers instructing the subcontracted laborer about the scope and conditions of the work, detailing the (applicable) information. This document shall be available in the predominant language(s) of the subcontracted workforce and/or pictograms. \nThe direct employer (subcontractor) shall provide the producer with a summary (document) of the terms of employment used. Information considered confidential shall be described in general terms (e.g., wages or bonuses shall be described as hourly rates or at least indicating the minimum wage payment). \nThere shall be a terms and conditions document if prison labor is used.\nThere shall be separate terms and conditions documents when family members or workers are also hired.","5nISxpmIvwZJyExTIGOvlS",{"$f":"INDEX(Level[Level],MATCH(PIs[[#This Row],[L]],Level[GUID],0),1)","v":"Major Must"},null,null,"The assessor shall check the validity of the records used and cross-check with the worker in the interview, where possible. If no interviews are possible, the assessor shall check compliance with this P&C through document review.\nThe assessor shall request and check subcontracted labor information on this P&C.",null,"19R27icHjrePmOqhbMVB4F",{"$f":"INDEX(allsections[[S]:[Order]],MATCH(PIs[[#This Row],[SGUID]],allsections[SGUID],0),1)","v":"TERMS OF EMPLOYMENT DOCUMENTS AND FORCED LABOR INDICATORS"},{"$f":"INDEX(allsections[[S]:[Order]],MATCH(PIs[[#This Row],[SGUID]],allsections[SGUID],0),2)","v":"-"},{"$f":"INDEX(allsections[[S]:[Order]],MATCH(PIs[[#This Row],[SGUID]],allsections[SGUID],0),3)","v":7},"5TvyR0UgB0EOmnMkFaZftX",{"$f":"INDEX(allsections[[S]:[Order]],MATCH(PIs[[#This Row],[SSGUID]],allsections[SGUID],0),1)","v":"-"},{"$f":"INDEX(allsections[[S]:[Order]],MATCH(PIs[[#This Row],[SSGUID]],allsections[SGUID],0),2)","v":"-"},{"$f":"INDEX(S2PQ_relational[],MATCH(PIs[[#This Row],[GUID]],S2PQ_relational[PIGUID],0),2)","v":"7BjiTqdbz9EPX1It8mlxYw"},false]
["1QXyVfdBIBo1vUMDJvmkto",null,"06.03","FBRz4a7QQMCZLXjLRXikT","All contracted employment agencies and labor subcontractors are legally authorized to operate and/or registered with labor authorities when such registration exists.","1JszLHsWpyi86eozDyPLOe","The term “contracted” shall include all organizations used by the producer during the year before (or since the last) assessment.\nThe term “registration” includes basic legal permits and official business registration from government authorities to operate as a legal entity, individual subcontractor, or business. The producer shall have in place a verification process or method for checking the registration of employment agencies and subcontractors used (e.g., checking the license, business registration, permits, and registration documents where available, etc.).\nThe producer shall keep copies of the verification resources (e.g., documents, copies, certification, etc.).","5nISxpmIvwZJyExTIGOvlS",{"$f":"INDEX(Level[Level],MATCH(PIs[[#This Row],[L]],Level[GUID],0),1)","v":"Major Must"},null,null,"The assessor shall check the validity of the verification resources used and cross-check with the contract signed with the employment agencies and/or subcontractors and producer interview.\n",null,"19R27icHjrePmOqhbMVB4F",{"$f":"INDEX(allsections[[S]:[Order]],MATCH(PIs[[#This Row],[SGUID]],allsections[SGUID],0),1)","v":"TERMS OF EMPLOYMENT DOCUMENTS AND FORCED LABOR INDICATORS"},{"$f":"INDEX(allsections[[S]:[Order]],MATCH(PIs[[#This Row],[SGUID]],allsections[SGUID],0),2)","v":"-"},{"$f":"INDEX(allsections[[S]:[Order]],MATCH(PIs[[#This Row],[SGUID]],allsections[SGUID],0),3)","v":7},"5TvyR0UgB0EOmnMkFaZftX",{"$f":"INDEX(allsections[[S]:[Order]],MATCH(PIs[[#This Row],[SSGUID]],allsections[SGUID],0),1)","v":"-"},{"$f":"INDEX(allsections[[S]:[Order]],MATCH(PIs[[#This Row],[SSGUID]],allsections[SGUID],0),2)","v":"-"},{"$f":"INDEX(S2PQ_relational[],MATCH(PIs[[#This Row],[GUID]],S2PQ_relational[PIGUID],0),2)","v":"7BjiTqdbz9EPX1It8mlxYw"},false]
["28h0o0cSIJtD06wm9OzLvK",null,"06.03","FBRz4a7QQMCZLXjLRXikT","All contracted employment agencies and labor subcontractors are legally authorized to operate and/or registered with labor authorities when such registration exists.","1JszLHsWpyi86eozDyPLOe","The term “contracted” shall include all organizations used by the producer during the year before (or since the last) assessment.\nThe term “registration” includes basic legal permits and official business registration from government authorities to operate as a legal entity, individual subcontractor, or business. The producer shall have in place a verification process or method for checking the registration of employment agencies and subcontractors used (e.g., checking the license, business registration, permits, and registration documents where available, etc.).\nThe producer shall keep copies of the verification resources (e.g., documents, copies, certification, etc.).","5nISxpmIvwZJyExTIGOvlS",{"$f":"INDEX(Level[Level],MATCH(PIs[[#This Row],[L]],Level[GUID],0),1)","v":"Major Must"},null,null,"The assessor shall check the validity of the verification resources used and cross-check with the contract signed with the employment agencies and/or subcontractors and producer interview.\n",null,"19R27icHjrePmOqhbMVB4F",{"$f":"INDEX(allsections[[S]:[Order]],MATCH(PIs[[#This Row],[SGUID]],allsections[SGUID],0),1)","v":"TERMS OF EMPLOYMENT DOCUMENTS AND FORCED LABOR INDICATORS"},{"$f":"INDEX(allsections[[S]:[Order]],MATCH(PIs[[#This Row],[SGUID]],allsections[SGUID],0),2)","v":"-"},{"$f":"INDEX(allsections[[S]:[Order]],MATCH(PIs[[#This Row],[SGUID]],allsections[SGUID],0),3)","v":7},"5TvyR0UgB0EOmnMkFaZftX",{"$f":"INDEX(allsections[[S]:[Order]],MATCH(PIs[[#This Row],[SSGUID]],allsections[SGUID],0),1)","v":"-"},{"$f":"INDEX(allsections[[S]:[Order]],MATCH(PIs[[#This Row],[SSGUID]],allsections[SGUID],0),2)","v":"-"},{"$f":"INDEX(S2PQ_relational[],MATCH(PIs[[#This Row],[GUID]],S2PQ_relational[PIGUID],0),2)","v":"7BjiTqdbz9EPX1It8mlxYw"},false]
["wBEPtgHvVdAw5AnSADfam",null,"06.02","25rcWgjqWGERt1IfXa5ph4","All workers have entered work voluntarily and freely: \n- Without being pressured, forced, or intimidated\n- Without being required to pay (directly or indirectly) a fee or related cost for being recruited, or making monetary deposits, financial guarantees, or deposits of personal possessions to be employed\n- Understanding and freely agreeing to the employment terms and conditions document","4ff7OgPhUZQJO7PXKCbReW","Details of the hiring procedure (documental or verbal) at the production site shall be provided indicating when the acceptance of work happens and by whom. \nIf prison labor is used, there shall be evidence that all labor was performed voluntarily, i.e., each worker shall receive and sign a standardized consent form from the producer indicating that they agree to work. The form shall indicate the wages and conditions of work. The producer shall offer working conditions similar to working outside the prison.\nIf family members of the worker have been hired, the assessor shall check that the family members (worker’s spouse, children, or any other family members) have been separately and voluntarily contracted.\nThe term “debt bondage” shall refer to a debt which can never be paid due to the conditions, terms, and circumstances of the debt.\nIn the case of subcontracted labor, where legislation allows subcontractors to charge fees, these may not lead to situations of forced or compulsory labor (i.e., debt bondage or forced labor), and the producer shall request documental information directly from the direct employer and their subcontracted labor about this P&C. If non-compliance is found, the producer shall document each instance and the corrective actions taken.\n","5nISxpmIvwZJyExTIGOvlS",{"$f":"INDEX(Level[Level],MATCH(PIs[[#This Row],[L]],Level[GUID],0),1)","v":"Major Must"},null,null,"The assessor shall check any contracting agreement about recruitment fees or provision in exchange of money or wages for food, shelter, or other services about wages, requesting a statement of any outstanding debts and record of payments by the workers. This information shall be cross-checked with interviews where possible. Signatures and identity of workers shall be cross-checked according to GRASP document sampling rules and with interviews where possible.\nAspects to consider when cross-checking with interviews: unfulfilled promises on working conditions, contract substitution, promising more than what was delivered, contract in a language the worker does not understand or speak, contract or its content never shown to worker.\nThe assessor shall request and check subcontracted labor information on this P&C.",null,"19R27icHjrePmOqhbMVB4F",{"$f":"INDEX(allsections[[S]:[Order]],MATCH(PIs[[#This Row],[SGUID]],allsections[SGUID],0),1)","v":"TERMS OF EMPLOYMENT DOCUMENTS AND FORCED LABOR INDICATORS"},{"$f":"INDEX(allsections[[S]:[Order]],MATCH(PIs[[#This Row],[SGUID]],allsections[SGUID],0),2)","v":"-"},{"$f":"INDEX(allsections[[S]:[Order]],MATCH(PIs[[#This Row],[SGUID]],allsections[SGUID],0),3)","v":7},"5TvyR0UgB0EOmnMkFaZftX",{"$f":"INDEX(allsections[[S]:[Order]],MATCH(PIs[[#This Row],[SSGUID]],allsections[SGUID],0),1)","v":"-"},{"$f":"INDEX(allsections[[S]:[Order]],MATCH(PIs[[#This Row],[SSGUID]],allsections[SGUID],0),2)","v":"-"},{"$f":"INDEX(S2PQ_relational[],MATCH(PIs[[#This Row],[GUID]],S2PQ_relational[PIGUID],0),2)","v":"7BjiTqdbz9EPX1It8mlxYw"},false]
["3PZFbxrO2SbhAhzMifmoqP",null,"06.02","25rcWgjqWGERt1IfXa5ph4","All workers have entered work voluntarily and freely: \n- Without being pressured, forced, or intimidated\n- Without being required to pay (directly or indirectly) a fee or related cost for being recruited, or making monetary deposits, financial guarantees, or deposits of personal possessions to be employed\n- Understanding and freely agreeing to the employment terms and conditions document","4ff7OgPhUZQJO7PXKCbReW","Details of the hiring procedure (documental or verbal) at the production site shall be provided indicating when the acceptance of work happens and by whom. \nIf prison labor is used, there shall be evidence that all labor was performed voluntarily, i.e., each worker shall receive and sign a standardized consent form from the producer indicating that they agree to work. The form shall indicate the wages and conditions of work. The producer shall offer working conditions similar to working outside the prison.\nIf family members of the worker have been hired, the assessor shall check that the family members (worker’s spouse, children, or any other family members) have been separately and voluntarily contracted.\nThe term “debt bondage” shall refer to a debt which can never be paid due to the conditions, terms, and circumstances of the debt.\nIn the case of subcontracted labor, where legislation allows subcontractors to charge fees, these may not lead to situations of forced or compulsory labor (i.e., debt bondage or forced labor), and the producer shall request documental information directly from the direct employer and their subcontracted labor about this P&C. If non-compliance is found, the producer shall document each instance and the corrective actions taken.\n","5nISxpmIvwZJyExTIGOvlS",{"$f":"INDEX(Level[Level],MATCH(PIs[[#This Row],[L]],Level[GUID],0),1)","v":"Major Must"},null,null,"The assessor shall check any contracting agreement about recruitment fees or provision in exchange of money or wages for food, shelter, or other services about wages, requesting a statement of any outstanding debts and record of payments by the workers. This information shall be cross-checked with interviews where possible. Signatures and identity of workers shall be cross-checked according to GRASP document sampling rules and with interviews where possible.\nAspects to consider when cross-checking with interviews: unfulfilled promises on working conditions, contract substitution, promising more than what was delivered, contract in a language the worker does not understand or speak, contract or its content never shown to worker.\nThe assessor shall request and check subcontracted labor information on this P&C.\n",null,"19R27icHjrePmOqhbMVB4F",{"$f":"INDEX(allsections[[S]:[Order]],MATCH(PIs[[#This Row],[SGUID]],allsections[SGUID],0),1)","v":"TERMS OF EMPLOYMENT DOCUMENTS AND FORCED LABOR INDICATORS"},{"$f":"INDEX(allsections[[S]:[Order]],MATCH(PIs[[#This Row],[SGUID]],allsections[SGUID],0),2)","v":"-"},{"$f":"INDEX(allsections[[S]:[Order]],MATCH(PIs[[#This Row],[SGUID]],allsections[SGUID],0),3)","v":7},"5TvyR0UgB0EOmnMkFaZftX",{"$f":"INDEX(allsections[[S]:[Order]],MATCH(PIs[[#This Row],[SSGUID]],allsections[SGUID],0),1)","v":"-"},{"$f":"INDEX(allsections[[S]:[Order]],MATCH(PIs[[#This Row],[SSGUID]],allsections[SGUID],0),2)","v":"-"},{"$f":"INDEX(S2PQ_relational[],MATCH(PIs[[#This Row],[GUID]],S2PQ_relational[PIGUID],0),2)","v":"7BjiTqdbz9EPX1It8mlxYw"},false]
["1UsFNQjqnI4NREyezoXBqD",null,"06.01","3q3kli8UHF9aPoV3aJLY4k","All workers are legally eligible to work at the production site and on the activities assigned.  ","781bau86BzU3yuv5hyY5xT","For each worker, the producer shall have information on their legal eligibility to work and a verification process or method to assess this eligibility including, e.g., working permits (when required for nonnationals), legal minimum age of employment (for young workers), parental consent for workers at legal minimum age of employment (when required by law), residency permits, working cards, or other documents with relevant information.\nFor family farms without hired workers, “workers” shall refer to core family members working on the farm.\nAny ID, permit, or document to verify this condition shall always be returned to the worker immediately.\nFor subcontracted agricultural labor, the producer shall have requested a list of workers indicating that each worker’s eligibility was checked by the direct employer (e.g., by permit, by passport, by ID, etc.).","5nISxpmIvwZJyExTIGOvlS",{"$f":"INDEX(Level[Level],MATCH(PIs[[#This Row],[L]],Level[GUID],0),1)","v":"Major Must"},null,null,"The assessor shall check the validity of the evidence used and cross-check with the worker in the interview where possible. If no interviews are possible, the assessor shall check the relevant documents. If the verification process is not documented, a detailed verbal explanation by the producer shall be required, together with some documental evidence.\nThe assessor shall request and check subcontracted labor information on this P&C.",null,"19R27icHjrePmOqhbMVB4F",{"$f":"INDEX(allsections[[S]:[Order]],MATCH(PIs[[#This Row],[SGUID]],allsections[SGUID],0),1)","v":"TERMS OF EMPLOYMENT DOCUMENTS AND FORCED LABOR INDICATORS"},{"$f":"INDEX(allsections[[S]:[Order]],MATCH(PIs[[#This Row],[SGUID]],allsections[SGUID],0),2)","v":"-"},{"$f":"INDEX(allsections[[S]:[Order]],MATCH(PIs[[#This Row],[SGUID]],allsections[SGUID],0),3)","v":7},"5TvyR0UgB0EOmnMkFaZftX",{"$f":"INDEX(allsections[[S]:[Order]],MATCH(PIs[[#This Row],[SSGUID]],allsections[SGUID],0),1)","v":"-"},{"$f":"INDEX(allsections[[S]:[Order]],MATCH(PIs[[#This Row],[SSGUID]],allsections[SGUID],0),2)","v":"-"},{"$f":"INDEX(S2PQ_relational[],MATCH(PIs[[#This Row],[GUID]],S2PQ_relational[PIGUID],0),2)","v":"4Avk7C7MmAoFg744HYI5OO"},false]
["2Qdjx9Bh84rwMQxPkUom0T",null,"06.01","3q3kli8UHF9aPoV3aJLY4k","All workers are legally eligible to work at the production site and on the activities assigned.  ","781bau86BzU3yuv5hyY5xT","For each worker, the producer shall have information on their legal eligibility to work and a verification process or method to assess this eligibility including, e.g., working permits (when required for nonnationals), legal minimum age of employment (for young workers), parental consent for workers at legal minimum age of employment (when required by law), residency permits, working cards, or other documents with relevant information.\nFor family farms without hired workers, “workers” shall refer to core family members working on the farm.\nAny ID, permit, or document to verify this condition shall always be returned to the worker immediately.\nFor subcontracted agricultural labor, the producer shall have requested a list of workers indicating that each worker’s eligibility was checked by the direct employer (e.g., by permit, by passport, by ID, etc.).","5nISxpmIvwZJyExTIGOvlS",{"$f":"INDEX(Level[Level],MATCH(PIs[[#This Row],[L]],Level[GUID],0),1)","v":"Major Must"},null,null,"The assessor shall check the validity of the evidence used and cross-check with the worker in the interview where possible. If no interviews are possible, the assessor shall check the relevant documents. If the verification process is not documented, a detailed verbal explanation by the producer shall be required, together with some documental evidence.\nThe assessor shall request and check subcontracted labor information on this P&C.\n",null,"19R27icHjrePmOqhbMVB4F",{"$f":"INDEX(allsections[[S]:[Order]],MATCH(PIs[[#This Row],[SGUID]],allsections[SGUID],0),1)","v":"TERMS OF EMPLOYMENT DOCUMENTS AND FORCED LABOR INDICATORS"},{"$f":"INDEX(allsections[[S]:[Order]],MATCH(PIs[[#This Row],[SGUID]],allsections[SGUID],0),2)","v":"-"},{"$f":"INDEX(allsections[[S]:[Order]],MATCH(PIs[[#This Row],[SGUID]],allsections[SGUID],0),3)","v":7},"5TvyR0UgB0EOmnMkFaZftX",{"$f":"INDEX(allsections[[S]:[Order]],MATCH(PIs[[#This Row],[SSGUID]],allsections[SGUID],0),1)","v":"-"},{"$f":"INDEX(allsections[[S]:[Order]],MATCH(PIs[[#This Row],[SSGUID]],allsections[SGUID],0),2)","v":"-"},{"$f":"INDEX(S2PQ_relational[],MATCH(PIs[[#This Row],[GUID]],S2PQ_relational[PIGUID],0),2)","v":"4Avk7C7MmAoFg744HYI5OO"},false]
["79P2YlIaBbTYuLX5kn7gmT",null,"05.02","2SxOoVWbEHQ7FM1i5S9QFS","Taking into consideration any differences between national and local legislation and GRASP, the producer always applies the higher level of protection to workers. ","4LPi7CwE8zLUSKO5fk4tUp","The term “higher level of protection” shall refer to the regulation which provides better protection or benefits to the worker.","5nISxpmIvwZJyExTIGOvlS",{"$f":"INDEX(Level[Level],MATCH(PIs[[#This Row],[L]],Level[GUID],0),1)","v":"Major Must"},null,null,"The assessor shall be presented with the evidence of GRASP application or the evidence of law infringement. In both cases, a report shall be included to be communicated to GLOBALG.A.P. directly.\n",null,"seSMMRr8dVZQE1tIIM2oM",{"$f":"INDEX(allsections[[S]:[Order]],MATCH(PIs[[#This Row],[SGUID]],allsections[SGUID],0),1)","v":"ACCESS TO LABOR REGULATION INFORMATION"},{"$f":"INDEX(allsections[[S]:[Order]],MATCH(PIs[[#This Row],[SGUID]],allsections[SGUID],0),2)","v":"-"},{"$f":"INDEX(allsections[[S]:[Order]],MATCH(PIs[[#This Row],[SGUID]],allsections[SGUID],0),3)","v":6},"5TvyR0UgB0EOmnMkFaZftX",{"$f":"INDEX(allsections[[S]:[Order]],MATCH(PIs[[#This Row],[SSGUID]],allsections[SGUID],0),1)","v":"-"},{"$f":"INDEX(allsections[[S]:[Order]],MATCH(PIs[[#This Row],[SSGUID]],allsections[SGUID],0),2)","v":"-"},{"$f":"INDEX(S2PQ_relational[],MATCH(PIs[[#This Row],[GUID]],S2PQ_relational[PIGUID],0),2)","v":"7BjiTqdbz9EPX1It8mlxYw"},false]
["2efu6CRg9BprsT9UGczVg5",null,"05.02","2SxOoVWbEHQ7FM1i5S9QFS","Taking into consideration any differences between national and local legislation and GRASP, the producer always applies the higher level of protection to workers. ","4LPi7CwE8zLUSKO5fk4tUp","The term “higher level of protection” shall refer to the regulation which provides better protection or benefits to the worker.","5nISxpmIvwZJyExTIGOvlS",{"$f":"INDEX(Level[Level],MATCH(PIs[[#This Row],[L]],Level[GUID],0),1)","v":"Major Must"},null,null,"The assessor shall be presented with the evidence of GRASP application or the evidence of law infringement. In both cases, a report shall be included to be communicated to GLOBALG.A.P. directly.\n",null,"seSMMRr8dVZQE1tIIM2oM",{"$f":"INDEX(allsections[[S]:[Order]],MATCH(PIs[[#This Row],[SGUID]],allsections[SGUID],0),1)","v":"ACCESS TO LABOR REGULATION INFORMATION"},{"$f":"INDEX(allsections[[S]:[Order]],MATCH(PIs[[#This Row],[SGUID]],allsections[SGUID],0),2)","v":"-"},{"$f":"INDEX(allsections[[S]:[Order]],MATCH(PIs[[#This Row],[SGUID]],allsections[SGUID],0),3)","v":6},"5TvyR0UgB0EOmnMkFaZftX",{"$f":"INDEX(allsections[[S]:[Order]],MATCH(PIs[[#This Row],[SSGUID]],allsections[SGUID],0),1)","v":"-"},{"$f":"INDEX(allsections[[S]:[Order]],MATCH(PIs[[#This Row],[SSGUID]],allsections[SGUID],0),2)","v":"-"},{"$f":"INDEX(S2PQ_relational[],MATCH(PIs[[#This Row],[GUID]],S2PQ_relational[PIGUID],0),2)","v":"7BjiTqdbz9EPX1It8mlxYw"},false]
["2eqj1B1ZG1aYK9JZ0Yoe4U",null,"05.01","4jQTYyJXbzmV6xSxxzGP0I","The workers and the worker representation are provided with easy-to-understand and up-to-date information on minimum wage, working hours, breaks, maternity and sick leave, harassment and discrimination, freedom of association, holidays, labor unions, and local labor authorities contacts.","WQ9BQuiuLrGvLNnIfvVvy","The information shall also be available to all subcontracted labor.\nThe term “easy-to-understand” shall require that accessibility and instruction to access is provided if needed. E.g., if access is provided electronically, a device such as a computer shall be always connected and available, and workers shall have received instructions on how to operate the device. If written information such as NIGs or pictogram information is displayed, the information shall be available in the predominant language(s) of the workforce.\nThe term “up-to-date” shall require that information is from the latest valid and applicable regulation on the topics of the criteria.\n","5nISxpmIvwZJyExTIGOvlS",{"$f":"INDEX(Level[Level],MATCH(PIs[[#This Row],[L]],Level[GUID],0),1)","v":"Major Must"},null,null,"The assessor shall use worker interviews, where possible, to check how the information was provided. If no interviews are possible, the assessor shall check compliance with this P&C through document review and interviews with the worker representation. The assessor shall be provided with the relevant documents or pictograms and check that they are always accessible to workers and subcontracted labor (e.g., information is displayed in common resting areas of workers).\n",null,"seSMMRr8dVZQE1tIIM2oM",{"$f":"INDEX(allsections[[S]:[Order]],MATCH(PIs[[#This Row],[SGUID]],allsections[SGUID],0),1)","v":"ACCESS TO LABOR REGULATION INFORMATION"},{"$f":"INDEX(allsections[[S]:[Order]],MATCH(PIs[[#This Row],[SGUID]],allsections[SGUID],0),2)","v":"-"},{"$f":"INDEX(allsections[[S]:[Order]],MATCH(PIs[[#This Row],[SGUID]],allsections[SGUID],0),3)","v":6},"5TvyR0UgB0EOmnMkFaZftX",{"$f":"INDEX(allsections[[S]:[Order]],MATCH(PIs[[#This Row],[SSGUID]],allsections[SGUID],0),1)","v":"-"},{"$f":"INDEX(allsections[[S]:[Order]],MATCH(PIs[[#This Row],[SSGUID]],allsections[SGUID],0),2)","v":"-"},{"$f":"INDEX(S2PQ_relational[],MATCH(PIs[[#This Row],[GUID]],S2PQ_relational[PIGUID],0),2)","v":"7BjiTqdbz9EPX1It8mlxYw"},false]
["54dPs5U6gBeP4afltpfCE9",null,"05.01","4jQTYyJXbzmV6xSxxzGP0I","The workers and the worker representation are provided with easy-to-understand and up-to-date information on minimum wage, working hours, breaks, maternity and sick leave, harassment and discrimination, freedom of association, holidays, labor unions, and local labor authorities contacts.","WQ9BQuiuLrGvLNnIfvVvy","The information shall also be available to all subcontracted labor.\nThe term “easy-to-understand” shall require that accessibility and instruction to access is provided if needed. E.g., if access is provided electronically, a device such as a computer shall be always connected and available, and workers shall have received instructions on how to operate the device. If written information such as NIGs or pictogram information is displayed, the information shall be available in the predominant language(s) of the workforce.\nThe term “up-to-date” shall require that information is from the latest valid and applicable regulation on the topics of the criteria.\n","5nISxpmIvwZJyExTIGOvlS",{"$f":"INDEX(Level[Level],MATCH(PIs[[#This Row],[L]],Level[GUID],0),1)","v":"Major Must"},null,null,"The assessor shall use worker interviews, where possible, to check how the information was provided. If no interviews are possible, the assessor shall check compliance with this P&C through document review and interviews with the worker representation. The assessor shall be provided with the relevant documents or pictograms and check that they are always accessible to workers and subcontracted labor (e.g., information is displayed in common resting areas of workers).\n",null,"seSMMRr8dVZQE1tIIM2oM",{"$f":"INDEX(allsections[[S]:[Order]],MATCH(PIs[[#This Row],[SGUID]],allsections[SGUID],0),1)","v":"ACCESS TO LABOR REGULATION INFORMATION"},{"$f":"INDEX(allsections[[S]:[Order]],MATCH(PIs[[#This Row],[SGUID]],allsections[SGUID],0),2)","v":"-"},{"$f":"INDEX(allsections[[S]:[Order]],MATCH(PIs[[#This Row],[SGUID]],allsections[SGUID],0),3)","v":6},"5TvyR0UgB0EOmnMkFaZftX",{"$f":"INDEX(allsections[[S]:[Order]],MATCH(PIs[[#This Row],[SSGUID]],allsections[SGUID],0),1)","v":"-"},{"$f":"INDEX(allsections[[S]:[Order]],MATCH(PIs[[#This Row],[SSGUID]],allsections[SGUID],0),2)","v":"-"},{"$f":"INDEX(S2PQ_relational[],MATCH(PIs[[#This Row],[GUID]],S2PQ_relational[PIGUID],0),2)","v":"7BjiTqdbz9EPX1It8mlxYw"},false]
["1fCDpR8Tble3y6GAsbA5SQ",null,"04.05","6rWTDm2B11EWOf3FyZBjgv","The human rights policy is reviewed every three years, or when there is a change to labor legislation, or a change in GRASP, whichever occurs soonest.","7qo9ScmLbiuqZWchSZc6FE","For review every three years, the assessor shall check if changes to the labor legislation regulating the policies in the producer’s human rights policy have occurred.\nFor revision after a GRASP NIG update, the assessor shall check for changes in the NIG that affect the producer’s human rights policies.\nFor Option 2 producer groups, the contents shall be reviewed at QMS level every three years, or earlier if necessary.","oOfpsr1EZQ6CxCOIvBlFe",{"$f":"INDEX(Level[Level],MATCH(PIs[[#This Row],[L]],Level[GUID],0),1)","v":"Minor Must"},null,null,"The assessor shall check the date of the review and any changes included. These changes shall be reflected in the documents and the displayed information.\n",null,"6fz1ZcgpxCeEz3mRGrevNc",{"$f":"INDEX(allsections[[S]:[Order]],MATCH(PIs[[#This Row],[SGUID]],allsections[SGUID],0),1)","v":"PRODUCER’S HUMAN RIGHTS POLICIES"},{"$f":"INDEX(allsections[[S]:[Order]],MATCH(PIs[[#This Row],[SGUID]],allsections[SGUID],0),2)","v":"-"},{"$f":"INDEX(allsections[[S]:[Order]],MATCH(PIs[[#This Row],[SGUID]],allsections[SGUID],0),3)","v":5},"5TvyR0UgB0EOmnMkFaZftX",{"$f":"INDEX(allsections[[S]:[Order]],MATCH(PIs[[#This Row],[SSGUID]],allsections[SGUID],0),1)","v":"-"},{"$f":"INDEX(allsections[[S]:[Order]],MATCH(PIs[[#This Row],[SSGUID]],allsections[SGUID],0),2)","v":"-"},{"$f":"INDEX(S2PQ_relational[],MATCH(PIs[[#This Row],[GUID]],S2PQ_relational[PIGUID],0),2)","v":"7BjiTqdbz9EPX1It8mlxYw"},false]
["7geNs0j1gKJkrzJeivUc5B",null,"04.05","6rWTDm2B11EWOf3FyZBjgv","The human rights policy is reviewed every three years, or when there is a change to labor legislation, or a change in GRASP, whichever occurs soonest.","7qo9ScmLbiuqZWchSZc6FE","For review every three years, the assessor shall check if changes to the labor legislation regulating the policies in the producer’s human rights policy have occurred.\nFor revision after a GRASP NIG update, the assessor shall check for changes in the NIG that affect the producer’s human rights policies.\nFor Option 2 producer groups, the contents shall be reviewed at QMS level every three years, or earlier if necessary.","oOfpsr1EZQ6CxCOIvBlFe",{"$f":"INDEX(Level[Level],MATCH(PIs[[#This Row],[L]],Level[GUID],0),1)","v":"Minor Must"},null,null,"The assessor shall check the date of the review and any changes included. These changes shall be reflected in the documents and the displayed information.\n",null,"6fz1ZcgpxCeEz3mRGrevNc",{"$f":"INDEX(allsections[[S]:[Order]],MATCH(PIs[[#This Row],[SGUID]],allsections[SGUID],0),1)","v":"PRODUCER’S HUMAN RIGHTS POLICIES"},{"$f":"INDEX(allsections[[S]:[Order]],MATCH(PIs[[#This Row],[SGUID]],allsections[SGUID],0),2)","v":"-"},{"$f":"INDEX(allsections[[S]:[Order]],MATCH(PIs[[#This Row],[SGUID]],allsections[SGUID],0),3)","v":5},"5TvyR0UgB0EOmnMkFaZftX",{"$f":"INDEX(allsections[[S]:[Order]],MATCH(PIs[[#This Row],[SSGUID]],allsections[SGUID],0),1)","v":"-"},{"$f":"INDEX(allsections[[S]:[Order]],MATCH(PIs[[#This Row],[SSGUID]],allsections[SGUID],0),2)","v":"-"},{"$f":"INDEX(S2PQ_relational[],MATCH(PIs[[#This Row],[GUID]],S2PQ_relational[PIGUID],0),2)","v":"7BjiTqdbz9EPX1It8mlxYw"},false]
["18hg0Wx3h9CUGZ5iIEVXGK",null,"04.04","7JsD5lEyqSFOZ2PVyJz48F","The producer communicates the producer’s human rights policy to any labor subcontractor. Other subcontractors and visitors are communicated when visiting the farm.","106X61fjRUuU5ncWGbzgm6","This communication shall occur before contracting with the business partner and shall be documented.\nFor Option 2, communication can be managed and communicated at quality management system (QMS) level but shall be documented at producer group member and subcontractor level. \nThere shall be documental evidence that the policy was communicated and that it was acknowledged. The assessor shall inspect this documental evidence (e.g., a signed document acknowledging policies, communication in contracts, etc.). \nFor subcontractors present at the production site (or subcontracted workers, if the subcontractor is not present), the producer shall provide a copy of its human rights policy explaining the possibility of filing complaints through the farm complaint process.\nFor visitors and other subcontractors visiting the producer´s site, the producer shall communicate its zero-tolerance policy with regards to non-compliances with its human rights policy and local laws while on the farm. Monitoring this is a duty of the producer.","5nISxpmIvwZJyExTIGOvlS",{"$f":"INDEX(Level[Level],MATCH(PIs[[#This Row],[L]],Level[GUID],0),1)","v":"Major Must"},null,null,"The assessor shall use document review and an interview with the producer to check how the human rights policy was communicated. The assessor shall check the communication means to visitors and other subcontractors. The assessor evaluates monitoring system for visitors and other subcontractors.\n",null,"6fz1ZcgpxCeEz3mRGrevNc",{"$f":"INDEX(allsections[[S]:[Order]],MATCH(PIs[[#This Row],[SGUID]],allsections[SGUID],0),1)","v":"PRODUCER’S HUMAN RIGHTS POLICIES"},{"$f":"INDEX(allsections[[S]:[Order]],MATCH(PIs[[#This Row],[SGUID]],allsections[SGUID],0),2)","v":"-"},{"$f":"INDEX(allsections[[S]:[Order]],MATCH(PIs[[#This Row],[SGUID]],allsections[SGUID],0),3)","v":5},"5TvyR0UgB0EOmnMkFaZftX",{"$f":"INDEX(allsections[[S]:[Order]],MATCH(PIs[[#This Row],[SSGUID]],allsections[SGUID],0),1)","v":"-"},{"$f":"INDEX(allsections[[S]:[Order]],MATCH(PIs[[#This Row],[SSGUID]],allsections[SGUID],0),2)","v":"-"},{"$f":"INDEX(S2PQ_relational[],MATCH(PIs[[#This Row],[GUID]],S2PQ_relational[PIGUID],0),2)","v":"7BjiTqdbz9EPX1It8mlxYw"},false]
["59rvtmSodx96vNiWaBpI7r",null,"04.04","7JsD5lEyqSFOZ2PVyJz48F","The producer communicates the producer’s human rights policy to any labor subcontractor. Other subcontractors and visitors are communicated when visiting the farm.","106X61fjRUuU5ncWGbzgm6","This communication shall occur before contracting with the business partner and shall be documented.\nFor Option 2, communication can be managed and communicated at quality management system (QMS) level but shall be documented at producer group member and subcontractor level. \nThere shall be documental evidence that the policy was communicated and that it was acknowledged. The assessor shall inspect this documental evidence (e.g., a signed document acknowledging policies, communication in contracts, etc.). \nFor subcontractors present at the production site (or subcontracted workers, if the subcontractor is not present), the producer shall provide a copy of its human rights policy explaining the possibility of filing complaints through the farm complaint process.\nFor visitors and other subcontractors visiting the producer´s site, the producer shall communicate its zero-tolerance policy with regards to non-compliances with its human rights policy and local laws while on the farm. Monitoring this is a duty of the producer.","5nISxpmIvwZJyExTIGOvlS",{"$f":"INDEX(Level[Level],MATCH(PIs[[#This Row],[L]],Level[GUID],0),1)","v":"Major Must"},null,null,"The assessor shall use document review and an interview with the producer to check how the human rights policy was communicated. The assessor shall check the communication means to visitors and other subcontractors. The assessor evaluates monitoring system for visitors and other subcontractors.\n",null,"6fz1ZcgpxCeEz3mRGrevNc",{"$f":"INDEX(allsections[[S]:[Order]],MATCH(PIs[[#This Row],[SGUID]],allsections[SGUID],0),1)","v":"PRODUCER’S HUMAN RIGHTS POLICIES"},{"$f":"INDEX(allsections[[S]:[Order]],MATCH(PIs[[#This Row],[SGUID]],allsections[SGUID],0),2)","v":"-"},{"$f":"INDEX(allsections[[S]:[Order]],MATCH(PIs[[#This Row],[SGUID]],allsections[SGUID],0),3)","v":5},"5TvyR0UgB0EOmnMkFaZftX",{"$f":"INDEX(allsections[[S]:[Order]],MATCH(PIs[[#This Row],[SSGUID]],allsections[SGUID],0),1)","v":"-"},{"$f":"INDEX(allsections[[S]:[Order]],MATCH(PIs[[#This Row],[SSGUID]],allsections[SGUID],0),2)","v":"-"},{"$f":"INDEX(S2PQ_relational[],MATCH(PIs[[#This Row],[GUID]],S2PQ_relational[PIGUID],0),2)","v":"7BjiTqdbz9EPX1It8mlxYw"},false]
["18SAx6TL2CCMJBjVfiJQD1",null,"04.03","3Rs2Dj2WgixuxQPcmqboej","All supervisory staff is informed about the contents of the human rights policy.","5ysbmOIvkCfEmNHBBO2Hmr","The term “informed” shall require that, e.g., all management staff are provided with a copy of the producer’s human rights policy, or an explanation of the producer’s human rights policy is included in the induction process of any new management staff member.\nThe term “contents” shall involve, e.g., an explanation of the different rights included and an explanation of the complaint process to denounce any violation to those rights.\nThe term “supervisory staff” shall refer to any staff member in contact with workers or with supervising duties at the production site (i.e., foreman, manager, crew supervisor, etc.). If the producer does not have such staff, the producer shall have knowledge of the GRASP criteria on this topic. \nIf a producer operates only with subcontracted labor, a management GRASP liaison shall be informed. \n","oOfpsr1EZQ6CxCOIvBlFe",{"$f":"INDEX(Level[Level],MATCH(PIs[[#This Row],[L]],Level[GUID],0),1)","v":"Minor Must"},null,null,"Information shall be documented, and cross-checked evidence shall be required (e.g., signature acknowledging receipt of copy, management staff testimony, etc.).\n",null,"6fz1ZcgpxCeEz3mRGrevNc",{"$f":"INDEX(allsections[[S]:[Order]],MATCH(PIs[[#This Row],[SGUID]],allsections[SGUID],0),1)","v":"PRODUCER’S HUMAN RIGHTS POLICIES"},{"$f":"INDEX(allsections[[S]:[Order]],MATCH(PIs[[#This Row],[SGUID]],allsections[SGUID],0),2)","v":"-"},{"$f":"INDEX(allsections[[S]:[Order]],MATCH(PIs[[#This Row],[SGUID]],allsections[SGUID],0),3)","v":5},"5TvyR0UgB0EOmnMkFaZftX",{"$f":"INDEX(allsections[[S]:[Order]],MATCH(PIs[[#This Row],[SSGUID]],allsections[SGUID],0),1)","v":"-"},{"$f":"INDEX(allsections[[S]:[Order]],MATCH(PIs[[#This Row],[SSGUID]],allsections[SGUID],0),2)","v":"-"},{"$f":"INDEX(S2PQ_relational[],MATCH(PIs[[#This Row],[GUID]],S2PQ_relational[PIGUID],0),2)","v":"7BjiTqdbz9EPX1It8mlxYw"},false]
["1I2lvoMa3TWCWbPOI8a06k",null,"04.03","3Rs2Dj2WgixuxQPcmqboej","All supervisory staff is informed about the contents of the human rights policy.","5ysbmOIvkCfEmNHBBO2Hmr","The term “informed” shall require that, e.g., all management staff are provided with a copy of the producer’s human rights policy, or an explanation of the producer’s human rights policy is included in the induction process of any new management staff member.\nThe term “contents” shall involve, e.g., an explanation of the different rights included and an explanation of the complaint process to denounce any violation to those rights.\nThe term “supervisory staff” shall refer to any staff member in contact with workers or with supervising duties at the production site (i.e., foreman, manager, crew supervisor, etc.). If the producer does not have such staff, the producer shall have knowledge of the GRASP criteria on this topic. \nIf a producer operates only with subcontracted labor, a management GRASP liaison shall be informed. \n","oOfpsr1EZQ6CxCOIvBlFe",{"$f":"INDEX(Level[Level],MATCH(PIs[[#This Row],[L]],Level[GUID],0),1)","v":"Minor Must"},null,null,"Information shall be documented, and cross-checked evidence shall be required (e.g., signature acknowledging receipt of copy, management staff testimony, etc.).\n",null,"6fz1ZcgpxCeEz3mRGrevNc",{"$f":"INDEX(allsections[[S]:[Order]],MATCH(PIs[[#This Row],[SGUID]],allsections[SGUID],0),1)","v":"PRODUCER’S HUMAN RIGHTS POLICIES"},{"$f":"INDEX(allsections[[S]:[Order]],MATCH(PIs[[#This Row],[SGUID]],allsections[SGUID],0),2)","v":"-"},{"$f":"INDEX(allsections[[S]:[Order]],MATCH(PIs[[#This Row],[SGUID]],allsections[SGUID],0),3)","v":5},"5TvyR0UgB0EOmnMkFaZftX",{"$f":"INDEX(allsections[[S]:[Order]],MATCH(PIs[[#This Row],[SSGUID]],allsections[SGUID],0),1)","v":"-"},{"$f":"INDEX(allsections[[S]:[Order]],MATCH(PIs[[#This Row],[SSGUID]],allsections[SGUID],0),2)","v":"-"},{"$f":"INDEX(S2PQ_relational[],MATCH(PIs[[#This Row],[GUID]],S2PQ_relational[PIGUID],0),2)","v":"7BjiTqdbz9EPX1It8mlxYw"},false]
["6Do8vAYP3N7Xv7Vfnwf97M",null,"04.02","7xWBz3lMZAF3Ju9KAzdFKd","All workers are communicated the contents of the producer’s human rights policy. ","2X9GcJzSoWSpTK6AfXL0Xj","The term “communicated” shall require that information is always available in the predominant language(s) of the workforce and/or pictograms (especially for workers who cannot read), e.g., on farm sign boards, handouts given directly to workers/subcontractors (evidence of accessibility of handouts shall be presented).\nIf contents are displayed, they shall be in a common area available to all workers (e.g., resting, eating, or changing areas, etc.), and have an indication where to file complaints. \n","5nISxpmIvwZJyExTIGOvlS",{"$f":"INDEX(Level[Level],MATCH(PIs[[#This Row],[L]],Level[GUID],0),1)","v":"Major Must"},null,null,"The assessor shall use worker interviews, where applicable, to check how the human rights policy was communicated. If no interviews are possible, the assessor shall check compliance with this P&C through document review and interviews with the worker representation.\nFor subcontractors present at the production site (or subcontracted workers, if the subcontractor is not present), the producer shall provide a copy of the producer’s human rights policy and explain the possibility of denouncing violations by the business partner through the complaint process. \nThe assessor shall request and check subcontracted labor information on this P&C.",null,"6fz1ZcgpxCeEz3mRGrevNc",{"$f":"INDEX(allsections[[S]:[Order]],MATCH(PIs[[#This Row],[SGUID]],allsections[SGUID],0),1)","v":"PRODUCER’S HUMAN RIGHTS POLICIES"},{"$f":"INDEX(allsections[[S]:[Order]],MATCH(PIs[[#This Row],[SGUID]],allsections[SGUID],0),2)","v":"-"},{"$f":"INDEX(allsections[[S]:[Order]],MATCH(PIs[[#This Row],[SGUID]],allsections[SGUID],0),3)","v":5},"5TvyR0UgB0EOmnMkFaZftX",{"$f":"INDEX(allsections[[S]:[Order]],MATCH(PIs[[#This Row],[SSGUID]],allsections[SGUID],0),1)","v":"-"},{"$f":"INDEX(allsections[[S]:[Order]],MATCH(PIs[[#This Row],[SSGUID]],allsections[SGUID],0),2)","v":"-"},{"$f":"INDEX(S2PQ_relational[],MATCH(PIs[[#This Row],[GUID]],S2PQ_relational[PIGUID],0),2)","v":"7BjiTqdbz9EPX1It8mlxYw"},false]
["5QlqV0nuBakmWh8AX0IROm",null,"04.02","7xWBz3lMZAF3Ju9KAzdFKd","All workers are communicated the contents of the producer’s human rights policy. ","2X9GcJzSoWSpTK6AfXL0Xj","The term “communicated” shall require that information is always available in the predominant language(s) of the workforce and/or pictograms (especially for workers who cannot read), e.g., on farm sign boards, handouts given directly to workers/subcontractors (evidence of accessibility of handouts shall be presented).\nIf contents are displayed, they shall be in a common area available to all workers (e.g., resting, eating, or changing areas, etc.), and have an indication where to file complaints. \n","5nISxpmIvwZJyExTIGOvlS",{"$f":"INDEX(Level[Level],MATCH(PIs[[#This Row],[L]],Level[GUID],0),1)","v":"Major Must"},null,null,"The assessor shall use worker interviews, where applicable, to check how the human rights policy was communicated. If no interviews are possible, the assessor shall check compliance with this P&C through document review and interviews with the worker representation.\nFor subcontractors present at the production site (or subcontracted workers, if the subcontractor is not present), the producer shall provide a copy of the producer’s human rights policy and explain the possibility of denouncing violations by the business partner through the complaint process. \nThe assessor shall request and check subcontracted labor information on this P&C.\n",null,"6fz1ZcgpxCeEz3mRGrevNc",{"$f":"INDEX(allsections[[S]:[Order]],MATCH(PIs[[#This Row],[SGUID]],allsections[SGUID],0),1)","v":"PRODUCER’S HUMAN RIGHTS POLICIES"},{"$f":"INDEX(allsections[[S]:[Order]],MATCH(PIs[[#This Row],[SGUID]],allsections[SGUID],0),2)","v":"-"},{"$f":"INDEX(allsections[[S]:[Order]],MATCH(PIs[[#This Row],[SGUID]],allsections[SGUID],0),3)","v":5},"5TvyR0UgB0EOmnMkFaZftX",{"$f":"INDEX(allsections[[S]:[Order]],MATCH(PIs[[#This Row],[SSGUID]],allsections[SGUID],0),1)","v":"-"},{"$f":"INDEX(allsections[[S]:[Order]],MATCH(PIs[[#This Row],[SSGUID]],allsections[SGUID],0),2)","v":"-"},{"$f":"INDEX(S2PQ_relational[],MATCH(PIs[[#This Row],[GUID]],S2PQ_relational[PIGUID],0),2)","v":"7BjiTqdbz9EPX1It8mlxYw"},false]
["5QYYzcS5RynnmhMFO3IxSb",null,"04.01","WgCSRf9tJbw8j93staCwY","The producer has and complies with a policy on the protection of human rights, acknowledging the rights in the ILO Core Labour Conventions and against any form of forced labor, corruption, corporal punishment, harassment or abuse, and discrimination and supporting good labor conditions, social practices, and human rights for all workers. ","5NIkDzNkRiD93rSotN7DdE","The producer’s human rights policy shall indicate that, at minimum:\n1. The producer follows all local laws and regulations.\n2. The producer respects the workers’ rights included in the ILO Core Labour Conventions.\n3. The producer commits to respecting human rights as indicated in the UN Guiding Principles on Business and Human Rights.\n4. The producer avoids and does not engage in, support, or tolerate discrimination in employment practices.\n5. The producer does not support or tolerate the use of or threats of corporal punishment, mental or physical coercion, bullying, harassment, or abuse of any kind.\n6. The producer checks that no worker is held in debt bondage or forced to work for an employer, labor recruiter, or other entity to pay off debt.\n7. The producer prohibits any involvement in any act of corruption, extortion, embezzlement, as well as in any form of bribery, whether directly or indirectly.\nFor family farms without hired workers, “workers” shall refer to core family members working on the farm.\n- The policy’s acknowledgement of the rights included in the ILO Core Labour Conventions shall explicitly include the following conventions and their accompanying recommendations (even if they have not been ratified by the government): 29 and 105 and Recommendation 35 (Forced and Bonded Labor), 87 (Freedom of Association), 98 (Right to Organize and Collective Bargaining), 100 and 111 and Recommendations 90 and 111 (Equal Remuneration for Male and Female Workers for Work of Equal Value; Discrimination in Employment and Occupation), 138 and Recommendation 146 (Minimum Age), 182 and Recommendation 190 (Worst Forms of Child Labor), 81 (Labor Inspection), 122 (Employment Policy).\n- The policy shall demonstrate an understanding that the UN Guiding Principles on Business and Human Rights refer to dignity, fairness, equality, respect, and independence.\n- The policy shall entitle any worker to file complaints on any violation of this declaration using a confidential complaint process without fear of retaliation and have those complaints resolved in a timely manner.\n- After communicating this policy, the producer shall expect full compliance with the same commitments from any agriculture labor subcontractor while being a business partner.\n- The producer shall accept that if a GRASP assessment verification shows any violation of this policy, this shall be considered a non-compliance with this P&C.","5nISxpmIvwZJyExTIGOvlS",{"$f":"INDEX(Level[Level],MATCH(PIs[[#This Row],[L]],Level[GUID],0),1)","v":"Major Must"},null,null,"The assessor shall verify the existence of the policy and shall check whether any non-compliance during assessment violates any of the above objectives. The assessor shall then comment and score those criteria as non-compliance in this P&C as well.\nFor producer groups, the policy can be developed at group level, but compliance shall be checked at producer group member level.",null,"6fz1ZcgpxCeEz3mRGrevNc",{"$f":"INDEX(allsections[[S]:[Order]],MATCH(PIs[[#This Row],[SGUID]],allsections[SGUID],0),1)","v":"PRODUCER’S HUMAN RIGHTS POLICIES"},{"$f":"INDEX(allsections[[S]:[Order]],MATCH(PIs[[#This Row],[SGUID]],allsections[SGUID],0),2)","v":"-"},{"$f":"INDEX(allsections[[S]:[Order]],MATCH(PIs[[#This Row],[SGUID]],allsections[SGUID],0),3)","v":5},"5TvyR0UgB0EOmnMkFaZftX",{"$f":"INDEX(allsections[[S]:[Order]],MATCH(PIs[[#This Row],[SSGUID]],allsections[SGUID],0),1)","v":"-"},{"$f":"INDEX(allsections[[S]:[Order]],MATCH(PIs[[#This Row],[SSGUID]],allsections[SGUID],0),2)","v":"-"},{"$f":"INDEX(S2PQ_relational[],MATCH(PIs[[#This Row],[GUID]],S2PQ_relational[PIGUID],0),2)","v":"4Avk7C7MmAoFg744HYI5OO"},false]
["58cJmy1kh77tn2J4Hpf3MA",null,"04.01","WgCSRf9tJbw8j93staCwY","The producer has and complies with a policy on the protection of human rights, acknowledging the rights in the ILO Core Labour Conventions and against any form of forced labor, corruption, corporal punishment, harassment or abuse, and discrimination and supporting good labor conditions, social practices, and human rights for all workers. ","5NIkDzNkRiD93rSotN7DdE","The producer’s human rights policy shall indicate that, at minimum:\n1. The producer follows all local laws and regulations.\n2. The producer respects the workers’ rights included in the ILO Core Labour Conventions.\n3. The producer commits to respecting human rights as indicated in the UN Guiding Principles on Business and Human Rights.\n4. The producer avoids and does not engage in, support, or tolerate discrimination in employment practices.\n5. The producer does not support or tolerate the use of or threats of corporal punishment, mental or physical coercion, bullying, harassment, or abuse of any kind.\n6. The producer checks that no worker is held in debt bondage or forced to work for an employer, labor recruiter, or other entity to pay off debt.\n7. The producer prohibits any involvement in any act of corruption, extortion, embezzlement, as well as in any form of bribery, whether directly or indirectly.\nFor family farms without hired workers, “workers” shall refer to core family members working on the farm.\n- The policy’s acknowledgement of the rights included in the ILO Core Labour Conventions shall explicitly include the following conventions and their accompanying recommendations (even if they have not been ratified by the government): 29 and 105 and Recommendation 35 (Forced and Bonded Labor), 87 (Freedom of Association), 98 (Right to Organize and Collective Bargaining), 100 and 111 and Recommendations 90 and 111 (Equal Remuneration for Male and Female Workers for Work of Equal Value; Discrimination in Employment and Occupation), 138 and Recommendation 146 (Minimum Age), 182 and Recommendation 190 (Worst Forms of Child Labor), 81 (Labor Inspection), 122 (Employment Policy).\n- The policy shall demonstrate an understanding that the UN Guiding Principles on Business and Human Rights refer to dignity, fairness, equality, respect, and independence.\n- The policy shall entitle any worker to file complaints on any violation of this declaration using a confidential complaint process without fear of retaliation and have those complaints resolved in a timely manner.\n- After communicating this policy, the producer shall expect full compliance with the same commitments from any agriculture labor subcontractor while being a business partner.\n- The producer shall accept that if a GRASP assessment verification shows any violation of this policy, this shall be considered a non-compliance with this P&C.","5nISxpmIvwZJyExTIGOvlS",{"$f":"INDEX(Level[Level],MATCH(PIs[[#This Row],[L]],Level[GUID],0),1)","v":"Major Must"},null,null,"The assessor shall verify the existence of the policy and shall check whether any non-compliance during assessment violates any of the above objectives. The assessor shall then comment and score those criteria as non-compliance in this P&C as well.\nFor producer groups, the policy can be developed at group level, but compliance shall be checked at producer group member level.\n",null,"6fz1ZcgpxCeEz3mRGrevNc",{"$f":"INDEX(allsections[[S]:[Order]],MATCH(PIs[[#This Row],[SGUID]],allsections[SGUID],0),1)","v":"PRODUCER’S HUMAN RIGHTS POLICIES"},{"$f":"INDEX(allsections[[S]:[Order]],MATCH(PIs[[#This Row],[SGUID]],allsections[SGUID],0),2)","v":"-"},{"$f":"INDEX(allsections[[S]:[Order]],MATCH(PIs[[#This Row],[SGUID]],allsections[SGUID],0),3)","v":5},"5TvyR0UgB0EOmnMkFaZftX",{"$f":"INDEX(allsections[[S]:[Order]],MATCH(PIs[[#This Row],[SSGUID]],allsections[SGUID],0),1)","v":"-"},{"$f":"INDEX(allsections[[S]:[Order]],MATCH(PIs[[#This Row],[SSGUID]],allsections[SGUID],0),2)","v":"-"},{"$f":"INDEX(S2PQ_relational[],MATCH(PIs[[#This Row],[GUID]],S2PQ_relational[PIGUID],0),2)","v":"4Avk7C7MmAoFg744HYI5OO"},false]
["1fPzYRqGLyZOy1llb5Vtlb",null,"03.07","6w5TR8dMAj4auQg0sr8td0","A summary record of any complaint over the past 24 months is kept to show that they have been received and addressed.","7lWsTLpTvjNWtd0Ddy0ihB","The record shall include a summary report indicating which complaints were resolved, time of resolution, worker notification of the status, and final decision.\nIf there are verbally filed complaints that have been resolved right away, the report shall indicate at least the issue or topic and the person resolving the complaint.","oOfpsr1EZQ6CxCOIvBlFe",{"$f":"INDEX(Level[Level],MATCH(PIs[[#This Row],[L]],Level[GUID],0),1)","v":"Minor Must"},null,null,"The assessor shall check compliance with this P&C in interviews with the workers, where possible. If no interviews are possible, the assessor shall check compliance through document review and interviews with the worker representation and producer. If the complaint process has not been used by workers, the assessor shall check whether information on nonretaliation and absence of penalties is clear among the workers. This shall be included in the GRASP report.\n",null,"7M8kd0W9wjpA8V5QSHHaVd",{"$f":"INDEX(allsections[[S]:[Order]],MATCH(PIs[[#This Row],[SGUID]],allsections[SGUID],0),1)","v":"COMPLAINT PROCESS"},{"$f":"INDEX(allsections[[S]:[Order]],MATCH(PIs[[#This Row],[SGUID]],allsections[SGUID],0),2)","v":"-"},{"$f":"INDEX(allsections[[S]:[Order]],MATCH(PIs[[#This Row],[SGUID]],allsections[SGUID],0),3)","v":4},"5TvyR0UgB0EOmnMkFaZftX",{"$f":"INDEX(allsections[[S]:[Order]],MATCH(PIs[[#This Row],[SSGUID]],allsections[SGUID],0),1)","v":"-"},{"$f":"INDEX(allsections[[S]:[Order]],MATCH(PIs[[#This Row],[SSGUID]],allsections[SGUID],0),2)","v":"-"},{"$f":"INDEX(S2PQ_relational[],MATCH(PIs[[#This Row],[GUID]],S2PQ_relational[PIGUID],0),2)","v":"7BjiTqdbz9EPX1It8mlxYw"},false]
["72vqg1gXC6oRBqiD9PPtAO",null,"03.07","6w5TR8dMAj4auQg0sr8td0","A summary record of any complaint over the past 24 months is kept to show that they have been received and addressed.","7lWsTLpTvjNWtd0Ddy0ihB","The record shall include a summary report indicating which complaints were resolved, time of resolution, worker notification of the status, and final decision.\nIf there are verbally filed complaints that have been resolved right away, the report shall indicate at least the issue or topic and the person resolving the complaint.","oOfpsr1EZQ6CxCOIvBlFe",{"$f":"INDEX(Level[Level],MATCH(PIs[[#This Row],[L]],Level[GUID],0),1)","v":"Minor Must"},null,null,"The assessor shall check compliance with this P&C in interviews with the workers, where possible. If no interviews are possible, the assessor shall check compliance through document review and interviews with the worker representation and producer. If the complaint process has not been used by workers, the assessor shall check whether information on nonretaliation and absence of penalties is clear among the workers. This shall be included in the GRASP report.\n",null,"7M8kd0W9wjpA8V5QSHHaVd",{"$f":"INDEX(allsections[[S]:[Order]],MATCH(PIs[[#This Row],[SGUID]],allsections[SGUID],0),1)","v":"COMPLAINT PROCESS"},{"$f":"INDEX(allsections[[S]:[Order]],MATCH(PIs[[#This Row],[SGUID]],allsections[SGUID],0),2)","v":"-"},{"$f":"INDEX(allsections[[S]:[Order]],MATCH(PIs[[#This Row],[SGUID]],allsections[SGUID],0),3)","v":4},"5TvyR0UgB0EOmnMkFaZftX",{"$f":"INDEX(allsections[[S]:[Order]],MATCH(PIs[[#This Row],[SSGUID]],allsections[SGUID],0),1)","v":"-"},{"$f":"INDEX(allsections[[S]:[Order]],MATCH(PIs[[#This Row],[SSGUID]],allsections[SGUID],0),2)","v":"-"},{"$f":"INDEX(S2PQ_relational[],MATCH(PIs[[#This Row],[GUID]],S2PQ_relational[PIGUID],0),2)","v":"7BjiTqdbz9EPX1It8mlxYw"},false]
["5zn5rvPKBMqVZFwtGJoNJG",null,"03.06","19tlMWQaskVqc3GBA8bzlH","The producer shall endeavor to resolve a complaint while the worker is under their employment, in a timely manner and proportionately to the nature of the complaint made.","34GIR8ZyNqsEx2O0xq6wnQ","The term “resolved” shall indicate a positive or negative answer, or no resolution with explanation of why there was no resolution. This requirement includes the complaints from subcontracted labor within the scope of the commercial contract.\nWhen complaints are anonymous, the answer shall be included as a general notice posted on workers notice boards or places without reference to any worker/subcontracted worker.\nFor subcontracted labor complaints outside of the commercial contract (sole responsibility of the direct employer), the resolution shall provide the subcontracted worker with information on the legal and official resources for denouncing rights violations (e.g., minimum wage paid by subcontractor and not the producer).\nThe term “timely manner” shall require complaints to be resolved: For hired labor, in general at most 30 days after filing or before the last day of employment (if this is less than 30 days after filing). For subcontracted workers, 30 days after filing or before the last day of the contract (if this is less than 30 days after filing).\nIf a complaint cannot be resolved during the time indicated, the reason for late resolution and evidence of resolution notification shall be documented for assessor review. Examples of documentation include proof that the resolution was included with the last paycheck, mailed within 30 days, or that no resolution was possible and the worker was notified of this.\nIf there is worker representation, the producer shall notify the representative(s) about the complaints and outcomes.\n","oOfpsr1EZQ6CxCOIvBlFe",{"$f":"INDEX(Level[Level],MATCH(PIs[[#This Row],[L]],Level[GUID],0),1)","v":"Minor Must"},null,null,"The assessor shall check compliance with this P&C in interviews with the workers, where possible. If no interviews are possible, the assessor shall check compliance through document review and interviews with the worker representation and producer.\n",null,"7M8kd0W9wjpA8V5QSHHaVd",{"$f":"INDEX(allsections[[S]:[Order]],MATCH(PIs[[#This Row],[SGUID]],allsections[SGUID],0),1)","v":"COMPLAINT PROCESS"},{"$f":"INDEX(allsections[[S]:[Order]],MATCH(PIs[[#This Row],[SGUID]],allsections[SGUID],0),2)","v":"-"},{"$f":"INDEX(allsections[[S]:[Order]],MATCH(PIs[[#This Row],[SGUID]],allsections[SGUID],0),3)","v":4},"5TvyR0UgB0EOmnMkFaZftX",{"$f":"INDEX(allsections[[S]:[Order]],MATCH(PIs[[#This Row],[SSGUID]],allsections[SGUID],0),1)","v":"-"},{"$f":"INDEX(allsections[[S]:[Order]],MATCH(PIs[[#This Row],[SSGUID]],allsections[SGUID],0),2)","v":"-"},{"$f":"INDEX(S2PQ_relational[],MATCH(PIs[[#This Row],[GUID]],S2PQ_relational[PIGUID],0),2)","v":"7BjiTqdbz9EPX1It8mlxYw"},false]
["1DXT5oU3nI7HrnWiwb1VIc",null,"03.06","19tlMWQaskVqc3GBA8bzlH","The producer shall endeavor to resolve a complaint while the worker is under their employment, in a timely manner and proportionately to the nature of the complaint made.","34GIR8ZyNqsEx2O0xq6wnQ","The term “resolved” shall indicate a positive or negative answer, or no resolution with explanation of why there was no resolution. This requirement includes the complaints from subcontracted labor within the scope of the commercial contract.\nWhen complaints are anonymous, the answer shall be included as a general notice posted on workers notice boards or places without reference to any worker/subcontracted worker.\nFor subcontracted labor complaints outside of the commercial contract (sole responsibility of the direct employer), the resolution shall provide the subcontracted worker with information on the legal and official resources for denouncing rights violations (e.g., minimum wage paid by subcontractor and not the producer).\nThe term “timely manner” shall require complaints to be resolved: For hired labor, in general at most 30 days after filing or before the last day of employment (if this is less than 30 days after filing). For subcontracted workers, 30 days after filing or before the last day of the contract (if this is less than 30 days after filing).\nIf a complaint cannot be resolved during the time indicated, the reason for late resolution and evidence of resolution notification shall be documented for assessor review. Examples of documentation include proof that the resolution was included with the last paycheck, mailed within 30 days, or that no resolution was possible and the worker was notified of this.\nIf there is worker representation, the producer shall notify the representative(s) about the complaints and outcomes.\n","oOfpsr1EZQ6CxCOIvBlFe",{"$f":"INDEX(Level[Level],MATCH(PIs[[#This Row],[L]],Level[GUID],0),1)","v":"Minor Must"},null,null,"The assessor shall check compliance with this P&C in interviews with the workers, where possible. If no interviews are possible, the assessor shall check compliance through document review and interviews with the worker representation and producer.\n",null,"7M8kd0W9wjpA8V5QSHHaVd",{"$f":"INDEX(allsections[[S]:[Order]],MATCH(PIs[[#This Row],[SGUID]],allsections[SGUID],0),1)","v":"COMPLAINT PROCESS"},{"$f":"INDEX(allsections[[S]:[Order]],MATCH(PIs[[#This Row],[SGUID]],allsections[SGUID],0),2)","v":"-"},{"$f":"INDEX(allsections[[S]:[Order]],MATCH(PIs[[#This Row],[SGUID]],allsections[SGUID],0),3)","v":4},"5TvyR0UgB0EOmnMkFaZftX",{"$f":"INDEX(allsections[[S]:[Order]],MATCH(PIs[[#This Row],[SSGUID]],allsections[SGUID],0),1)","v":"-"},{"$f":"INDEX(allsections[[S]:[Order]],MATCH(PIs[[#This Row],[SSGUID]],allsections[SGUID],0),2)","v":"-"},{"$f":"INDEX(S2PQ_relational[],MATCH(PIs[[#This Row],[GUID]],S2PQ_relational[PIGUID],0),2)","v":"7BjiTqdbz9EPX1It8mlxYw"},false]
["6MMc5tDcp0zKsLhBH5DeER",null,"03.05","5EZNGVwRpHWcyHy4OonhI","There are one or more well publicized places to file complaints, at least one of which should be independent of the supervisory staff.","MpDqYsMNKlaPRIRquYjJC","The place(s) to file complaints can be a location on the farm, a person/persons appointed to receive the complaints, or the worker representation, that workers can use, talk to, or ask to file a complaint. Any place to file a complaint shall provide an option to file anonymously.\nIf workers are usually in the field with limited access to the farm buildings, one place to file a complaint shall be a designated person of the crew at the field.\nIf there is worker representation, it should be notified of any complaint received, without breaking the confidentiality requirements (not sharing details). \nThe term “well publicized” shall require that the information about the existence and functioning of the process is publicly available and accessible, including through channels aimed at those who may wish to use it. Also, it must be provided in the predominant language(s) of the workforce and/or pictograms (especially for workers who cannot read), e.g., farm sign boards, handouts given directly to workers/subcontractors (evidence of accessibility of handouts shall be presented). Workers shall be informed about at least one grievance channel independent of supervisory staff. For example, this could be the contact details of a governmental grievance mechanism, of a nongovernmental organization (NGO), or of another third-party organization that is known to support workers in the case of grievances.\nThe term “supervisory staff” shall refer to any staff member in contact with workers or with supervising duties at the production site (e.g., foreman, manager, crew supervisor, etc.). If the producer does not have such staff, the producer shall have knowledge of the regulations.\nThe term “independent of supervisory staff” shall indicate a place or a person/persons/organization independent from management (i.e., phone number of an authority, NGO, or third-party organization), so that individuals with a complaint cannot be intimidated as if the company representative were the only sole point of contact. Here, the worker may drop or file and drop complaints.\nIf there is worker representation, the producer shall inform the representative(s) of any complaints received or dropped, while maintaining the confidentiality of the process. \nExamples: On a site, a place out of sight of management staff at the farm eating/resting place. \nAs person(s), the worker representation. The producer can additionally include a community representative or organization as another place to file complaints.","5nISxpmIvwZJyExTIGOvlS",{"$f":"INDEX(Level[Level],MATCH(PIs[[#This Row],[L]],Level[GUID],0),1)","v":"Major Must"},null,null,"The assessor shall check compliance with this P&C in interviews with the workers, where possible. If no interviews are possible, the assessor shall check compliance through document review.\n",null,"7M8kd0W9wjpA8V5QSHHaVd",{"$f":"INDEX(allsections[[S]:[Order]],MATCH(PIs[[#This Row],[SGUID]],allsections[SGUID],0),1)","v":"COMPLAINT PROCESS"},{"$f":"INDEX(allsections[[S]:[Order]],MATCH(PIs[[#This Row],[SGUID]],allsections[SGUID],0),2)","v":"-"},{"$f":"INDEX(allsections[[S]:[Order]],MATCH(PIs[[#This Row],[SGUID]],allsections[SGUID],0),3)","v":4},"5TvyR0UgB0EOmnMkFaZftX",{"$f":"INDEX(allsections[[S]:[Order]],MATCH(PIs[[#This Row],[SSGUID]],allsections[SGUID],0),1)","v":"-"},{"$f":"INDEX(allsections[[S]:[Order]],MATCH(PIs[[#This Row],[SSGUID]],allsections[SGUID],0),2)","v":"-"},{"$f":"INDEX(S2PQ_relational[],MATCH(PIs[[#This Row],[GUID]],S2PQ_relational[PIGUID],0),2)","v":"7BjiTqdbz9EPX1It8mlxYw"},false]
["7xQIu9XtI8TEVE8AU8Izo1",null,"03.05","5EZNGVwRpHWcyHy4OonhI","There are one or more well publicized places to file complaints, at least one of which should be independent of the supervisory staff.","MpDqYsMNKlaPRIRquYjJC","The place(s) to file complaints can be a location on the farm, a person/persons appointed to receive the complaints, or the worker representation, that workers can use, talk to, or ask to file a complaint. Any place to file a complaint shall provide an option to file anonymously.\nIf workers are usually in the field with limited access to the farm buildings, one place to file a complaint shall be a designated person of the crew at the field.\nIf there is worker representation, it should be notified of any complaint received, without breaking the confidentiality requirements (not sharing details). \nThe term “well publicized” shall require that the information about the existence and functioning of the process is publicly available and accessible, including through channels aimed at those who may wish to use it. Also, it must be provided in the predominant language(s) of the workforce and/or pictograms (especially for workers who cannot read), e.g., farm sign boards, handouts given directly to workers/subcontractors (evidence of accessibility of handouts shall be presented). Workers shall be informed about at least one grievance channel independent of supervisory staff. For example, this could be the contact details of a governmental grievance mechanism, of a nongovernmental organization (NGO), or of another third-party organization that is known to support workers in the case of grievances.\nThe term “supervisory staff” shall refer to any staff member in contact with workers or with supervising duties at the production site (e.g., foreman, manager, crew supervisor, etc.). If the producer does not have such staff, the producer shall have knowledge of the regulations.\nThe term “independent of supervisory staff” shall indicate a place or a person/persons/organization independent from management (i.e., phone number of an authority, NGO, or third-party organization), so that individuals with a complaint cannot be intimidated as if the company representative were the only sole point of contact. Here, the worker may drop or file and drop complaints.\nIf there is worker representation, the producer shall inform the representative(s) of any complaints received or dropped, while maintaining the confidentiality of the process. \nExamples: On a site, a place out of sight of management staff at the farm eating/resting place. \nAs person(s), the worker representation. The producer can additionally include a community representative or organization as another place to file complaints.","5nISxpmIvwZJyExTIGOvlS",{"$f":"INDEX(Level[Level],MATCH(PIs[[#This Row],[L]],Level[GUID],0),1)","v":"Major Must"},null,null,"The assessor shall check compliance with this P&C in interviews with the workers, where possible. If no interviews are possible, the assessor shall check compliance through document review.\n",null,"7M8kd0W9wjpA8V5QSHHaVd",{"$f":"INDEX(allsections[[S]:[Order]],MATCH(PIs[[#This Row],[SGUID]],allsections[SGUID],0),1)","v":"COMPLAINT PROCESS"},{"$f":"INDEX(allsections[[S]:[Order]],MATCH(PIs[[#This Row],[SGUID]],allsections[SGUID],0),2)","v":"-"},{"$f":"INDEX(allsections[[S]:[Order]],MATCH(PIs[[#This Row],[SGUID]],allsections[SGUID],0),3)","v":4},"5TvyR0UgB0EOmnMkFaZftX",{"$f":"INDEX(allsections[[S]:[Order]],MATCH(PIs[[#This Row],[SSGUID]],allsections[SGUID],0),1)","v":"-"},{"$f":"INDEX(allsections[[S]:[Order]],MATCH(PIs[[#This Row],[SSGUID]],allsections[SGUID],0),2)","v":"-"},{"$f":"INDEX(S2PQ_relational[],MATCH(PIs[[#This Row],[GUID]],S2PQ_relational[PIGUID],0),2)","v":"7BjiTqdbz9EPX1It8mlxYw"},false]
["15rmagqDILiL9OehElaZcF",null,"03.04","6oMxfrCFXvW3rS2gcJEKmA","Easy-to-understand instructions are provided to all workers about the complaint process.","58TmhrlgL9M0gjL3euEqri","The term “easy-to-understand” shall require that all communication be available in the predominant language(s) of the workforce. If workers cannot read, the producer shall provide alternatives (e.g., pictograms or the possibility of ad hoc verbal instructions).\nThe instructions shall be well communicated, e.g., through displays on farm sign boards, handouts given directly to workers/subcontractors (evidence of accessibility of handouts shall be presented), contracts and worker documentation (evidence that workers/subcontractors received a copy of the document shall be presented), and electronic delivery (with proof of receipt by the worker/subcontractor). When instructions are posted, evidence shall show that the producer indicated clearly where to find the instructions.\nAny new worker shall be instructed in the complaint process. At minimum, the producer shall inform workers of the process during the first working instructions or during the first meeting with workers.\nSubcontracted workers shall receive these instructions and be entitled to file complaints.","5nISxpmIvwZJyExTIGOvlS",{"$f":"INDEX(Level[Level],MATCH(PIs[[#This Row],[L]],Level[GUID],0),1)","v":"Major Must"},null,null,"The assessor shall check compliance with this P&C in interviews with the workers, where possible. If no interviews are possible, the assessor shall check compliance with this P&C through document review. The assessor shall check that the language of instruction is understood by the workers.\n",null,"7M8kd0W9wjpA8V5QSHHaVd",{"$f":"INDEX(allsections[[S]:[Order]],MATCH(PIs[[#This Row],[SGUID]],allsections[SGUID],0),1)","v":"COMPLAINT PROCESS"},{"$f":"INDEX(allsections[[S]:[Order]],MATCH(PIs[[#This Row],[SGUID]],allsections[SGUID],0),2)","v":"-"},{"$f":"INDEX(allsections[[S]:[Order]],MATCH(PIs[[#This Row],[SGUID]],allsections[SGUID],0),3)","v":4},"5TvyR0UgB0EOmnMkFaZftX",{"$f":"INDEX(allsections[[S]:[Order]],MATCH(PIs[[#This Row],[SSGUID]],allsections[SGUID],0),1)","v":"-"},{"$f":"INDEX(allsections[[S]:[Order]],MATCH(PIs[[#This Row],[SSGUID]],allsections[SGUID],0),2)","v":"-"},{"$f":"INDEX(S2PQ_relational[],MATCH(PIs[[#This Row],[GUID]],S2PQ_relational[PIGUID],0),2)","v":"7BjiTqdbz9EPX1It8mlxYw"},false]
["74JlWgnkjnlI8rDlEAMb04",null,"03.04","6oMxfrCFXvW3rS2gcJEKmA","Easy-to-understand instructions are provided to all workers about the complaint process.","58TmhrlgL9M0gjL3euEqri","The term “easy-to-understand” shall require that all communication be available in the predominant language(s) of the workforce. If workers cannot read, the producer shall provide alternatives (e.g., pictograms or the possibility of ad hoc verbal instructions).\nThe instructions shall be well communicated, e.g., through displays on farm sign boards, handouts given directly to workers/subcontractors (evidence of accessibility of handouts shall be presented), contracts and worker documentation (evidence that workers/subcontractors received a copy of the document shall be presented), and electronic delivery (with proof of receipt by the worker/subcontractor). When instructions are posted, evidence shall show that the producer indicated clearly where to find the instructions.\nAny new worker shall be instructed in the complaint process. At minimum, the producer shall inform workers of the process during the first working instructions or during the first meeting with workers.\nSubcontracted workers shall receive these instructions and be entitled to file complaints.","5nISxpmIvwZJyExTIGOvlS",{"$f":"INDEX(Level[Level],MATCH(PIs[[#This Row],[L]],Level[GUID],0),1)","v":"Major Must"},null,null,"The assessor shall check compliance with this P&C in interviews with the workers, where possible. If no interviews are possible, the assessor shall check compliance with this P&C through document review. The assessor shall check that the language of instruction is understood by the workers.\n",null,"7M8kd0W9wjpA8V5QSHHaVd",{"$f":"INDEX(allsections[[S]:[Order]],MATCH(PIs[[#This Row],[SGUID]],allsections[SGUID],0),1)","v":"COMPLAINT PROCESS"},{"$f":"INDEX(allsections[[S]:[Order]],MATCH(PIs[[#This Row],[SGUID]],allsections[SGUID],0),2)","v":"-"},{"$f":"INDEX(allsections[[S]:[Order]],MATCH(PIs[[#This Row],[SGUID]],allsections[SGUID],0),3)","v":4},"5TvyR0UgB0EOmnMkFaZftX",{"$f":"INDEX(allsections[[S]:[Order]],MATCH(PIs[[#This Row],[SSGUID]],allsections[SGUID],0),1)","v":"-"},{"$f":"INDEX(allsections[[S]:[Order]],MATCH(PIs[[#This Row],[SSGUID]],allsections[SGUID],0),2)","v":"-"},{"$f":"INDEX(S2PQ_relational[],MATCH(PIs[[#This Row],[GUID]],S2PQ_relational[PIGUID],0),2)","v":"7BjiTqdbz9EPX1It8mlxYw"},false]
["6uSpDnR3yQ5uar8BBVrZrv",null,"03.03","6cMdTFv9q25nifzYJ7h11b","The worker representation has been instructed on how to use the process on behalf of other workers on the rights included in the producer’s human rights policies.","4OpE10UmEqeeha2XAYmaFt","The term “instructed on” shall require describing to the worker representation how to use the process on behalf of the workers.\nThe worker representation shall be made aware that the worker must authorize the worker representation to file a complaint on their behalf.\nThe worker representation shall be made aware of the obligation to keep all the information confidential. \nIf applicable, a document of the worker’s consent to have the worker representation act on their behalf shall be filed. When this representation is requested by the worker to protect the anonymity of the complainant, the process shall respect the request and continue without affecting the outcome.\nWhere workers decide not to have a form of representation, workers shall be allowed to request help from other fellow workers. In these cases, the management GRASP liaison shall provide the information to the worker, person, or organization (independent from the producer) selected to support them in filing the complaint.","oOfpsr1EZQ6CxCOIvBlFe",{"$f":"INDEX(Level[Level],MATCH(PIs[[#This Row],[L]],Level[GUID],0),1)","v":"Minor Must"},null,null,"Documented evidence of the information given to the worker representation shall be available.\nThe assessor shall use worker interviews (including the worker representation as applicable) to check how the complaint process was explained. If no interviews are possible, the assessor shall check compliance with this P&C through document review and interviews with the worker representation.\n",null,"7M8kd0W9wjpA8V5QSHHaVd",{"$f":"INDEX(allsections[[S]:[Order]],MATCH(PIs[[#This Row],[SGUID]],allsections[SGUID],0),1)","v":"COMPLAINT PROCESS"},{"$f":"INDEX(allsections[[S]:[Order]],MATCH(PIs[[#This Row],[SGUID]],allsections[SGUID],0),2)","v":"-"},{"$f":"INDEX(allsections[[S]:[Order]],MATCH(PIs[[#This Row],[SGUID]],allsections[SGUID],0),3)","v":4},"5TvyR0UgB0EOmnMkFaZftX",{"$f":"INDEX(allsections[[S]:[Order]],MATCH(PIs[[#This Row],[SSGUID]],allsections[SGUID],0),1)","v":"-"},{"$f":"INDEX(allsections[[S]:[Order]],MATCH(PIs[[#This Row],[SSGUID]],allsections[SGUID],0),2)","v":"-"},{"$f":"INDEX(S2PQ_relational[],MATCH(PIs[[#This Row],[GUID]],S2PQ_relational[PIGUID],0),2)","v":"7BjiTqdbz9EPX1It8mlxYw"},false]
["5urfMQplyrLGOXRqccX879",null,"03.03","6cMdTFv9q25nifzYJ7h11b","The worker representation has been instructed on how to use the process on behalf of other workers on the rights included in the producer’s human rights policies.","4OpE10UmEqeeha2XAYmaFt","The term “instructed on” shall require describing to the worker representation how to use the process on behalf of the workers.\nThe worker representation shall be made aware that the worker must authorize the worker representation to file a complaint on their behalf.\nThe worker representation shall be made aware of the obligation to keep all the information confidential. \nIf applicable, a document of the worker’s consent to have the worker representation act on their behalf shall be filed. When this representation is requested by the worker to protect the anonymity of the complainant, the process shall respect the request and continue without affecting the outcome.\nWhere workers decide not to have a form of representation, workers shall be allowed to request help from other fellow workers. In these cases, the management GRASP liaison shall provide the information to the worker, person, or organization (independent from the producer) selected to support them in filing the complaint.","oOfpsr1EZQ6CxCOIvBlFe",{"$f":"INDEX(Level[Level],MATCH(PIs[[#This Row],[L]],Level[GUID],0),1)","v":"Minor Must"},null,null,"Documented evidence of the information given to the worker representation shall be available.\nThe assessor shall use worker interviews (including the worker representation as applicable) to check how the complaint process was explained. If no interviews are possible, the assessor shall check compliance with this P&C through document review and interviews with the worker representation.\n",null,"7M8kd0W9wjpA8V5QSHHaVd",{"$f":"INDEX(allsections[[S]:[Order]],MATCH(PIs[[#This Row],[SGUID]],allsections[SGUID],0),1)","v":"COMPLAINT PROCESS"},{"$f":"INDEX(allsections[[S]:[Order]],MATCH(PIs[[#This Row],[SGUID]],allsections[SGUID],0),2)","v":"-"},{"$f":"INDEX(allsections[[S]:[Order]],MATCH(PIs[[#This Row],[SGUID]],allsections[SGUID],0),3)","v":4},"5TvyR0UgB0EOmnMkFaZftX",{"$f":"INDEX(allsections[[S]:[Order]],MATCH(PIs[[#This Row],[SSGUID]],allsections[SGUID],0),1)","v":"-"},{"$f":"INDEX(allsections[[S]:[Order]],MATCH(PIs[[#This Row],[SSGUID]],allsections[SGUID],0),2)","v":"-"},{"$f":"INDEX(S2PQ_relational[],MATCH(PIs[[#This Row],[GUID]],S2PQ_relational[PIGUID],0),2)","v":"7BjiTqdbz9EPX1It8mlxYw"},false]
["6NzSDV2IsFOtacEOaj13Gl",null,"03.02","54Uf16WN5JQGUYNFhBMfZy","The complaint process is implemented and appropriate to the number and type of workers for filing complaints in person, anonymously, or through the worker representation.","2Jib05e3hqYWR7CCJYGZHq","The term “implemented” shall require that the process be available in the predominant language(s) of the workforce and/or pictograms (especially for workers who cannot read), e.g., farm sign boards, handouts given directly to workers/subcontractors (evidence of accessibility of handouts shall be presented).\nThe process shall indicate how and where to file the complaint information, time for resolution, who will answer, and a clear statement that the process will be confidential without prejudice to workers’ right to go to court and that there is no retaliation or penalty for using the process.\nSubcontracted labor shall have access to the complaint process. Their complaints can be 1) within the scope of the commercial contract (e.g., conditions or hours of work at the production site are not as indicated) or 2) outside of the scope of the commercial contract (e.g., direct employer does not provide good housing accommodation).\nThe term “appropriate” shall require that the process provide any worker with possibilities to file and get an answer to the complaint in an appropriate time and in a confidential form. For short-term workers, the process shall provide shorter resolution times. \nWhere personal conversations/meetings are an option for immediately resolving complaints, the meeting/conversation shall be conducted in a language understood by the worker and shall be documented.","oOfpsr1EZQ6CxCOIvBlFe",{"$f":"INDEX(Level[Level],MATCH(PIs[[#This Row],[L]],Level[GUID],0),1)","v":"Minor Must"},null,null,"The assessor shall use worker interviews, where possible, to check availability, communication, and implementation of the process for all workers and especially for short-term workers. If no interviews are possible, the assessor shall check compliance with this P&C through document review and interviews with the worker representation.\n",null,"7M8kd0W9wjpA8V5QSHHaVd",{"$f":"INDEX(allsections[[S]:[Order]],MATCH(PIs[[#This Row],[SGUID]],allsections[SGUID],0),1)","v":"COMPLAINT PROCESS"},{"$f":"INDEX(allsections[[S]:[Order]],MATCH(PIs[[#This Row],[SGUID]],allsections[SGUID],0),2)","v":"-"},{"$f":"INDEX(allsections[[S]:[Order]],MATCH(PIs[[#This Row],[SGUID]],allsections[SGUID],0),3)","v":4},"5TvyR0UgB0EOmnMkFaZftX",{"$f":"INDEX(allsections[[S]:[Order]],MATCH(PIs[[#This Row],[SSGUID]],allsections[SGUID],0),1)","v":"-"},{"$f":"INDEX(allsections[[S]:[Order]],MATCH(PIs[[#This Row],[SSGUID]],allsections[SGUID],0),2)","v":"-"},{"$f":"INDEX(S2PQ_relational[],MATCH(PIs[[#This Row],[GUID]],S2PQ_relational[PIGUID],0),2)","v":"7BjiTqdbz9EPX1It8mlxYw"},false]
["42sYt5DbTXQHx6SiVgVWiU",null,"03.02","54Uf16WN5JQGUYNFhBMfZy","The complaint process is implemented and appropriate to the number and type of workers for filing complaints in person, anonymously, or through the worker representation.","2Jib05e3hqYWR7CCJYGZHq","The term “implemented” shall require that the process be available in the predominant language(s) of the workforce and/or pictograms (especially for workers who cannot read), e.g., farm sign boards, handouts given directly to workers/subcontractors (evidence of accessibility of handouts shall be presented).\nThe process shall indicate how and where to file the complaint information, time for resolution, who will answer, and a clear statement that the process will be confidential without prejudice to workers’ right to go to court and that there is no retaliation or penalty for using the process.\nSubcontracted labor shall have access to the complaint process. Their complaints can be 1) within the scope of the commercial contract (e.g., conditions or hours of work at the production site are not as indicated) or 2) outside of the scope of the commercial contract (e.g., direct employer does not provide good housing accommodation).\nThe term “appropriate” shall require that the process provide any worker with possibilities to file and get an answer to the complaint in an appropriate time and in a confidential form. For short-term workers, the process shall provide shorter resolution times. \nWhere personal conversations/meetings are an option for immediately resolving complaints, the meeting/conversation shall be conducted in a language understood by the worker and shall be documented.","oOfpsr1EZQ6CxCOIvBlFe",{"$f":"INDEX(Level[Level],MATCH(PIs[[#This Row],[L]],Level[GUID],0),1)","v":"Minor Must"},null,null,"The assessor shall use worker interviews, where possible, to check availability, communication, and implementation of the process for all workers and especially for short-term workers. If no interviews are possible, the assessor shall check compliance with this P&C through document review and interviews with the worker representation.\n",null,"7M8kd0W9wjpA8V5QSHHaVd",{"$f":"INDEX(allsections[[S]:[Order]],MATCH(PIs[[#This Row],[SGUID]],allsections[SGUID],0),1)","v":"COMPLAINT PROCESS"},{"$f":"INDEX(allsections[[S]:[Order]],MATCH(PIs[[#This Row],[SGUID]],allsections[SGUID],0),2)","v":"-"},{"$f":"INDEX(allsections[[S]:[Order]],MATCH(PIs[[#This Row],[SGUID]],allsections[SGUID],0),3)","v":4},"5TvyR0UgB0EOmnMkFaZftX",{"$f":"INDEX(allsections[[S]:[Order]],MATCH(PIs[[#This Row],[SSGUID]],allsections[SGUID],0),1)","v":"-"},{"$f":"INDEX(allsections[[S]:[Order]],MATCH(PIs[[#This Row],[SSGUID]],allsections[SGUID],0),2)","v":"-"},{"$f":"INDEX(S2PQ_relational[],MATCH(PIs[[#This Row],[GUID]],S2PQ_relational[PIGUID],0),2)","v":"7BjiTqdbz9EPX1It8mlxYw"},false]
["5m0BI5wZuoNOyDPYCiX3Xe",null,"03.01","1St7JSTQzuOK8pDfpSqren","A confidential complaint process is available to be used by all workers free of any retaliation or penalty.","2Y89jXJxqd2ySM9aQb12HR","The process shall be simple and available to all hired and/or subcontracted labor.\nThe process shall be available in the predominant language(s) of the workforce and/or pictograms.\nThe process shall also cover verbal complaints that can be sorted out immediately with a personal conversation/meeting conducted in a language understood by the worker.","5nISxpmIvwZJyExTIGOvlS",{"$f":"INDEX(Level[Level],MATCH(PIs[[#This Row],[L]],Level[GUID],0),1)","v":"Major Must"},null,null,"The assessor shall check the availability of the process with worker interviews, where possible. If no interviews are possible, the assessor shall check compliance with this P&C through document review and interviews with the worker representation.\n",null,"7M8kd0W9wjpA8V5QSHHaVd",{"$f":"INDEX(allsections[[S]:[Order]],MATCH(PIs[[#This Row],[SGUID]],allsections[SGUID],0),1)","v":"COMPLAINT PROCESS"},{"$f":"INDEX(allsections[[S]:[Order]],MATCH(PIs[[#This Row],[SGUID]],allsections[SGUID],0),2)","v":"-"},{"$f":"INDEX(allsections[[S]:[Order]],MATCH(PIs[[#This Row],[SGUID]],allsections[SGUID],0),3)","v":4},"5TvyR0UgB0EOmnMkFaZftX",{"$f":"INDEX(allsections[[S]:[Order]],MATCH(PIs[[#This Row],[SSGUID]],allsections[SGUID],0),1)","v":"-"},{"$f":"INDEX(allsections[[S]:[Order]],MATCH(PIs[[#This Row],[SSGUID]],allsections[SGUID],0),2)","v":"-"},{"$f":"INDEX(S2PQ_relational[],MATCH(PIs[[#This Row],[GUID]],S2PQ_relational[PIGUID],0),2)","v":"7BjiTqdbz9EPX1It8mlxYw"},false]
["1R8z6iLS1vLIAHZN4fwLck",null,"03.01","1St7JSTQzuOK8pDfpSqren","A confidential complaint process is available to be used by all workers free of any retaliation or penalty.","2Y89jXJxqd2ySM9aQb12HR","The process shall be simple and available to all hired and/or subcontracted labor.\nThe process shall be available in the predominant language(s) of the workforce and/or pictograms.\nThe process shall also cover verbal complaints that can be sorted out immediately with a personal conversation/meeting conducted in a language understood by the worker.","5nISxpmIvwZJyExTIGOvlS",{"$f":"INDEX(Level[Level],MATCH(PIs[[#This Row],[L]],Level[GUID],0),1)","v":"Major Must"},null,null,"The assessor shall check the availability of the process with worker interviews, where possible. If no interviews are possible, the assessor shall check compliance with this P&C through document review and interviews with the worker representation.\n",null,"7M8kd0W9wjpA8V5QSHHaVd",{"$f":"INDEX(allsections[[S]:[Order]],MATCH(PIs[[#This Row],[SGUID]],allsections[SGUID],0),1)","v":"COMPLAINT PROCESS"},{"$f":"INDEX(allsections[[S]:[Order]],MATCH(PIs[[#This Row],[SGUID]],allsections[SGUID],0),2)","v":"-"},{"$f":"INDEX(allsections[[S]:[Order]],MATCH(PIs[[#This Row],[SGUID]],allsections[SGUID],0),3)","v":4},"5TvyR0UgB0EOmnMkFaZftX",{"$f":"INDEX(allsections[[S]:[Order]],MATCH(PIs[[#This Row],[SSGUID]],allsections[SGUID],0),1)","v":"-"},{"$f":"INDEX(allsections[[S]:[Order]],MATCH(PIs[[#This Row],[SSGUID]],allsections[SGUID],0),2)","v":"-"},{"$f":"INDEX(S2PQ_relational[],MATCH(PIs[[#This Row],[GUID]],S2PQ_relational[PIGUID],0),2)","v":"7BjiTqdbz9EPX1It8mlxYw"},false]
["53Sx4h1tiaBx96W255bwTA",null,"02.05","6FhBRrQNwhrndMfhzghGtx","Workers, their representation, and the producer hold monthly gatherings on issues related to GRASP during the time with the highest presence of workers.","2fiG6REnTeV2qODiKZWqcb","The term “highest presence” of workers shall require that the gatherings take place during the most recent peak season or harvest period. If most workers are not present at those times, the gatherings shall take place at least once during the time when the highest number of workers is present during activities registered under IFA.\nIf the highest presence of workers occurs during seven weeks or less, compliance with the requirement for monthly meetings can be met with one meeting during the seven weeks.\nFor a management GRASP liaison, workers shall meet monthly with the management liaison.\nGatherings may take the form of meetings or quick conversations where information is exchanged, provided workers can speak/ask freely. As conditions allow that the gatherings can take place in a single group, smaller groups, or one-to-one sessions.\nDiscussion of issues related to GRASP shall include at least:\n- Information on schedules, wages, changes in labor conditions, and any other working condition of interest to the workers\n- Information on the producer’s human rights policy\n- The importance of the complaint process and how to use it \n- Important local contacts (e.g., governmental labor office or local labor authorities, local trade unions, ombudspersons, etc.)","oOfpsr1EZQ6CxCOIvBlFe",{"$f":"INDEX(Level[Level],MATCH(PIs[[#This Row],[L]],Level[GUID],0),1)","v":"Minor Must"},null,null,"Documentation of the gatherings shall be available, and attendance shall be cross-checked with interviews, where possible. If no gathering was possible because there is no worker representation, compliance shall occur only when the producer has provided awareness of such a gathering. Documental evidence shall include, e.g., a notice with detailed information posted at convenient places where the workers can assess and read it in their native languages, a record of workers absent from the gatherings.\n",null,"hQNd2uxITz3h9L5NA0Esq",{"$f":"INDEX(allsections[[S]:[Order]],MATCH(PIs[[#This Row],[SGUID]],allsections[SGUID],0),1)","v":"GRASP WORKER REPRESENTATION"},{"$f":"INDEX(allsections[[S]:[Order]],MATCH(PIs[[#This Row],[SGUID]],allsections[SGUID],0),2)","v":"-"},{"$f":"INDEX(allsections[[S]:[Order]],MATCH(PIs[[#This Row],[SGUID]],allsections[SGUID],0),3)","v":3},"5TvyR0UgB0EOmnMkFaZftX",{"$f":"INDEX(allsections[[S]:[Order]],MATCH(PIs[[#This Row],[SSGUID]],allsections[SGUID],0),1)","v":"-"},{"$f":"INDEX(allsections[[S]:[Order]],MATCH(PIs[[#This Row],[SSGUID]],allsections[SGUID],0),2)","v":"-"},{"$f":"INDEX(S2PQ_relational[],MATCH(PIs[[#This Row],[GUID]],S2PQ_relational[PIGUID],0),2)","v":"7BjiTqdbz9EPX1It8mlxYw"},false]
["504jxiMLX4m1KEs5eytNfX",null,"02.05","6FhBRrQNwhrndMfhzghGtx","Workers, their representation, and the producer hold monthly gatherings on issues related to GRASP during the time with the highest presence of workers.","2fiG6REnTeV2qODiKZWqcb","The term “highest presence” of workers shall require that the gatherings take place during the most recent peak season or harvest period. If most workers are not present at those times, the gatherings shall take place at least once during the time when the highest number of workers is present during activities registered under IFA.\nIf the highest presence of workers occurs during seven weeks or less, compliance with the requirement for monthly meetings can be met with one meeting during the seven weeks.\nFor a management GRASP liaison, workers shall meet monthly with the management liaison.\nGatherings may take the form of meetings or quick conversations where information is exchanged, provided workers can speak/ask freely. As conditions allow that the gatherings can take place in a single group, smaller groups, or one-to-one sessions.\nDiscussion of issues related to GRASP shall include at least:\n- Information on schedules, wages, changes in labor conditions, and any other working condition of interest to the workers\n- Information on the producer’s human rights policy\n- The importance of the complaint process and how to use it \n- Important local contacts (e.g., governmental labor office or local labor authorities, local trade unions, ombudspersons, etc.)","oOfpsr1EZQ6CxCOIvBlFe",{"$f":"INDEX(Level[Level],MATCH(PIs[[#This Row],[L]],Level[GUID],0),1)","v":"Minor Must"},null,null,"Documentation of the gatherings shall be available, and attendance shall be cross-checked with interviews, where possible. If no gathering was possible because there is no worker representation, compliance shall occur only when the producer has provided awareness of such a gathering. Documental evidence shall include, e.g., a notice with detailed information posted at convenient places where the workers can assess and read it in their native languages, a record of workers absent from the gatherings.\n",null,"hQNd2uxITz3h9L5NA0Esq",{"$f":"INDEX(allsections[[S]:[Order]],MATCH(PIs[[#This Row],[SGUID]],allsections[SGUID],0),1)","v":"GRASP WORKER REPRESENTATION"},{"$f":"INDEX(allsections[[S]:[Order]],MATCH(PIs[[#This Row],[SGUID]],allsections[SGUID],0),2)","v":"-"},{"$f":"INDEX(allsections[[S]:[Order]],MATCH(PIs[[#This Row],[SGUID]],allsections[SGUID],0),3)","v":3},"5TvyR0UgB0EOmnMkFaZftX",{"$f":"INDEX(allsections[[S]:[Order]],MATCH(PIs[[#This Row],[SSGUID]],allsections[SGUID],0),1)","v":"-"},{"$f":"INDEX(allsections[[S]:[Order]],MATCH(PIs[[#This Row],[SSGUID]],allsections[SGUID],0),2)","v":"-"},{"$f":"INDEX(S2PQ_relational[],MATCH(PIs[[#This Row],[GUID]],S2PQ_relational[PIGUID],0),2)","v":"7BjiTqdbz9EPX1It8mlxYw"},false]
["6p9JXzwRhZyGTbr6ztZQwa",null,"02.04","3MXZP1VwkLT3juIFP6EvcL","The worker representation/management liaison has been instructed on their role, duties, and rights within GRASP.","pOaGoZ7wijPTluwyRI4IK","The main role, duties, and rights shall include providing information on the complaint process to all workers, meeting with workers, sharing information from management, and facilitating contact with the different labor unions accessible to the workers and contact with the local labor authorities.","5nISxpmIvwZJyExTIGOvlS",{"$f":"INDEX(Level[Level],MATCH(PIs[[#This Row],[L]],Level[GUID],0),1)","v":"Major Must"},null,null,"The assessor shall cross-check records and interviews with the worker representation and management liaison(s).\n",null,"hQNd2uxITz3h9L5NA0Esq",{"$f":"INDEX(allsections[[S]:[Order]],MATCH(PIs[[#This Row],[SGUID]],allsections[SGUID],0),1)","v":"GRASP WORKER REPRESENTATION"},{"$f":"INDEX(allsections[[S]:[Order]],MATCH(PIs[[#This Row],[SGUID]],allsections[SGUID],0),2)","v":"-"},{"$f":"INDEX(allsections[[S]:[Order]],MATCH(PIs[[#This Row],[SGUID]],allsections[SGUID],0),3)","v":3},"5TvyR0UgB0EOmnMkFaZftX",{"$f":"INDEX(allsections[[S]:[Order]],MATCH(PIs[[#This Row],[SSGUID]],allsections[SGUID],0),1)","v":"-"},{"$f":"INDEX(allsections[[S]:[Order]],MATCH(PIs[[#This Row],[SSGUID]],allsections[SGUID],0),2)","v":"-"},{"$f":"INDEX(S2PQ_relational[],MATCH(PIs[[#This Row],[GUID]],S2PQ_relational[PIGUID],0),2)","v":"7BjiTqdbz9EPX1It8mlxYw"},false]
["3KoSwP3h3LcPPyAnUuTVh8",null,"02.04","3MXZP1VwkLT3juIFP6EvcL","The worker representation/management liaison has been instructed on their role, duties, and rights within GRASP.","pOaGoZ7wijPTluwyRI4IK","The main role, duties, and rights shall include providing information on the complaint process to all workers, meeting with workers, sharing information from management, and facilitating contact with the different labor unions accessible to the workers and contact with the local labor authorities.","5nISxpmIvwZJyExTIGOvlS",{"$f":"INDEX(Level[Level],MATCH(PIs[[#This Row],[L]],Level[GUID],0),1)","v":"Major Must"},null,null,"The assessor shall cross-check records and interviews with the worker representation and management liaison(s).\n",null,"hQNd2uxITz3h9L5NA0Esq",{"$f":"INDEX(allsections[[S]:[Order]],MATCH(PIs[[#This Row],[SGUID]],allsections[SGUID],0),1)","v":"GRASP WORKER REPRESENTATION"},{"$f":"INDEX(allsections[[S]:[Order]],MATCH(PIs[[#This Row],[SGUID]],allsections[SGUID],0),2)","v":"-"},{"$f":"INDEX(allsections[[S]:[Order]],MATCH(PIs[[#This Row],[SGUID]],allsections[SGUID],0),3)","v":3},"5TvyR0UgB0EOmnMkFaZftX",{"$f":"INDEX(allsections[[S]:[Order]],MATCH(PIs[[#This Row],[SSGUID]],allsections[SGUID],0),1)","v":"-"},{"$f":"INDEX(allsections[[S]:[Order]],MATCH(PIs[[#This Row],[SSGUID]],allsections[SGUID],0),2)","v":"-"},{"$f":"INDEX(S2PQ_relational[],MATCH(PIs[[#This Row],[GUID]],S2PQ_relational[PIGUID],0),2)","v":"7BjiTqdbz9EPX1It8mlxYw"},false]
["01v2H3qr0AtPFmXMU5RXew",null,"02.03","2MhuSThzG46eVvl2jJWv99","The producer ensures that worker representation is decided during the time with the highest presence of workers at the farm. ","1xqXiA5gl21B0j3OvMQZoH","The term “highest presence” shall require that the decision process take place during the most recent peak season or harvest period. If most workers are not present at those times, the decision process shall at least take place during the time when the highest number of workers is present during activities registered under GLOBALG.A.P. Integrated Farm Assurance (IFA).\nThe phrase “the producer ensures” shall cover, e.g., providing guidance, motivating workers, facilitating time and place during working hours, providing information on the role of representation, offering breaks without payment reduction, granting paid working time to participate in the meetings.","oOfpsr1EZQ6CxCOIvBlFe",{"$f":"INDEX(Level[Level],MATCH(PIs[[#This Row],[L]],Level[GUID],0),1)","v":"Minor Must"},null,null,"The assessor shall check this information through worker interviews (interviewing those who participated), where possible. If no interviews are possible, the assessor shall check compliance with this P&C through document review and interviews with the worker representation.\n",null,"hQNd2uxITz3h9L5NA0Esq",{"$f":"INDEX(allsections[[S]:[Order]],MATCH(PIs[[#This Row],[SGUID]],allsections[SGUID],0),1)","v":"GRASP WORKER REPRESENTATION"},{"$f":"INDEX(allsections[[S]:[Order]],MATCH(PIs[[#This Row],[SGUID]],allsections[SGUID],0),2)","v":"-"},{"$f":"INDEX(allsections[[S]:[Order]],MATCH(PIs[[#This Row],[SGUID]],allsections[SGUID],0),3)","v":3},"5TvyR0UgB0EOmnMkFaZftX",{"$f":"INDEX(allsections[[S]:[Order]],MATCH(PIs[[#This Row],[SSGUID]],allsections[SGUID],0),1)","v":"-"},{"$f":"INDEX(allsections[[S]:[Order]],MATCH(PIs[[#This Row],[SSGUID]],allsections[SGUID],0),2)","v":"-"},{"$f":"INDEX(S2PQ_relational[],MATCH(PIs[[#This Row],[GUID]],S2PQ_relational[PIGUID],0),2)","v":"7BjiTqdbz9EPX1It8mlxYw"},false]
["7cTRyquh7U3O8cBA8Paijt",null,"02.03","2MhuSThzG46eVvl2jJWv99","The producer ensures that worker representation is decided during the time with the highest presence of workers at the farm. ","1xqXiA5gl21B0j3OvMQZoH","The term “highest presence” shall require that the decision process take place during the most recent peak season or harvest period. If most workers are not present at those times, the decision process shall at least take place during the time when the highest number of workers is present during activities registered under GLOBALG.A.P. Integrated Farm Assurance (IFA).\nThe phrase “the producer ensures” shall cover, e.g., providing guidance, motivating workers, facilitating time and place during working hours, providing information on the role of representation, offering breaks without payment reduction, granting paid working time to participate in the meetings.","oOfpsr1EZQ6CxCOIvBlFe",{"$f":"INDEX(Level[Level],MATCH(PIs[[#This Row],[L]],Level[GUID],0),1)","v":"Minor Must"},null,null,"The assessor shall check this information through worker interviews (interviewing those who participated), where possible. If no interviews are possible, the assessor shall check compliance with this P&C through document review and interviews with the worker representation.\n",null,"hQNd2uxITz3h9L5NA0Esq",{"$f":"INDEX(allsections[[S]:[Order]],MATCH(PIs[[#This Row],[SGUID]],allsections[SGUID],0),1)","v":"GRASP WORKER REPRESENTATION"},{"$f":"INDEX(allsections[[S]:[Order]],MATCH(PIs[[#This Row],[SGUID]],allsections[SGUID],0),2)","v":"-"},{"$f":"INDEX(allsections[[S]:[Order]],MATCH(PIs[[#This Row],[SGUID]],allsections[SGUID],0),3)","v":3},"5TvyR0UgB0EOmnMkFaZftX",{"$f":"INDEX(allsections[[S]:[Order]],MATCH(PIs[[#This Row],[SSGUID]],allsections[SGUID],0),1)","v":"-"},{"$f":"INDEX(allsections[[S]:[Order]],MATCH(PIs[[#This Row],[SSGUID]],allsections[SGUID],0),2)","v":"-"},{"$f":"INDEX(S2PQ_relational[],MATCH(PIs[[#This Row],[GUID]],S2PQ_relational[PIGUID],0),2)","v":"7BjiTqdbz9EPX1It8mlxYw"},false]
["3vKz1XeHl2F8VNaaUrDMUl",null,"02.02","lnnZx59PwPPdnKRvf2K0t","After the workers reach a decision on the representation, the composition and type of the worker representation is communicated by management to the current workers. ","7iMvTJuO02Rdu32DXhBhZW","The term “communicated” shall require that information is always available in the predominant language(s) of the workforce and/or pictograms (especially for workers who cannot read), e.g., farm sign boards, handouts given directly to workers/subcontractors (evidence of accessibility of handouts shall be presented).\nInformation to be communicated shall include names and whereabouts during working hours of the worker representation.\nWhere applicable, the producer shall communicate the name and contact of the management GRASP liaison.\nIf a producer operates only with subcontracted labor, a management GRASP liaison shall be designated.","5nISxpmIvwZJyExTIGOvlS",{"$f":"INDEX(Level[Level],MATCH(PIs[[#This Row],[L]],Level[GUID],0),1)","v":"Major Must"},null,null,"The assessor shall check compliance with this P&C in interviews with the workers, where possible. If no interviews are possible, the assessor shall check compliance through document review.\n",null,"hQNd2uxITz3h9L5NA0Esq",{"$f":"INDEX(allsections[[S]:[Order]],MATCH(PIs[[#This Row],[SGUID]],allsections[SGUID],0),1)","v":"GRASP WORKER REPRESENTATION"},{"$f":"INDEX(allsections[[S]:[Order]],MATCH(PIs[[#This Row],[SGUID]],allsections[SGUID],0),2)","v":"-"},{"$f":"INDEX(allsections[[S]:[Order]],MATCH(PIs[[#This Row],[SGUID]],allsections[SGUID],0),3)","v":3},"5TvyR0UgB0EOmnMkFaZftX",{"$f":"INDEX(allsections[[S]:[Order]],MATCH(PIs[[#This Row],[SSGUID]],allsections[SGUID],0),1)","v":"-"},{"$f":"INDEX(allsections[[S]:[Order]],MATCH(PIs[[#This Row],[SSGUID]],allsections[SGUID],0),2)","v":"-"},{"$f":"INDEX(S2PQ_relational[],MATCH(PIs[[#This Row],[GUID]],S2PQ_relational[PIGUID],0),2)","v":"7BjiTqdbz9EPX1It8mlxYw"},false]
["6XwwhNCjx0ZRqAJBgSk2yO",null,"02.02","lnnZx59PwPPdnKRvf2K0t","After the workers reach a decision on the representation, the composition and type of the worker representation is communicated by management to the current workers. ","7iMvTJuO02Rdu32DXhBhZW","The term “communicated” shall require that information is always available in the predominant language(s) of the workforce and/or pictograms (especially for workers who cannot read), e.g., farm sign boards, handouts given directly to workers/subcontractors (evidence of accessibility of handouts shall be presented).\nInformation to be communicated shall include names and whereabouts during working hours of the worker representation.\nWhere applicable, the producer shall communicate the name and contact of the management GRASP liaison.\nIf a producer operates only with subcontracted labor, a management GRASP liaison shall be designated.","5nISxpmIvwZJyExTIGOvlS",{"$f":"INDEX(Level[Level],MATCH(PIs[[#This Row],[L]],Level[GUID],0),1)","v":"Major Must"},null,null,"The assessor shall check compliance with this P&C in interviews with the workers, where possible. If no interviews are possible, the assessor shall check compliance through document review.\n",null,"hQNd2uxITz3h9L5NA0Esq",{"$f":"INDEX(allsections[[S]:[Order]],MATCH(PIs[[#This Row],[SGUID]],allsections[SGUID],0),1)","v":"GRASP WORKER REPRESENTATION"},{"$f":"INDEX(allsections[[S]:[Order]],MATCH(PIs[[#This Row],[SGUID]],allsections[SGUID],0),2)","v":"-"},{"$f":"INDEX(allsections[[S]:[Order]],MATCH(PIs[[#This Row],[SGUID]],allsections[SGUID],0),3)","v":3},"5TvyR0UgB0EOmnMkFaZftX",{"$f":"INDEX(allsections[[S]:[Order]],MATCH(PIs[[#This Row],[SSGUID]],allsections[SGUID],0),1)","v":"-"},{"$f":"INDEX(allsections[[S]:[Order]],MATCH(PIs[[#This Row],[SSGUID]],allsections[SGUID],0),2)","v":"-"},{"$f":"INDEX(S2PQ_relational[],MATCH(PIs[[#This Row],[GUID]],S2PQ_relational[PIGUID],0),2)","v":"7BjiTqdbz9EPX1It8mlxYw"},false]
["6rtaRMxnDqpmX3MNNT0YX4",null,"02.01","51LmLBT68buODb478dP2UE","Current workers have decided on appropriate representation to help assess, communicate, and monitor their interests before the producer.","6m8fp9emVthqKIDuRZa30q","Possible types of decision: \n1. Using the same form of representation as in the previous production cycle\n2. Using the representative(s) of a trade union organization representing workers, works councils, or collective organizations (if legally possible)\n3. Using a newly chosen form of representation\n4. Deciding not to have collective representation\nThe representation can be: \n- A person or group of persons\n- A representative of a collective labor organization legally active at the farm: a trade union representative, a delegate, work councils, or any other form operating legally\n- Any other form that provides opportunity to the workers to raise their voice (e.g., a documented, regularly repeated meeting organized and led by the workers to discuss issues) \n- A management GRASP liaison: \na. If a producer only operates with subcontracted labor or \nb. If workers decide against all of the options above and individually self-represent before management, or\nc. If workers of producers with five or fewer workers during a production year decide not to have a collective representation, a written declaration shall be provided by the workers, and the producer (or supervisory staff) shall take the role of the GRASP liaison\nThe representation is appropriate if\n- The decision has taken place in the ongoing year or production period and\n- It consists of workers currently hired and present at the farm","5nISxpmIvwZJyExTIGOvlS",{"$f":"INDEX(Level[Level],MATCH(PIs[[#This Row],[L]],Level[GUID],0),1)","v":"Major Must"},null,null,"The assessor shall check compliance with this P&C through document review and in interviews with the workers who participated in the decision process, where possible. If no interviews are possible, the assessor shall check compliance through document review.\nFor collective organizations and work councils, the official appointment shall still be registered, current, and valid, and the official(s) shall be present or often present at the farm. The assessor shall check official registration (with the government or labor authorities) for the validity of the official appointment and may also contact the local organizations directly. \nWhen workers decide on self-representation, a management GRASP liaison shall be chosen by the producer. The producer shall keep a written declaration indicating relevant information regarding the worker decision to self-represent (names of participants, date, and details of decision, signed by all the workers involved in the decision). The assessor shall check documents and dates of the declaration. The assessor shall also verify during worker interviews that the decision not to have collective representation was reached without external influence on the workers.\nFor producers with five or fewer workers during the production year, if the workers decide not to have collective representation, the assessor shall check the declaration and cross-check with interviews, where possible, that there was no external influence. \nFor producers with only subcontracted labor, a management GRASP liaison shall be designated. \nFor GRASP compliance only, a management GRASP liaison is always considered to have the duties of a worker representation.",null,"hQNd2uxITz3h9L5NA0Esq",{"$f":"INDEX(allsections[[S]:[Order]],MATCH(PIs[[#This Row],[SGUID]],allsections[SGUID],0),1)","v":"GRASP WORKER REPRESENTATION"},{"$f":"INDEX(allsections[[S]:[Order]],MATCH(PIs[[#This Row],[SGUID]],allsections[SGUID],0),2)","v":"-"},{"$f":"INDEX(allsections[[S]:[Order]],MATCH(PIs[[#This Row],[SGUID]],allsections[SGUID],0),3)","v":3},"5TvyR0UgB0EOmnMkFaZftX",{"$f":"INDEX(allsections[[S]:[Order]],MATCH(PIs[[#This Row],[SSGUID]],allsections[SGUID],0),1)","v":"-"},{"$f":"INDEX(allsections[[S]:[Order]],MATCH(PIs[[#This Row],[SSGUID]],allsections[SGUID],0),2)","v":"-"},{"$f":"INDEX(S2PQ_relational[],MATCH(PIs[[#This Row],[GUID]],S2PQ_relational[PIGUID],0),2)","v":"7BjiTqdbz9EPX1It8mlxYw"},false]
["3MSvFAu06ogDjRbyfMHZC",null,"02.01","51LmLBT68buODb478dP2UE","Current workers have decided on appropriate representation to help assess, communicate, and monitor their interests before the producer.","6m8fp9emVthqKIDuRZa30q","Possible types of decision: \n1. Using the same form of representation as in the previous production cycle\n2. Using the representative(s) of a trade union organization representing workers, works councils, or collective organizations (if legally possible)\n3. Using a newly chosen form of representation\n4. Deciding not to have collective representation\nThe representation can be: \n- A person or group of persons\n- A representative of a collective labor organization legally active at the farm: a trade union representative, a delegate, work councils, or any other form operating legally\n- Any other form that provides opportunity to the workers to raise their voice (e.g., a documented, regularly repeated meeting organized and led by the workers to discuss issues) \n- A management GRASP liaison: \na. If a producer only operates with subcontracted labor or \nb. If workers decide against all of the options above and individually self-represent before management, or\nc. If workers of producers with five or fewer workers during a production year decide not to have a collective representation, a written declaration shall be provided by the workers, and the producer (or supervisory staff) shall take the role of the GRASP liaison\nThe representation is appropriate if\n- The decision has taken place in the ongoing year or production period and\n- It consists of workers currently hired and present at the farm","5nISxpmIvwZJyExTIGOvlS",{"$f":"INDEX(Level[Level],MATCH(PIs[[#This Row],[L]],Level[GUID],0),1)","v":"Major Must"},null,null,"The assessor shall check compliance with this P&C through document review and in interviews with the workers who participated in the decision process, where possible. If no interviews are possible, the assessor shall check compliance through document review.\nFor collective organizations and work councils, the official appointment shall still be registered, current, and valid, and the official(s) shall be present or often present at the farm. The assessor shall check official registration (with the government or labor authorities) for the validity of the official appointment and may also contact the local organizations directly. \nWhen workers decide on self-representation, a management GRASP liaison shall be chosen by the producer. The producer shall keep a written declaration indicating relevant information regarding the worker decision to self-represent (names of participants, date, and details of decision, signed by all the workers involved in the decision). The assessor shall check documents and dates of the declaration. The assessor shall also verify during worker interviews that the decision not to have collective representation was reached without external influence on the workers.\nFor producers with five or fewer workers during the production year, if the workers decide not to have collective representation, the assessor shall check the declaration and cross-check with interviews, where possible, that there was no external influence. \nFor producers with only subcontracted labor, a management GRASP liaison shall be designated. \nFor GRASP compliance only, a management GRASP liaison is always considered to have the duties of a worker representation.",null,"hQNd2uxITz3h9L5NA0Esq",{"$f":"INDEX(allsections[[S]:[Order]],MATCH(PIs[[#This Row],[SGUID]],allsections[SGUID],0),1)","v":"GRASP WORKER REPRESENTATION"},{"$f":"INDEX(allsections[[S]:[Order]],MATCH(PIs[[#This Row],[SGUID]],allsections[SGUID],0),2)","v":"-"},{"$f":"INDEX(allsections[[S]:[Order]],MATCH(PIs[[#This Row],[SGUID]],allsections[SGUID],0),3)","v":3},"5TvyR0UgB0EOmnMkFaZftX",{"$f":"INDEX(allsections[[S]:[Order]],MATCH(PIs[[#This Row],[SSGUID]],allsections[SGUID],0),1)","v":"-"},{"$f":"INDEX(allsections[[S]:[Order]],MATCH(PIs[[#This Row],[SSGUID]],allsections[SGUID],0),2)","v":"-"},{"$f":"INDEX(S2PQ_relational[],MATCH(PIs[[#This Row],[GUID]],S2PQ_relational[PIGUID],0),2)","v":"7BjiTqdbz9EPX1It8mlxYw"},false]
["1SMNQQnAJDPrsosDfpJzBb",null,"14.01","6l9SwBwycabIGaq3rG9PXs","The assessment of the producer group’s GRASP QMS shows evidence of the correct implementation of GRASP for all participating producer group members","6zb7vWRhSiqJQzancDOKlV","Compliance with this P&C shall require that all the following have been checked and reported compliant:\n1. The implementation of GRASP is included in the GRASP QMS of the producer group, based on the “GLOBALG.A.P. general regulations – Rules for producer groups and multisite producers with QMS.”\n2. There is a system in place to regularly inform and train key staff of each producer group member on GRASP-related P&Cs, topics, and issues (e.g., train supervisory staff on remediation plan for child labor).\n3. All steps taken in the frame of the QMS to implement GRASP among all participating producer group members are documented.\n4. There is evidence that the producer group fosters compliance of all participating producer group members with the GRASP requirements and assesses the progresses and problems complying with GRASP every year.\n5. A register is maintained of all producers with GLOBALG.A.P. certified production processes implementing GRASP. For every producer group member, it contains the internal assessment date as well as the compliance level reached, all non-compliances detected in internal and external assessments, and corrective actions following non-compliances.\n6. There is a procedure to implement corrective actions resulting from previous internal assessments for all the producer group members.\n7. There is evidence of application of the procedure to implement corrective actions resulting from previous internal assessments for all producer group members.\n8. The internal producer group auditor is qualified according to the GRASP general rules.","5nISxpmIvwZJyExTIGOvlS",{"$f":"INDEX(Level[Level],MATCH(PIs[[#This Row],[L]],Level[GUID],0),1)","v":"Major Must"},null,null,"The assessor shall check each of the GRASP QMS requirements during the IFA CB QMS audit. The assessor shall request documental evidence and cross-check with related criteria during the producer group members’ external assessment (i.e., training and information related to remediation plan for child labor at producer group member level).\nDocumental evidence of meetings and interviews with producer group members on revision of progress shall be included. The procedure to implement corrective actions shall relate to the existence of the internal GRASP assessment and corrective actions of the producer group member.\n",null,"40V0ALJTCbf6o5mEcRnL1V",{"$f":"INDEX(allsections[[S]:[Order]],MATCH(PIs[[#This Row],[SGUID]],allsections[SGUID],0),1)","v":{"$error":"#N/A"}},{"$f":"INDEX(allsections[[S]:[Order]],MATCH(PIs[[#This Row],[SGUID]],allsections[SGUID],0),2)","v":{"$error":"#N/A"}},{"$f":"INDEX(allsections[[S]:[Order]],MATCH(PIs[[#This Row],[SGUID]],allsections[SGUID],0),3)","v":{"$error":"#N/A"}},"5TvyR0UgB0EOmnMkFaZftX",{"$f":"INDEX(allsections[[S]:[Order]],MATCH(PIs[[#This Row],[SSGUID]],allsections[SGUID],0),1)","v":"-"},{"$f":"INDEX(allsections[[S]:[Order]],MATCH(PIs[[#This Row],[SSGUID]],allsections[SGUID],0),2)","v":"-"},{"$f":"INDEX(S2PQ_relational[],MATCH(PIs[[#This Row],[GUID]],S2PQ_relational[PIGUID],0),2)","v":{"$error":"#N/A"}},false]
["6jbxivO9VjbvgCgxcNnDK5",null,"13.03","79u7Sv9rsmcqHIZKIn40HU","Records are kept of any disciplinary actions taken during the last 24 months.","48UBjXk57xB99GZQiazcDE","Records shall include information on the name of the worker, disciplinary situation and resolution, and start and end date of procedure. \n","oOfpsr1EZQ6CxCOIvBlFe",{"$f":"INDEX(Level[Level],MATCH(PIs[[#This Row],[L]],Level[GUID],0),1)","v":"Minor Must"},null,null,"The assessor shall check records of disciplinary actions taken.\n",null,"5QcqRKjyugITtX9F5mWxJx",{"$f":"INDEX(allsections[[S]:[Order]],MATCH(PIs[[#This Row],[SGUID]],allsections[SGUID],0),1)","v":"DISCIPLINARY PROCEDURES"},{"$f":"INDEX(allsections[[S]:[Order]],MATCH(PIs[[#This Row],[SGUID]],allsections[SGUID],0),2)","v":"-"},{"$f":"INDEX(allsections[[S]:[Order]],MATCH(PIs[[#This Row],[SGUID]],allsections[SGUID],0),3)","v":14},"5TvyR0UgB0EOmnMkFaZftX",{"$f":"INDEX(allsections[[S]:[Order]],MATCH(PIs[[#This Row],[SSGUID]],allsections[SGUID],0),1)","v":"-"},{"$f":"INDEX(allsections[[S]:[Order]],MATCH(PIs[[#This Row],[SSGUID]],allsections[SGUID],0),2)","v":"-"},{"$f":"INDEX(S2PQ_relational[],MATCH(PIs[[#This Row],[GUID]],S2PQ_relational[PIGUID],0),2)","v":"7BjiTqdbz9EPX1It8mlxYw"},false]
["5341tD3frWQkSDpaOjaT9y",null,"13.03","79u7Sv9rsmcqHIZKIn40HU","Records are kept of any disciplinary actions taken during the last 24 months.","48UBjXk57xB99GZQiazcDE","Records shall include information on the name of the worker, disciplinary situation and resolution, and start and end date of procedure. \n","oOfpsr1EZQ6CxCOIvBlFe",{"$f":"INDEX(Level[Level],MATCH(PIs[[#This Row],[L]],Level[GUID],0),1)","v":"Minor Must"},null,null,"The assessor shall check records of disciplinary actions taken.\n",null,"5QcqRKjyugITtX9F5mWxJx",{"$f":"INDEX(allsections[[S]:[Order]],MATCH(PIs[[#This Row],[SGUID]],allsections[SGUID],0),1)","v":"DISCIPLINARY PROCEDURES"},{"$f":"INDEX(allsections[[S]:[Order]],MATCH(PIs[[#This Row],[SGUID]],allsections[SGUID],0),2)","v":"-"},{"$f":"INDEX(allsections[[S]:[Order]],MATCH(PIs[[#This Row],[SGUID]],allsections[SGUID],0),3)","v":14},"5TvyR0UgB0EOmnMkFaZftX",{"$f":"INDEX(allsections[[S]:[Order]],MATCH(PIs[[#This Row],[SSGUID]],allsections[SGUID],0),1)","v":"-"},{"$f":"INDEX(allsections[[S]:[Order]],MATCH(PIs[[#This Row],[SSGUID]],allsections[SGUID],0),2)","v":"-"},{"$f":"INDEX(S2PQ_relational[],MATCH(PIs[[#This Row],[GUID]],S2PQ_relational[PIGUID],0),2)","v":"7BjiTqdbz9EPX1It8mlxYw"},false]
["QJ2yybwDAksAecWyfu7xh",null,"13.02","5aRNysTRISKsDbaubz2ns9","Workers are informed about the terms of the disciplinary procedure, including that any deduction from wages as a disciplinary measure is prohibited.","4oCsCHQ4bdwC7uy2A1FRPq","The assessor shall check that all workers are informed of the procedures. Special attention shall be paid to workers with very short-term contracts. \nCompliance with this P&C shall require that:\n1. The procedure is explained to workers.\n2. The written procedure is available to workers.\nSubcontracted agricultural labor shall be instructed on these procedures in the scope of their work at the production site and the requirements to perform activities at the production site of the producer. \nInformation on the procedures shall be available in the predominant language(s) of the workforce and/or pictograms (especially for workers who cannot read), e.g., farm sign boards, handouts given directly to workers/subcontractors (evidence of accessibility of handouts shall be presented).","oOfpsr1EZQ6CxCOIvBlFe",{"$f":"INDEX(Level[Level],MATCH(PIs[[#This Row],[L]],Level[GUID],0),1)","v":"Minor Must"},null,null,"The assessor shall check records of instructions (e.g., for correct contents, participants’ list) and subcontracted information, where applicable. Documented initial instruction may include the indication of the procedures to seasonal workers.\n",null,"5QcqRKjyugITtX9F5mWxJx",{"$f":"INDEX(allsections[[S]:[Order]],MATCH(PIs[[#This Row],[SGUID]],allsections[SGUID],0),1)","v":"DISCIPLINARY PROCEDURES"},{"$f":"INDEX(allsections[[S]:[Order]],MATCH(PIs[[#This Row],[SGUID]],allsections[SGUID],0),2)","v":"-"},{"$f":"INDEX(allsections[[S]:[Order]],MATCH(PIs[[#This Row],[SGUID]],allsections[SGUID],0),3)","v":14},"5TvyR0UgB0EOmnMkFaZftX",{"$f":"INDEX(allsections[[S]:[Order]],MATCH(PIs[[#This Row],[SSGUID]],allsections[SGUID],0),1)","v":"-"},{"$f":"INDEX(allsections[[S]:[Order]],MATCH(PIs[[#This Row],[SSGUID]],allsections[SGUID],0),2)","v":"-"},{"$f":"INDEX(S2PQ_relational[],MATCH(PIs[[#This Row],[GUID]],S2PQ_relational[PIGUID],0),2)","v":"7BjiTqdbz9EPX1It8mlxYw"},false]
["4KnqFWr7YBL2OuIMD72y2c",null,"13.02","5aRNysTRISKsDbaubz2ns9","Workers are informed about the terms of the disciplinary procedure, including that any deduction from wages as a disciplinary measure is prohibited.","4oCsCHQ4bdwC7uy2A1FRPq","The assessor shall check that all workers are informed of the procedures. Special attention shall be paid to workers with very short-term contracts. \nCompliance with this P&C shall require that:\n1. The procedure is explained to workers.\n2. The written procedure is available to workers.\nSubcontracted agricultural labor shall be instructed on these procedures in the scope of their work at the production site and the requirements to perform activities at the production site of the producer. \nInformation on the procedures shall be available in the predominant language(s) of the workforce and/or pictograms (especially for workers who cannot read), e.g., farm sign boards, handouts given directly to workers/subcontractors (evidence of accessibility of handouts shall be presented).","oOfpsr1EZQ6CxCOIvBlFe",{"$f":"INDEX(Level[Level],MATCH(PIs[[#This Row],[L]],Level[GUID],0),1)","v":"Minor Must"},null,null,"The assessor shall check records of instructions (e.g., for correct contents, participants’ list) and subcontracted information, where applicable. Documented initial instruction may include the indication of the procedures to seasonal workers.\n",null,"5QcqRKjyugITtX9F5mWxJx",{"$f":"INDEX(allsections[[S]:[Order]],MATCH(PIs[[#This Row],[SGUID]],allsections[SGUID],0),1)","v":"DISCIPLINARY PROCEDURES"},{"$f":"INDEX(allsections[[S]:[Order]],MATCH(PIs[[#This Row],[SGUID]],allsections[SGUID],0),2)","v":"-"},{"$f":"INDEX(allsections[[S]:[Order]],MATCH(PIs[[#This Row],[SGUID]],allsections[SGUID],0),3)","v":14},"5TvyR0UgB0EOmnMkFaZftX",{"$f":"INDEX(allsections[[S]:[Order]],MATCH(PIs[[#This Row],[SSGUID]],allsections[SGUID],0),1)","v":"-"},{"$f":"INDEX(allsections[[S]:[Order]],MATCH(PIs[[#This Row],[SSGUID]],allsections[SGUID],0),2)","v":"-"},{"$f":"INDEX(S2PQ_relational[],MATCH(PIs[[#This Row],[GUID]],S2PQ_relational[PIGUID],0),2)","v":"7BjiTqdbz9EPX1It8mlxYw"},false]
["1QeEsrc8UuyqWR1lPTaf0U",null,"13.01","1bf4tJFIPXnoLhU2ezhISD","A written disciplinary procedure is available.","1zSp8aQE1bJzjZ1NUmbI8Q","The process shall be simple and available to all workers hired, including subcontracted labor.\nThe written disciplinary procedure shall at least include and explain these steps:\n1. Hearing\n2. Decision\n3. Appeal or revision \n4. Final decision (corrective measures)\nThe process shall be available in the predominant language(s) of the workforce and/or pictograms.","5nISxpmIvwZJyExTIGOvlS",{"$f":"INDEX(Level[Level],MATCH(PIs[[#This Row],[L]],Level[GUID],0),1)","v":"Major Must"},null,null,"The assessor shall check the existence of a written procedure. The assessor shall request and check subcontracted labor information on this P&C.\n",null,"5QcqRKjyugITtX9F5mWxJx",{"$f":"INDEX(allsections[[S]:[Order]],MATCH(PIs[[#This Row],[SGUID]],allsections[SGUID],0),1)","v":"DISCIPLINARY PROCEDURES"},{"$f":"INDEX(allsections[[S]:[Order]],MATCH(PIs[[#This Row],[SGUID]],allsections[SGUID],0),2)","v":"-"},{"$f":"INDEX(allsections[[S]:[Order]],MATCH(PIs[[#This Row],[SGUID]],allsections[SGUID],0),3)","v":14},"5TvyR0UgB0EOmnMkFaZftX",{"$f":"INDEX(allsections[[S]:[Order]],MATCH(PIs[[#This Row],[SSGUID]],allsections[SGUID],0),1)","v":"-"},{"$f":"INDEX(allsections[[S]:[Order]],MATCH(PIs[[#This Row],[SSGUID]],allsections[SGUID],0),2)","v":"-"},{"$f":"INDEX(S2PQ_relational[],MATCH(PIs[[#This Row],[GUID]],S2PQ_relational[PIGUID],0),2)","v":"7BjiTqdbz9EPX1It8mlxYw"},false]
["5GjSFRGliXoulGkdlAeEre",null,"13.01","1bf4tJFIPXnoLhU2ezhISD","A written disciplinary procedure is available.","1zSp8aQE1bJzjZ1NUmbI8Q","The process shall be simple and available to all workers hired, including subcontracted labor.\nThe written disciplinary procedure shall at least include and explain these steps:\n1. Hearing\n2. Decision\n3. Appeal or revision \n4. Final decision (corrective measures)\nThe process shall be available in the predominant language(s) of the workforce and/or pictograms.","5nISxpmIvwZJyExTIGOvlS",{"$f":"INDEX(Level[Level],MATCH(PIs[[#This Row],[L]],Level[GUID],0),1)","v":"Major Must"},null,null,"The assessor shall check the existence of a written procedure. The assessor shall request and check subcontracted labor information on this P&C.\n",null,"5QcqRKjyugITtX9F5mWxJx",{"$f":"INDEX(allsections[[S]:[Order]],MATCH(PIs[[#This Row],[SGUID]],allsections[SGUID],0),1)","v":"DISCIPLINARY PROCEDURES"},{"$f":"INDEX(allsections[[S]:[Order]],MATCH(PIs[[#This Row],[SGUID]],allsections[SGUID],0),2)","v":"-"},{"$f":"INDEX(allsections[[S]:[Order]],MATCH(PIs[[#This Row],[SGUID]],allsections[SGUID],0),3)","v":14},"5TvyR0UgB0EOmnMkFaZftX",{"$f":"INDEX(allsections[[S]:[Order]],MATCH(PIs[[#This Row],[SSGUID]],allsections[SGUID],0),1)","v":"-"},{"$f":"INDEX(allsections[[S]:[Order]],MATCH(PIs[[#This Row],[SSGUID]],allsections[SGUID],0),2)","v":"-"},{"$f":"INDEX(S2PQ_relational[],MATCH(PIs[[#This Row],[GUID]],S2PQ_relational[PIGUID],0),2)","v":"7BjiTqdbz9EPX1It8mlxYw"},false]
["2LTDXoG3x1dvJEtrFOwold",null,"12.08","7F0zKBpGG7fBeRHQwv5hJl","Workers are communicated to effectively use the rest breaks/days during peak season.","5im7R7yk3rtrO4hPSRm3H9","The term “communicate” shall require providing information during the weekly schedule or in the working instructions given during the day.\nFor subcontracted labor, the producer shall check compliance. If non-compliance is found, the producer shall document each instance and include corrective steps taken.","oOfpsr1EZQ6CxCOIvBlFe",{"$f":"INDEX(Level[Level],MATCH(PIs[[#This Row],[L]],Level[GUID],0),1)","v":"Minor Must"},null,null,"The assessor shall check communication methods and, where interviews are possible, cross-check records with workers.\nThe assessor shall request and check subcontracted labor information on this P&C.\n",null,"3REBipJjMBilm8fOUb7AAk",{"$f":"INDEX(allsections[[S]:[Order]],MATCH(PIs[[#This Row],[SGUID]],allsections[SGUID],0),1)","v":"WORKING HOURS"},{"$f":"INDEX(allsections[[S]:[Order]],MATCH(PIs[[#This Row],[SGUID]],allsections[SGUID],0),2)","v":"-"},{"$f":"INDEX(allsections[[S]:[Order]],MATCH(PIs[[#This Row],[SGUID]],allsections[SGUID],0),3)","v":13},"5TvyR0UgB0EOmnMkFaZftX",{"$f":"INDEX(allsections[[S]:[Order]],MATCH(PIs[[#This Row],[SSGUID]],allsections[SGUID],0),1)","v":"-"},{"$f":"INDEX(allsections[[S]:[Order]],MATCH(PIs[[#This Row],[SSGUID]],allsections[SGUID],0),2)","v":"-"},{"$f":"INDEX(S2PQ_relational[],MATCH(PIs[[#This Row],[GUID]],S2PQ_relational[PIGUID],0),2)","v":"7BjiTqdbz9EPX1It8mlxYw"},false]
["6pkyPAaEzhqILFZKAQjFmh",null,"12.08","7F0zKBpGG7fBeRHQwv5hJl","Workers are communicated to effectively use the rest breaks/days during peak season.","5im7R7yk3rtrO4hPSRm3H9","The term “communicate” shall require providing information during the weekly schedule or in the working instructions given during the day.\nFor subcontracted labor, the producer shall check compliance. If non-compliance is found, the producer shall document each instance and include corrective steps taken.","oOfpsr1EZQ6CxCOIvBlFe",{"$f":"INDEX(Level[Level],MATCH(PIs[[#This Row],[L]],Level[GUID],0),1)","v":"Minor Must"},null,null,"The assessor shall check communication methods and, where interviews are possible, cross-check records with workers.\nThe assessor shall request and check subcontracted labor information on this P&C.\n",null,"3REBipJjMBilm8fOUb7AAk",{"$f":"INDEX(allsections[[S]:[Order]],MATCH(PIs[[#This Row],[SGUID]],allsections[SGUID],0),1)","v":"WORKING HOURS"},{"$f":"INDEX(allsections[[S]:[Order]],MATCH(PIs[[#This Row],[SGUID]],allsections[SGUID],0),2)","v":"-"},{"$f":"INDEX(allsections[[S]:[Order]],MATCH(PIs[[#This Row],[SGUID]],allsections[SGUID],0),3)","v":13},"5TvyR0UgB0EOmnMkFaZftX",{"$f":"INDEX(allsections[[S]:[Order]],MATCH(PIs[[#This Row],[SSGUID]],allsections[SGUID],0),1)","v":"-"},{"$f":"INDEX(allsections[[S]:[Order]],MATCH(PIs[[#This Row],[SSGUID]],allsections[SGUID],0),2)","v":"-"},{"$f":"INDEX(S2PQ_relational[],MATCH(PIs[[#This Row],[GUID]],S2PQ_relational[PIGUID],0),2)","v":"7BjiTqdbz9EPX1It8mlxYw"},false]
["6r6UKO6tVO1cFOEq0mi9aq",null,"12.07","5NWevhd49C88Svf40Vx33R","Supervisory staff is instructed about the safeguards in place to protect the workers’ health and safety when working over the regular weekly working time and/or over the peak season weekly working time.","5bC2EvnYmtPvYNUCxcLLPz","The term “supervisory staff” shall refer to any staff member in contact with workers or with supervising duties at the production site (i.e., foreman, manager, crew supervisor, etc.). If the producer does not have such staff, the producer shall have knowledge of the GRASP criteria on this topic and shall have safeguards in place.\nThere shall be a record of the safeguards in place to protect the workers’ health and safety. \nFor subcontracted labor, the producer shall check compliance. If non-compliance is found, the producer shall document each instance and include corrective steps taken.","oOfpsr1EZQ6CxCOIvBlFe",{"$f":"INDEX(Level[Level],MATCH(PIs[[#This Row],[L]],Level[GUID],0),1)","v":"Minor Must"},null,null,"The assessor shall check records of instructions and subcontracted labor compliance.\nThe assessor shall request and check subcontracted labor information on this P&C.\n",null,"3REBipJjMBilm8fOUb7AAk",{"$f":"INDEX(allsections[[S]:[Order]],MATCH(PIs[[#This Row],[SGUID]],allsections[SGUID],0),1)","v":"WORKING HOURS"},{"$f":"INDEX(allsections[[S]:[Order]],MATCH(PIs[[#This Row],[SGUID]],allsections[SGUID],0),2)","v":"-"},{"$f":"INDEX(allsections[[S]:[Order]],MATCH(PIs[[#This Row],[SGUID]],allsections[SGUID],0),3)","v":13},"5TvyR0UgB0EOmnMkFaZftX",{"$f":"INDEX(allsections[[S]:[Order]],MATCH(PIs[[#This Row],[SSGUID]],allsections[SGUID],0),1)","v":"-"},{"$f":"INDEX(allsections[[S]:[Order]],MATCH(PIs[[#This Row],[SSGUID]],allsections[SGUID],0),2)","v":"-"},{"$f":"INDEX(S2PQ_relational[],MATCH(PIs[[#This Row],[GUID]],S2PQ_relational[PIGUID],0),2)","v":"7BjiTqdbz9EPX1It8mlxYw"},false]
["h7oXDmdmJMZ6fIerKOiWd",null,"12.07","5NWevhd49C88Svf40Vx33R","Supervisory staff is instructed about the safeguards in place to protect the workers’ health and safety when working over the regular weekly working time and/or over the peak season weekly working time.","5bC2EvnYmtPvYNUCxcLLPz","The term “supervisory staff” shall refer to any staff member in contact with workers or with supervising duties at the production site (i.e., foreman, manager, crew supervisor, etc.). If the producer does not have such staff, the producer shall have knowledge of the GRASP criteria on this topic and shall have safeguards in place.\nThere shall be a record of the safeguards in place to protect the workers’ health and safety. \nFor subcontracted labor, the producer shall check compliance. If non-compliance is found, the producer shall document each instance and include corrective steps taken.","oOfpsr1EZQ6CxCOIvBlFe",{"$f":"INDEX(Level[Level],MATCH(PIs[[#This Row],[L]],Level[GUID],0),1)","v":"Minor Must"},null,null,"The assessor shall check records of instructions and subcontracted labor compliance.\nThe assessor shall request and check subcontracted labor information on this P&C.\n",null,"3REBipJjMBilm8fOUb7AAk",{"$f":"INDEX(allsections[[S]:[Order]],MATCH(PIs[[#This Row],[SGUID]],allsections[SGUID],0),1)","v":"WORKING HOURS"},{"$f":"INDEX(allsections[[S]:[Order]],MATCH(PIs[[#This Row],[SGUID]],allsections[SGUID],0),2)","v":"-"},{"$f":"INDEX(allsections[[S]:[Order]],MATCH(PIs[[#This Row],[SGUID]],allsections[SGUID],0),3)","v":13},"5TvyR0UgB0EOmnMkFaZftX",{"$f":"INDEX(allsections[[S]:[Order]],MATCH(PIs[[#This Row],[SSGUID]],allsections[SGUID],0),1)","v":"-"},{"$f":"INDEX(allsections[[S]:[Order]],MATCH(PIs[[#This Row],[SSGUID]],allsections[SGUID],0),2)","v":"-"},{"$f":"INDEX(S2PQ_relational[],MATCH(PIs[[#This Row],[GUID]],S2PQ_relational[PIGUID],0),2)","v":"7BjiTqdbz9EPX1It8mlxYw"},false]
["5OmbGwMJDvjKYXu5ogpQUl",null,"12.06","Y3XTQdUYM45fPGn5bDXEC","Total weekly working hours (including overtime) as shown in the records indicate compliance with national legislation and collective bargaining agreements.\n\nIf national legislation sets total weekly working hour limits higher than 60 hours (including overtime) in peak season and/or agricultural workers are exempt from overtime limitations, the employer reports the total weekly hours worked and which appropriate safeguards are in place to protect the workers’ health and safety.","7JvMsKrYML3iSIiYMnOgzz","If national legislation or bargaining agreements include averaging arrangements, this method can be used in calculations. The assessor shall check that the calculation methods are a) clearly defined and b) in line with national legal requirements.\nIf the total number of weekly hours worked (including overtime) exceeds 60 hours, the assessor shall check that conditions set up by law are applicable to this situation and check any industry-related collective bargaining agreement.\nSafeguards shall be in place to protect the workers’ health and safety, including a strategy to balance hours with breaks and monitoring the health and levels of productivity of the worker. Safeguards can include, e.g., providing preventive breaks, monitoring increases in work accidents caused by fatigue, shift systems designed to minimize fatigue accumulation, and/or risk assessment of the nature of work considered so that workload does not increase risk to safety and health.\nFor subcontracted labor, the producer shall check compliance. If non-compliance is found, the producer shall document each instance and include corrective steps taken.","5nISxpmIvwZJyExTIGOvlS",{"$f":"INDEX(Level[Level],MATCH(PIs[[#This Row],[L]],Level[GUID],0),1)","v":"Major Must"},null,null,"The assessor shall compare records of total hours per week for each worker with national regulations, using NIGs as guidance but relying on legal regulations. Where interviews are possible, the assessor shall cross-check information with workers following the sampling rules for documents. Comments describing the methods of calculation of hours shall be included in the report.\nOn safeguards, the producer may present a copy of a risk assessment of workers’ health and safety and safety procedures from GLOBALG.A.P. certification indicating safety procedures are in place for working more than 48 hours. Compliance shall include application of the procedures.\nThe assessor shall request and check subcontracted labor information on this P&C.\n",null,"3REBipJjMBilm8fOUb7AAk",{"$f":"INDEX(allsections[[S]:[Order]],MATCH(PIs[[#This Row],[SGUID]],allsections[SGUID],0),1)","v":"WORKING HOURS"},{"$f":"INDEX(allsections[[S]:[Order]],MATCH(PIs[[#This Row],[SGUID]],allsections[SGUID],0),2)","v":"-"},{"$f":"INDEX(allsections[[S]:[Order]],MATCH(PIs[[#This Row],[SGUID]],allsections[SGUID],0),3)","v":13},"5TvyR0UgB0EOmnMkFaZftX",{"$f":"INDEX(allsections[[S]:[Order]],MATCH(PIs[[#This Row],[SSGUID]],allsections[SGUID],0),1)","v":"-"},{"$f":"INDEX(allsections[[S]:[Order]],MATCH(PIs[[#This Row],[SSGUID]],allsections[SGUID],0),2)","v":"-"},{"$f":"INDEX(S2PQ_relational[],MATCH(PIs[[#This Row],[GUID]],S2PQ_relational[PIGUID],0),2)","v":"7BjiTqdbz9EPX1It8mlxYw"},false]
["1qG7PcWvwdKSGDa7dJ75NW",null,"12.06","Y3XTQdUYM45fPGn5bDXEC","Total weekly working hours (including overtime) as shown in the records indicate compliance with national legislation and collective bargaining agreements.\n\nIf national legislation sets total weekly working hour limits higher than 60 hours (including overtime) in peak season and/or agricultural workers are exempt from overtime limitations, the employer reports the total weekly hours worked and which appropriate safeguards are in place to protect the workers’ health and safety.","7JvMsKrYML3iSIiYMnOgzz","If national legislation or bargaining agreements include averaging arrangements, this method can be used in calculations. The assessor shall check that the calculation methods are a) clearly defined and b) in line with national legal requirements.\nIf the total number of weekly hours worked (including overtime) exceeds 60 hours, the assessor shall check that conditions set up by law are applicable to this situation and check any industry-related collective bargaining agreement.\nSafeguards shall be in place to protect the workers’ health and safety, including a strategy to balance hours with breaks and monitoring the health and levels of productivity of the worker. Safeguards can include, e.g., providing preventive breaks, monitoring increases in work accidents caused by fatigue, shift systems designed to minimize fatigue accumulation, and/or risk assessment of the nature of work considered so that workload does not increase risk to safety and health.\nFor subcontracted labor, the producer shall check compliance. If non-compliance is found, the producer shall document each instance and include corrective steps taken.","5nISxpmIvwZJyExTIGOvlS",{"$f":"INDEX(Level[Level],MATCH(PIs[[#This Row],[L]],Level[GUID],0),1)","v":"Major Must"},null,null,"The assessor shall compare records of total hours per week for each worker with national regulations, using NIGs as guidance but relying on legal regulations. Where interviews are possible, the assessor shall cross-check information with workers following the sampling rules for documents. Comments describing the methods of calculation of hours shall be included in the report.\nOn safeguards, the producer may present a copy of a risk assessment of workers’ health and safety and safety procedures from GLOBALG.A.P. certification indicating safety procedures are in place for working more than 48 hours. Compliance shall include application of the procedures.\nThe assessor shall request and check subcontracted labor information on this P&C.\n",null,"3REBipJjMBilm8fOUb7AAk",{"$f":"INDEX(allsections[[S]:[Order]],MATCH(PIs[[#This Row],[SGUID]],allsections[SGUID],0),1)","v":"WORKING HOURS"},{"$f":"INDEX(allsections[[S]:[Order]],MATCH(PIs[[#This Row],[SGUID]],allsections[SGUID],0),2)","v":"-"},{"$f":"INDEX(allsections[[S]:[Order]],MATCH(PIs[[#This Row],[SGUID]],allsections[SGUID],0),3)","v":13},"5TvyR0UgB0EOmnMkFaZftX",{"$f":"INDEX(allsections[[S]:[Order]],MATCH(PIs[[#This Row],[SSGUID]],allsections[SGUID],0),1)","v":"-"},{"$f":"INDEX(allsections[[S]:[Order]],MATCH(PIs[[#This Row],[SSGUID]],allsections[SGUID],0),2)","v":"-"},{"$f":"INDEX(S2PQ_relational[],MATCH(PIs[[#This Row],[GUID]],S2PQ_relational[PIGUID],0),2)","v":"7BjiTqdbz9EPX1It8mlxYw"},false]
["hG77himehSgHeDDOlDNBX",null,"12.05","7L4bzyZsrFvG1F5qR7BM05","Rest breaks/days as shown in the records indicate compliance with national regulations and/or collective bargaining agreements.\nIf not specifically regulated for agriculture by local laws or collective bargaining agreements, the rest/breaks include, at least: \n(a) Short breaks during working hours\n(b) Sufficient breaks for meals\n(c) Daily or nightly rest of not less than 8 hours within a 24-hour period\n(d) Rest of at least a full calendar day within a week","2JYU85TsDph7Spfj1pGemd","For subcontracted labor, the producer shall check compliance. If non-compliance is found, the producer shall document each instance and include corrective steps taken.","5nISxpmIvwZJyExTIGOvlS",{"$f":"INDEX(Level[Level],MATCH(PIs[[#This Row],[L]],Level[GUID],0),1)","v":"Major Must"},null,null,"The assessor shall compare records of rest breaks/days for each worker with national regulations, using NIGs as guidance but relying on legal regulations. Where interviews are possible, the assessor shall cross-check information with workers following the sampling rules for documents. \nThe assessor shall request and check subcontracted labor information on this P&C.\n",null,"3REBipJjMBilm8fOUb7AAk",{"$f":"INDEX(allsections[[S]:[Order]],MATCH(PIs[[#This Row],[SGUID]],allsections[SGUID],0),1)","v":"WORKING HOURS"},{"$f":"INDEX(allsections[[S]:[Order]],MATCH(PIs[[#This Row],[SGUID]],allsections[SGUID],0),2)","v":"-"},{"$f":"INDEX(allsections[[S]:[Order]],MATCH(PIs[[#This Row],[SGUID]],allsections[SGUID],0),3)","v":13},"5TvyR0UgB0EOmnMkFaZftX",{"$f":"INDEX(allsections[[S]:[Order]],MATCH(PIs[[#This Row],[SSGUID]],allsections[SGUID],0),1)","v":"-"},{"$f":"INDEX(allsections[[S]:[Order]],MATCH(PIs[[#This Row],[SSGUID]],allsections[SGUID],0),2)","v":"-"},{"$f":"INDEX(S2PQ_relational[],MATCH(PIs[[#This Row],[GUID]],S2PQ_relational[PIGUID],0),2)","v":"7BjiTqdbz9EPX1It8mlxYw"},false]
["b1uXtPummmP5fYPyz7OsN",null,"12.05","7L4bzyZsrFvG1F5qR7BM05","Rest breaks/days as shown in the records indicate compliance with national regulations and/or collective bargaining agreements.\nIf not specifically regulated for agriculture by local laws or collective bargaining agreements, the rest/breaks include, at least: \n(a) Short breaks during working hours\n(b) Sufficient breaks for meals\n(c) Daily or nightly rest of not less than 8 hours within a 24-hour period\n(d) Rest of at least a full calendar day within a week","2JYU85TsDph7Spfj1pGemd","For subcontracted labor, the producer shall check compliance. If non-compliance is found, the producer shall document each instance and include corrective steps taken.","5nISxpmIvwZJyExTIGOvlS",{"$f":"INDEX(Level[Level],MATCH(PIs[[#This Row],[L]],Level[GUID],0),1)","v":"Major Must"},null,null,"The assessor shall compare records of rest breaks/days for each worker with national regulations, using NIGs as guidance but relying on legal regulations. Where interviews are possible, the assessor shall cross-check information with workers following the sampling rules for documents. \nThe assessor shall request and check subcontracted labor information on this P&C.\n",null,"3REBipJjMBilm8fOUb7AAk",{"$f":"INDEX(allsections[[S]:[Order]],MATCH(PIs[[#This Row],[SGUID]],allsections[SGUID],0),1)","v":"WORKING HOURS"},{"$f":"INDEX(allsections[[S]:[Order]],MATCH(PIs[[#This Row],[SGUID]],allsections[SGUID],0),2)","v":"-"},{"$f":"INDEX(allsections[[S]:[Order]],MATCH(PIs[[#This Row],[SGUID]],allsections[SGUID],0),3)","v":13},"5TvyR0UgB0EOmnMkFaZftX",{"$f":"INDEX(allsections[[S]:[Order]],MATCH(PIs[[#This Row],[SSGUID]],allsections[SGUID],0),1)","v":"-"},{"$f":"INDEX(allsections[[S]:[Order]],MATCH(PIs[[#This Row],[SSGUID]],allsections[SGUID],0),2)","v":"-"},{"$f":"INDEX(S2PQ_relational[],MATCH(PIs[[#This Row],[GUID]],S2PQ_relational[PIGUID],0),2)","v":"7BjiTqdbz9EPX1It8mlxYw"},false]
["6XNxMXF6QWhjOijgpoalYG",null,"12.04","C0VKnqMPhlm9eAm434sgm","Working time does not exceed 48 hours weekly (excluding overtime) unless indicated by law or collective bargaining agreement. The employer reports the total hours worked, and if they exceed 48 hours, the appropriate safeguards are in place to protect the workers’ health and safety.\n\nIf national legislation and collective bargaining agreements set lower weekly working hours (excluding overtime), these lower limits shall prevail.","4RImM24nHG5n24ZwtTnUoj","If national legislation or bargaining agreements include averaging arrangements, this method can be used in calculations. The assessor shall check the calculation methods.\nThe term “indicated by law” shall cover, e.g., the possibility to average hours across a period or compensate hours, new forms of shift work, average number of hours worked, flex-time arrangements, compressed work weeks, on-call work, along with extended or even 24/7 availability. These exceptions give flexibility to the limit of daily hours as well as weekly hours. However, average working hours shall not exceed 48 hours per week within a period of three months or less.\nSafeguards shall be in place to protect the workers’ health and safety, including a strategy to balance hours with breaks and monitoring the health and levels of productivity of the worker.\nSafeguards can include, e.g., providing preventive breaks, monitoring increases in work accidents caused by fatigue, shift systems designed to minimize fatigue accumulation, risk assessment of the nature of work considered so that workload does not increase risk to safety and health. \nFor subcontracted labor, the producer shall check compliance. If non-compliance is found, the producer shall document each instance and include corrective steps taken.","5nISxpmIvwZJyExTIGOvlS",{"$f":"INDEX(Level[Level],MATCH(PIs[[#This Row],[L]],Level[GUID],0),1)","v":"Major Must"},null,null,"The assessor shall compare records of the hours for each worker with national regulations, using NIGs as guidance but relying on legal regulations. Where interviews are possible, the assessor shall cross-check information with workers following the sampling rules for documents. \nOn safeguards, the producer may present a copy of a risk assessment of workers’ health and safety and safety procedures from GLOBALG.A.P. certification indicating safety procedures are in place for working more than 48 hours. Compliance shall include application of the procedures.\nThe assessor shall request and check subcontracted labor information on this P&C.\n",null,"3REBipJjMBilm8fOUb7AAk",{"$f":"INDEX(allsections[[S]:[Order]],MATCH(PIs[[#This Row],[SGUID]],allsections[SGUID],0),1)","v":"WORKING HOURS"},{"$f":"INDEX(allsections[[S]:[Order]],MATCH(PIs[[#This Row],[SGUID]],allsections[SGUID],0),2)","v":"-"},{"$f":"INDEX(allsections[[S]:[Order]],MATCH(PIs[[#This Row],[SGUID]],allsections[SGUID],0),3)","v":13},"5TvyR0UgB0EOmnMkFaZftX",{"$f":"INDEX(allsections[[S]:[Order]],MATCH(PIs[[#This Row],[SSGUID]],allsections[SGUID],0),1)","v":"-"},{"$f":"INDEX(allsections[[S]:[Order]],MATCH(PIs[[#This Row],[SSGUID]],allsections[SGUID],0),2)","v":"-"},{"$f":"INDEX(S2PQ_relational[],MATCH(PIs[[#This Row],[GUID]],S2PQ_relational[PIGUID],0),2)","v":"7BjiTqdbz9EPX1It8mlxYw"},false]
["757whJZYiE1KwL8gJcj2H",null,"12.04","C0VKnqMPhlm9eAm434sgm","Working time does not exceed 48 hours weekly (excluding overtime) unless indicated by law or collective bargaining agreement. The employer reports the total hours worked, and if they exceed 48 hours, the appropriate safeguards are in place to protect the workers’ health and safety.\n\nIf national legislation and collective bargaining agreements set lower weekly working hours (excluding overtime), these lower limits shall prevail.","4RImM24nHG5n24ZwtTnUoj","If national legislation or bargaining agreements include averaging arrangements, this method can be used in calculations. The assessor shall check the calculation methods.\nThe term “indicated by law” shall cover, e.g., the possibility to average hours across a period or compensate hours, new forms of shift work, average number of hours worked, flex-time arrangements, compressed work weeks, on-call work, along with extended or even 24/7 availability. These exceptions give flexibility to the limit of daily hours as well as weekly hours. However, average working hours shall not exceed 48 hours per week within a period of three months or less.\nSafeguards shall be in place to protect the workers’ health and safety, including a strategy to balance hours with breaks and monitoring the health and levels of productivity of the worker.\nSafeguards can include, e.g., providing preventive breaks, monitoring increases in work accidents caused by fatigue, shift systems designed to minimize fatigue accumulation, risk assessment of the nature of work considered so that workload does not increase risk to safety and health. \nFor subcontracted labor, the producer shall check compliance. If non-compliance is found, the producer shall document each instance and include corrective steps taken.","5nISxpmIvwZJyExTIGOvlS",{"$f":"INDEX(Level[Level],MATCH(PIs[[#This Row],[L]],Level[GUID],0),1)","v":"Major Must"},null,null,"The assessor shall compare records of the hours for each worker with national regulations, using NIGs as guidance but relying on legal regulations. Where interviews are possible, the assessor shall cross-check information with workers following the sampling rules for documents. \nOn safeguards, the producer may present a copy of a risk assessment of workers’ health and safety and safety procedures from GLOBALG.A.P. certification indicating safety procedures are in place for working more than 48 hours. Compliance shall include application of the procedures.\nThe assessor shall request and check subcontracted labor information on this P&C.\n",null,"3REBipJjMBilm8fOUb7AAk",{"$f":"INDEX(allsections[[S]:[Order]],MATCH(PIs[[#This Row],[SGUID]],allsections[SGUID],0),1)","v":"WORKING HOURS"},{"$f":"INDEX(allsections[[S]:[Order]],MATCH(PIs[[#This Row],[SGUID]],allsections[SGUID],0),2)","v":"-"},{"$f":"INDEX(allsections[[S]:[Order]],MATCH(PIs[[#This Row],[SGUID]],allsections[SGUID],0),3)","v":13},"5TvyR0UgB0EOmnMkFaZftX",{"$f":"INDEX(allsections[[S]:[Order]],MATCH(PIs[[#This Row],[SSGUID]],allsections[SGUID],0),1)","v":"-"},{"$f":"INDEX(allsections[[S]:[Order]],MATCH(PIs[[#This Row],[SSGUID]],allsections[SGUID],0),2)","v":"-"},{"$f":"INDEX(S2PQ_relational[],MATCH(PIs[[#This Row],[GUID]],S2PQ_relational[PIGUID],0),2)","v":"7BjiTqdbz9EPX1It8mlxYw"},false]
["54Q9UUuTd5dTSdyekKgQzO",null,"12.03","79iSIHu6A14kzblBtmL1mE","Overtime shall not be requested on regular basis in a production cycle/year and as indicated by law.","bYK0PRLAz3QANo4eyWr6F","The term “not on a regular basis” shall require that overtime is exceptional due to special circumstances needed in the farm beyond normal planning. \nIn contrast, work done on a “regular basis” is not due to special circumstances and arises repeatedly: Once a week, once a month, or outside of peak/harvesting season.\nHarvesting/peak seasons are considered special circumstances in a production cycle/year.\nFor subcontracted labor, the producer shall check compliance. If non-compliance is found, the producer shall document each instance and include corrective steps taken.","5nISxpmIvwZJyExTIGOvlS",{"$f":"INDEX(Level[Level],MATCH(PIs[[#This Row],[L]],Level[GUID],0),1)","v":"Major Must"},null,null,"The assessor shall check records of overtime and cross-check their contents in workers interviews, where possible. \nThe assessor shall request and check subcontracted labor information on this P&C.\n",null,"3REBipJjMBilm8fOUb7AAk",{"$f":"INDEX(allsections[[S]:[Order]],MATCH(PIs[[#This Row],[SGUID]],allsections[SGUID],0),1)","v":"WORKING HOURS"},{"$f":"INDEX(allsections[[S]:[Order]],MATCH(PIs[[#This Row],[SGUID]],allsections[SGUID],0),2)","v":"-"},{"$f":"INDEX(allsections[[S]:[Order]],MATCH(PIs[[#This Row],[SGUID]],allsections[SGUID],0),3)","v":13},"5TvyR0UgB0EOmnMkFaZftX",{"$f":"INDEX(allsections[[S]:[Order]],MATCH(PIs[[#This Row],[SSGUID]],allsections[SGUID],0),1)","v":"-"},{"$f":"INDEX(allsections[[S]:[Order]],MATCH(PIs[[#This Row],[SSGUID]],allsections[SGUID],0),2)","v":"-"},{"$f":"INDEX(S2PQ_relational[],MATCH(PIs[[#This Row],[GUID]],S2PQ_relational[PIGUID],0),2)","v":"7BjiTqdbz9EPX1It8mlxYw"},false]
["57OcRtlpyLvTsLTfwBsWBi",null,"12.03","79iSIHu6A14kzblBtmL1mE","Overtime shall not be requested on regular basis in a production cycle/year and as indicated by law.","bYK0PRLAz3QANo4eyWr6F","The term “not on a regular basis” shall require that overtime is exceptional due to special circumstances needed in the farm beyond normal planning. \nIn contrast, work done on a “regular basis” is not due to special circumstances and arises repeatedly: Once a week, once a month, or outside of peak/harvesting season.\nHarvesting/peak seasons are considered special circumstances in a production cycle/year.\nFor subcontracted labor, the producer shall check compliance. If non-compliance is found, the producer shall document each instance and include corrective steps taken.","5nISxpmIvwZJyExTIGOvlS",{"$f":"INDEX(Level[Level],MATCH(PIs[[#This Row],[L]],Level[GUID],0),1)","v":"Major Must"},null,null,"The assessor shall check records of overtime and cross-check their contents in workers interviews, where possible. \nThe assessor shall request and check subcontracted labor information on this P&C.\n",null,"3REBipJjMBilm8fOUb7AAk",{"$f":"INDEX(allsections[[S]:[Order]],MATCH(PIs[[#This Row],[SGUID]],allsections[SGUID],0),1)","v":"WORKING HOURS"},{"$f":"INDEX(allsections[[S]:[Order]],MATCH(PIs[[#This Row],[SGUID]],allsections[SGUID],0),2)","v":"-"},{"$f":"INDEX(allsections[[S]:[Order]],MATCH(PIs[[#This Row],[SGUID]],allsections[SGUID],0),3)","v":13},"5TvyR0UgB0EOmnMkFaZftX",{"$f":"INDEX(allsections[[S]:[Order]],MATCH(PIs[[#This Row],[SSGUID]],allsections[SGUID],0),1)","v":"-"},{"$f":"INDEX(allsections[[S]:[Order]],MATCH(PIs[[#This Row],[SSGUID]],allsections[SGUID],0),2)","v":"-"},{"$f":"INDEX(S2PQ_relational[],MATCH(PIs[[#This Row],[GUID]],S2PQ_relational[PIGUID],0),2)","v":"7BjiTqdbz9EPX1It8mlxYw"},false]
["568aLgrkve2v8UDFWOTM6Q",null,"12.02","HXWw4GMRZBSm0pdUEWJ0B","All overtime hours are voluntary, if not regulated otherwise in the national law or collective bargain agreement.","73ilLTiP4JGYiFYMGYr4UM","All overtime shall be documented in the records.\nThe term “voluntary” shall require that overtime is not mandatory but an agreement between worker and employer for an exceptional cause. Overtime shall not result in forced labor or potential labor abuses (e.g., no leaving premises of the farm, retention of documents, lack of breaks or limited breaks, etc.).\nFor subcontracted labor, the producer shall check compliance. If non-compliance is found, the producer shall document each instance and include corrective steps taken.","5nISxpmIvwZJyExTIGOvlS",{"$f":"INDEX(Level[Level],MATCH(PIs[[#This Row],[L]],Level[GUID],0),1)","v":"Major Must"},null,null,"The assessor shall check inclusion of overtime instructions in the working term conditions document, in the weekly schedule, or in the working instructions.\nThe assessor shall cross-check records of instructions and system with workers interviews, where possible. If interviews are not possible, the assessor shall use documents (e.g., pay slips, payments records, and terms of employment).\nThe assessor shall request and check subcontracted labor information on this P&C.\n",null,"3REBipJjMBilm8fOUb7AAk",{"$f":"INDEX(allsections[[S]:[Order]],MATCH(PIs[[#This Row],[SGUID]],allsections[SGUID],0),1)","v":"WORKING HOURS"},{"$f":"INDEX(allsections[[S]:[Order]],MATCH(PIs[[#This Row],[SGUID]],allsections[SGUID],0),2)","v":"-"},{"$f":"INDEX(allsections[[S]:[Order]],MATCH(PIs[[#This Row],[SGUID]],allsections[SGUID],0),3)","v":13},"5TvyR0UgB0EOmnMkFaZftX",{"$f":"INDEX(allsections[[S]:[Order]],MATCH(PIs[[#This Row],[SSGUID]],allsections[SGUID],0),1)","v":"-"},{"$f":"INDEX(allsections[[S]:[Order]],MATCH(PIs[[#This Row],[SSGUID]],allsections[SGUID],0),2)","v":"-"},{"$f":"INDEX(S2PQ_relational[],MATCH(PIs[[#This Row],[GUID]],S2PQ_relational[PIGUID],0),2)","v":"7BjiTqdbz9EPX1It8mlxYw"},false]
["6XhgtadoxKw3XWIYF3Seuf",null,"12.01","6op1U779VASZP3S8ZbvRc9","Working hours (including overtime, night work, and rest days/breaks) with indication of peak/harvesting season are shown in the records. ","4Fpd15P8z8f1dSjC4Aclrj","Records on working hours, overtime, night work instructions, and breaks shall be available.\nFor subcontracted labor, the producer shall check compliance. If non-compliance is found, the producer shall document each instance and include corrective steps taken. For family farms this shall be checked with the working conditions for children and young workers. \n","5nISxpmIvwZJyExTIGOvlS",{"$f":"INDEX(Level[Level],MATCH(PIs[[#This Row],[L]],Level[GUID],0),1)","v":"Major Must"},null,null,"The assessor shall check records and compliance of conditions comparing records with legislation, using NIGs as guidance but relying on legal regulations.\nThe assessor shall request and check subcontracted labor information on this P&C.\n",null,"3REBipJjMBilm8fOUb7AAk",{"$f":"INDEX(allsections[[S]:[Order]],MATCH(PIs[[#This Row],[SGUID]],allsections[SGUID],0),1)","v":"WORKING HOURS"},{"$f":"INDEX(allsections[[S]:[Order]],MATCH(PIs[[#This Row],[SGUID]],allsections[SGUID],0),2)","v":"-"},{"$f":"INDEX(allsections[[S]:[Order]],MATCH(PIs[[#This Row],[SGUID]],allsections[SGUID],0),3)","v":13},"5TvyR0UgB0EOmnMkFaZftX",{"$f":"INDEX(allsections[[S]:[Order]],MATCH(PIs[[#This Row],[SSGUID]],allsections[SGUID],0),1)","v":"-"},{"$f":"INDEX(allsections[[S]:[Order]],MATCH(PIs[[#This Row],[SSGUID]],allsections[SGUID],0),2)","v":"-"},{"$f":"INDEX(S2PQ_relational[],MATCH(PIs[[#This Row],[GUID]],S2PQ_relational[PIGUID],0),2)","v":"7BjiTqdbz9EPX1It8mlxYw"},false]
["5F1w8HtUMo0qTpTxru5MRt",null,"12.02","HXWw4GMRZBSm0pdUEWJ0B","All overtime hours are voluntary, if not regulated otherwise in the national law or collective bargain agreement.","73ilLTiP4JGYiFYMGYr4UM","All overtime shall be documented in the records.\nThe term “voluntary” shall require that overtime is not mandatory but an agreement between worker and employer for an exceptional cause. Overtime shall not result in forced labor or potential labor abuses (e.g., no leaving premises of the farm, retention of documents, lack of breaks or limited breaks, etc.).\nFor subcontracted labor, the producer shall check compliance. If non-compliance is found, the producer shall document each instance and include corrective steps taken.","5nISxpmIvwZJyExTIGOvlS",{"$f":"INDEX(Level[Level],MATCH(PIs[[#This Row],[L]],Level[GUID],0),1)","v":"Major Must"},null,null,"The assessor shall check inclusion of overtime instructions in the working term conditions document, in the weekly schedule, or in the working instructions.\nThe assessor shall cross-check records of instructions and system with workers interviews, where possible. If interviews are not possible, the assessor shall use documents (e.g., pay slips, payments records, and terms of employment).\nThe assessor shall request and check subcontracted labor information on this P&C.\n",null,"3REBipJjMBilm8fOUb7AAk",{"$f":"INDEX(allsections[[S]:[Order]],MATCH(PIs[[#This Row],[SGUID]],allsections[SGUID],0),1)","v":"WORKING HOURS"},{"$f":"INDEX(allsections[[S]:[Order]],MATCH(PIs[[#This Row],[SGUID]],allsections[SGUID],0),2)","v":"-"},{"$f":"INDEX(allsections[[S]:[Order]],MATCH(PIs[[#This Row],[SGUID]],allsections[SGUID],0),3)","v":13},"5TvyR0UgB0EOmnMkFaZftX",{"$f":"INDEX(allsections[[S]:[Order]],MATCH(PIs[[#This Row],[SSGUID]],allsections[SGUID],0),1)","v":"-"},{"$f":"INDEX(allsections[[S]:[Order]],MATCH(PIs[[#This Row],[SSGUID]],allsections[SGUID],0),2)","v":"-"},{"$f":"INDEX(S2PQ_relational[],MATCH(PIs[[#This Row],[GUID]],S2PQ_relational[PIGUID],0),2)","v":"7BjiTqdbz9EPX1It8mlxYw"},false]
["7yHxsFU07aKWqJR694BXA3",null,"12.01","6op1U779VASZP3S8ZbvRc9","Working hours (including overtime, night work, and rest days/breaks) with indication of peak/harvesting season are shown in the records. ","4Fpd15P8z8f1dSjC4Aclrj","Records on working hours, overtime, night work instructions, and breaks shall be available.\nFor subcontracted labor, the producer shall check compliance. If non-compliance is found, the producer shall document each instance and include corrective steps taken. For family farms this shall be checked with the working conditions for children and young workers. \n","5nISxpmIvwZJyExTIGOvlS",{"$f":"INDEX(Level[Level],MATCH(PIs[[#This Row],[L]],Level[GUID],0),1)","v":"Major Must"},null,null,"The assessor shall check records and compliance of conditions comparing records with legislation, using NIGs as guidance but relying on legal regulations.\nThe assessor shall request and check subcontracted labor information on this P&C.\n",null,"3REBipJjMBilm8fOUb7AAk",{"$f":"INDEX(allsections[[S]:[Order]],MATCH(PIs[[#This Row],[SGUID]],allsections[SGUID],0),1)","v":"WORKING HOURS"},{"$f":"INDEX(allsections[[S]:[Order]],MATCH(PIs[[#This Row],[SGUID]],allsections[SGUID],0),2)","v":"-"},{"$f":"INDEX(allsections[[S]:[Order]],MATCH(PIs[[#This Row],[SGUID]],allsections[SGUID],0),3)","v":13},"5TvyR0UgB0EOmnMkFaZftX",{"$f":"INDEX(allsections[[S]:[Order]],MATCH(PIs[[#This Row],[SSGUID]],allsections[SGUID],0),1)","v":"-"},{"$f":"INDEX(allsections[[S]:[Order]],MATCH(PIs[[#This Row],[SSGUID]],allsections[SGUID],0),2)","v":"-"},{"$f":"INDEX(S2PQ_relational[],MATCH(PIs[[#This Row],[GUID]],S2PQ_relational[PIGUID],0),2)","v":"7BjiTqdbz9EPX1It8mlxYw"},false]
["3oyPXv9JByXBhykT7U5La4",null,"11.05","7VuoRSaqgzX1GUcsoNOea","Each worker has access to a summary of the system records before or at the moment of wage payment in at least the worker’s working instruction language or in the predominant language(s) of the workforce.","22cqF5FX2uhUad3SSQE2FK","The term “access” shall require that every worker has the possibility to check their record of hours before payment and the possibility to file a complaint using that information.\nThe information shall be written in such a way as to be easily understood by the workers.","oOfpsr1EZQ6CxCOIvBlFe",{"$f":"INDEX(Level[Level],MATCH(PIs[[#This Row],[L]],Level[GUID],0),1)","v":"Minor Must"},null,null,"The assessor shall check copies of the summary during the document review. Information shall be cross-checked in interviews, where possible. The assessor shall check type, frequency, and efficiency of the access to decide on compliance.\n",null,"3J24Glrer1437lwsauUMDz",{"$f":"INDEX(allsections[[S]:[Order]],MATCH(PIs[[#This Row],[SGUID]],allsections[SGUID],0),1)","v":"TIME RECORDING SYSTEMS"},{"$f":"INDEX(allsections[[S]:[Order]],MATCH(PIs[[#This Row],[SGUID]],allsections[SGUID],0),2)","v":"-"},{"$f":"INDEX(allsections[[S]:[Order]],MATCH(PIs[[#This Row],[SGUID]],allsections[SGUID],0),3)","v":12},"5TvyR0UgB0EOmnMkFaZftX",{"$f":"INDEX(allsections[[S]:[Order]],MATCH(PIs[[#This Row],[SSGUID]],allsections[SGUID],0),1)","v":"-"},{"$f":"INDEX(allsections[[S]:[Order]],MATCH(PIs[[#This Row],[SSGUID]],allsections[SGUID],0),2)","v":"-"},{"$f":"INDEX(S2PQ_relational[],MATCH(PIs[[#This Row],[GUID]],S2PQ_relational[PIGUID],0),2)","v":"7BjiTqdbz9EPX1It8mlxYw"},false]
["5lQyvcgz6P4t1QYC9ROCDQ",null,"11.05","7VuoRSaqgzX1GUcsoNOea","Each worker has access to a summary of the system records before or at the moment of wage payment in at least the worker’s working instruction language or in the predominant language(s) of the workforce.","22cqF5FX2uhUad3SSQE2FK","The term “access” shall require that every worker has the possibility to check their record of hours before payment and the possibility to file a complaint using that information.\nThe information shall be written in such a way as to be easily understood by the workers.","oOfpsr1EZQ6CxCOIvBlFe",{"$f":"INDEX(Level[Level],MATCH(PIs[[#This Row],[L]],Level[GUID],0),1)","v":"Minor Must"},null,null,"The assessor shall check copies of the summary during the document review. Information shall be cross-checked in interviews, where possible. The assessor shall check type, frequency, and efficiency of the access to decide on compliance.\n",null,"3J24Glrer1437lwsauUMDz",{"$f":"INDEX(allsections[[S]:[Order]],MATCH(PIs[[#This Row],[SGUID]],allsections[SGUID],0),1)","v":"TIME RECORDING SYSTEMS"},{"$f":"INDEX(allsections[[S]:[Order]],MATCH(PIs[[#This Row],[SGUID]],allsections[SGUID],0),2)","v":"-"},{"$f":"INDEX(allsections[[S]:[Order]],MATCH(PIs[[#This Row],[SGUID]],allsections[SGUID],0),3)","v":12},"5TvyR0UgB0EOmnMkFaZftX",{"$f":"INDEX(allsections[[S]:[Order]],MATCH(PIs[[#This Row],[SSGUID]],allsections[SGUID],0),1)","v":"-"},{"$f":"INDEX(allsections[[S]:[Order]],MATCH(PIs[[#This Row],[SSGUID]],allsections[SGUID],0),2)","v":"-"},{"$f":"INDEX(S2PQ_relational[],MATCH(PIs[[#This Row],[GUID]],S2PQ_relational[PIGUID],0),2)","v":"7BjiTqdbz9EPX1It8mlxYw"},false]
["5ad0ksbR0rX5JdFNTO3BmZ",null,"11.04","2hyaGlZnrEw0aFx5X52pUL","All workers are instructed on the time recording system and on checking the system.","4kZG2rieX3F3pFHUyljiIi","The term “instructed” requires that the producer shall communicate to the workers how and where to check the information (e.g., providing information in a meeting, communicating it when hiring combined with signs or board announcements at payday schedule, maintaining a daily signed record sheet, checking clock report, providing a summary with code of each worker to maintain confidentiality, etc.). This information shall be explained to all new workers. For very short-term workers, this information shall be provided in the first meeting of working instructions.\n","oOfpsr1EZQ6CxCOIvBlFe",{"$f":"INDEX(Level[Level],MATCH(PIs[[#This Row],[L]],Level[GUID],0),1)","v":"Minor Must"},null,null,"The assessor shall check:\n- Availability of information to the workers\n- Evidence of instructions\n",null,"3J24Glrer1437lwsauUMDz",{"$f":"INDEX(allsections[[S]:[Order]],MATCH(PIs[[#This Row],[SGUID]],allsections[SGUID],0),1)","v":"TIME RECORDING SYSTEMS"},{"$f":"INDEX(allsections[[S]:[Order]],MATCH(PIs[[#This Row],[SGUID]],allsections[SGUID],0),2)","v":"-"},{"$f":"INDEX(allsections[[S]:[Order]],MATCH(PIs[[#This Row],[SGUID]],allsections[SGUID],0),3)","v":12},"5TvyR0UgB0EOmnMkFaZftX",{"$f":"INDEX(allsections[[S]:[Order]],MATCH(PIs[[#This Row],[SSGUID]],allsections[SGUID],0),1)","v":"-"},{"$f":"INDEX(allsections[[S]:[Order]],MATCH(PIs[[#This Row],[SSGUID]],allsections[SGUID],0),2)","v":"-"},{"$f":"INDEX(S2PQ_relational[],MATCH(PIs[[#This Row],[GUID]],S2PQ_relational[PIGUID],0),2)","v":"7BjiTqdbz9EPX1It8mlxYw"},false]
["SbdUrZdQafuWvSKGxihAZ",null,"11.04","2hyaGlZnrEw0aFx5X52pUL","All workers are instructed on the time recording system and on checking the system.","4kZG2rieX3F3pFHUyljiIi","The term “instructed” requires that the producer shall communicate to the workers how and where to check the information (e.g., providing information in a meeting, communicating it when hiring combined with signs or board announcements at payday schedule, maintaining a daily signed record sheet, checking clock report, providing a summary with code of each worker to maintain confidentiality, etc.). This information shall be explained to all new workers. For very short-term workers, this information shall be provided in the first meeting of working instructions.\n","oOfpsr1EZQ6CxCOIvBlFe",{"$f":"INDEX(Level[Level],MATCH(PIs[[#This Row],[L]],Level[GUID],0),1)","v":"Minor Must"},null,null,"The assessor shall check:\n- Availability of information to the workers\n- Evidence of instructions\n",null,"3J24Glrer1437lwsauUMDz",{"$f":"INDEX(allsections[[S]:[Order]],MATCH(PIs[[#This Row],[SGUID]],allsections[SGUID],0),1)","v":"TIME RECORDING SYSTEMS"},{"$f":"INDEX(allsections[[S]:[Order]],MATCH(PIs[[#This Row],[SGUID]],allsections[SGUID],0),2)","v":"-"},{"$f":"INDEX(allsections[[S]:[Order]],MATCH(PIs[[#This Row],[SGUID]],allsections[SGUID],0),3)","v":12},"5TvyR0UgB0EOmnMkFaZftX",{"$f":"INDEX(allsections[[S]:[Order]],MATCH(PIs[[#This Row],[SSGUID]],allsections[SGUID],0),1)","v":"-"},{"$f":"INDEX(allsections[[S]:[Order]],MATCH(PIs[[#This Row],[SSGUID]],allsections[SGUID],0),2)","v":"-"},{"$f":"INDEX(S2PQ_relational[],MATCH(PIs[[#This Row],[GUID]],S2PQ_relational[PIGUID],0),2)","v":"7BjiTqdbz9EPX1It8mlxYw"},false]
["1L3M3Av0uLACImNgJFAzjv",null,"11.03","4fAmFSpT5frMOi7g9fdlNB","The system provides a record of the effective daily breaks, weekly breaks, and holidays for each worker.","GJq0vSx143x9yrpWqpDh4","In countries where the legislation and/or collective bargaining agreements allow for flexible working hours, compensation of break hours, schedule changes due to weather, day accumulation or compensation, and other similar forms of wage calculation, the system shall provide a record of how these forms of calculation are applied.\nFor subcontracted labor, where the system is the responsibility of the direct employer, a sample of the record shall be provided. If the producer is responsible, the assessor shall check the producer system.\nFor family farms, they shall indicate at least the time of daily breaks and days of weekly breaks, if any.  ","5nISxpmIvwZJyExTIGOvlS",{"$f":"INDEX(Level[Level],MATCH(PIs[[#This Row],[L]],Level[GUID],0),1)","v":"Major Must"},null,null,"The assessor shall check documents and cross-check the contents in interviews, where possible.\nThe assessor shall request and check subcontracted labor information on this P&C. For family farms, verbal indication can be taken as evidence when confirmed by other members.\n",null,"3J24Glrer1437lwsauUMDz",{"$f":"INDEX(allsections[[S]:[Order]],MATCH(PIs[[#This Row],[SGUID]],allsections[SGUID],0),1)","v":"TIME RECORDING SYSTEMS"},{"$f":"INDEX(allsections[[S]:[Order]],MATCH(PIs[[#This Row],[SGUID]],allsections[SGUID],0),2)","v":"-"},{"$f":"INDEX(allsections[[S]:[Order]],MATCH(PIs[[#This Row],[SGUID]],allsections[SGUID],0),3)","v":12},"5TvyR0UgB0EOmnMkFaZftX",{"$f":"INDEX(allsections[[S]:[Order]],MATCH(PIs[[#This Row],[SSGUID]],allsections[SGUID],0),1)","v":"-"},{"$f":"INDEX(allsections[[S]:[Order]],MATCH(PIs[[#This Row],[SSGUID]],allsections[SGUID],0),2)","v":"-"},{"$f":"INDEX(S2PQ_relational[],MATCH(PIs[[#This Row],[GUID]],S2PQ_relational[PIGUID],0),2)","v":"7BjiTqdbz9EPX1It8mlxYw"},false]
["4vs7hMdmbszZJa4z1P4ANX",null,"11.03","4fAmFSpT5frMOi7g9fdlNB","The system provides a record of the effective daily breaks, weekly breaks, and holidays for each worker.","GJq0vSx143x9yrpWqpDh4","In countries where the legislation and/or collective bargaining agreements allow for flexible working hours, compensation of break hours, schedule changes due to weather, day accumulation or compensation, and other similar forms of wage calculation, the system shall provide a record of how these forms of calculation are applied.\nFor subcontracted labor, where the system is the responsibility of the direct employer, a sample of the record shall be provided. If the producer is responsible, the assessor shall check the producer system.\nFor family farms, they shall indicate at least the time of daily breaks and days of weekly breaks, if any.  ","5nISxpmIvwZJyExTIGOvlS",{"$f":"INDEX(Level[Level],MATCH(PIs[[#This Row],[L]],Level[GUID],0),1)","v":"Major Must"},null,null,"The assessor shall check documents and cross-check the contents in interviews, where possible.\nThe assessor shall request and check subcontracted labor information on this P&C. For family farms, verbal indication can be taken as evidence when confirmed by other members.\n",null,"3J24Glrer1437lwsauUMDz",{"$f":"INDEX(allsections[[S]:[Order]],MATCH(PIs[[#This Row],[SGUID]],allsections[SGUID],0),1)","v":"TIME RECORDING SYSTEMS"},{"$f":"INDEX(allsections[[S]:[Order]],MATCH(PIs[[#This Row],[SGUID]],allsections[SGUID],0),2)","v":"-"},{"$f":"INDEX(allsections[[S]:[Order]],MATCH(PIs[[#This Row],[SGUID]],allsections[SGUID],0),3)","v":12},"5TvyR0UgB0EOmnMkFaZftX",{"$f":"INDEX(allsections[[S]:[Order]],MATCH(PIs[[#This Row],[SSGUID]],allsections[SGUID],0),1)","v":"-"},{"$f":"INDEX(allsections[[S]:[Order]],MATCH(PIs[[#This Row],[SSGUID]],allsections[SGUID],0),2)","v":"-"},{"$f":"INDEX(S2PQ_relational[],MATCH(PIs[[#This Row],[GUID]],S2PQ_relational[PIGUID],0),2)","v":"7BjiTqdbz9EPX1It8mlxYw"},false]
["7Lm3bvisDzLLgtTWDSeVP4",null,"11.02","71TSFU4yaH37AUVHsDKys9","The system provides a record of the regular working hours and overtime hours for each worker.","4VRDa92fiZrlHdqRimjzdH","The record shall include a description of the calculation of working hours (i.e., new forms of shift work, average number of hours worked, flex-time arrangements, compressed work weeks, on-call work, along with extended or even 24/7 availability shall be reflected in the producer’s time recording system).\nFor subcontracted labor, where the system is the responsibility of the direct employer, a sample of the record shall be provided. If the producer is responsible, the assessor shall check the producer system.\nFor family farms, they shall document at least the working times of the family members per day.","5nISxpmIvwZJyExTIGOvlS",{"$f":"INDEX(Level[Level],MATCH(PIs[[#This Row],[L]],Level[GUID],0),1)","v":"Major Must"},null,null,"The assessor shall check documents and cross-check the contents in interviews, where possible.\nThe assessor shall request and check subcontracted labor information on this P&C.\n",null,"3J24Glrer1437lwsauUMDz",{"$f":"INDEX(allsections[[S]:[Order]],MATCH(PIs[[#This Row],[SGUID]],allsections[SGUID],0),1)","v":"TIME RECORDING SYSTEMS"},{"$f":"INDEX(allsections[[S]:[Order]],MATCH(PIs[[#This Row],[SGUID]],allsections[SGUID],0),2)","v":"-"},{"$f":"INDEX(allsections[[S]:[Order]],MATCH(PIs[[#This Row],[SGUID]],allsections[SGUID],0),3)","v":12},"5TvyR0UgB0EOmnMkFaZftX",{"$f":"INDEX(allsections[[S]:[Order]],MATCH(PIs[[#This Row],[SSGUID]],allsections[SGUID],0),1)","v":"-"},{"$f":"INDEX(allsections[[S]:[Order]],MATCH(PIs[[#This Row],[SSGUID]],allsections[SGUID],0),2)","v":"-"},{"$f":"INDEX(S2PQ_relational[],MATCH(PIs[[#This Row],[GUID]],S2PQ_relational[PIGUID],0),2)","v":"7BjiTqdbz9EPX1It8mlxYw"},false]
["4dxc7TRPkWVNNH2pZB36pQ",null,"11.02","71TSFU4yaH37AUVHsDKys9","The system provides a record of the regular working hours and overtime hours for each worker.","4VRDa92fiZrlHdqRimjzdH","The record shall include a description of the calculation of working hours (i.e., new forms of shift work, average number of hours worked, flex-time arrangements, compressed work weeks, on-call work, along with extended or even 24/7 availability shall be reflected in the producer’s time recording system).\nFor subcontracted labor, where the system is the responsibility of the direct employer, a sample of the record shall be provided. If the producer is responsible, the assessor shall check the producer system.\nFor family farms, they shall document at least the working times of the family members per day.","5nISxpmIvwZJyExTIGOvlS",{"$f":"INDEX(Level[Level],MATCH(PIs[[#This Row],[L]],Level[GUID],0),1)","v":"Major Must"},null,null,"The assessor shall check documents and cross-check the contents in interviews, where possible.\nThe assessor shall request and check subcontracted labor information on this P&C.\n",null,"3J24Glrer1437lwsauUMDz",{"$f":"INDEX(allsections[[S]:[Order]],MATCH(PIs[[#This Row],[SGUID]],allsections[SGUID],0),1)","v":"TIME RECORDING SYSTEMS"},{"$f":"INDEX(allsections[[S]:[Order]],MATCH(PIs[[#This Row],[SGUID]],allsections[SGUID],0),2)","v":"-"},{"$f":"INDEX(allsections[[S]:[Order]],MATCH(PIs[[#This Row],[SGUID]],allsections[SGUID],0),3)","v":12},"5TvyR0UgB0EOmnMkFaZftX",{"$f":"INDEX(allsections[[S]:[Order]],MATCH(PIs[[#This Row],[SSGUID]],allsections[SGUID],0),1)","v":"-"},{"$f":"INDEX(allsections[[S]:[Order]],MATCH(PIs[[#This Row],[SSGUID]],allsections[SGUID],0),2)","v":"-"},{"$f":"INDEX(S2PQ_relational[],MATCH(PIs[[#This Row],[GUID]],S2PQ_relational[PIGUID],0),2)","v":"7BjiTqdbz9EPX1It8mlxYw"},false]
["4ZnVuDviK4rbgaIDxYJc1E",null,"11.01","4uZH85aYfaii4apEjbjA5R","A time recording system is in place and suitable for the type and the size of the producing/handling site. ","4Zu5XyquVuNLMEQKxFxUUY","The system shall provide management and all workers with information on the number of hours worked. For each worker, the system shall provide the exact in and out times for each day for the easy verification and confirmation by the workers. Examples of suitable systems include a time record sheet, a check clock, electronic cards, etc.\nFor subcontracted labor, where the system is the responsibility of the direct employer, a sample of the record shall be provided. If the producer is responsible, the assessor shall check the producer system. For family farms, the system indicates at least the name, time in and out of work of the family member per day.","5nISxpmIvwZJyExTIGOvlS",{"$f":"INDEX(Level[Level],MATCH(PIs[[#This Row],[L]],Level[GUID],0),1)","v":"Major Must"},null,null,"The assessor shall check the existence of the system and whether it is suitable to the farm.\nThe assessor shall request and check subcontracted labor information on this P&C, where applicable.\n",null,"3J24Glrer1437lwsauUMDz",{"$f":"INDEX(allsections[[S]:[Order]],MATCH(PIs[[#This Row],[SGUID]],allsections[SGUID],0),1)","v":"TIME RECORDING SYSTEMS"},{"$f":"INDEX(allsections[[S]:[Order]],MATCH(PIs[[#This Row],[SGUID]],allsections[SGUID],0),2)","v":"-"},{"$f":"INDEX(allsections[[S]:[Order]],MATCH(PIs[[#This Row],[SGUID]],allsections[SGUID],0),3)","v":12},"5TvyR0UgB0EOmnMkFaZftX",{"$f":"INDEX(allsections[[S]:[Order]],MATCH(PIs[[#This Row],[SSGUID]],allsections[SGUID],0),1)","v":"-"},{"$f":"INDEX(allsections[[S]:[Order]],MATCH(PIs[[#This Row],[SSGUID]],allsections[SGUID],0),2)","v":"-"},{"$f":"INDEX(S2PQ_relational[],MATCH(PIs[[#This Row],[GUID]],S2PQ_relational[PIGUID],0),2)","v":"7BjiTqdbz9EPX1It8mlxYw"},false]
["1UQ4cj8qsny76nudFqxKHT",null,"11.01","4uZH85aYfaii4apEjbjA5R","A time recording system is in place and suitable for the type and the size of the producing/handling site. ","4Zu5XyquVuNLMEQKxFxUUY","The system shall provide management and all workers with information on the number of hours worked. For each worker, the system shall provide the exact in and out times for each day for the easy verification and confirmation by the workers. Examples of suitable systems include a time record sheet, a check clock, electronic cards, etc.\nFor subcontracted labor, where the system is the responsibility of the direct employer, a sample of the record shall be provided. If the producer is responsible, the assessor shall check the producer system. For family farms, the system indicates at least the name, time in and out of work of the family member per day.","5nISxpmIvwZJyExTIGOvlS",{"$f":"INDEX(Level[Level],MATCH(PIs[[#This Row],[L]],Level[GUID],0),1)","v":"Major Must"},null,null,"The assessor shall check the existence of the system and whether it is suitable to the farm.\nThe assessor shall request and check subcontracted labor information on this P&C, where applicable.\n",null,"3J24Glrer1437lwsauUMDz",{"$f":"INDEX(allsections[[S]:[Order]],MATCH(PIs[[#This Row],[SGUID]],allsections[SGUID],0),1)","v":"TIME RECORDING SYSTEMS"},{"$f":"INDEX(allsections[[S]:[Order]],MATCH(PIs[[#This Row],[SGUID]],allsections[SGUID],0),2)","v":"-"},{"$f":"INDEX(allsections[[S]:[Order]],MATCH(PIs[[#This Row],[SGUID]],allsections[SGUID],0),3)","v":12},"5TvyR0UgB0EOmnMkFaZftX",{"$f":"INDEX(allsections[[S]:[Order]],MATCH(PIs[[#This Row],[SSGUID]],allsections[SGUID],0),1)","v":"-"},{"$f":"INDEX(allsections[[S]:[Order]],MATCH(PIs[[#This Row],[SSGUID]],allsections[SGUID],0),2)","v":"-"},{"$f":"INDEX(S2PQ_relational[],MATCH(PIs[[#This Row],[GUID]],S2PQ_relational[PIGUID],0),2)","v":"7BjiTqdbz9EPX1It8mlxYw"},false]
["1yYGn2OV22MAusoIFctqCZ",null,"10.04","5oism6Org8q9xxvDCgHKUr","If schools are not available for children living and/or employed on the production sites who are below the age of compulsory school completion, the producer facilitates on-site schooling.","4bq4POfjj1sPiUtrm25Ge1","The term “facilitates on-site schooling” shall include, e.g., requests to local authorities for teachers to come onto the production site, providing possibilities for teachers to come onto the production site, subsidizing teachers to come onto the production site, etc. This shall be applicable to family farms accordingly.\n","5nISxpmIvwZJyExTIGOvlS",{"$f":"INDEX(Level[Level],MATCH(PIs[[#This Row],[L]],Level[GUID],0),1)","v":"Major Must"},null,null,"Compliance shall be granted when the assessor has verified that no children at/below compulsory school age are living or working on any production sites. In all other cases, the assessor shall verify compliance with these criteria. The assessor shall check if schools are available before the assessment. The assessor shall then inspect the premises and check documental evidence and verbal explanation from producer, i.e., documented inspections of the transportation, record of trips, interviews with workers with listed children, where interviews are possible.\n",null,"LIlGAXC7dgnKPjxv0CHy9",{"$f":"INDEX(allsections[[S]:[Order]],MATCH(PIs[[#This Row],[SGUID]],allsections[SGUID],0),1)","v":"COMPULSORY SCHOOL AGE AND SCHOOL ACCESS"},{"$f":"INDEX(allsections[[S]:[Order]],MATCH(PIs[[#This Row],[SGUID]],allsections[SGUID],0),2)","v":"-"},{"$f":"INDEX(allsections[[S]:[Order]],MATCH(PIs[[#This Row],[SGUID]],allsections[SGUID],0),3)","v":11},"5TvyR0UgB0EOmnMkFaZftX",{"$f":"INDEX(allsections[[S]:[Order]],MATCH(PIs[[#This Row],[SSGUID]],allsections[SGUID],0),1)","v":"-"},{"$f":"INDEX(allsections[[S]:[Order]],MATCH(PIs[[#This Row],[SSGUID]],allsections[SGUID],0),2)","v":"-"},{"$f":"INDEX(S2PQ_relational[],MATCH(PIs[[#This Row],[GUID]],S2PQ_relational[PIGUID],0),2)","v":"4Avk7C7MmAoFg744HYI5OO"},false]
["2h4whuwdDnnIZzrKO1b7CY",null,"10.04","5oism6Org8q9xxvDCgHKUr","If schools are not available for children living and/or employed on the production sites who are below the age of compulsory school completion, the producer facilitates on-site schooling.","4bq4POfjj1sPiUtrm25Ge1","The term “facilitates on-site schooling” shall include, e.g., requests to local authorities for teachers to come onto the production site, providing possibilities for teachers to come onto the production site, subsidizing teachers to come onto the production site, etc. This shall be applicable to family farms accordingly.\n","5nISxpmIvwZJyExTIGOvlS",{"$f":"INDEX(Level[Level],MATCH(PIs[[#This Row],[L]],Level[GUID],0),1)","v":"Major Must"},null,null,"Compliance shall be granted when the assessor has verified that no children at/below compulsory school age are living or working on any production sites. In all other cases, the assessor shall verify compliance with these criteria. The assessor shall check if schools are available before the assessment. The assessor shall then inspect the premises and check documental evidence and verbal explanation from producer, i.e., documented inspections of the transportation, record of trips, interviews with workers with listed children, where interviews are possible.\n",null,"LIlGAXC7dgnKPjxv0CHy9",{"$f":"INDEX(allsections[[S]:[Order]],MATCH(PIs[[#This Row],[SGUID]],allsections[SGUID],0),1)","v":"COMPULSORY SCHOOL AGE AND SCHOOL ACCESS"},{"$f":"INDEX(allsections[[S]:[Order]],MATCH(PIs[[#This Row],[SGUID]],allsections[SGUID],0),2)","v":"-"},{"$f":"INDEX(allsections[[S]:[Order]],MATCH(PIs[[#This Row],[SGUID]],allsections[SGUID],0),3)","v":11},"5TvyR0UgB0EOmnMkFaZftX",{"$f":"INDEX(allsections[[S]:[Order]],MATCH(PIs[[#This Row],[SSGUID]],allsections[SGUID],0),1)","v":"-"},{"$f":"INDEX(allsections[[S]:[Order]],MATCH(PIs[[#This Row],[SSGUID]],allsections[SGUID],0),2)","v":"-"},{"$f":"INDEX(S2PQ_relational[],MATCH(PIs[[#This Row],[GUID]],S2PQ_relational[PIGUID],0),2)","v":"4Avk7C7MmAoFg744HYI5OO"},false]
["7bILznBt63q1KynGvuuyg3",null,"10.03","4xyUXJA1ktowRmBucLn07p","If access to a school is not possible, the producer facilitates transport for children below the age of completion of compulsory schooling. ","6DUnEWx33Mfete79PDKCTU","The term “access to a school is not possible” shall cover situations in which children have no possibility to enroll in and cannot attend school (e.g., school is not reachable by walking an age-appropriate distance without compromising the children’ health or safety, the school route is not safe, etc.).\nThe term “facilitates transport” shall require the producer to request public transport from local authorities, provide private transportation, or subsidize transportation as necessary to ensure that children can easily get to school. This shall be applicable to family farms accordingly. For family farms without hired workers, family income limitations may be considered by the assessor when assessing compliance with these criteria.","5nISxpmIvwZJyExTIGOvlS",{"$f":"INDEX(Level[Level],MATCH(PIs[[#This Row],[L]],Level[GUID],0),1)","v":"Major Must"},null,null,"Compliance shall be granted when the assessor verifies that no children at/below compulsory school age are living or working on any production site. In all other cases, the assessor shall verify compliance with these criteria. The assessor shall check, e.g., documented inspections of the transportation and records of trips and shall cross-check the information in interviews with workers with listed children, when interviews are possible.\n",null,"LIlGAXC7dgnKPjxv0CHy9",{"$f":"INDEX(allsections[[S]:[Order]],MATCH(PIs[[#This Row],[SGUID]],allsections[SGUID],0),1)","v":"COMPULSORY SCHOOL AGE AND SCHOOL ACCESS"},{"$f":"INDEX(allsections[[S]:[Order]],MATCH(PIs[[#This Row],[SGUID]],allsections[SGUID],0),2)","v":"-"},{"$f":"INDEX(allsections[[S]:[Order]],MATCH(PIs[[#This Row],[SGUID]],allsections[SGUID],0),3)","v":11},"5TvyR0UgB0EOmnMkFaZftX",{"$f":"INDEX(allsections[[S]:[Order]],MATCH(PIs[[#This Row],[SSGUID]],allsections[SGUID],0),1)","v":"-"},{"$f":"INDEX(allsections[[S]:[Order]],MATCH(PIs[[#This Row],[SSGUID]],allsections[SGUID],0),2)","v":"-"},{"$f":"INDEX(S2PQ_relational[],MATCH(PIs[[#This Row],[GUID]],S2PQ_relational[PIGUID],0),2)","v":"4Avk7C7MmAoFg744HYI5OO"},false]
["5ACEE2giwQHlfnqD6UM5r2",null,"10.03","4xyUXJA1ktowRmBucLn07p","If access to a school is not possible, the producer facilitates transport for children below the age of completion of compulsory schooling. ","6DUnEWx33Mfete79PDKCTU","The term “access to a school is not possible” shall cover situations in which children have no possibility to enroll in and cannot attend school (e.g., school is not reachable by walking an age-appropriate distance without compromising the children’ health or safety, the school route is not safe, etc.).\nThe term “facilitates transport” shall require the producer to request public transport from local authorities, provide private transportation, or subsidize transportation as necessary to ensure that children can easily get to school. This shall be applicable to family farms accordingly. For family farms without hired workers, family income limitations may be considered by the assessor when assessing compliance with these criteria.","5nISxpmIvwZJyExTIGOvlS",{"$f":"INDEX(Level[Level],MATCH(PIs[[#This Row],[L]],Level[GUID],0),1)","v":"Major Must"},null,null,"Compliance shall be granted when the assessor verifies that no children at/below compulsory school age are living or working on any production site. In all other cases, the assessor shall verify compliance with these criteria. The assessor shall check, e.g., documented inspections of the transportation and records of trips and shall cross-check the information in interviews with workers with listed children, when interviews are possible.\n",null,"LIlGAXC7dgnKPjxv0CHy9",{"$f":"INDEX(allsections[[S]:[Order]],MATCH(PIs[[#This Row],[SGUID]],allsections[SGUID],0),1)","v":"COMPULSORY SCHOOL AGE AND SCHOOL ACCESS"},{"$f":"INDEX(allsections[[S]:[Order]],MATCH(PIs[[#This Row],[SGUID]],allsections[SGUID],0),2)","v":"-"},{"$f":"INDEX(allsections[[S]:[Order]],MATCH(PIs[[#This Row],[SGUID]],allsections[SGUID],0),3)","v":11},"5TvyR0UgB0EOmnMkFaZftX",{"$f":"INDEX(allsections[[S]:[Order]],MATCH(PIs[[#This Row],[SSGUID]],allsections[SGUID],0),1)","v":"-"},{"$f":"INDEX(allsections[[S]:[Order]],MATCH(PIs[[#This Row],[SSGUID]],allsections[SGUID],0),2)","v":"-"},{"$f":"INDEX(S2PQ_relational[],MATCH(PIs[[#This Row],[GUID]],S2PQ_relational[PIGUID],0),2)","v":"4Avk7C7MmAoFg744HYI5OO"},false]
["2q3Qew96xppHm4YhdowKe6",null,"10.02","7AZQTwiE0FW1i5ePXUcB3t","The producer verifies and keeps records with the full name, name of parents, and date of birth of all children at the production sites who are below the age of completion of compulsory schooling. ","4PhUFEv7eFrBwVWkSMQEK9","The term “verifies and keeps records” requires that the producer shall have a verification process or method (e.g., checking worker ID, working permit, working registration card, trade union membership card, etc., and keeping a copy on file) to verify the information. This shall be applicable to family farms accordingly. ","oOfpsr1EZQ6CxCOIvBlFe",{"$f":"INDEX(Level[Level],MATCH(PIs[[#This Row],[L]],Level[GUID],0),1)","v":"Minor Must"},null,null,"Compliance shall be granted when the assessor has verified that no children at/below compulsory school age are living or working on any production site. In all other cases, the assessor shall verify compliance with these criteria. For family farms without hired workers, the producer shall provide testimony in the form of documents and this shall be cross-checked with other core family members where possible.\nThe producer shall provide this information to the assessor at the beginning of the assessment (e.g., list of workers, list with files and documents, etc.).\nThe assessor shall cross-check the list by including in the interview sample of workers at least some workers with listed children.\n",null,"LIlGAXC7dgnKPjxv0CHy9",{"$f":"INDEX(allsections[[S]:[Order]],MATCH(PIs[[#This Row],[SGUID]],allsections[SGUID],0),1)","v":"COMPULSORY SCHOOL AGE AND SCHOOL ACCESS"},{"$f":"INDEX(allsections[[S]:[Order]],MATCH(PIs[[#This Row],[SGUID]],allsections[SGUID],0),2)","v":"-"},{"$f":"INDEX(allsections[[S]:[Order]],MATCH(PIs[[#This Row],[SGUID]],allsections[SGUID],0),3)","v":11},"5TvyR0UgB0EOmnMkFaZftX",{"$f":"INDEX(allsections[[S]:[Order]],MATCH(PIs[[#This Row],[SSGUID]],allsections[SGUID],0),1)","v":"-"},{"$f":"INDEX(allsections[[S]:[Order]],MATCH(PIs[[#This Row],[SSGUID]],allsections[SGUID],0),2)","v":"-"},{"$f":"INDEX(S2PQ_relational[],MATCH(PIs[[#This Row],[GUID]],S2PQ_relational[PIGUID],0),2)","v":"4Avk7C7MmAoFg744HYI5OO"},false]
["1MoE8uMRvkZ77AtUKZ16L1",null,"10.02","7AZQTwiE0FW1i5ePXUcB3t","The producer verifies and keeps records with the full name, name of parents, and date of birth of all children at the production sites who are below the age of completion of compulsory schooling. ","4PhUFEv7eFrBwVWkSMQEK9","The term “verifies and keeps records” requires that the producer shall have a verification process or method (e.g., checking worker ID, working permit, working registration card, trade union membership card, etc., and keeping a copy on file) to verify the information. This shall be applicable to family farms accordingly. ","oOfpsr1EZQ6CxCOIvBlFe",{"$f":"INDEX(Level[Level],MATCH(PIs[[#This Row],[L]],Level[GUID],0),1)","v":"Minor Must"},null,null,"Compliance shall be granted when the assessor has verified that no children at/below compulsory school age are living or working on any production site. In all other cases, the assessor shall verify compliance with these criteria. For family farms without hired workers, the producer shall provide testimony in the form of documents and this shall be cross-checked with other core family members where possible.\nThe producer shall provide this information to the assessor at the beginning of the assessment (e.g., list of workers, list with files and documents, etc.).\nThe assessor shall cross-check the list by including in the interview sample of workers at least some workers with listed children.\n",null,"LIlGAXC7dgnKPjxv0CHy9",{"$f":"INDEX(allsections[[S]:[Order]],MATCH(PIs[[#This Row],[SGUID]],allsections[SGUID],0),1)","v":"COMPULSORY SCHOOL AGE AND SCHOOL ACCESS"},{"$f":"INDEX(allsections[[S]:[Order]],MATCH(PIs[[#This Row],[SGUID]],allsections[SGUID],0),2)","v":"-"},{"$f":"INDEX(allsections[[S]:[Order]],MATCH(PIs[[#This Row],[SGUID]],allsections[SGUID],0),3)","v":11},"5TvyR0UgB0EOmnMkFaZftX",{"$f":"INDEX(allsections[[S]:[Order]],MATCH(PIs[[#This Row],[SSGUID]],allsections[SGUID],0),1)","v":"-"},{"$f":"INDEX(allsections[[S]:[Order]],MATCH(PIs[[#This Row],[SSGUID]],allsections[SGUID],0),2)","v":"-"},{"$f":"INDEX(S2PQ_relational[],MATCH(PIs[[#This Row],[GUID]],S2PQ_relational[PIGUID],0),2)","v":"4Avk7C7MmAoFg744HYI5OO"},false]
["11vbwwY7FDR5ijFG54HRRX",null,"10.01","2U2dWoHeaT4Rn3DcpeTOCG","Any children at compulsory school age living or working on any production sites shall have access to school education. ","6WyoIbeWaJ3asVjDlOgZX3","The term “any children” shall include children legally working (i.e., children on family farms, children at legal age of employment, etc.), children of workers and of supervisory staff (including the owner, operator, etc.).\nIf the age of compulsory school completion is higher than the set legal minimum age of employment and children below the age of compulsory school completion are hired, the producer shall guarantee that any worker below the age of completion of compulsory school shall have access to school education.\nThe term “access to school education” shall require that children have the possibility to enroll in and attend school (i.e., school is reachable within a reasonable distance, school route is safe, etc.).\nThe producer shall instruct workers who are parents or guardians of children living at the production site or of employed children below the age of completion of compulsory school about the possibilities of access to school education in the area. It is understood that parents/guardians are responsible for enforcing attendance at school. This shall be applicable to family farms accordingly. \n","5nISxpmIvwZJyExTIGOvlS",{"$f":"INDEX(Level[Level],MATCH(PIs[[#This Row],[L]],Level[GUID],0),1)","v":"Major Must"},null,null,"Compliance shall be granted when the assessor has verified that no children at/below compulsory school age are living or working on any production sites. In all other cases, the assessor shall verify compliance with the requirements of the PC criteria.\nThe assessor shall check verbal and documental evidence from the producer.\nThe assessor shall cross-check information with interviews where possible.\n",null,"LIlGAXC7dgnKPjxv0CHy9",{"$f":"INDEX(allsections[[S]:[Order]],MATCH(PIs[[#This Row],[SGUID]],allsections[SGUID],0),1)","v":"COMPULSORY SCHOOL AGE AND SCHOOL ACCESS"},{"$f":"INDEX(allsections[[S]:[Order]],MATCH(PIs[[#This Row],[SGUID]],allsections[SGUID],0),2)","v":"-"},{"$f":"INDEX(allsections[[S]:[Order]],MATCH(PIs[[#This Row],[SGUID]],allsections[SGUID],0),3)","v":11},"5TvyR0UgB0EOmnMkFaZftX",{"$f":"INDEX(allsections[[S]:[Order]],MATCH(PIs[[#This Row],[SSGUID]],allsections[SGUID],0),1)","v":"-"},{"$f":"INDEX(allsections[[S]:[Order]],MATCH(PIs[[#This Row],[SSGUID]],allsections[SGUID],0),2)","v":"-"},{"$f":"INDEX(S2PQ_relational[],MATCH(PIs[[#This Row],[GUID]],S2PQ_relational[PIGUID],0),2)","v":"4Avk7C7MmAoFg744HYI5OO"},false]
["6CWvALRsYw5fDzugrr4kAl",null,"10.01","2U2dWoHeaT4Rn3DcpeTOCG","Any children at compulsory school age living or working on any production sites shall have access to school education. ","6WyoIbeWaJ3asVjDlOgZX3","The term “any children” shall include children legally working (i.e., children on family farms, children at legal age of employment, etc.), children of workers and of supervisory staff (including the owner, operator, etc.).\nIf the age of compulsory school completion is higher than the set legal minimum age of employment and children below the age of compulsory school completion are hired, the producer shall guarantee that any worker below the age of completion of compulsory school shall have access to school education.\nThe term “access to school education” shall require that children have the possibility to enroll in and attend school (i.e., school is reachable within a reasonable distance, school route is safe, etc.).\nThe producer shall instruct workers who are parents or guardians of children living at the production site or of employed children below the age of completion of compulsory school about the possibilities of access to school education in the area. It is understood that parents/guardians are responsible for enforcing attendance at school. This shall be applicable to family farms accordingly. \n","5nISxpmIvwZJyExTIGOvlS",{"$f":"INDEX(Level[Level],MATCH(PIs[[#This Row],[L]],Level[GUID],0),1)","v":"Major Must"},null,null,"Compliance shall be granted when the assessor has verified that no children at/below compulsory school age are living or working on any production sites. In all other cases, the assessor shall verify compliance with the requirements of the PC criteria.\nThe assessor shall check verbal and documental evidence from the producer.\nThe assessor shall cross-check information with interviews where possible.\n",null,"LIlGAXC7dgnKPjxv0CHy9",{"$f":"INDEX(allsections[[S]:[Order]],MATCH(PIs[[#This Row],[SGUID]],allsections[SGUID],0),1)","v":"COMPULSORY SCHOOL AGE AND SCHOOL ACCESS"},{"$f":"INDEX(allsections[[S]:[Order]],MATCH(PIs[[#This Row],[SGUID]],allsections[SGUID],0),2)","v":"-"},{"$f":"INDEX(allsections[[S]:[Order]],MATCH(PIs[[#This Row],[SGUID]],allsections[SGUID],0),3)","v":11},"5TvyR0UgB0EOmnMkFaZftX",{"$f":"INDEX(allsections[[S]:[Order]],MATCH(PIs[[#This Row],[SSGUID]],allsections[SGUID],0),1)","v":"-"},{"$f":"INDEX(allsections[[S]:[Order]],MATCH(PIs[[#This Row],[SSGUID]],allsections[SGUID],0),2)","v":"-"},{"$f":"INDEX(S2PQ_relational[],MATCH(PIs[[#This Row],[GUID]],S2PQ_relational[PIGUID],0),2)","v":"4Avk7C7MmAoFg744HYI5OO"},false]
["3Dimiqdc67UKDeufwfoeiw",null,"01.04","1V91xAF8JQOJc8TdmLakld","The producer allows any worker representation duly registered and duly recognized by the local law access to the workplace to carry out their representative functions in accordance with applicable national legal requirements.","5t7F0hHUdZNMmUTppe43bv","This requirement shall include subcontracted labor while at the farm.\n","5nISxpmIvwZJyExTIGOvlS",{"$f":"INDEX(Level[Level],MATCH(PIs[[#This Row],[L]],Level[GUID],0),1)","v":"Major Must"},null,null,"The assessor shall check compliance with this P&C in interviews with the workers, where possible. If no interviews are possible, the assessor shall check compliance through document review (e.g., records of visits of trade union representatives, contacts of trade union representatives displayed at the production site). The assessor may contact organizations directly for information.\n",null,"1o8mD6EnK5wQwCEJoONfYj",{"$f":"INDEX(allsections[[S]:[Order]],MATCH(PIs[[#This Row],[SGUID]],allsections[SGUID],0),1)","v":"RIGHT OF ASSOCIATION AND REPRESENTATION"},{"$f":"INDEX(allsections[[S]:[Order]],MATCH(PIs[[#This Row],[SGUID]],allsections[SGUID],0),2)","v":"-"},{"$f":"INDEX(allsections[[S]:[Order]],MATCH(PIs[[#This Row],[SGUID]],allsections[SGUID],0),3)","v":2},"5TvyR0UgB0EOmnMkFaZftX",{"$f":"INDEX(allsections[[S]:[Order]],MATCH(PIs[[#This Row],[SSGUID]],allsections[SGUID],0),1)","v":"-"},{"$f":"INDEX(allsections[[S]:[Order]],MATCH(PIs[[#This Row],[SSGUID]],allsections[SGUID],0),2)","v":"-"},{"$f":"INDEX(S2PQ_relational[],MATCH(PIs[[#This Row],[GUID]],S2PQ_relational[PIGUID],0),2)","v":"7BjiTqdbz9EPX1It8mlxYw"},false]
["3dOIqQzX8pCbXnijvWhzus",null,"01.04","1V91xAF8JQOJc8TdmLakld","The producer allows any worker representation duly registered and duly recognized by the local law access to the workplace to carry out their representative functions in accordance with applicable national legal requirements.","5t7F0hHUdZNMmUTppe43bv","This requirement shall include subcontracted labor while at the farm.\n","5nISxpmIvwZJyExTIGOvlS",{"$f":"INDEX(Level[Level],MATCH(PIs[[#This Row],[L]],Level[GUID],0),1)","v":"Major Must"},null,null,"The assessor shall check compliance with this P&C in interviews with the workers, where possible. If no interviews are possible, the assessor shall check compliance through document review (e.g., records of visits of trade union representatives, contacts of trade union representatives displayed at the production site). The assessor may contact organizations directly for information.\n",null,"1o8mD6EnK5wQwCEJoONfYj",{"$f":"INDEX(allsections[[S]:[Order]],MATCH(PIs[[#This Row],[SGUID]],allsections[SGUID],0),1)","v":"RIGHT OF ASSOCIATION AND REPRESENTATION"},{"$f":"INDEX(allsections[[S]:[Order]],MATCH(PIs[[#This Row],[SGUID]],allsections[SGUID],0),2)","v":"-"},{"$f":"INDEX(allsections[[S]:[Order]],MATCH(PIs[[#This Row],[SGUID]],allsections[SGUID],0),3)","v":2},"5TvyR0UgB0EOmnMkFaZftX",{"$f":"INDEX(allsections[[S]:[Order]],MATCH(PIs[[#This Row],[SSGUID]],allsections[SGUID],0),1)","v":"-"},{"$f":"INDEX(allsections[[S]:[Order]],MATCH(PIs[[#This Row],[SSGUID]],allsections[SGUID],0),2)","v":"-"},{"$f":"INDEX(S2PQ_relational[],MATCH(PIs[[#This Row],[GUID]],S2PQ_relational[PIGUID],0),2)","v":"7BjiTqdbz9EPX1It8mlxYw"},false]
["7kVX5cvtYPun0ts8TLlcrd",null,"01.03","3bCvDcu8N7yPeTFPOwGnUs","The producer does not discriminate or otherwise penalize worker representation, members of trade unions, or other worker organizations because of their membership in or affiliation with legally registered worker organizations.","30k3E20SfdkexLclwKJXu2","This requirement shall include subcontracted labor while at the farm.\nThe assessor shall know about the worker organizations available locally. \n","5nISxpmIvwZJyExTIGOvlS",{"$f":"INDEX(Level[Level],MATCH(PIs[[#This Row],[L]],Level[GUID],0),1)","v":"Major Must"},null,null,"The assessor shall check compliance with this P&C in interviews with the workers, where possible. If no interviews are possible, the assessor shall check compliance through document review (e.g., records of visits of trade union representatives, contacts of trade union representatives displayed at the production site). The assessor may contact organizations directly for information.\n",null,"1o8mD6EnK5wQwCEJoONfYj",{"$f":"INDEX(allsections[[S]:[Order]],MATCH(PIs[[#This Row],[SGUID]],allsections[SGUID],0),1)","v":"RIGHT OF ASSOCIATION AND REPRESENTATION"},{"$f":"INDEX(allsections[[S]:[Order]],MATCH(PIs[[#This Row],[SGUID]],allsections[SGUID],0),2)","v":"-"},{"$f":"INDEX(allsections[[S]:[Order]],MATCH(PIs[[#This Row],[SGUID]],allsections[SGUID],0),3)","v":2},"5TvyR0UgB0EOmnMkFaZftX",{"$f":"INDEX(allsections[[S]:[Order]],MATCH(PIs[[#This Row],[SSGUID]],allsections[SGUID],0),1)","v":"-"},{"$f":"INDEX(allsections[[S]:[Order]],MATCH(PIs[[#This Row],[SSGUID]],allsections[SGUID],0),2)","v":"-"},{"$f":"INDEX(S2PQ_relational[],MATCH(PIs[[#This Row],[GUID]],S2PQ_relational[PIGUID],0),2)","v":"7BjiTqdbz9EPX1It8mlxYw"},false]
["2iwc5vRFwsOZLoIuGkmAhU",null,"01.03","3bCvDcu8N7yPeTFPOwGnUs","The producer does not discriminate or otherwise penalize worker representation, members of trade unions, or other worker organizations because of their membership in or affiliation with legally registered worker organizations.","30k3E20SfdkexLclwKJXu2","This requirement shall include subcontracted labor while at the farm.\nThe assessor shall know about the worker organizations available locally. \n","5nISxpmIvwZJyExTIGOvlS",{"$f":"INDEX(Level[Level],MATCH(PIs[[#This Row],[L]],Level[GUID],0),1)","v":"Major Must"},null,null,"The assessor shall check compliance with this P&C in interviews with the workers, where possible. If no interviews are possible, the assessor shall check compliance through document review (e.g., records of visits of trade union representatives, contacts of trade union representatives displayed at the production site). The assessor may contact organizations directly for information.\n",null,"1o8mD6EnK5wQwCEJoONfYj",{"$f":"INDEX(allsections[[S]:[Order]],MATCH(PIs[[#This Row],[SGUID]],allsections[SGUID],0),1)","v":"RIGHT OF ASSOCIATION AND REPRESENTATION"},{"$f":"INDEX(allsections[[S]:[Order]],MATCH(PIs[[#This Row],[SGUID]],allsections[SGUID],0),2)","v":"-"},{"$f":"INDEX(allsections[[S]:[Order]],MATCH(PIs[[#This Row],[SGUID]],allsections[SGUID],0),3)","v":2},"5TvyR0UgB0EOmnMkFaZftX",{"$f":"INDEX(allsections[[S]:[Order]],MATCH(PIs[[#This Row],[SSGUID]],allsections[SGUID],0),1)","v":"-"},{"$f":"INDEX(allsections[[S]:[Order]],MATCH(PIs[[#This Row],[SSGUID]],allsections[SGUID],0),2)","v":"-"},{"$f":"INDEX(S2PQ_relational[],MATCH(PIs[[#This Row],[GUID]],S2PQ_relational[PIGUID],0),2)","v":"7BjiTqdbz9EPX1It8mlxYw"},false]
["3uaA6l6inUWdqT3f4hmHAE",null,"01.02","2PBRLEVXcGCQsEq0bfWyBR","If the right to freedom of association and collective bargaining is absent, restricted, or denied under local law, the producer allows alternative forms of independent worker representation and negotiation that is free of employer control.","5t7F0hHUdZNMmUTppe43bv","This requirement shall include subcontracted labor while at the farm.\n","oOfpsr1EZQ6CxCOIvBlFe",{"$f":"INDEX(Level[Level],MATCH(PIs[[#This Row],[L]],Level[GUID],0),1)","v":"Minor Must"},null,null,"The assessor shall know about the type of worker organizations allowed and recognized in the country and check alternatives provided by the producer.\n",null,"1o8mD6EnK5wQwCEJoONfYj",{"$f":"INDEX(allsections[[S]:[Order]],MATCH(PIs[[#This Row],[SGUID]],allsections[SGUID],0),1)","v":"RIGHT OF ASSOCIATION AND REPRESENTATION"},{"$f":"INDEX(allsections[[S]:[Order]],MATCH(PIs[[#This Row],[SGUID]],allsections[SGUID],0),2)","v":"-"},{"$f":"INDEX(allsections[[S]:[Order]],MATCH(PIs[[#This Row],[SGUID]],allsections[SGUID],0),3)","v":2},"5TvyR0UgB0EOmnMkFaZftX",{"$f":"INDEX(allsections[[S]:[Order]],MATCH(PIs[[#This Row],[SSGUID]],allsections[SGUID],0),1)","v":"-"},{"$f":"INDEX(allsections[[S]:[Order]],MATCH(PIs[[#This Row],[SSGUID]],allsections[SGUID],0),2)","v":"-"},{"$f":"INDEX(S2PQ_relational[],MATCH(PIs[[#This Row],[GUID]],S2PQ_relational[PIGUID],0),2)","v":"7BjiTqdbz9EPX1It8mlxYw"},false]
["4FQ1W215iNqDBI41cTVChR",null,"01.02","2PBRLEVXcGCQsEq0bfWyBR","If the right to freedom of association and collective bargaining is absent, restricted, or denied under local law, the producer allows alternative forms of independent worker representation and negotiation that is free of employer control.","5t7F0hHUdZNMmUTppe43bv","This requirement shall include subcontracted labor while at the farm.\n","oOfpsr1EZQ6CxCOIvBlFe",{"$f":"INDEX(Level[Level],MATCH(PIs[[#This Row],[L]],Level[GUID],0),1)","v":"Minor Must"},null,null,"The assessor shall know about the type of worker organizations allowed and recognized in the country and check alternatives provided by the producer.\n",null,"1o8mD6EnK5wQwCEJoONfYj",{"$f":"INDEX(allsections[[S]:[Order]],MATCH(PIs[[#This Row],[SGUID]],allsections[SGUID],0),1)","v":"RIGHT OF ASSOCIATION AND REPRESENTATION"},{"$f":"INDEX(allsections[[S]:[Order]],MATCH(PIs[[#This Row],[SGUID]],allsections[SGUID],0),2)","v":"-"},{"$f":"INDEX(allsections[[S]:[Order]],MATCH(PIs[[#This Row],[SGUID]],allsections[SGUID],0),3)","v":2},"5TvyR0UgB0EOmnMkFaZftX",{"$f":"INDEX(allsections[[S]:[Order]],MATCH(PIs[[#This Row],[SSGUID]],allsections[SGUID],0),1)","v":"-"},{"$f":"INDEX(allsections[[S]:[Order]],MATCH(PIs[[#This Row],[SSGUID]],allsections[SGUID],0),2)","v":"-"},{"$f":"INDEX(S2PQ_relational[],MATCH(PIs[[#This Row],[GUID]],S2PQ_relational[PIGUID],0),2)","v":"7BjiTqdbz9EPX1It8mlxYw"},false]
["3euBNRpF4vyZ0UqqOwFwc1",null,"01.01","6tLZNbYTShCNTON8xE7YJY","The producer respects the right of workers to join and/or form trade unions or other worker organizations of their choice (as well as the right to refrain from joining/forming such organizations) in accordance with applicable national legal requirements.","7cPP3SfyXbZhGJAKW87W0U","This requirement shall include subcontracted labor while at the farm.\nThe assessor shall be informed about the type of worker organizations recognized in the country and the applicable legal requirements.\n","5nISxpmIvwZJyExTIGOvlS",{"$f":"INDEX(Level[Level],MATCH(PIs[[#This Row],[L]],Level[GUID],0),1)","v":"Major Must"},null,null,"The assessor shall check this information in worker interviews, if applicable. If no interviews are possible, the assessor shall cross-check this information through document review and interviews with the worker representation. Information on members of local trade unions, records of visits of trade union representatives, and/or contacts of trade union representatives, etc., shall be available at the production site with the worker representation.\n",null,"1o8mD6EnK5wQwCEJoONfYj",{"$f":"INDEX(allsections[[S]:[Order]],MATCH(PIs[[#This Row],[SGUID]],allsections[SGUID],0),1)","v":"RIGHT OF ASSOCIATION AND REPRESENTATION"},{"$f":"INDEX(allsections[[S]:[Order]],MATCH(PIs[[#This Row],[SGUID]],allsections[SGUID],0),2)","v":"-"},{"$f":"INDEX(allsections[[S]:[Order]],MATCH(PIs[[#This Row],[SGUID]],allsections[SGUID],0),3)","v":2},"5TvyR0UgB0EOmnMkFaZftX",{"$f":"INDEX(allsections[[S]:[Order]],MATCH(PIs[[#This Row],[SSGUID]],allsections[SGUID],0),1)","v":"-"},{"$f":"INDEX(allsections[[S]:[Order]],MATCH(PIs[[#This Row],[SSGUID]],allsections[SGUID],0),2)","v":"-"},{"$f":"INDEX(S2PQ_relational[],MATCH(PIs[[#This Row],[GUID]],S2PQ_relational[PIGUID],0),2)","v":"7BjiTqdbz9EPX1It8mlxYw"},false]
["3xVfcw8MEHmhHKuLYJZlbE",null,"01.01","6tLZNbYTShCNTON8xE7YJY","The producer respects the right of workers to join and/or form trade unions or other worker organizations of their choice (as well as the right to refrain from joining/forming such organizations) in accordance with applicable national legal requirements.","7cPP3SfyXbZhGJAKW87W0U","This requirement shall include subcontracted labor while at the farm.\nThe assessor shall be informed about the type of worker organizations recognized in the country and the applicable legal requirements.\n","5nISxpmIvwZJyExTIGOvlS",{"$f":"INDEX(Level[Level],MATCH(PIs[[#This Row],[L]],Level[GUID],0),1)","v":"Major Must"},null,null,"The assessor shall check this information in worker interviews, if applicable. If no interviews are possible, the assessor shall cross-check this information through document review and interviews with the worker representation. Information on members of local trade unions, records of visits of trade union representatives, and/or contacts of trade union representatives, etc., shall be available at the production site with the worker representation.\n",null,"1o8mD6EnK5wQwCEJoONfYj",{"$f":"INDEX(allsections[[S]:[Order]],MATCH(PIs[[#This Row],[SGUID]],allsections[SGUID],0),1)","v":"RIGHT OF ASSOCIATION AND REPRESENTATION"},{"$f":"INDEX(allsections[[S]:[Order]],MATCH(PIs[[#This Row],[SGUID]],allsections[SGUID],0),2)","v":"-"},{"$f":"INDEX(allsections[[S]:[Order]],MATCH(PIs[[#This Row],[SGUID]],allsections[SGUID],0),3)","v":2},"5TvyR0UgB0EOmnMkFaZftX",{"$f":"INDEX(allsections[[S]:[Order]],MATCH(PIs[[#This Row],[SSGUID]],allsections[SGUID],0),1)","v":"-"},{"$f":"INDEX(allsections[[S]:[Order]],MATCH(PIs[[#This Row],[SSGUID]],allsections[SGUID],0),2)","v":"-"},{"$f":"INDEX(S2PQ_relational[],MATCH(PIs[[#This Row],[GUID]],S2PQ_relational[PIGUID],0),2)","v":"7BjiTqdbz9EPX1It8mlxYw"},false]
["16MF6bxEX2J2Asy8UtNgAq",null,"14.08","6l9SwBwycabIGaq3rG9PXs","The assessment of the producer group’s GRASP QMS shows evidence of the correct implementation of GRASP for all participating producer group members","4CIYt7lxzAdQJX0oJIubbg","The internal producer group auditor is qualified according \nto the GRASP general rules.  Evidence: The assessor shall check each of the GRASP QMS requirements during the IFA CB QMS audit. The assessor shall request documental evidence and cross-check with related criteria during the producer group members’ external assessment (i.e., training and information related to remediation plan for child labor at producer group member level).\nDocumental evidence of meetings and interviews with producer group members on revision of progress shall be included. The procedure to implement corrective actions shall relate to the existence of the internal GRASP assessment and corrective actions of the producer group member.","5nISxpmIvwZJyExTIGOvlS",{"$f":"INDEX(Level[Level],MATCH(PIs[[#This Row],[L]],Level[GUID],0),1)","v":"Major Must"},null,null,"-",null,"40V0ALJTCbf6o5mEcRnL1V",{"$f":"INDEX(allsections[[S]:[Order]],MATCH(PIs[[#This Row],[SGUID]],allsections[SGUID],0),1)","v":{"$error":"#N/A"}},{"$f":"INDEX(allsections[[S]:[Order]],MATCH(PIs[[#This Row],[SGUID]],allsections[SGUID],0),2)","v":{"$error":"#N/A"}},{"$f":"INDEX(allsections[[S]:[Order]],MATCH(PIs[[#This Row],[SGUID]],allsections[SGUID],0),3)","v":{"$error":"#N/A"}},"5TvyR0UgB0EOmnMkFaZftX",{"$f":"INDEX(allsections[[S]:[Order]],MATCH(PIs[[#This Row],[SSGUID]],allsections[SGUID],0),1)","v":"-"},{"$f":"INDEX(allsections[[S]:[Order]],MATCH(PIs[[#This Row],[SSGUID]],allsections[SGUID],0),2)","v":"-"},{"$f":"INDEX(S2PQ_relational[],MATCH(PIs[[#This Row],[GUID]],S2PQ_relational[PIGUID],0),2)","v":{"$error":"#N/A"}},false]
["35Kqy414JlRNwCF7p0dRE",null,"14.07","6l9SwBwycabIGaq3rG9PXs","The assessment of the producer group’s GRASP QMS shows evidence of the correct implementation of GRASP for all participating producer group members","lKctfEWeDFWCfO00eDSfI","There is evidence of application of the procedure to implement corrective actions resulting from previous internal assessments for all producer group members.  Evidence: The assessor shall check each of the GRASP QMS requirements during the IFA CB QMS audit. The assessor shall request documental evidence and cross-check with related criteria during the producer group members’ external assessment (i.e., training and information related to remediation plan for child labor at producer group member level).\nDocumental evidence of meetings and interviews with producer group members on revision of progress shall be included. The procedure to implement corrective actions shall relate to the existence of the internal GRASP assessment and corrective actions of the producer group member.","5nISxpmIvwZJyExTIGOvlS",{"$f":"INDEX(Level[Level],MATCH(PIs[[#This Row],[L]],Level[GUID],0),1)","v":"Major Must"},null,null,"-",null,"40V0ALJTCbf6o5mEcRnL1V",{"$f":"INDEX(allsections[[S]:[Order]],MATCH(PIs[[#This Row],[SGUID]],allsections[SGUID],0),1)","v":{"$error":"#N/A"}},{"$f":"INDEX(allsections[[S]:[Order]],MATCH(PIs[[#This Row],[SGUID]],allsections[SGUID],0),2)","v":{"$error":"#N/A"}},{"$f":"INDEX(allsections[[S]:[Order]],MATCH(PIs[[#This Row],[SGUID]],allsections[SGUID],0),3)","v":{"$error":"#N/A"}},"5TvyR0UgB0EOmnMkFaZftX",{"$f":"INDEX(allsections[[S]:[Order]],MATCH(PIs[[#This Row],[SSGUID]],allsections[SGUID],0),1)","v":"-"},{"$f":"INDEX(allsections[[S]:[Order]],MATCH(PIs[[#This Row],[SSGUID]],allsections[SGUID],0),2)","v":"-"},{"$f":"INDEX(S2PQ_relational[],MATCH(PIs[[#This Row],[GUID]],S2PQ_relational[PIGUID],0),2)","v":{"$error":"#N/A"}},false]
["3LeU69bMirrFvTSqJFd4cY",null,"14.06","6l9SwBwycabIGaq3rG9PXs","The assessment of the producer group’s GRASP QMS shows evidence of the correct implementation of GRASP for all participating producer group members","1gVfj3uUO1PT6BPCtQDcQn","There is a procedure to implement corrective actions resulting from previous internal assessments for all the producer group members.  Evidence: The assessor shall check each of the GRASP QMS requirements during the IFA CB QMS audit. The assessor shall request documental evidence and cross-check with related criteria during the producer group members’ external assessment (i.e., training and information related to remediation plan for child labor at producer group member level).\nDocumental evidence of meetings and interviews with producer group members on revision of progress shall be included. The procedure to implement corrective actions shall relate to the existence of the internal GRASP assessment and corrective actions of the producer group member.","5nISxpmIvwZJyExTIGOvlS",{"$f":"INDEX(Level[Level],MATCH(PIs[[#This Row],[L]],Level[GUID],0),1)","v":"Major Must"},null,null,"-",null,"40V0ALJTCbf6o5mEcRnL1V",{"$f":"INDEX(allsections[[S]:[Order]],MATCH(PIs[[#This Row],[SGUID]],allsections[SGUID],0),1)","v":{"$error":"#N/A"}},{"$f":"INDEX(allsections[[S]:[Order]],MATCH(PIs[[#This Row],[SGUID]],allsections[SGUID],0),2)","v":{"$error":"#N/A"}},{"$f":"INDEX(allsections[[S]:[Order]],MATCH(PIs[[#This Row],[SGUID]],allsections[SGUID],0),3)","v":{"$error":"#N/A"}},"5TvyR0UgB0EOmnMkFaZftX",{"$f":"INDEX(allsections[[S]:[Order]],MATCH(PIs[[#This Row],[SSGUID]],allsections[SGUID],0),1)","v":"-"},{"$f":"INDEX(allsections[[S]:[Order]],MATCH(PIs[[#This Row],[SSGUID]],allsections[SGUID],0),2)","v":"-"},{"$f":"INDEX(S2PQ_relational[],MATCH(PIs[[#This Row],[GUID]],S2PQ_relational[PIGUID],0),2)","v":{"$error":"#N/A"}},false]
["4S91YEYsnkpTWcyAwvD1QX",null,"14.05","6l9SwBwycabIGaq3rG9PXs","The assessment of the producer group’s GRASP QMS shows evidence of the correct implementation of GRASP for all participating producer group members","2BiTft2ZYwuSWZ5MmJjR2c","A register is maintained of all producers with  GLOBALG.A.P. certified production processes implementing  GRASP. For every producer group member, it contains the internal assessment date as well as the compliance level reached, all non-compliances detected in internal and external assessments, and corrective actions following non-compliances. Evidence: The assessor shall check each of the GRASP QMS requirements during the IFA CB QMS audit. The assessor shall request documental evidence and cross-check with related criteria during the producer group members’ external assessment (i.e., training and information related to remediation plan for child labor at producer group member level).\nDocumental evidence of meetings and interviews with producer group members on revision of progress shall be included. The procedure to implement corrective actions shall relate to the existence of the internal GRASP assessment and corrective actions of the producer group member.","5nISxpmIvwZJyExTIGOvlS",{"$f":"INDEX(Level[Level],MATCH(PIs[[#This Row],[L]],Level[GUID],0),1)","v":"Major Must"},null,null,"-",null,"40V0ALJTCbf6o5mEcRnL1V",{"$f":"INDEX(allsections[[S]:[Order]],MATCH(PIs[[#This Row],[SGUID]],allsections[SGUID],0),1)","v":{"$error":"#N/A"}},{"$f":"INDEX(allsections[[S]:[Order]],MATCH(PIs[[#This Row],[SGUID]],allsections[SGUID],0),2)","v":{"$error":"#N/A"}},{"$f":"INDEX(allsections[[S]:[Order]],MATCH(PIs[[#This Row],[SGUID]],allsections[SGUID],0),3)","v":{"$error":"#N/A"}},"5TvyR0UgB0EOmnMkFaZftX",{"$f":"INDEX(allsections[[S]:[Order]],MATCH(PIs[[#This Row],[SSGUID]],allsections[SGUID],0),1)","v":"-"},{"$f":"INDEX(allsections[[S]:[Order]],MATCH(PIs[[#This Row],[SSGUID]],allsections[SGUID],0),2)","v":"-"},{"$f":"INDEX(S2PQ_relational[],MATCH(PIs[[#This Row],[GUID]],S2PQ_relational[PIGUID],0),2)","v":{"$error":"#N/A"}},false]
["1KyNWCbHtTpK7HhlLrgO9j",null,"14.04","6l9SwBwycabIGaq3rG9PXs","The assessment of the producer group’s GRASP QMS shows evidence of the correct implementation of GRASP for all participating producer group members","3bhAkvLFTBVJR8KoaITDaG","There is evidence that the producer group fosters compliance of all participating producer group members with the GRASP requirements and assesses the progresses and problems complying with GRASP every year.  Evidence: The assessor shall check each of the GRASP QMS requirements during the IFA CB QMS audit. The assessor shall request documental evidence and cross-check with related criteria during the producer group members’ external assessment (i.e., training and information related to remediation plan for child labor at producer group member level).\nDocumental evidence of meetings and interviews with producer group members on revision of progress shall be included. The procedure to implement corrective actions shall relate to the existence of the internal GRASP assessment and corrective actions of the producer group member.","5nISxpmIvwZJyExTIGOvlS",{"$f":"INDEX(Level[Level],MATCH(PIs[[#This Row],[L]],Level[GUID],0),1)","v":"Major Must"},null,null,"-",null,"40V0ALJTCbf6o5mEcRnL1V",{"$f":"INDEX(allsections[[S]:[Order]],MATCH(PIs[[#This Row],[SGUID]],allsections[SGUID],0),1)","v":{"$error":"#N/A"}},{"$f":"INDEX(allsections[[S]:[Order]],MATCH(PIs[[#This Row],[SGUID]],allsections[SGUID],0),2)","v":{"$error":"#N/A"}},{"$f":"INDEX(allsections[[S]:[Order]],MATCH(PIs[[#This Row],[SGUID]],allsections[SGUID],0),3)","v":{"$error":"#N/A"}},"5TvyR0UgB0EOmnMkFaZftX",{"$f":"INDEX(allsections[[S]:[Order]],MATCH(PIs[[#This Row],[SSGUID]],allsections[SGUID],0),1)","v":"-"},{"$f":"INDEX(allsections[[S]:[Order]],MATCH(PIs[[#This Row],[SSGUID]],allsections[SGUID],0),2)","v":"-"},{"$f":"INDEX(S2PQ_relational[],MATCH(PIs[[#This Row],[GUID]],S2PQ_relational[PIGUID],0),2)","v":{"$error":"#N/A"}},false]
["59xO0ADcsegL180hFwKGgE",null,"14.03","6l9SwBwycabIGaq3rG9PXs","The assessment of the producer group’s GRASP QMS shows evidence of the correct implementation of GRASP for all participating producer group members","2Gf4v0AdIvDVXgzViimnWw","All steps taken in the frame of the QMS to implement GRASP among all participating producer group members are documented.Evidence: The assessor shall check each of the GRASP QMS requirements during the IFA CB QMS audit. The assessor shall request documental evidence and cross-check with related criteria during the producer group members’ external assessment (i.e., training and information related to remediation plan for child labor at producer group member level).\nDocumental evidence of meetings and interviews with producer group members on revision of progress shall be included. The procedure to implement corrective actions shall relate to the existence of the internal GRASP assessment and corrective actions of the producer group member.","5nISxpmIvwZJyExTIGOvlS",{"$f":"INDEX(Level[Level],MATCH(PIs[[#This Row],[L]],Level[GUID],0),1)","v":"Major Must"},null,null,"-",null,"40V0ALJTCbf6o5mEcRnL1V",{"$f":"INDEX(allsections[[S]:[Order]],MATCH(PIs[[#This Row],[SGUID]],allsections[SGUID],0),1)","v":{"$error":"#N/A"}},{"$f":"INDEX(allsections[[S]:[Order]],MATCH(PIs[[#This Row],[SGUID]],allsections[SGUID],0),2)","v":{"$error":"#N/A"}},{"$f":"INDEX(allsections[[S]:[Order]],MATCH(PIs[[#This Row],[SGUID]],allsections[SGUID],0),3)","v":{"$error":"#N/A"}},"5TvyR0UgB0EOmnMkFaZftX",{"$f":"INDEX(allsections[[S]:[Order]],MATCH(PIs[[#This Row],[SSGUID]],allsections[SGUID],0),1)","v":"-"},{"$f":"INDEX(allsections[[S]:[Order]],MATCH(PIs[[#This Row],[SSGUID]],allsections[SGUID],0),2)","v":"-"},{"$f":"INDEX(S2PQ_relational[],MATCH(PIs[[#This Row],[GUID]],S2PQ_relational[PIGUID],0),2)","v":{"$error":"#N/A"}},false]
["5ELakAMUQHCZFEqcmQnRDq",null,"14.02","6l9SwBwycabIGaq3rG9PXs","The assessment of the producer group’s GRASP QMS shows evidence of the correct implementation of GRASP for all participating producer group members","7gNSNLszG6yVzL83JwjYNI","There is a system in place to regularly inform and train key \nstaff of each producer group member on GRASP-related \nP&Cs, topics, and issues (e.g., train supervisory staff on remediation plan for child labor).  Evidence: The assessor shall check each of the GRASP QMS requirements during the IFA CB QMS audit. The assessor shall request documental evidence and cross-check with related criteria during the producer group members’ external assessment (i.e., training and information related to remediation plan for child labor at producer group member level).\nDocumental evidence of meetings and interviews with producer group members on revision of progress shall be included. The procedure to implement corrective actions shall relate to the existence of the internal GRASP assessment and corrective actions of the producer group member.","5nISxpmIvwZJyExTIGOvlS",{"$f":"INDEX(Level[Level],MATCH(PIs[[#This Row],[L]],Level[GUID],0),1)","v":"Major Must"},null,null,"-",null,"40V0ALJTCbf6o5mEcRnL1V",{"$f":"INDEX(allsections[[S]:[Order]],MATCH(PIs[[#This Row],[SGUID]],allsections[SGUID],0),1)","v":{"$error":"#N/A"}},{"$f":"INDEX(allsections[[S]:[Order]],MATCH(PIs[[#This Row],[SGUID]],allsections[SGUID],0),2)","v":{"$error":"#N/A"}},{"$f":"INDEX(allsections[[S]:[Order]],MATCH(PIs[[#This Row],[SGUID]],allsections[SGUID],0),3)","v":{"$error":"#N/A"}},"5TvyR0UgB0EOmnMkFaZftX",{"$f":"INDEX(allsections[[S]:[Order]],MATCH(PIs[[#This Row],[SSGUID]],allsections[SGUID],0),1)","v":"-"},{"$f":"INDEX(allsections[[S]:[Order]],MATCH(PIs[[#This Row],[SSGUID]],allsections[SGUID],0),2)","v":"-"},{"$f":"INDEX(S2PQ_relational[],MATCH(PIs[[#This Row],[GUID]],S2PQ_relational[PIGUID],0),2)","v":{"$error":"#N/A"}},false]

{"sheet":"S","index":2,"n_rows":331,"n_cols":29,"rows_kept":331,"hidden":true,"merged":[[0,0,0,3],[0,5,0,8],[0,10,0,13],[0,15,0,21]]}
["All Sections",{"$nulls":4},"Unique Sections",{"$nulls":4},"Unique Subsections",{"$nulls":4},"Section:Subsection"]
["SGUID","S","Sbody","Order",null,"SGUID","S","Sbody","Order",null,"SSGUID","SS","Ssbody","Order",null,"Section GUID","Subsection GUID","Title","S Order","SS Order","GUID","Schon da?",null,"Section GUID","Subsection GUID","Title","S Order","SS Order","GUID"]
["3YIgWsy9P8ND3BJPQGnD0j","FO 01 MANAGEMENT ","-",1,null,"538rGD6MQerNMNSCfcYCp7",{"$f":"INDEX(allsections[[S]:[Order]],MATCH(unique_sections[[#This Row],[SGUID]],allsections[SGUID],0),1)","v":"GENERAL"},{"$f":"INDEX(allsections[[S]:[Order]],MATCH(unique_sections[[#This Row],[SGUID]],allsections[SGUID],0),2)","v":"-"},{"$f":"INDEX(allsections[[S]:[Order]],MATCH(unique_sections[[#This Row],[SGUID]],allsections[SGUID],0),3)","v":1},null,"5TvyR0UgB0EOmnMkFaZftX",{"$f":"INDEX(allsections[[S]:[Order]],MATCH(unique_sub[[#This Row],[SSGUID]],allsections[SGUID],0),1)","v":"-"},{"$f":"INDEX(allsections[[S]:[Order]],MATCH(unique_sub[[#This Row],[SSGUID]],allsections[SGUID],0),2)","v":"-"},{"$f":"INDEX(allsections[[S]:[Order]],MATCH(unique_sub[[#This Row],[SSGUID]],allsections[SGUID],0),3)","v":0},null,"7M8kd0W9wjpA8V5QSHHaVd","5TvyR0UgB0EOmnMkFaZftX",{"$f":"P3&Q3","v":"7M8kd0W9wjpA8V5QSHHaVd5TvyR0UgB0EOmnMkFaZftX"},{"$f":"INDEX(allsections[[S]:[Order]],MATCH(P3,allsections[SGUID],0),3)","v":4},{"$f":"INDEX(allsections[[S]:[Order]],MATCH(Q3,allsections[SGUID],0),3)","v":0},null,{"$f":"COUNTIF(#REF!,sectionsubsection[[#This Row],[Title]])","v":{"$error":"#REF!"}},{"$nulls":3},"5mUWYvmAcBFoyUbNbMwBFm1DSOMfBwEJ7NMTIzs3yO1i",{"$f":"INDEX(allsections[[S]:[Order]],MATCH(X3,allsections[SGUID],0),3)","v":{"$error":"#N/A"}},{"$f":"INDEX(allsections[[S]:[Order]],MATCH(Y3,allsections[SGUID],0),3)","v":{"$error":"#N/A"}},"Gje6Vs9erIFxkUciUvJH4"]
["5S3hhH4brQmFX28p961rB1","AQUACULTURE:  Finfish, crustaceans, molluscs, seaweed","The standard applies to all stages of the aquatic species for all systems used in aquaculture.\n\nPresently, the term “farmed aquatic species” within the standard refers to all species mentioned in the GLOBALG.A.P. product list published on the GLOBALG.A.P. website. This product list is extended for species based on demand and under consideration of brood stock origin. The term “farmed aquatic species” refers to finfish, crustaceans, molluscs, and macro-algae (seaweed) and depending on the criteria may apply exclusively to some of the groups. ",1,null,"1o8mD6EnK5wQwCEJoONfYj",{"$f":"INDEX(allsections[[S]:[Order]],MATCH(unique_sections[[#This Row],[SGUID]],allsections[SGUID],0),1)","v":"RIGHT OF ASSOCIATION AND REPRESENTATION"},{"$f":"INDEX(allsections[[S]:[Order]],MATCH(unique_sections[[#This Row],[SGUID]],allsections[SGUID],0),2)","v":"-"},{"$f":"INDEX(allsections[[S]:[Order]],MATCH(unique_sections[[#This Row],[SGUID]],allsections[SGUID],0),3)","v":2},{"$nulls":6},"6fz1ZcgpxCeEz3mRGrevNc","5TvyR0UgB0EOmnMkFaZftX","6fz1ZcgpxCeEz3mRGrevNc5TvyR0UgB0EOmnMkFaZftX",{"$f":"INDEX(allsections[[S]:[Order]],MATCH(P4,allsections[SGUID],0),3)","v":5},{"$f":"INDEX(allsections[[S]:[Order]],MATCH(Q4,allsections[SGUID],0),3)","v":0},null,{"$f":"COUNTIF(#REF!,sectionsubsection[[#This Row],[Title]])","v":{"$error":"#REF!"}},{"$nulls":3},"6Rm0QwTMNW6kK0eTQrJkhZ78fF8J8n8uDPsOxFl12Alc",{"$f":"INDEX(allsections[[S]:[Order]],MATCH(X4,allsections[SGUID],0),3)","v":{"$error":"#N/A"}},{"$f":"INDEX(allsections[[S]:[Order]],MATCH(Y4,allsections[SGUID],0),3)","v":{"$error":"#N/A"}},"6FdWPU4oDWbSzvdyOZoYoB"]
["1bKgax0qDr1kdS45vRoOYL","HOP 01 INTERNAL DOCUMENTATION",null,1,null,"hQNd2uxITz3h9L5NA0Esq",{"$f":"INDEX(allsections[[S]:[Order]],MATCH(unique_sections[[#This Row],[SGUID]],allsections[SGUID],0),1)","v":"GRASP WORKER REPRESENTATION"},{"$f":"INDEX(allsections[[S]:[Order]],MATCH(unique_sections[[#This Row],[SGUID]],allsections[SGUID],0),2)","v":"-"},{"$f":"INDEX(allsections[[S]:[Order]],MATCH(unique_sections[[#This Row],[SGUID]],allsections[SGUID],0),3)","v":3},{"$nulls":6},"3Ff44zJMwGkTtn6xQrauV0","5TvyR0UgB0EOmnMkFaZftX","3Ff44zJMwGkTtn6xQrauV05TvyR0UgB0EOmnMkFaZftX",{"$f":"INDEX(allsections[[S]:[Order]],MATCH(P5,allsections[SGUID],0),3)","v":10},{"$f":"INDEX(allsections[[S]:[Order]],MATCH(Q5,allsections[SGUID],0),3)","v":0},null,{"$f":"COUNTIF(#REF!,sectionsubsection[[#This Row],[Title]])","v":{"$error":"#REF!"}},{"$nulls":3},"7rjim934yL9ogfLKGg1C6w7mjSidGuWy0Ls8TvSUsTPI",{"$f":"INDEX(allsections[[S]:[Order]],MATCH(X5,allsections[SGUID],0),3)","v":{"$error":"#N/A"}},{"$f":"INDEX(allsections[[S]:[Order]],MATCH(Y5,allsections[SGUID],0),3)","v":{"$error":"#N/A"}},"5UQeS9ZpTZ73bWl747qvBc"]
["538rGD6MQerNMNSCfcYCp7","GENERAL","-",1,null,"7M8kd0W9wjpA8V5QSHHaVd",{"$f":"INDEX(allsections[[S]:[Order]],MATCH(unique_sections[[#This Row],[SGUID]],allsections[SGUID],0),1)","v":"COMPLAINT PROCESS"},{"$f":"INDEX(allsections[[S]:[Order]],MATCH(unique_sections[[#This Row],[SGUID]],allsections[SGUID],0),2)","v":"-"},{"$f":"INDEX(allsections[[S]:[Order]],MATCH(unique_sections[[#This Row],[SGUID]],allsections[SGUID],0),3)","v":4},{"$nulls":6},"1o8mD6EnK5wQwCEJoONfYj","5TvyR0UgB0EOmnMkFaZftX","1o8mD6EnK5wQwCEJoONfYj5TvyR0UgB0EOmnMkFaZftX",{"$f":"INDEX(allsections[[S]:[Order]],MATCH(P6,allsections[SGUID],0),3)","v":2},{"$f":"INDEX(allsections[[S]:[Order]],MATCH(Q6,allsections[SGUID],0),3)","v":0},null,{"$f":"COUNTIF(#REF!,sectionsubsection[[#This Row],[Title]])","v":{"$error":"#REF!"}},{"$nulls":3},"1bKgax0qDr1kdS45vRoOYL5TvyR0UgB0EOmnMkFaZftX",{"$f":"INDEX(allsections[[S]:[Order]],MATCH(X6,allsections[SGUID],0),3)","v":{"$error":"#N/A"}},{"$f":"INDEX(allsections[[S]:[Order]],MATCH(Y6,allsections[SGUID],0),3)","v":{"$error":"#N/A"}},"58YIZdoFmkYixB4J9NtgtD"]
["1NXB83vWchkgtYCMUnCsww","QMS  01 Legality and administration","-",1,null,"6fz1ZcgpxCeEz3mRGrevNc",{"$f":"INDEX(allsections[[S]:[Order]],MATCH(unique_sections[[#This Row],[SGUID]],allsections[SGUID],0),1)","v":"PRODUCER’S HUMAN RIGHTS POLICIES"},{"$f":"INDEX(allsections[[S]:[Order]],MATCH(unique_sections[[#This Row],[SGUID]],allsections[SGUID],0),2)","v":"-"},{"$f":"INDEX(allsections[[S]:[Order]],MATCH(unique_sections[[#This Row],[SGUID]],allsections[SGUID],0),3)","v":5},{"$nulls":6},"5QcqRKjyugITtX9F5mWxJx","5TvyR0UgB0EOmnMkFaZftX","5QcqRKjyugITtX9F5mWxJx5TvyR0UgB0EOmnMkFaZftX",{"$f":"INDEX(allsections[[S]:[Order]],MATCH(P7,allsections[SGUID],0),3)","v":14},{"$f":"INDEX(allsections[[S]:[Order]],MATCH(Q7,allsections[SGUID],0),3)","v":0},null,{"$f":"COUNTIF(#REF!,sectionsubsection[[#This Row],[Title]])","v":{"$error":"#REF!"}},{"$nulls":3},"4wZVGrd3Y6MNXGOUDdx8aE5TvyR0UgB0EOmnMkFaZftX",{"$f":"INDEX(allsections[[S]:[Order]],MATCH(X7,allsections[SGUID],0),3)","v":{"$error":"#N/A"}},{"$f":"INDEX(allsections[[S]:[Order]],MATCH(Y7,allsections[SGUID],0),3)","v":{"$error":"#N/A"}},"1yWMo0Q80qUQDJqsf2LkXE"]
["3htAhHdPv9OtsLHNNhtZxH","AQ 01 SITE HISTORY AND SITE MANAGEMENT","One of the key features of sustainable farming is the continuous integration of site-specific knowledge and practical experience into future management planning and practices. This section is intended to ensure that the land, buildings, and other facilities which constitute the farm, are properly legally managed to ensure food safety and sustainability.",1,null,"seSMMRr8dVZQE1tIIM2oM",{"$f":"INDEX(allsections[[S]:[Order]],MATCH(unique_sections[[#This Row],[SGUID]],allsections[SGUID],0),1)","v":"ACCESS TO LABOR REGULATION INFORMATION"},{"$f":"INDEX(allsections[[S]:[Order]],MATCH(unique_sections[[#This Row],[SGUID]],allsections[SGUID],0),2)","v":"-"},{"$f":"INDEX(allsections[[S]:[Order]],MATCH(unique_sections[[#This Row],[SGUID]],allsections[SGUID],0),3)","v":6},{"$nulls":6},"3REBipJjMBilm8fOUb7AAk","5TvyR0UgB0EOmnMkFaZftX","3REBipJjMBilm8fOUb7AAk5TvyR0UgB0EOmnMkFaZftX",{"$f":"INDEX(allsections[[S]:[Order]],MATCH(P8,allsections[SGUID],0),3)","v":13},{"$f":"INDEX(allsections[[S]:[Order]],MATCH(Q8,allsections[SGUID],0),3)","v":0},null,{"$f":"COUNTIF(#REF!,sectionsubsection[[#This Row],[Title]])","v":{"$error":"#REF!"}},{"$nulls":3},"3jlC57moeRajaaQIIaDd205TvyR0UgB0EOmnMkFaZftX",{"$f":"INDEX(allsections[[S]:[Order]],MATCH(X8,allsections[SGUID],0),3)","v":{"$error":"#N/A"}},{"$f":"INDEX(allsections[[S]:[Order]],MATCH(Y8,allsections[SGUID],0),3)","v":{"$error":"#N/A"}},"4qbSjlziUqnQJwKT4sdkb1"]
["76Up1Jlz2ogKdKXUH1J3L","FV 01 INTERNAL DOCUMENTATION","-",1,null,"19R27icHjrePmOqhbMVB4F",{"$f":"INDEX(allsections[[S]:[Order]],MATCH(unique_sections[[#This Row],[SGUID]],allsections[SGUID],0),1)","v":"TERMS OF EMPLOYMENT DOCUMENTS AND FORCED LABOR INDICATORS"},{"$f":"INDEX(allsections[[S]:[Order]],MATCH(unique_sections[[#This Row],[SGUID]],allsections[SGUID],0),2)","v":"-"},{"$f":"INDEX(allsections[[S]:[Order]],MATCH(unique_sections[[#This Row],[SGUID]],allsections[SGUID],0),3)","v":7},{"$nulls":6},"3J24Glrer1437lwsauUMDz","5TvyR0UgB0EOmnMkFaZftX","3J24Glrer1437lwsauUMDz5TvyR0UgB0EOmnMkFaZftX",{"$f":"INDEX(allsections[[S]:[Order]],MATCH(P9,allsections[SGUID],0),3)","v":12},{"$f":"INDEX(allsections[[S]:[Order]],MATCH(Q9,allsections[SGUID],0),3)","v":0},null,{"$f":"COUNTIF(#REF!,sectionsubsection[[#This Row],[Title]])","v":{"$error":"#REF!"}},{"$nulls":3},"1Lf9FHKch0eiLXJIpNhkap5TvyR0UgB0EOmnMkFaZftX",{"$f":"INDEX(allsections[[S]:[Order]],MATCH(X9,allsections[SGUID],0),3)","v":{"$error":"#N/A"}},{"$f":"INDEX(allsections[[S]:[Order]],MATCH(Y9,allsections[SGUID],0),3)","v":{"$error":"#N/A"}},"7Im0gZuPu0LHTMAIaQXrVq"]
["6vK5KBcIFJbIyxl3B3ekIp","FO 01 MANAGEMENT","-",1,null,"bxrVXJ4xWVl7PtHasGENb",{"$f":"INDEX(allsections[[S]:[Order]],MATCH(unique_sections[[#This Row],[SGUID]],allsections[SGUID],0),1)","v":"PAYMENTS"},{"$f":"INDEX(allsections[[S]:[Order]],MATCH(unique_sections[[#This Row],[SGUID]],allsections[SGUID],0),2)","v":"-"},{"$f":"INDEX(allsections[[S]:[Order]],MATCH(unique_sections[[#This Row],[SGUID]],allsections[SGUID],0),3)","v":8},{"$nulls":6},"LIlGAXC7dgnKPjxv0CHy9","5TvyR0UgB0EOmnMkFaZftX","LIlGAXC7dgnKPjxv0CHy95TvyR0UgB0EOmnMkFaZftX",{"$f":"INDEX(allsections[[S]:[Order]],MATCH(P10,allsections[SGUID],0),3)","v":11},{"$f":"INDEX(allsections[[S]:[Order]],MATCH(Q10,allsections[SGUID],0),3)","v":0},null,{"$f":"COUNTIF(#REF!,sectionsubsection[[#This Row],[Title]])","v":{"$error":"#REF!"}},{"$nulls":3},"2bWjTJm7YGHjn0xzK8lmrx5TvyR0UgB0EOmnMkFaZftX",{"$f":"INDEX(allsections[[S]:[Order]],MATCH(X10,allsections[SGUID],0),3)","v":{"$error":"#N/A"}},{"$f":"INDEX(allsections[[S]:[Order]],MATCH(Y10,allsections[SGUID],0),3)","v":{"$error":"#N/A"}},"2rxdA3gpl0PXbrvpZ0BtCg"]
["4wZVGrd3Y6MNXGOUDdx8aE","HOP 02 CONTINUOUS IMPROVEMENT PLAN",null,2,null,"7w9H6anypUchjmMOZrr9fi",{"$f":"INDEX(allsections[[S]:[Order]],MATCH(unique_sections[[#This Row],[SGUID]],allsections[SGUID],0),1)","v":"WAGES"},{"$f":"INDEX(allsections[[S]:[Order]],MATCH(unique_sections[[#This Row],[SGUID]],allsections[SGUID],0),2)","v":"-"},{"$f":"INDEX(allsections[[S]:[Order]],MATCH(unique_sections[[#This Row],[SGUID]],allsections[SGUID],0),3)","v":9},{"$nulls":6},"7w9H6anypUchjmMOZrr9fi","5TvyR0UgB0EOmnMkFaZftX","7w9H6anypUchjmMOZrr9fi5TvyR0UgB0EOmnMkFaZftX",{"$f":"INDEX(allsections[[S]:[Order]],MATCH(P11,allsections[SGUID],0),3)","v":9},{"$f":"INDEX(allsections[[S]:[Order]],MATCH(Q11,allsections[SGUID],0),3)","v":0},null,{"$f":"COUNTIF(#REF!,sectionsubsection[[#This Row],[Title]])","v":{"$error":"#REF!"}},{"$nulls":3},"6Wkw4wWRDCURPfRLe7FPfh5TvyR0UgB0EOmnMkFaZftX",{"$f":"INDEX(allsections[[S]:[Order]],MATCH(X11,allsections[SGUID],0),3)","v":{"$error":"#N/A"}},{"$f":"INDEX(allsections[[S]:[Order]],MATCH(Y11,allsections[SGUID],0),3)","v":{"$error":"#N/A"}},"6RbDnySZpbgffC9ju2q32c"]
["1o8mD6EnK5wQwCEJoONfYj","RIGHT OF ASSOCIATION AND REPRESENTATION","-",2,null,"3Ff44zJMwGkTtn6xQrauV0",{"$f":"INDEX(allsections[[S]:[Order]],MATCH(unique_sections[[#This Row],[SGUID]],allsections[SGUID],0),1)","v":"WORKING AGE, CHILD LABOR, AND YOUNG WORKERS"},{"$f":"INDEX(allsections[[S]:[Order]],MATCH(unique_sections[[#This Row],[SGUID]],allsections[SGUID],0),2)","v":"-"},{"$f":"INDEX(allsections[[S]:[Order]],MATCH(unique_sections[[#This Row],[SGUID]],allsections[SGUID],0),3)","v":10},{"$nulls":6},"bxrVXJ4xWVl7PtHasGENb","5TvyR0UgB0EOmnMkFaZftX","bxrVXJ4xWVl7PtHasGENb5TvyR0UgB0EOmnMkFaZftX",{"$f":"INDEX(allsections[[S]:[Order]],MATCH(P12,allsections[SGUID],0),3)","v":8},{"$f":"INDEX(allsections[[S]:[Order]],MATCH(Q12,allsections[SGUID],0),3)","v":0},null,{"$f":"COUNTIF(#REF!,sectionsubsection[[#This Row],[Title]])","v":{"$error":"#REF!"}},{"$nulls":3},"3hFRwOPd6tyF3XqgDpiUsI5TvyR0UgB0EOmnMkFaZftX",{"$f":"INDEX(allsections[[S]:[Order]],MATCH(X12,allsections[SGUID],0),3)","v":{"$error":"#N/A"}},{"$f":"INDEX(allsections[[S]:[Order]],MATCH(Y12,allsections[SGUID],0),3)","v":{"$error":"#N/A"}},"1eFqhUYZUruUIaNxgz39cm"]
["3teX4BYt2AW8sJqpMJrRZD","QMS 02 Management and organization","-",2,null,"LIlGAXC7dgnKPjxv0CHy9",{"$f":"INDEX(allsections[[S]:[Order]],MATCH(unique_sections[[#This Row],[SGUID]],allsections[SGUID],0),1)","v":"COMPULSORY SCHOOL AGE AND SCHOOL ACCESS"},{"$f":"INDEX(allsections[[S]:[Order]],MATCH(unique_sections[[#This Row],[SGUID]],allsections[SGUID],0),2)","v":"-"},{"$f":"INDEX(allsections[[S]:[Order]],MATCH(unique_sections[[#This Row],[SGUID]],allsections[SGUID],0),3)","v":11},{"$nulls":6},"19R27icHjrePmOqhbMVB4F","5TvyR0UgB0EOmnMkFaZftX","19R27icHjrePmOqhbMVB4F5TvyR0UgB0EOmnMkFaZftX",{"$f":"INDEX(allsections[[S]:[Order]],MATCH(P13,allsections[SGUID],0),3)","v":7},{"$f":"INDEX(allsections[[S]:[Order]],MATCH(Q13,allsections[SGUID],0),3)","v":0},null,{"$f":"COUNTIF(#REF!,sectionsubsection[[#This Row],[Title]])","v":{"$error":"#REF!"}},{"$nulls":3},"2kuhirjgnGOVNDcaDpOkYM5TvyR0UgB0EOmnMkFaZftX",{"$f":"INDEX(allsections[[S]:[Order]],MATCH(X13,allsections[SGUID],0),3)","v":{"$error":"#N/A"}},{"$f":"INDEX(allsections[[S]:[Order]],MATCH(Y13,allsections[SGUID],0),3)","v":{"$error":"#N/A"}},"DJzqg2fWJNX8DV2KctvYg"]
["6l21qjBupUIUO8XLCiUEef","FV 02 CONTINUOUS IMPROVEMENT PLAN","-",2,null,"3J24Glrer1437lwsauUMDz",{"$f":"INDEX(allsections[[S]:[Order]],MATCH(unique_sections[[#This Row],[SGUID]],allsections[SGUID],0),1)","v":"TIME RECORDING SYSTEMS"},{"$f":"INDEX(allsections[[S]:[Order]],MATCH(unique_sections[[#This Row],[SGUID]],allsections[SGUID],0),2)","v":"-"},{"$f":"INDEX(allsections[[S]:[Order]],MATCH(unique_sections[[#This Row],[SGUID]],allsections[SGUID],0),3)","v":12},{"$nulls":6},"seSMMRr8dVZQE1tIIM2oM","5TvyR0UgB0EOmnMkFaZftX","seSMMRr8dVZQE1tIIM2oM5TvyR0UgB0EOmnMkFaZftX",{"$f":"INDEX(allsections[[S]:[Order]],MATCH(P14,allsections[SGUID],0),3)","v":6},{"$f":"INDEX(allsections[[S]:[Order]],MATCH(Q14,allsections[SGUID],0),3)","v":0},null,{"$f":"COUNTIF(#REF!,sectionsubsection[[#This Row],[Title]])","v":{"$error":"#REF!"}},{"$nulls":3},"6jdV20fj5kQdZCYqV2HAZj5TvyR0UgB0EOmnMkFaZftX",{"$f":"INDEX(allsections[[S]:[Order]],MATCH(X14,allsections[SGUID],0),3)","v":{"$error":"#N/A"}},{"$f":"INDEX(allsections[[S]:[Order]],MATCH(Y14,allsections[SGUID],0),3)","v":{"$error":"#N/A"}},"70ruHYc2MpTvg0jD7QMezL"]
["6GF3xiweshSSrjhesMZt6f","AQ 02 INTERNAL DOCUMENTATION","-",2,null,"3REBipJjMBilm8fOUb7AAk",{"$f":"INDEX(allsections[[S]:[Order]],MATCH(unique_sections[[#This Row],[SGUID]],allsections[SGUID],0),1)","v":"WORKING HOURS"},{"$f":"INDEX(allsections[[S]:[Order]],MATCH(unique_sections[[#This Row],[SGUID]],allsections[SGUID],0),2)","v":"-"},{"$f":"INDEX(allsections[[S]:[Order]],MATCH(unique_sections[[#This Row],[SGUID]],allsections[SGUID],0),3)","v":13},{"$nulls":6},"hQNd2uxITz3h9L5NA0Esq","5TvyR0UgB0EOmnMkFaZftX","hQNd2uxITz3h9L5NA0Esq5TvyR0UgB0EOmnMkFaZftX",{"$f":"INDEX(allsections[[S]:[Order]],MATCH(P15,allsections[SGUID],0),3)","v":3},{"$f":"INDEX(allsections[[S]:[Order]],MATCH(Q15,allsections[SGUID],0),3)","v":0},null,{"$f":"COUNTIF(#REF!,sectionsubsection[[#This Row],[Title]])","v":{"$error":"#REF!"}},{"$nulls":3},"1JbTSVCXvD1rsi9FQI4BLX5TvyR0UgB0EOmnMkFaZftX",{"$f":"INDEX(allsections[[S]:[Order]],MATCH(X15,allsections[SGUID],0),3)","v":{"$error":"#N/A"}},{"$f":"INDEX(allsections[[S]:[Order]],MATCH(Y15,allsections[SGUID],0),3)","v":{"$error":"#N/A"}},"7szhAVwZa7A9bpfSi2pieJ"]
["3labXsBTDnp2nMlbS2V5AI","FO 02 TRACEABILITY","-",2,null,"5QcqRKjyugITtX9F5mWxJx",{"$f":"INDEX(allsections[[S]:[Order]],MATCH(unique_sections[[#This Row],[SGUID]],allsections[SGUID],0),1)","v":"DISCIPLINARY PROCEDURES"},{"$f":"INDEX(allsections[[S]:[Order]],MATCH(unique_sections[[#This Row],[SGUID]],allsections[SGUID],0),2)","v":"-"},{"$f":"INDEX(allsections[[S]:[Order]],MATCH(unique_sections[[#This Row],[SGUID]],allsections[SGUID],0),3)","v":14},{"$nulls":6},"538rGD6MQerNMNSCfcYCp7","5TvyR0UgB0EOmnMkFaZftX","538rGD6MQerNMNSCfcYCp75TvyR0UgB0EOmnMkFaZftX",{"$f":"INDEX(allsections[[S]:[Order]],MATCH(P16,allsections[SGUID],0),3)","v":1},{"$f":"INDEX(allsections[[S]:[Order]],MATCH(Q16,allsections[SGUID],0),3)","v":0},null,{"$f":"COUNTIF(#REF!,sectionsubsection[[#This Row],[Title]])","v":{"$error":"#REF!"}},{"$nulls":3},"VDK37xlSNcEUrQRExLE3o5TvyR0UgB0EOmnMkFaZftX",{"$f":"INDEX(allsections[[S]:[Order]],MATCH(X16,allsections[SGUID],0),3)","v":{"$error":"#N/A"}},{"$f":"INDEX(allsections[[S]:[Order]],MATCH(Y16,allsections[SGUID],0),3)","v":{"$error":"#N/A"}},"1QZN9MgOjsyqVA68ggNrjJ"]
["3jlC57moeRajaaQIIaDd20","HOP 03 RESOURCE MANAGEMENT AND TRAINING",null,3,{"$nulls":21},"5jzyQhmb27D4nmyslaqw295TvyR0UgB0EOmnMkFaZftX",{"$f":"INDEX(allsections[[S]:[Order]],MATCH(X17,allsections[SGUID],0),3)","v":{"$error":"#N/A"}},{"$f":"INDEX(allsections[[S]:[Order]],MATCH(Y17,allsections[SGUID],0),3)","v":{"$error":"#N/A"}},"5MIp8lIIRxiecaRlBx45ZA"]
["hQNd2uxITz3h9L5NA0Esq","GRASP WORKER REPRESENTATION","-",3,{"$nulls":21},"1EgtVf0gt9faAZ208UKbhp5TvyR0UgB0EOmnMkFaZftX",{"$f":"INDEX(allsections[[S]:[Order]],MATCH(X18,allsections[SGUID],0),3)","v":{"$error":"#N/A"}},{"$f":"INDEX(allsections[[S]:[Order]],MATCH(Y18,allsections[SGUID],0),3)","v":{"$error":"#N/A"}},"6xn2hlRu4XuFNY4EvmmhGh"]
["iX5cwfCbucoiOoSsaucW1","QMS 03 Document Control","-",3,{"$nulls":21},"17ftYiGJQGfvC82XpjU1HE5TvyR0UgB0EOmnMkFaZftX",{"$f":"INDEX(allsections[[S]:[Order]],MATCH(X19,allsections[SGUID],0),3)","v":{"$error":"#N/A"}},{"$f":"INDEX(allsections[[S]:[Order]],MATCH(Y19,allsections[SGUID],0),3)","v":{"$error":"#N/A"}},"4FpGNTsK7qObG6w0IK8lJ9"]
["5g1godsQJRqbjZxI603Etm","FO 03 PLANT PROPAGATION MATERIAL","The choice of propagation material plays an important role in the production process, and producers, by using the appropriate varieties, can help reduce the number of fertilizer and plant protection product applications. The choice of propagation material is a precondition of good plant growth and product quality.",3,{"$nulls":21},"79NJXc4l9NQEbbeDhi7yAn5TvyR0UgB0EOmnMkFaZftX",{"$f":"INDEX(allsections[[S]:[Order]],MATCH(X20,allsections[SGUID],0),3)","v":{"$error":"#N/A"}},{"$f":"INDEX(allsections[[S]:[Order]],MATCH(Y20,allsections[SGUID],0),3)","v":{"$error":"#N/A"}},"4CAFQJ1DissSwVgUR6FAo2"]
["2PY4EEd6KbBqNYrQrNPBD4","AQ 03 HYGIENE","People are key to the prevention of product contamination. Farm workers and contractors as well as producers themselves stand for the integrity and safety of the product. Education and training will support progress toward safe production. This section is meant to ensure good practices to diminish hygiene risks to the product and that all workers understand the requirements and are competent to perform their duties.",3,{"$nulls":21},"AqZg0D6YeGl82j7kk861G5TvyR0UgB0EOmnMkFaZftX",{"$f":"INDEX(allsections[[S]:[Order]],MATCH(X21,allsections[SGUID],0),3)","v":{"$error":"#N/A"}},{"$f":"INDEX(allsections[[S]:[Order]],MATCH(Y21,allsections[SGUID],0),3)","v":{"$error":"#N/A"}},"7rp7x9ZgHaqceXxu6OWWq7"]
["2RFsPSHa2XlX0JHYiJO2Wc","FV 03 RESOURCE MANAGEMENT AND TRAINING","-",3,{"$nulls":21},"2mT42AzGqaTB4SqjuCAb8l5TvyR0UgB0EOmnMkFaZftX",{"$f":"INDEX(allsections[[S]:[Order]],MATCH(X22,allsections[SGUID],0),3)","v":{"$error":"#N/A"}},{"$f":"INDEX(allsections[[S]:[Order]],MATCH(Y22,allsections[SGUID],0),3)","v":{"$error":"#N/A"}},"6w3UMFW0oHAYouIfAQsxPp"]
["1kzI7hCCMY4wQOFQmIPOPD","FV 04 OUTSOURCED ACTIVITIES (SUBCONTRACTORS)","-",4,{"$nulls":21},"1STSYkQfJC6sJCHTl0LQ4B4xvzsgnTOtRkF4CQ8kI09i",{"$f":"INDEX(allsections[[S]:[Order]],MATCH(X23,allsections[SGUID],0),3)","v":{"$error":"#N/A"}},{"$f":"INDEX(allsections[[S]:[Order]],MATCH(Y23,allsections[SGUID],0),3)","v":{"$error":"#N/A"}},"5KxdaTmagupnt1FFiWUWr"]
["1Lf9FHKch0eiLXJIpNhkap","HOP 04 OUTSOURCED ACTIVITIES (SUB-CONTRACTORS)",null,4,{"$nulls":21},"1STSYkQfJC6sJCHTl0LQ4B5Nuj2EiEyMVydcblHaISFD",{"$f":"INDEX(allsections[[S]:[Order]],MATCH(X24,allsections[SGUID],0),3)","v":{"$error":"#N/A"}},{"$f":"INDEX(allsections[[S]:[Order]],MATCH(Y24,allsections[SGUID],0),3)","v":{"$error":"#N/A"}},"73Lv9AVw6FCUaveBbhr4JK"]
["7M8kd0W9wjpA8V5QSHHaVd","COMPLAINT PROCESS","-",4,{"$nulls":21},"1STSYkQfJC6sJCHTl0LQ4B1E1VhZbj9C7JN1P2MNO7PP",{"$f":"INDEX(allsections[[S]:[Order]],MATCH(X25,allsections[SGUID],0),3)","v":{"$error":"#N/A"}},{"$f":"INDEX(allsections[[S]:[Order]],MATCH(Y25,allsections[SGUID],0),3)","v":{"$error":"#N/A"}},"6HcHJDddlXRBRfZX9ZokDO"]
["1sjYNSfPgvLzeUoltfbbdl","QMS 04 Complaint handling","-",4,{"$nulls":21},"1STSYkQfJC6sJCHTl0LQ4B6iax11SKEZhY8rQyeOo4x9",{"$f":"INDEX(allsections[[S]:[Order]],MATCH(X26,allsections[SGUID],0),3)","v":{"$error":"#N/A"}},{"$f":"INDEX(allsections[[S]:[Order]],MATCH(Y26,allsections[SGUID],0),3)","v":{"$error":"#N/A"}},"1inVLFVuXUfx9WSBlTkRpE"]
["IKtB5yVMmBF7k4LaDgUZw","FO 04 SOIL, PLANT NUTRITION, AND FERTILIZERS","Promote plant health and avoid overuse of fertilizers by applying nutrients actually required by the crop. Avoid environmental pollution through safe fertilizer storage, optimal use, minimizing heavy metals inputs. Monitor quantities of nitrogen and phosphorus applied to help keep overuse as low as possible. When crops are grown in soil, ensure long term fertility, aid yields and contribute to profitability. Minimizing soil fumigation leads to less use of chemicals and promoting plant growth-promoting rhizobacteria and other microorganisms which benefit plant health.",4,{"$nulls":21},"3yiKvwYoXBHDoxipYV9gbp5TvyR0UgB0EOmnMkFaZftX",{"$f":"INDEX(allsections[[S]:[Order]],MATCH(X27,allsections[SGUID],0),3)","v":{"$error":"#N/A"}},{"$f":"INDEX(allsections[[S]:[Order]],MATCH(Y27,allsections[SGUID],0),3)","v":{"$error":"#N/A"}},"6IxE566h7r5Jvb3W7WDuj3"]
["2jUiyLvMOWJh04zKpLzls8","AQ 04 WORKERS’ WELL-BEING: HEALTH, SAFETY, AND WELFARE","People are key to the safe and efficient operation of any farm. Workers and contractors as well as producers themselves stand for their own health and safety and for environmental protection. Education and training will help progress towards sustainability and build on social capital. This section is meant to ensure safe practices in the workplace and that all workers both understand and are competent to perform their duties; are provided with proper equipment to allow them to work safely; and that, in the event of accidents, can obtain proper and timely assistance. ",4,{"$nulls":21},"3ov8Ci8FQzD3sYIYu2RpnL3yzXvEhnmn5Jt2gzgNRyxG",{"$f":"INDEX(allsections[[S]:[Order]],MATCH(X28,allsections[SGUID],0),3)","v":{"$error":"#N/A"}},{"$f":"INDEX(allsections[[S]:[Order]],MATCH(Y28,allsections[SGUID],0),3)","v":{"$error":"#N/A"}},"2ImsoVLGQdeZF6agzMqJ8A"]
["2bWjTJm7YGHjn0xzK8lmrx","HOP 05 SPECIFICATIONS, SUPPLIERS, AND STOCK MANAGEMENT",null,5,{"$nulls":21},"7tJdxC0MUJe1HSs3MotQlM5TvyR0UgB0EOmnMkFaZftX",{"$f":"INDEX(allsections[[S]:[Order]],MATCH(X29,allsections[SGUID],0),3)","v":{"$error":"#N/A"}},{"$f":"INDEX(allsections[[S]:[Order]],MATCH(Y29,allsections[SGUID],0),3)","v":{"$error":"#N/A"}},"6PRvE2QfxASI7YKnCc3EqN"]
["6fz1ZcgpxCeEz3mRGrevNc","PRODUCER’S HUMAN RIGHTS POLICIES","-",5,{"$nulls":21},"7zYHRKozLWyZJNsLHlqmWj5TvyR0UgB0EOmnMkFaZftX",{"$f":"INDEX(allsections[[S]:[Order]],MATCH(X30,allsections[SGUID],0),3)","v":{"$error":"#N/A"}},{"$f":"INDEX(allsections[[S]:[Order]],MATCH(Y30,allsections[SGUID],0),3)","v":{"$error":"#N/A"}},"6FGY5f8scT9uxdRY1Dm0EA"]
["4riK5U0xPiGEWHpHRmn4Nr","QMS 05 Internal Audits","-",5,{"$nulls":21},"1PygzsgwT1kH98NoRIqHJK5TvyR0UgB0EOmnMkFaZftX",{"$f":"INDEX(allsections[[S]:[Order]],MATCH(X31,allsections[SGUID],0),3)","v":{"$error":"#N/A"}},{"$f":"INDEX(allsections[[S]:[Order]],MATCH(Y31,allsections[SGUID],0),3)","v":{"$error":"#N/A"}},"6GeO2cIfH8F4MS0Wrn7hu8"]
["1TyGiQcuRVxqRPsWm6pYn7","FO 05 WATER MANAGEMENT","Provide plants with optimal amounts of water of appropriate quality.\nMinimize abstraction from water sources (efficient use and where possible, collection of rainwater and/or recycling of water).\nAvoid discharges, emissions, and/or effluents that can pollute water sources.",5,{"$nulls":21},"2zKr6OtZT3ieaBkkiQdRnE5TvyR0UgB0EOmnMkFaZftX",{"$f":"INDEX(allsections[[S]:[Order]],MATCH(X32,allsections[SGUID],0),3)","v":{"$error":"#N/A"}},{"$f":"INDEX(allsections[[S]:[Order]],MATCH(Y32,allsections[SGUID],0),3)","v":{"$error":"#N/A"}},"4MADFxOdPQhN4tDSrYC3kN"]
["6PzSKiJw1bRFye5uX49taK","FV 05 SPECIFICATIONS, SUPPLIERS, AND STOCK MANAGEMENT","-",5,{"$nulls":21},"38FoI2x9MvJMWYmW9A94FP1GydlnqB5f3ZYrijAhJ8a1",{"$f":"INDEX(allsections[[S]:[Order]],MATCH(X33,allsections[SGUID],0),3)","v":{"$error":"#N/A"}},{"$f":"INDEX(allsections[[S]:[Order]],MATCH(Y33,allsections[SGUID],0),3)","v":{"$error":"#N/A"}},"2POBKEfw5bnX0otH120XN9"]
["awxbzDqiAc5w5F9Xaavfk","AQ 05 OUTSOURCED ACTIVITIES (SUBCONTRACTORS)","Subcontracting is the practice of assigning, or outsourcing, part of the obligations and tasks under a contract to another party known as a subcontractor.",5,{"$nulls":21},"3mzqvFtvshFUd9FG5jPpxS2G6uwghHDTAis8RUZY3FJx",{"$f":"INDEX(allsections[[S]:[Order]],MATCH(X34,allsections[SGUID],0),3)","v":{"$error":"#N/A"}},{"$f":"INDEX(allsections[[S]:[Order]],MATCH(Y34,allsections[SGUID],0),3)","v":{"$error":"#N/A"}},"1EV9fOJFtgZHkgwnGkSJCo"]
["6Wkw4wWRDCURPfRLe7FPfh","HOP 06 TRACEABILITY",null,6,{"$nulls":21},"3mzqvFtvshFUd9FG5jPpxS3QFwSW2yUZI11qFYS6goaH",{"$f":"INDEX(allsections[[S]:[Order]],MATCH(X35,allsections[SGUID],0),3)","v":{"$error":"#N/A"}},{"$f":"INDEX(allsections[[S]:[Order]],MATCH(Y35,allsections[SGUID],0),3)","v":{"$error":"#N/A"}},"489bZFWSQmhiPe5OysSmjy"]
["seSMMRr8dVZQE1tIIM2oM","ACCESS TO LABOR REGULATION INFORMATION","-",6,{"$nulls":21},"3mzqvFtvshFUd9FG5jPpxS34qytRFn55Pj9v8N6jW9Nd",{"$f":"INDEX(allsections[[S]:[Order]],MATCH(X36,allsections[SGUID],0),3)","v":{"$error":"#N/A"}},{"$f":"INDEX(allsections[[S]:[Order]],MATCH(Y36,allsections[SGUID],0),3)","v":{"$error":"#N/A"}},"2HYuayP7D4BMSo75oiaXrl"]
["5ZsnePvk5YgFXWZV6SeLdd","QMS 06 Product traceability and segregation","-",6,{"$nulls":21},"WIsqyzB7hUCqXcRGmylZ63bwHSjPIiZlDqoQlQa0RcI",{"$f":"INDEX(allsections[[S]:[Order]],MATCH(X37,allsections[SGUID],0),3)","v":{"$error":"#N/A"}},{"$f":"INDEX(allsections[[S]:[Order]],MATCH(Y37,allsections[SGUID],0),3)","v":{"$error":"#N/A"}},"1rtxDY0UV6J6nTD72lp37g"]
["6sAnZuzrLy7KwfabltbVL2","FO 06 INTEGRATED PEST MANAGEMENT","Integrated pest management (IPM) involves the careful consideration of all available pest control techniques and the subsequent integration of appropriate measures that discourage the development of pest populations and keeps plant protection products and other interventions to levels that are economically justified and reduce or minimize risks to human health and the environment. See GLOBALG.A.P. Guidelines. \nGiven the natural variation on pest development for the different crops and areas, any IPM system shall be implemented in the context of local physical (climatic, topographical, etc.), biological (pest complex, natural enemy complex, etc.), and economic conditions.\nA pest, disease, or weed is considered relevant if it needs to be managed (costly to control, control measures have a high impact to the environment or to human health). ",6,{"$nulls":21},"WIsqyzB7hUCqXcRGmylZ65JMEtkoFWwAZfaa1yaPgBK",{"$f":"INDEX(allsections[[S]:[Order]],MATCH(X38,allsections[SGUID],0),3)","v":{"$error":"#N/A"}},{"$f":"INDEX(allsections[[S]:[Order]],MATCH(Y38,allsections[SGUID],0),3)","v":{"$error":"#N/A"}},"68w0QanW27g7DC5iiMNgnB"]
["3jqGVv62GBsd8KJSjIWQ7X","AQ 06 ENVIRONMENTAL AND BIODIVERSITY MANAGEMENT","-",6,{"$nulls":21},"WIsqyzB7hUCqXcRGmylZ64AISrwQ9WCshrlYBBrxvLA",{"$f":"INDEX(allsections[[S]:[Order]],MATCH(X39,allsections[SGUID],0),3)","v":{"$error":"#N/A"}},{"$f":"INDEX(allsections[[S]:[Order]],MATCH(Y39,allsections[SGUID],0),3)","v":{"$error":"#N/A"}},"3eE3Q3pAc6KiMjhWeHYlIc"]
["4ZGW9ZWBwWewpL1DYzfgyb","FV 06 TRACEABILITY","-",6,{"$nulls":21},"WIsqyzB7hUCqXcRGmylZ6SAqaQFjpGvk0dxFTZIzwA",{"$f":"INDEX(allsections[[S]:[Order]],MATCH(X40,allsections[SGUID],0),3)","v":{"$error":"#N/A"}},{"$f":"INDEX(allsections[[S]:[Order]],MATCH(Y40,allsections[SGUID],0),3)","v":{"$error":"#N/A"}},"yNNnfi8cIVXTWlcpFs9Ve"]
["2BGuoLOuGR86Am1Hf7hCiG","FO 07 PLANT PROTECTION PRODUCTS","-",7,{"$nulls":21},"5J6Wg6hIOJWcbwRBTKjslF5TvyR0UgB0EOmnMkFaZftX",{"$f":"INDEX(allsections[[S]:[Order]],MATCH(X41,allsections[SGUID],0),3)","v":{"$error":"#N/A"}},{"$f":"INDEX(allsections[[S]:[Order]],MATCH(Y41,allsections[SGUID],0),3)","v":{"$error":"#N/A"}},"73mmIJbLFA6st0OtTEqZWp"]
["3hFRwOPd6tyF3XqgDpiUsI","HOP 07 PARALLEL OWNERSHIP, TRACEABILITY, AND SEGREGATION ",null,7,{"$nulls":21},"57pN9EDRNJdtiagduP3fZW50xAgBpMLFLITAgXsZZZlg",{"$f":"INDEX(allsections[[S]:[Order]],MATCH(X42,allsections[SGUID],0),3)","v":{"$error":"#N/A"}},{"$f":"INDEX(allsections[[S]:[Order]],MATCH(Y42,allsections[SGUID],0),3)","v":{"$error":"#N/A"}},"2qY4MoLxFUnCA4vo1wdvyU"]
["19R27icHjrePmOqhbMVB4F","TERMS OF EMPLOYMENT DOCUMENTS AND FORCED LABOR INDICATORS","-",7,{"$nulls":21},"57pN9EDRNJdtiagduP3fZW2WGH0RWY1OjvoJuoSirwHO",{"$f":"INDEX(allsections[[S]:[Order]],MATCH(X43,allsections[SGUID],0),3)","v":{"$error":"#N/A"}},{"$f":"INDEX(allsections[[S]:[Order]],MATCH(Y43,allsections[SGUID],0),3)","v":{"$error":"#N/A"}},"5qNS7lYI1ESLWc7l6Zqgt0"]
["7ue3ZV8NziRZnY4dzUsISX","QMS 07 Product withdrawal","-",7,{"$nulls":21},"57pN9EDRNJdtiagduP3fZW2JbpD7n1ziHSr2bVcKMSYA",{"$f":"INDEX(allsections[[S]:[Order]],MATCH(X44,allsections[SGUID],0),3)","v":{"$error":"#N/A"}},{"$f":"INDEX(allsections[[S]:[Order]],MATCH(Y44,allsections[SGUID],0),3)","v":{"$error":"#N/A"}},"yeoigpicR7Kj80FVFSVQ7"]
["2rOCEOZ7FKjNjNArXiLHzT","AQ 07 CONSERVATION","Farming and the environment are inseparably linked. Managing wildlife and landscape is of great importance. The abundance and diversity of flora and fauna benefits the enhancement of species and the structural diversity of land and landscape features.",7,{"$nulls":21},"57pN9EDRNJdtiagduP3fZW1dk4ytnQWjHBvg1ln8HjTF",{"$f":"INDEX(allsections[[S]:[Order]],MATCH(X45,allsections[SGUID],0),3)","v":{"$error":"#N/A"}},{"$f":"INDEX(allsections[[S]:[Order]],MATCH(Y45,allsections[SGUID],0),3)","v":{"$error":"#N/A"}},"4OOlpygsKUozIPIQvZRS7K"]
["4gUkP5eS8EnUG0fKZ0tMiZ","FV 07 PARALLEL OWNERSHIP, TRACEABILITY, AND SEGREGATION ","-",7,{"$nulls":21},"57pN9EDRNJdtiagduP3fZW49eZzszjuUC0B6uHMRpoza",{"$f":"INDEX(allsections[[S]:[Order]],MATCH(X46,allsections[SGUID],0),3)","v":{"$error":"#N/A"}},{"$f":"INDEX(allsections[[S]:[Order]],MATCH(Y46,allsections[SGUID],0),3)","v":{"$error":"#N/A"}},"3hK2y2UNLfHoppHPAnHM03"]
["5JIgB3UDpDaQaRmTmuUpoo","FO 08 POSTHARVEST","-",8,{"$nulls":21},"57pN9EDRNJdtiagduP3fZW5XwbzZtEM8lBOyfvXXxdDp",{"$f":"INDEX(allsections[[S]:[Order]],MATCH(X47,allsections[SGUID],0),3)","v":{"$error":"#N/A"}},{"$f":"INDEX(allsections[[S]:[Order]],MATCH(Y47,allsections[SGUID],0),3)","v":{"$error":"#N/A"}},"2LnFemyn1mQ3dMrtNShc5B"]
["2kuhirjgnGOVNDcaDpOkYM","HOP 08 MASS BALANCE",null,8,{"$nulls":21},"57pN9EDRNJdtiagduP3fZW4QOHCspm1xB86DGAUYDjRE",{"$f":"INDEX(allsections[[S]:[Order]],MATCH(X48,allsections[SGUID],0),3)","v":{"$error":"#N/A"}},{"$f":"INDEX(allsections[[S]:[Order]],MATCH(Y48,allsections[SGUID],0),3)","v":{"$error":"#N/A"}},"4AUkUX1Ed6iGItHig18e1A"]
["bxrVXJ4xWVl7PtHasGENb","PAYMENTS","-",8,{"$nulls":21},"57pN9EDRNJdtiagduP3fZW5ct5fM0HqC0lCNZYddSQSP",{"$f":"INDEX(allsections[[S]:[Order]],MATCH(X49,allsections[SGUID],0),3)","v":{"$error":"#N/A"}},{"$f":"INDEX(allsections[[S]:[Order]],MATCH(Y49,allsections[SGUID],0),3)","v":{"$error":"#N/A"}},"5qL5D1YSZyjAfehlrFEA4J"]
["35yeNtmczlcF0LL6aw5z15","QMS 08 Outsourced activities","-",8,{"$nulls":21},"57pN9EDRNJdtiagduP3fZW3ag7qg4fpn4nxKeaoiBogr",{"$f":"INDEX(allsections[[S]:[Order]],MATCH(X50,allsections[SGUID],0),3)","v":{"$error":"#N/A"}},{"$f":"INDEX(allsections[[S]:[Order]],MATCH(Y50,allsections[SGUID],0),3)","v":{"$error":"#N/A"}},"2LfV72LvddlAa8kU9pelkw"]
["2B20jqk2goXcNqV2HX9qhe","AQ 08 COMPLAINTS","Management of complaints will lead to an overall better production system.",8,{"$nulls":21},"Rm2o1gaBaALvlfFEiYrMu1zH3ajr9ldfV66pKaz5uSC",{"$f":"INDEX(allsections[[S]:[Order]],MATCH(X51,allsections[SGUID],0),3)","v":{"$error":"#N/A"}},{"$f":"INDEX(allsections[[S]:[Order]],MATCH(Y51,allsections[SGUID],0),3)","v":{"$error":"#N/A"}},"5yJSOcTVR8gZAhpSpE27lE"]
["7HDQtIsDtzns0bD1ntR0eP","FV 08 MASS BALANCE","-",8,{"$nulls":21},"Rm2o1gaBaALvlfFEiYrMu110oWX79i6mbT4bTqOXnsF",{"$f":"INDEX(allsections[[S]:[Order]],MATCH(X52,allsections[SGUID],0),3)","v":{"$error":"#N/A"}},{"$f":"INDEX(allsections[[S]:[Order]],MATCH(Y52,allsections[SGUID],0),3)","v":{"$error":"#N/A"}},"1TkJSLMhtf1FXiHyFrmEpa"]
["6jdV20fj5kQdZCYqV2HAZj","HOP 09 RECALL AND WITHDRAWAL",null,9,{"$nulls":21},"Rm2o1gaBaALvlfFEiYrMu4eKy1DGXi4so3zRzyqThnJ",{"$f":"INDEX(allsections[[S]:[Order]],MATCH(X53,allsections[SGUID],0),3)","v":{"$error":"#N/A"}},{"$f":"INDEX(allsections[[S]:[Order]],MATCH(Y53,allsections[SGUID],0),3)","v":{"$error":"#N/A"}},"5ZmQCZZcuTzxuWKzHPecnl"]
["7w9H6anypUchjmMOZrr9fi","WAGES","-",9,{"$nulls":21},"Rm2o1gaBaALvlfFEiYrMu7ctYNkkwyMaJhUZotDNFjC",{"$f":"INDEX(allsections[[S]:[Order]],MATCH(X54,allsections[SGUID],0),3)","v":{"$error":"#N/A"}},{"$f":"INDEX(allsections[[S]:[Order]],MATCH(Y54,allsections[SGUID],0),3)","v":{"$error":"#N/A"}},"5f1unFnjf9XRdMc3gNiJtp"]
["6ODApAejiQtNrOwOQO5Tai","QMS 09 Registration of additional members/sites to the certificate","-",9,{"$nulls":21},"Rm2o1gaBaALvlfFEiYrMu6jeCGSSXYJzTftXx8cbHUd",{"$f":"INDEX(allsections[[S]:[Order]],MATCH(X55,allsections[SGUID],0),3)","v":{"$error":"#N/A"}},{"$f":"INDEX(allsections[[S]:[Order]],MATCH(Y55,allsections[SGUID],0),3)","v":{"$error":"#N/A"}},"6AAKJ3LgDpE7IG4YAqQOKs"]
["5ZEbtYAwaiK1X4qvVH0ye8","FV 09 RECALL AND WITHDRAWAL","-",9,{"$nulls":21},"Rm2o1gaBaALvlfFEiYrMu6XDlMJZ8YZa4z9YpSWG2pO",{"$f":"INDEX(allsections[[S]:[Order]],MATCH(X56,allsections[SGUID],0),3)","v":{"$error":"#N/A"}},{"$f":"INDEX(allsections[[S]:[Order]],MATCH(Y56,allsections[SGUID],0),3)","v":{"$error":"#N/A"}},"6mCnaLW9OtV3xpBSYq1P6R"]
["1w2d3I6CuKthFEEDJPAfK2","AQ 09 RECALL AND WITHDRAWAL PROCEDURE","-",9,{"$nulls":21},"57pN9EDRNJdtiagduP3fZW4tsSAXoTqULXFfkPGQuphj",{"$f":"INDEX(allsections[[S]:[Order]],MATCH(X57,allsections[SGUID],0),3)","v":{"$error":"#N/A"}},{"$f":"INDEX(allsections[[S]:[Order]],MATCH(Y57,allsections[SGUID],0),3)","v":{"$error":"#N/A"}},"6PGQqtXv2MC5ksCBDotJ6h"]
["6MLbOSTUhL6svPsQwb6NH6","FO 09 WASTE MANAGEMENT","Avoid polluting the environment. Enhance waste minimization.\nWaste minimization shall include review of current practices, avoidance of waste, reduction of waste, reuse of waste, and recycling of waste.",9,{"$nulls":21},"5AYuYvAyD5dx1XUm0wkNUh5TvyR0UgB0EOmnMkFaZftX",{"$f":"INDEX(allsections[[S]:[Order]],MATCH(X58,allsections[SGUID],0),3)","v":{"$error":"#N/A"}},{"$f":"INDEX(allsections[[S]:[Order]],MATCH(Y58,allsections[SGUID],0),3)","v":{"$error":"#N/A"}},"1dG8d76WeQtZj6ZhH7zFvX"]
["5ZjwAiDPYbGvURtwoHF4gM","FO 10 BIODIVERSITY \n","Enhance biodiversity and benefit from its ecological services. Farming and the environment are inseparably linked. Managing wildlife and landscape is of great importance. The abundance and diversity of flora and fauna benefits the enhancement of species and the structural diversity of land and landscape features",10,{"$nulls":21},"5y6C5KZtGFA5bRC3q2nOtJ5TvyR0UgB0EOmnMkFaZftX",{"$f":"INDEX(allsections[[S]:[Order]],MATCH(X59,allsections[SGUID],0),3)","v":{"$error":"#N/A"}},{"$f":"INDEX(allsections[[S]:[Order]],MATCH(Y59,allsections[SGUID],0),3)","v":{"$error":"#N/A"}},"3o4fB4IpD89LcJNP1PcaqR"]
["1JbTSVCXvD1rsi9FQI4BLX","HOP 10 COMPLAINTS",null,10,{"$nulls":21},"WIsqyzB7hUCqXcRGmylZ66DLYBu74pUsP9h2Tk6aE8b",{"$f":"INDEX(allsections[[S]:[Order]],MATCH(X60,allsections[SGUID],0),3)","v":{"$error":"#N/A"}},{"$f":"INDEX(allsections[[S]:[Order]],MATCH(Y60,allsections[SGUID],0),3)","v":{"$error":"#N/A"}},"4YFwKmf2KWSpX12tY4wUWy"]
["3Ff44zJMwGkTtn6xQrauV0","WORKING AGE, CHILD LABOR, AND YOUNG WORKERS","-",10,{"$nulls":21},"3ov8Ci8FQzD3sYIYu2RpnL25ufr7Onk7JPdSt2laMS29",{"$f":"INDEX(allsections[[S]:[Order]],MATCH(X61,allsections[SGUID],0),3)","v":{"$error":"#N/A"}},{"$f":"INDEX(allsections[[S]:[Order]],MATCH(Y61,allsections[SGUID],0),3)","v":{"$error":"#N/A"}},"6vNkpAgb9tyedueQqK0qUL"]
["22fWhXIF7ToLyYWekldl82","QMS 10 Logo Use","-",10,{"$nulls":21},"3ov8Ci8FQzD3sYIYu2RpnL55PwbCfLEsH487m0LGfq8G",{"$f":"INDEX(allsections[[S]:[Order]],MATCH(X62,allsections[SGUID],0),3)","v":{"$error":"#N/A"}},{"$f":"INDEX(allsections[[S]:[Order]],MATCH(Y62,allsections[SGUID],0),3)","v":{"$error":"#N/A"}},"4ooHdrCZe01RstIqSrV18y"]
["7EkiTjscQQ9YBuIWe6RZFk","AQ 10 FOOD DEFENSE","Security of food and drink and their supply chains from all forms of malicious attack including ideologically motivated attack leading to contamination or supply failure.",10,{"$nulls":21},"38FoI2x9MvJMWYmW9A94FPBNyveclVEQj4HZroYIsSp",{"$f":"INDEX(allsections[[S]:[Order]],MATCH(X63,allsections[SGUID],0),3)","v":{"$error":"#N/A"}},{"$f":"INDEX(allsections[[S]:[Order]],MATCH(Y63,allsections[SGUID],0),3)","v":{"$error":"#N/A"}},"5u8bHkfqKowCCM9WUABzET"]
["36VGW0OgI5dbYuNy8pN1X4","FV 10 COMPLAINTS","-",10,{"$nulls":21},"Rm2o1gaBaALvlfFEiYrMu1YjodcLkPXYuUVJv2kTcFk",{"$f":"INDEX(allsections[[S]:[Order]],MATCH(X64,allsections[SGUID],0),3)","v":{"$error":"#N/A"}},{"$f":"INDEX(allsections[[S]:[Order]],MATCH(Y64,allsections[SGUID],0),3)","v":{"$error":"#N/A"}},"6hB3MkD70WoxXFovO1Myl1"]
["VDK37xlSNcEUrQRExLE3o","HOP 11 NON-CONFORMING PRODUCTS",null,11,{"$nulls":21},"WIsqyzB7hUCqXcRGmylZ631MnP6cupxhwzTJCfEX2C0",{"$f":"INDEX(allsections[[S]:[Order]],MATCH(X65,allsections[SGUID],0),3)","v":{"$error":"#N/A"}},{"$f":"INDEX(allsections[[S]:[Order]],MATCH(Y65,allsections[SGUID],0),3)","v":{"$error":"#N/A"}},"2c0UBVv0ssw8RkT3Qltabw"]
["LIlGAXC7dgnKPjxv0CHy9","COMPULSORY SCHOOL AGE AND SCHOOL ACCESS","-",11,{"$nulls":21},"57pN9EDRNJdtiagduP3fZW5E9apgdIabjK9U9O52kP3v",{"$f":"INDEX(allsections[[S]:[Order]],MATCH(X66,allsections[SGUID],0),3)","v":{"$error":"#N/A"}},{"$f":"INDEX(allsections[[S]:[Order]],MATCH(Y66,allsections[SGUID],0),3)","v":{"$error":"#N/A"}},"39wDev6h9D8oDsJBEecAWl"]
["6r5HimlyZ0M2nrD6K2tkEv","QMS 11 Minimum Qualification requirements for key staff","-",11,{"$nulls":21},"3mzqvFtvshFUd9FG5jPpxS3it1MDZers0ZhAZZAMnlhX",{"$f":"INDEX(allsections[[S]:[Order]],MATCH(X67,allsections[SGUID],0),3)","v":{"$error":"#N/A"}},{"$f":"INDEX(allsections[[S]:[Order]],MATCH(Y67,allsections[SGUID],0),3)","v":{"$error":"#N/A"}},"Hjdhpd4Y2LuyPWKnGTrmO"]
["4d9ucNGdAsunr2tbELZ2oO","FO 11 ENERGY EFFICIENCY ","Optimize energy use, encourage minimization of nonrenewable energy sources and greenhouse gas emissions.\nFarming equipment shall be selected and maintained for optimum energy efficiency.",11,{"$nulls":21},"2oNaOXs0DVeMiQZPYCn5r75TvyR0UgB0EOmnMkFaZftX",{"$f":"INDEX(allsections[[S]:[Order]],MATCH(X68,allsections[SGUID],0),3)","v":{"$error":"#N/A"}},{"$f":"INDEX(allsections[[S]:[Order]],MATCH(Y68,allsections[SGUID],0),3)","v":{"$error":"#N/A"}},"hO2NOQ26gywBTlsxbcq9O"]
["1LqxqbMnYmX3O47nTDkHLF","FV 11 NON-CONFORMING PRODUCTS","-",11,{"$nulls":21},"538rGD6MQerNMNSCfcYCp75TvyR0UgB0EOmnMkFaZftX",{"$f":"INDEX(allsections[[S]:[Order]],MATCH(X69,allsections[SGUID],0),3)","v":{"$error":"#N/A"}},{"$f":"INDEX(allsections[[S]:[Order]],MATCH(Y69,allsections[SGUID],0),3)","v":{"$error":"#N/A"}},"3V71ubGcYzgTqb49BoKEWy"]
["7DAWrJ4FEll4vr7SY3agoa","AQ 11 GLOBALG.A.P. STATUS","Note regarding GLOBALG.A.P.: This section applies to benchmarking, as well. In the case of benchmarked checklists/schemes, the respective checklist/scheme status and the GLOBALG.A.P. Number (GGN) must be included in all transaction documentation.",11,{"$nulls":21},"1o8mD6EnK5wQwCEJoONfYj5TvyR0UgB0EOmnMkFaZftX",{"$f":"INDEX(allsections[[S]:[Order]],MATCH(X70,allsections[SGUID],0),3)","v":{"$error":"#N/A"}},{"$f":"INDEX(allsections[[S]:[Order]],MATCH(Y70,allsections[SGUID],0),3)","v":{"$error":"#N/A"}},"58WTVNVDK4Ume50K5PgLp8"]
["5jzyQhmb27D4nmyslaqw29","HOP 12 LABORATORY TESTING",null,12,{"$nulls":21},"hQNd2uxITz3h9L5NA0Esq5TvyR0UgB0EOmnMkFaZftX",{"$f":"INDEX(allsections[[S]:[Order]],MATCH(X71,allsections[SGUID],0),3)","v":{"$error":"#N/A"}},{"$f":"INDEX(allsections[[S]:[Order]],MATCH(Y71,allsections[SGUID],0),3)","v":{"$error":"#N/A"}},"3xlZz6JmRE4HFuwrRO1r2S"]
["3J24Glrer1437lwsauUMDz","TIME RECORDING SYSTEMS","-",12,{"$nulls":21},"7M8kd0W9wjpA8V5QSHHaVd5TvyR0UgB0EOmnMkFaZftX",{"$f":"INDEX(allsections[[S]:[Order]],MATCH(X72,allsections[SGUID],0),3)","v":{"$error":"#N/A"}},{"$f":"INDEX(allsections[[S]:[Order]],MATCH(Y72,allsections[SGUID],0),3)","v":{"$error":"#N/A"}},"3i65Y6w8pawwjTCuz8gb8"]
["4C2gsJHZv4iinAHFdFqzqK","QMS 12 Qualification Requirements","-",12,{"$nulls":21},"6fz1ZcgpxCeEz3mRGrevNc5TvyR0UgB0EOmnMkFaZftX",{"$f":"INDEX(allsections[[S]:[Order]],MATCH(X73,allsections[SGUID],0),3)","v":{"$error":"#N/A"}},{"$f":"INDEX(allsections[[S]:[Order]],MATCH(Y73,allsections[SGUID],0),3)","v":{"$error":"#N/A"}},"5ezBOW4OM7h3xswjobcn8m"]
["QZfIR1aSAjL2YcUqo376X","AQ 12 LOGO USE","Note regarding GLOBALG.A.P.: The producer shall describe how to ensure that the GLOBALG.A.P. logo and GLOBALG.A.P. Number (GGN) are used only according to the rules below.",12,{"$nulls":21},"seSMMRr8dVZQE1tIIM2oM5TvyR0UgB0EOmnMkFaZftX",{"$f":"INDEX(allsections[[S]:[Order]],MATCH(X74,allsections[SGUID],0),3)","v":{"$error":"#N/A"}},{"$f":"INDEX(allsections[[S]:[Order]],MATCH(Y74,allsections[SGUID],0),3)","v":{"$error":"#N/A"}},"7mTvLK77vxTlPW7BXvRIOf"]
["31r3O7m6YdmvyCuOWIOMh6","FV 12 LABORATORY TESTING","-",12,{"$nulls":21},"19R27icHjrePmOqhbMVB4F5TvyR0UgB0EOmnMkFaZftX",{"$f":"INDEX(allsections[[S]:[Order]],MATCH(X75,allsections[SGUID],0),3)","v":{"$error":"#N/A"}},{"$f":"INDEX(allsections[[S]:[Order]],MATCH(Y75,allsections[SGUID],0),3)","v":{"$error":"#N/A"}},"2pHZJgTGPA84Xwpm4WJaxJ"]
["4a4Qd6ndeeA7u3kN8ZP1We","FO 12 WORKERS’ HEALTH AND SAFETY","People are key to the safe and efficient operation of any farm. Workers and contractors as well as producers themselves stand for their own health and safety and for environmental protection. Education and training will help progress towards sustainability and build on social capital. This section is meant to ensure safe practices in the workplace and that all workers both understand and are competent to perform their duties; are provided with proper equipment to allow them to work safely; and that, in the event of accidents, can obtain proper and timely assistance.",12,{"$nulls":21},"bxrVXJ4xWVl7PtHasGENb5TvyR0UgB0EOmnMkFaZftX",{"$f":"INDEX(allsections[[S]:[Order]],MATCH(X76,allsections[SGUID],0),3)","v":{"$error":"#N/A"}},{"$f":"INDEX(allsections[[S]:[Order]],MATCH(Y76,allsections[SGUID],0),3)","v":{"$error":"#N/A"}},"2tePLGGbiJv3jtJZF5CIfx"]
["1EgtVf0gt9faAZ208UKbhp","HOP 13 EQUIPMENT AND DEVICES",null,13,{"$nulls":21},"7w9H6anypUchjmMOZrr9fi5TvyR0UgB0EOmnMkFaZftX",{"$f":"INDEX(allsections[[S]:[Order]],MATCH(X77,allsections[SGUID],0),3)","v":{"$error":"#N/A"}},{"$f":"INDEX(allsections[[S]:[Order]],MATCH(Y77,allsections[SGUID],0),3)","v":{"$error":"#N/A"}},"5nrqZ7t89mfk2UA6vzgGcN"]
["3REBipJjMBilm8fOUb7AAk","WORKING HOURS","-",13,{"$nulls":21},"3Ff44zJMwGkTtn6xQrauV05TvyR0UgB0EOmnMkFaZftX",{"$f":"INDEX(allsections[[S]:[Order]],MATCH(X78,allsections[SGUID],0),3)","v":{"$error":"#N/A"}},{"$f":"INDEX(allsections[[S]:[Order]],MATCH(Y78,allsections[SGUID],0),3)","v":{"$error":"#N/A"}},"5t5wsyqtNc24tecbhYhTvh"]
["64cWD91pr0geaTi2ASvLb","FV 13 EQUIPMENT AND DEVICES","-",13,{"$nulls":21},"LIlGAXC7dgnKPjxv0CHy95TvyR0UgB0EOmnMkFaZftX",{"$f":"INDEX(allsections[[S]:[Order]],MATCH(X79,allsections[SGUID],0),3)","v":{"$error":"#N/A"}},{"$f":"INDEX(allsections[[S]:[Order]],MATCH(Y79,allsections[SGUID],0),3)","v":{"$error":"#N/A"}},"5LfsN14hZxjJrC1qVhlfHB"]
["48aQAsWhk4FCpRyiTfbQDc","FO 13 WORKERS’ WELFARE","-",13,{"$nulls":21},"3J24Glrer1437lwsauUMDz5TvyR0UgB0EOmnMkFaZftX",{"$f":"INDEX(allsections[[S]:[Order]],MATCH(X80,allsections[SGUID],0),3)","v":{"$error":"#N/A"}},{"$f":"INDEX(allsections[[S]:[Order]],MATCH(Y80,allsections[SGUID],0),3)","v":{"$error":"#N/A"}},"hcFw5wMLFaiExYWIuW3HR"]
["3WOTX6z9yCADtqy7fUTDJn","AQ 13 PARALLEL OWNERSHIP","This section applies to all producers who need to register for parallel ownership (where products originating from certified and noncertified production processes are produced and/or owned by one legal entity). It does not apply to producers who want to achieve certification for 100% of the production processes of all products in their GLOBALG.A.P. scope and buy none of those products from other producers (with certification or not).",13,{"$nulls":21},"3REBipJjMBilm8fOUb7AAk5TvyR0UgB0EOmnMkFaZftX",{"$f":"INDEX(allsections[[S]:[Order]],MATCH(X81,allsections[SGUID],0),3)","v":{"$error":"#N/A"}},{"$f":"INDEX(allsections[[S]:[Order]],MATCH(Y81,allsections[SGUID],0),3)","v":{"$error":"#N/A"}},"6ove6rRf30wOh0RFzdNX5o"]
["17ftYiGJQGfvC82XpjU1HE","HOP 14 FOOD SAFETY POLICY DECLARATION",null,14,{"$nulls":21},"5QcqRKjyugITtX9F5mWxJx5TvyR0UgB0EOmnMkFaZftX",{"$f":"INDEX(allsections[[S]:[Order]],MATCH(X82,allsections[SGUID],0),3)","v":{"$error":"#N/A"}},{"$f":"INDEX(allsections[[S]:[Order]],MATCH(Y82,allsections[SGUID],0),3)","v":{"$error":"#N/A"}},"3Ev1KFMhyrnTFo21odXMFb"]
["5QcqRKjyugITtX9F5mWxJx","DISCIPLINARY PROCEDURES","-",14,{"$nulls":21},"1NXB83vWchkgtYCMUnCsww4vucxRo0LZSSTw9GJs9K5C",{"$f":"INDEX(allsections[[S]:[Order]],MATCH(X83,allsections[SGUID],0),3)","v":{"$error":"#N/A"}},{"$f":"INDEX(allsections[[S]:[Order]],MATCH(Y83,allsections[SGUID],0),3)","v":{"$error":"#N/A"}},"2r0PKamibVjT154Mt6ZyZr"]
["7bt3lOtOqh5dlKm5Rqrjx4","FV 14 FOOD SAFETY POLICY DECLARATION","-",14,{"$nulls":21},"1NXB83vWchkgtYCMUnCsww3xDgKt7CA6fhZm7YTtTFG0",{"$f":"INDEX(allsections[[S]:[Order]],MATCH(X84,allsections[SGUID],0),3)","v":{"$error":"#N/A"}},{"$f":"INDEX(allsections[[S]:[Order]],MATCH(Y84,allsections[SGUID],0),3)","v":{"$error":"#N/A"}},"5FrsC2nPPjN1tPrqF38xnE"]
["Ttg0N6A2FwKCNo4IteaLK","AQ 14 FARM MASS BALANCE","This section applies to all producers applying for or keeping GLOBALG.A.P. certification. In the case of producer group members, this information may sometimes be covered under the quality management system (QMS) of the producer group.",14,{"$nulls":21},"1NXB83vWchkgtYCMUnCswwppb9y4rPwbUUBCj5QAkxS",{"$f":"INDEX(allsections[[S]:[Order]],MATCH(X85,allsections[SGUID],0),3)","v":{"$error":"#N/A"}},{"$f":"INDEX(allsections[[S]:[Order]],MATCH(Y85,allsections[SGUID],0),3)","v":{"$error":"#N/A"}},"59FpkfZMxeZJmF6taxFjwS"]
["79NJXc4l9NQEbbeDhi7yAn","HOP 15 FOOD DEFENSE",null,15,{"$nulls":21},"1NXB83vWchkgtYCMUnCsww67jQXmb714JA7JO68yT9WJ",{"$f":"INDEX(allsections[[S]:[Order]],MATCH(X86,allsections[SGUID],0),3)","v":{"$error":"#N/A"}},{"$f":"INDEX(allsections[[S]:[Order]],MATCH(Y86,allsections[SGUID],0),3)","v":{"$error":"#N/A"}},"4X9BF4KV3KpGvjFEy9t02S"]
["ndILr7BDGoGn3oFrbuSXm","QMS","-",15,{"$nulls":21},"1NXB83vWchkgtYCMUnCsww6vMdfJ8gSRxB94Qur9PIUJ",{"$f":"INDEX(allsections[[S]:[Order]],MATCH(X87,allsections[SGUID],0),3)","v":{"$error":"#N/A"}},{"$f":"INDEX(allsections[[S]:[Order]],MATCH(Y87,allsections[SGUID],0),3)","v":{"$error":"#N/A"}},"2aIuef5OdB7kGvevIlVid9"]
["48EClxc2uJIvBOW8IlSEPt","FV 15 FOOD DEFENSE","-",15,{"$nulls":21},"1NXB83vWchkgtYCMUnCsww65YhqSh0effwCLgSU5PKWi",{"$f":"INDEX(allsections[[S]:[Order]],MATCH(X88,allsections[SGUID],0),3)","v":{"$error":"#N/A"}},{"$f":"INDEX(allsections[[S]:[Order]],MATCH(Y88,allsections[SGUID],0),3)","v":{"$error":"#N/A"}},"qZvs4TjomzUExYXBkpMKW"]
["MyNM2sLtxWP06FudRhDir","AQ 15 FOOD SAFETY POLICY DECLARATION","The food safety policy declaration unambiguously reflects the producer’s commitment to ensuring that food safety is implemented and maintained throughout the production processes.",15,{"$nulls":21},"3teX4BYt2AW8sJqpMJrRZD5TvyR0UgB0EOmnMkFaZftX",{"$f":"INDEX(allsections[[S]:[Order]],MATCH(X89,allsections[SGUID],0),3)","v":{"$error":"#N/A"}},{"$f":"INDEX(allsections[[S]:[Order]],MATCH(Y89,allsections[SGUID],0),3)","v":{"$error":"#N/A"}},"5T3UvZaLT1LryLjS4jgcrV"]
["AqZg0D6YeGl82j7kk861G","HOP 16 FOOD FRAUD",null,16,{"$nulls":21},"3teX4BYt2AW8sJqpMJrRZD6gNXFot9bj2qIYf6UMlESC",{"$f":"INDEX(allsections[[S]:[Order]],MATCH(X90,allsections[SGUID],0),3)","v":{"$error":"#N/A"}},{"$f":"INDEX(allsections[[S]:[Order]],MATCH(Y90,allsections[SGUID],0),3)","v":{"$error":"#N/A"}},"67Rg4LUUS8mYWayFKFeccw"]
["2o0PHrjwVpc8TxdOBpkPzy","FV 16 FOOD FRAUD","-",16,{"$nulls":21},"3teX4BYt2AW8sJqpMJrRZD1BZRMD4dae6RuHe1e220IE",{"$f":"INDEX(allsections[[S]:[Order]],MATCH(X91,allsections[SGUID],0),3)","v":{"$error":"#N/A"}},{"$f":"INDEX(allsections[[S]:[Order]],MATCH(Y91,allsections[SGUID],0),3)","v":{"$error":"#N/A"}},"6LU9T2x3GUeO9PkWkr9LvE"]
["78lhTFJm2kvuowgAOftnD0","AQ 16 FOOD FRAUD MITIGATION ","Food fraud may occur on primary production when suppliers provide input products/materials that do not match the specifications. This may cause public health crises, and therefore producers should take measures to mitigate these risks. Food fraud occurs when food is deliberately placed on the market, for financial gain, with the intention of deceiving the consumer (e.g., the sale of food that is unfit and potentially harmful, the deliberate misdescription of food, etc.). It may also involve the sale of food that has been stolen and/or illegally produced.",16,{"$nulls":21},"iX5cwfCbucoiOoSsaucW15TvyR0UgB0EOmnMkFaZftX",{"$f":"INDEX(allsections[[S]:[Order]],MATCH(X92,allsections[SGUID],0),3)","v":{"$error":"#N/A"}},{"$f":"INDEX(allsections[[S]:[Order]],MATCH(Y92,allsections[SGUID],0),3)","v":{"$error":"#N/A"}},"40IDuslcek7Wi4kOcQqOH5"]
["2mT42AzGqaTB4SqjuCAb8l","HOP 17 LOGO USE",null,17,{"$nulls":21},"iX5cwfCbucoiOoSsaucW14cLbnSmkp5Cb5himLWnflc",{"$f":"INDEX(allsections[[S]:[Order]],MATCH(X93,allsections[SGUID],0),3)","v":{"$error":"#N/A"}},{"$f":"INDEX(allsections[[S]:[Order]],MATCH(Y93,allsections[SGUID],0),3)","v":{"$error":"#N/A"}},"3HiLPY3tc1HNXh1gmlfFbz"]
["56UycwhshuG3OMlSB7ahAa","FV 17 LOGO USE","-",17,{"$nulls":21},"iX5cwfCbucoiOoSsaucW16cqHYchodcu4mfags7nEfI",{"$f":"INDEX(allsections[[S]:[Order]],MATCH(X94,allsections[SGUID],0),3)","v":{"$error":"#N/A"}},{"$f":"INDEX(allsections[[S]:[Order]],MATCH(Y94,allsections[SGUID],0),3)","v":{"$error":"#N/A"}},"vn5z8mrMlS4ioHBCD4AeP"]
["5HjMxha5zh3JmCKzoQNaGT","AQ 17 SPECIFICATIONS, NON-CONFORMING PRODUCTS, AND PRODUCT RELEASE AT THE FARM","-",17,{"$nulls":21},"1sjYNSfPgvLzeUoltfbbdl5TvyR0UgB0EOmnMkFaZftX",{"$f":"INDEX(allsections[[S]:[Order]],MATCH(X95,allsections[SGUID],0),3)","v":{"$error":"#N/A"}},{"$f":"INDEX(allsections[[S]:[Order]],MATCH(Y95,allsections[SGUID],0),3)","v":{"$error":"#N/A"}},"40x6bn3DPLMkitJJ1rHzLG"]
["5AYuYvAyD5dx1XUm0wkNUh","HOP 18 GLOBALG.A.P. STATUS",null,18,{"$nulls":21},"4riK5U0xPiGEWHpHRmn4Nr5TvyR0UgB0EOmnMkFaZftX",{"$f":"INDEX(allsections[[S]:[Order]],MATCH(X96,allsections[SGUID],0),3)","v":{"$error":"#N/A"}},{"$f":"INDEX(allsections[[S]:[Order]],MATCH(Y96,allsections[SGUID],0),3)","v":{"$error":"#N/A"}},"2o53cxprZfNYjtrRLARqPe"]
["6cVkk3FsKVyXw3Axz1X0EJ","AQ 18 REPRODUCTION – This section provides the additional principles and criteria specifically to hatcheries, when covered under the certificate.","-",18,{"$nulls":21},"4riK5U0xPiGEWHpHRmn4Nr3DacSTY4JYjnci5zdyhJco",{"$f":"INDEX(allsections[[S]:[Order]],MATCH(X97,allsections[SGUID],0),3)","v":{"$error":"#N/A"}},{"$f":"INDEX(allsections[[S]:[Order]],MATCH(Y97,allsections[SGUID],0),3)","v":{"$error":"#N/A"}},"6D7XlpsfOTAtAS415druSY"]
["5OZ3Oy0MVM5jXao9ZvAlrA","FV 18 GLOBALG.A.P. STATUS","-",18,{"$nulls":21},"4riK5U0xPiGEWHpHRmn4Nr5H57GE3E0oeJiTQUwzLR4e",{"$f":"INDEX(allsections[[S]:[Order]],MATCH(X98,allsections[SGUID],0),3)","v":{"$error":"#N/A"}},{"$f":"INDEX(allsections[[S]:[Order]],MATCH(Y98,allsections[SGUID],0),3)","v":{"$error":"#N/A"}},"78vweBqIAPgNjyuDvL5tQW"]
["5y6C5KZtGFA5bRC3q2nOtJ","HOP 19 HYGIENE",null,19,{"$nulls":21},"4riK5U0xPiGEWHpHRmn4NrTNECOkMrplT0VST5e7LlI",{"$f":"INDEX(allsections[[S]:[Order]],MATCH(X99,allsections[SGUID],0),3)","v":{"$error":"#N/A"}},{"$f":"INDEX(allsections[[S]:[Order]],MATCH(Y99,allsections[SGUID],0),3)","v":{"$error":"#N/A"}},"6axYXAy7Yu1eJic25oc7jd"]
["4G6L5rXAv5opyJXaaJSspR","AQ 19 CHEMICAL COMPOUNDS\n\n","Refer to the introduction, section “Chemical compounds”.",19,{"$nulls":21},"5ZsnePvk5YgFXWZV6SeLdd5TvyR0UgB0EOmnMkFaZftX",{"$f":"INDEX(allsections[[S]:[Order]],MATCH(X100,allsections[SGUID],0),3)","v":{"$error":"#N/A"}},{"$f":"INDEX(allsections[[S]:[Order]],MATCH(Y100,allsections[SGUID],0),3)","v":{"$error":"#N/A"}},"5Q3aemgYbztipmapDUzbAq"]
["1gpvHRL3jcuK0YTVBxeDJK","FV 19 HYGIENE","-",19,{"$nulls":21},"7ue3ZV8NziRZnY4dzUsISX5TvyR0UgB0EOmnMkFaZftX",{"$f":"INDEX(allsections[[S]:[Order]],MATCH(X101,allsections[SGUID],0),3)","v":{"$error":"#N/A"}},{"$f":"INDEX(allsections[[S]:[Order]],MATCH(Y101,allsections[SGUID],0),3)","v":{"$error":"#N/A"}},"5mIblZRyfNdC1gOQNXaVhW"]
["1STSYkQfJC6sJCHTl0LQ4B","HOP 20 WORKERS’ HEALTH, SAFETY, AND WELFARE",null,20,{"$nulls":21},"35yeNtmczlcF0LL6aw5z155TvyR0UgB0EOmnMkFaZftX",{"$f":"INDEX(allsections[[S]:[Order]],MATCH(X102,allsections[SGUID],0),3)","v":{"$error":"#N/A"}},{"$f":"INDEX(allsections[[S]:[Order]],MATCH(Y102,allsections[SGUID],0),3)","v":{"$error":"#N/A"}},"2I3a6saOrNcDjLiwnbyc1J"]
["2apQYV4sVGueZxb722p882","FV 20 WORKERS’ HEALTH, SAFETY, AND WELFARE","-",20,{"$nulls":21},"6ODApAejiQtNrOwOQO5Tai5TvyR0UgB0EOmnMkFaZftX",{"$f":"INDEX(allsections[[S]:[Order]],MATCH(X103,allsections[SGUID],0),3)","v":{"$error":"#N/A"}},{"$f":"INDEX(allsections[[S]:[Order]],MATCH(Y103,allsections[SGUID],0),3)","v":{"$error":"#N/A"}},"65eMYjfTV3cmvpL1heqaBJ"]
["4pvzWZLf4r0AsvpuWuoYAC","AQ 20 FARMED AQUATIC SPECIES WELFARE, MANAGEMENT, AND HUSBANDRY (at all points of the production chain)","Any farmed aquatic species welfare problems seen during the self-assessment/internal audit performed by the producer must be dealt appropriately and without delay.",20,{"$nulls":21},"22fWhXIF7ToLyYWekldl825TvyR0UgB0EOmnMkFaZftX",{"$f":"INDEX(allsections[[S]:[Order]],MATCH(X104,allsections[SGUID],0),3)","v":{"$error":"#N/A"}},{"$f":"INDEX(allsections[[S]:[Order]],MATCH(Y104,allsections[SGUID],0),3)","v":{"$error":"#N/A"}},"7KTNT5W2dnohnL5waZkYY2"]
["4Igs0TcvRtcZaLqERpBzyw","AQ 21 SAMPLING AND TESTING OF FARMED AQUATIC SPECIES","-",21,{"$nulls":21},"6r5HimlyZ0M2nrD6K2tkEv2rWrYhbbVlHZkKXd3fJaOG",{"$f":"INDEX(allsections[[S]:[Order]],MATCH(X105,allsections[SGUID],0),3)","v":{"$error":"#N/A"}},{"$f":"INDEX(allsections[[S]:[Order]],MATCH(Y105,allsections[SGUID],0),3)","v":{"$error":"#N/A"}},"Oe1ablyCFkYTPh0hD5hws"]
["3yiKvwYoXBHDoxipYV9gbp","HOP 21 SITE MANAGEMENT",null,21,{"$nulls":21},"6r5HimlyZ0M2nrD6K2tkEv4LkoX8uL7IKysZNtMA9ACA",{"$f":"INDEX(allsections[[S]:[Order]],MATCH(X106,allsections[SGUID],0),3)","v":{"$error":"#N/A"}},{"$f":"INDEX(allsections[[S]:[Order]],MATCH(Y106,allsections[SGUID],0),3)","v":{"$error":"#N/A"}},"6l8T1OwYI1xOmNZdJ6Oe4e"]
["3BmiRfV14Y9UArHysfO3zs","FV 21 SITE MANAGEMENT","-",21,{"$nulls":21},"6r5HimlyZ0M2nrD6K2tkEv68QqPVS7uQ4h17EehtW3dB",{"$f":"INDEX(allsections[[S]:[Order]],MATCH(X107,allsections[SGUID],0),3)","v":{"$error":"#N/A"}},{"$f":"INDEX(allsections[[S]:[Order]],MATCH(Y107,allsections[SGUID],0),3)","v":{"$error":"#N/A"}},"D1P1Goj92jYoNU4WguRQW"]
["3ov8Ci8FQzD3sYIYu2RpnL","HOP 22 BIODIVERSITY AND HABITATS",null,22,{"$nulls":21},"4C2gsJHZv4iinAHFdFqzqK1VqzFhqArY3cojASXB90xU",{"$f":"INDEX(allsections[[S]:[Order]],MATCH(X108,allsections[SGUID],0),3)","v":{"$error":"#N/A"}},{"$f":"INDEX(allsections[[S]:[Order]],MATCH(Y108,allsections[SGUID],0),3)","v":{"$error":"#N/A"}},"3AUALHBmd06oM88tMS9jZe"]
["6vDiuqvJNOSRl5wyT01Pym","FV 22 BIODIVERSITY AND HABITATS","-",22,{"$nulls":21},"4C2gsJHZv4iinAHFdFqzqK5YUhVcJlBJEi7I8LspLadi",{"$f":"INDEX(allsections[[S]:[Order]],MATCH(X109,allsections[SGUID],0),3)","v":{"$error":"#N/A"}},{"$f":"INDEX(allsections[[S]:[Order]],MATCH(Y109,allsections[SGUID],0),3)","v":{"$error":"#N/A"}},"5EvAdfrPlA0NW2KYET1Ogy"]
["6inH5pgUJeX8hyB3EYnjvL","AQ 22 FEED MANAGEMENT ","While the aquaculture industry is expected to grow in the future, reliance on forage fish use in feed should not. Sustainable sourcing, efficient use of marine ingredients, and the use of alternatives to forage fish are fundamental steps to reducing and eliminating detrimental effects in the marine ecosystem. Refer to the GLOBALG.A.P. Compound Feed Manufacturing standard.",22,{"$nulls":21},"4C2gsJHZv4iinAHFdFqzqK6tORAFbgXTHTA03U5KBq2e",{"$f":"INDEX(allsections[[S]:[Order]],MATCH(X110,allsections[SGUID],0),3)","v":{"$error":"#N/A"}},{"$f":"INDEX(allsections[[S]:[Order]],MATCH(Y110,allsections[SGUID],0),3)","v":{"$error":"#N/A"}},"794ci54zUVeeTyCkKxaIDB"]
["7tJdxC0MUJe1HSs3MotQlM","HOP 23 ENERGY EFFICIENCY",null,23,{"$nulls":21},"4C2gsJHZv4iinAHFdFqzqK4hGEPqL5l7s3DOLYKtvmbC",{"$f":"INDEX(allsections[[S]:[Order]],MATCH(X111,allsections[SGUID],0),3)","v":{"$error":"#N/A"}},{"$f":"INDEX(allsections[[S]:[Order]],MATCH(Y111,allsections[SGUID],0),3)","v":{"$error":"#N/A"}},"1q2hGGDrL7xPbQ1LvXpV26"]
["2lCsmz9pLx7NagHecV9mpX","FV 23 ENERGY EFFICIENCY","-",23,{"$nulls":21},"4C2gsJHZv4iinAHFdFqzqK3wx6HUisx5HDpRwFvCTwWN",{"$f":"INDEX(allsections[[S]:[Order]],MATCH(X112,allsections[SGUID],0),3)","v":{"$error":"#N/A"}},{"$f":"INDEX(allsections[[S]:[Order]],MATCH(Y112,allsections[SGUID],0),3)","v":{"$error":"#N/A"}},"3T9Lafr1Dn5eaj06Z1a1Bn"]
["6NkzRvY2LtIEq9u93VYbsg","AQ 23 PEST CONTROL","-",23,{"$nulls":21},"4C2gsJHZv4iinAHFdFqzqK3uom9p3qca6ax7AaTTK2QT",{"$f":"INDEX(allsections[[S]:[Order]],MATCH(X113,allsections[SGUID],0),3)","v":{"$error":"#N/A"}},{"$f":"INDEX(allsections[[S]:[Order]],MATCH(Y113,allsections[SGUID],0),3)","v":{"$error":"#N/A"}},"qp2SWgp44Toj1oTs4KmKI"]
["7zYHRKozLWyZJNsLHlqmWj","HOP 24 GREENHOUSE-GASES AND CLIMATE CHANGE",null,24,{"$nulls":21},"4C2gsJHZv4iinAHFdFqzqK1wFLkLpapYX6o9clnCsMpf",{"$f":"INDEX(allsections[[S]:[Order]],MATCH(X114,allsections[SGUID],0),3)","v":{"$error":"#N/A"}},{"$f":"INDEX(allsections[[S]:[Order]],MATCH(Y114,allsections[SGUID],0),3)","v":{"$error":"#N/A"}},"79dQtq6ga2pL5svjyI9vwJ"]
["1YbYgCwF5emApZVepFq1X1","AQ 24 HARVESTING AND POSTHARVESTING OPERATIONS","-",24,{"$nulls":21},"4C2gsJHZv4iinAHFdFqzqK5aNPbKKRWAA60MBjo0xV4c",{"$f":"INDEX(allsections[[S]:[Order]],MATCH(X115,allsections[SGUID],0),3)","v":{"$error":"#N/A"}},{"$f":"INDEX(allsections[[S]:[Order]],MATCH(Y115,allsections[SGUID],0),3)","v":{"$error":"#N/A"}},"sRjWGUiOhcqw76XsR8gAI"]
["2qQW5LAimcgbwLksFTh6tg","FV 24 GREENHOUSE-GASES AND CLIMATE CHANGE","-",24,{"$nulls":21},"4C2gsJHZv4iinAHFdFqzqK2Uopg36JNeaciZYcYszEzl",{"$f":"INDEX(allsections[[S]:[Order]],MATCH(X116,allsections[SGUID],0),3)","v":{"$error":"#N/A"}},{"$f":"INDEX(allsections[[S]:[Order]],MATCH(Y116,allsections[SGUID],0),3)","v":{"$error":"#N/A"}},"01tN17HCTCOfRqB0HpKw6Y"]
["2oNaOXs0DVeMiQZPYCn5r7","HOP 25 WASTE MANAGEMENT",null,25,{"$nulls":21},"6wlTC8ogftkq4iCmKwM5w91QBze7NaIYiHw7VdVlbt4H",{"$f":"INDEX(allsections[[S]:[Order]],MATCH(X117,allsections[SGUID],0),3)","v":{"$error":"#N/A"}},{"$f":"INDEX(allsections[[S]:[Order]],MATCH(Y117,allsections[SGUID],0),3)","v":{"$error":"#N/A"}},"1KTkWDhfrJeGjNaGLlu9N0"]
["4UI39RIn6YI8gQZpGRKexG","FV 25 WASTE MANAGEMENT","-",25,{"$nulls":21},"6wlTC8ogftkq4iCmKwM5w962pcFPkt77OZum9a77v4Bc",{"$f":"INDEX(allsections[[S]:[Order]],MATCH(X118,allsections[SGUID],0),3)","v":{"$error":"#N/A"}},{"$f":"INDEX(allsections[[S]:[Order]],MATCH(Y118,allsections[SGUID],0),3)","v":{"$error":"#N/A"}},"5xEVaZMRr4rPr0X5emTIed"]
["61TDaidZRAGqCBPGs8ha8G","AQ 25 HOLDING AND CROWDING FACILITIES","-",25,{"$nulls":21},"6wlTC8ogftkq4iCmKwM5w95WJHGPTTWb7MtMDRBmMa6c",{"$f":"INDEX(allsections[[S]:[Order]],MATCH(X119,allsections[SGUID],0),3)","v":{"$error":"#N/A"}},{"$f":"INDEX(allsections[[S]:[Order]],MATCH(Y119,allsections[SGUID],0),3)","v":{"$error":"#N/A"}},"37fXovEh91vOo3rWoXQeeB"]
["1PygzsgwT1kH98NoRIqHJK","HOP 26 PLANT PROPAGATION MATERIAL",null,26,{"$nulls":21},"6wlTC8ogftkq4iCmKwM5w9198tyEsFhpRSGa7ciBtswI",{"$f":"INDEX(allsections[[S]:[Order]],MATCH(X120,allsections[SGUID],0),3)","v":{"$error":"#N/A"}},{"$f":"INDEX(allsections[[S]:[Order]],MATCH(Y120,allsections[SGUID],0),3)","v":{"$error":"#N/A"}},"2hLNcKAKs5NIk2b92G5cU2"]
["12V2s4FpWw8zBFdb1VY42A","AQ 26 SLAUGHTER ACTIVITIES","-",26,{"$nulls":21},"6wlTC8ogftkq4iCmKwM5w9zq9mC4X4axaBhi2FBiFDN",{"$f":"INDEX(allsections[[S]:[Order]],MATCH(X121,allsections[SGUID],0),3)","v":{"$error":"#N/A"}},{"$f":"INDEX(allsections[[S]:[Order]],MATCH(Y121,allsections[SGUID],0),3)","v":{"$error":"#N/A"}},"5KtGpFDOZJqtfY2fIRqZm8"]
["3Xuqd2nxrHRHWBMMAl2PDV","FV 26 PLANT PROPAGATION MATERIAL","-",26,{"$nulls":21},"6wlTC8ogftkq4iCmKwM5w910c0y7GWMTWtoirCquzgD2",{"$f":"INDEX(allsections[[S]:[Order]],MATCH(X122,allsections[SGUID],0),3)","v":{"$error":"#N/A"}},{"$f":"INDEX(allsections[[S]:[Order]],MATCH(Y122,allsections[SGUID],0),3)","v":{"$error":"#N/A"}},"SEQt0LTaINvR7ShWuB8sk"]
["2zKr6OtZT3ieaBkkiQdRnE","HOP 27 GENETICALLY MODIFIED ORGANISMS",null,27,{"$nulls":21},"awxbzDqiAc5w5F9Xaavfk5TvyR0UgB0EOmnMkFaZftX",{"$f":"INDEX(allsections[[S]:[Order]],MATCH(X123,allsections[SGUID],0),3)","v":{"$error":"#N/A"}},{"$f":"INDEX(allsections[[S]:[Order]],MATCH(Y123,allsections[SGUID],0),3)","v":{"$error":"#N/A"}},"6ppjGKAbGM5VIqSujIYrHY"]
["fpZn5YAfrwOfpIHt5wBr7","AQ 27 DEPURATION","-",27,{"$nulls":21},"7DAWrJ4FEll4vr7SY3agoa5TvyR0UgB0EOmnMkFaZftX",{"$f":"INDEX(allsections[[S]:[Order]],MATCH(X124,allsections[SGUID],0),3)","v":{"$error":"#N/A"}},{"$f":"INDEX(allsections[[S]:[Order]],MATCH(Y124,allsections[SGUID],0),3)","v":{"$error":"#N/A"}},"23ZO57D7EyypjkkiWSWNQk"]
["30jEVEr91nZpdd9cxyULwz","FV 27 GENETICALLY MODIFIED ORGANISMS","-",27,{"$nulls":21},"Ttg0N6A2FwKCNo4IteaLK5TvyR0UgB0EOmnMkFaZftX",{"$f":"INDEX(allsections[[S]:[Order]],MATCH(X125,allsections[SGUID],0),3)","v":{"$error":"#N/A"}},{"$f":"INDEX(allsections[[S]:[Order]],MATCH(Y125,allsections[SGUID],0),3)","v":{"$error":"#N/A"}},"4DXJBMYXEpyZXy4TyT4YQR"]
["38FoI2x9MvJMWYmW9A94FP","HOP 28 SOIL AND SUBSTRATE MANAGEMENT",null,28,{"$nulls":21},"1w2d3I6CuKthFEEDJPAfK25TvyR0UgB0EOmnMkFaZftX",{"$f":"INDEX(allsections[[S]:[Order]],MATCH(X126,allsections[SGUID],0),3)","v":{"$error":"#N/A"}},{"$f":"INDEX(allsections[[S]:[Order]],MATCH(Y126,allsections[SGUID],0),3)","v":{"$error":"#N/A"}},"4QXLZknWQnGgnf1s2Squ4p"]
["19FqK7ekLK0m3iLHchTn8h","FV 28 SOIL AND SUBSTRATE MANAGEMENT","-",28,{"$nulls":21},"2B20jqk2goXcNqV2HX9qhe5TvyR0UgB0EOmnMkFaZftX",{"$f":"INDEX(allsections[[S]:[Order]],MATCH(X127,allsections[SGUID],0),3)","v":{"$error":"#N/A"}},{"$f":"INDEX(allsections[[S]:[Order]],MATCH(Y127,allsections[SGUID],0),3)","v":{"$error":"#N/A"}},"4IFbSwjHov4J6TAVK47Q5l"]
["4DY3EifbqbuiHigOcSYX3F","HOP 28 SOIL MANAGEMENT",null,28,{"$nulls":21},"MyNM2sLtxWP06FudRhDir5TvyR0UgB0EOmnMkFaZftX",{"$f":"INDEX(allsections[[S]:[Order]],MATCH(X128,allsections[SGUID],0),3)","v":{"$error":"#N/A"}},{"$f":"INDEX(allsections[[S]:[Order]],MATCH(Y128,allsections[SGUID],0),3)","v":{"$error":"#N/A"}},"3TZ8Abr9rBhG4b2REuJghw"]
["6wlTC8ogftkq4iCmKwM5w9","AQ 28 POSTHARVEST – MASS BALANCE AND TRACEABILITY","\"Legal entities that perform farming and postharvest handling of farmed aquatic species shall demonstrate compliance with the mass balance and traceability criteria at the postharvest units.\n\nFor the sake of simplicity, this section will use the terms “certified products,” “certified producers,” and “certified sources.” However, products, producers, and companies themselves are not certified. “Certified product” refers instead to a product originating from an Integrated Farm Assurance (IFA) certified production process. “Certified producer” and “certified sources” refer to a producer/source whose production processes have been certified.\"",28,{"$nulls":21},"7EkiTjscQQ9YBuIWe6RZFk5TvyR0UgB0EOmnMkFaZftX",{"$f":"INDEX(allsections[[S]:[Order]],MATCH(X129,allsections[SGUID],0),3)","v":{"$error":"#N/A"}},{"$f":"INDEX(allsections[[S]:[Order]],MATCH(Y129,allsections[SGUID],0),3)","v":{"$error":"#N/A"}},"6Zw0pPyeSgJ417YfAqafgC"]
["3mzqvFtvshFUd9FG5jPpxS","HOP 29 FERTILIZERS AND BIOSTIMULANTS",null,29,{"$nulls":21},"78lhTFJm2kvuowgAOftnD05TvyR0UgB0EOmnMkFaZftX",{"$f":"INDEX(allsections[[S]:[Order]],MATCH(X130,allsections[SGUID],0),3)","v":{"$error":"#N/A"}},{"$f":"INDEX(allsections[[S]:[Order]],MATCH(Y130,allsections[SGUID],0),3)","v":{"$error":"#N/A"}},"3HkHCaJAY8U3Pyyr510VNm"]
["5nPf6FvRIaYhUohxiK6Z4C","FV 29 FERTILIZERS AND BIOSTIMULANTS","-",29,{"$nulls":21},"6NkzRvY2LtIEq9u93VYbsg5TvyR0UgB0EOmnMkFaZftX",{"$f":"INDEX(allsections[[S]:[Order]],MATCH(X131,allsections[SGUID],0),3)","v":{"$error":"#N/A"}},{"$f":"INDEX(allsections[[S]:[Order]],MATCH(Y131,allsections[SGUID],0),3)","v":{"$error":"#N/A"}},"5uCJ7ub4A2ZDh3r7ebhDDD"]
["WIsqyzB7hUCqXcRGmylZ6","HOP 30 WATER MANAGEMENT",null,30,{"$nulls":21},"4G6L5rXAv5opyJXaaJSspR2VMR7eFBhsXQA1k8IjqWQx",{"$f":"INDEX(allsections[[S]:[Order]],MATCH(X132,allsections[SGUID],0),3)","v":{"$error":"#N/A"}},{"$f":"INDEX(allsections[[S]:[Order]],MATCH(Y132,allsections[SGUID],0),3)","v":{"$error":"#N/A"}},"3dbFdi5Qo6RlC4NEidRfe2"]
["696jSQYmLVDJoD3UnofwTY","FV 30 WATER MANAGEMENT","-",30,{"$nulls":21},"2jUiyLvMOWJh04zKpLzls87mYXogZyldja1l4zH5Wvh4",{"$f":"INDEX(allsections[[S]:[Order]],MATCH(X133,allsections[SGUID],0),3)","v":{"$error":"#N/A"}},{"$f":"INDEX(allsections[[S]:[Order]],MATCH(Y133,allsections[SGUID],0),3)","v":{"$error":"#N/A"}},"4tcqaKxItd2UudJKkhirlw"]
["5J6Wg6hIOJWcbwRBTKjslF","HOP 31 INTEGRATED PEST MANAGEMENT",null,31,{"$nulls":21},"2jUiyLvMOWJh04zKpLzls84JDwCyBH1ImTjbVhIZvTq3",{"$f":"INDEX(allsections[[S]:[Order]],MATCH(X134,allsections[SGUID],0),3)","v":{"$error":"#N/A"}},{"$f":"INDEX(allsections[[S]:[Order]],MATCH(Y134,allsections[SGUID],0),3)","v":{"$error":"#N/A"}},"f1ADyJdTgZckMF873LBtG"]
["5QTGwGTKitdKuEwjmkCJSy","FV 31 INTEGRATED PEST MANAGEMENT","-",31,{"$nulls":21},"4G6L5rXAv5opyJXaaJSspR24wmFn53ZJndoxOd1EgcHe",{"$f":"INDEX(allsections[[S]:[Order]],MATCH(X135,allsections[SGUID],0),3)","v":{"$error":"#N/A"}},{"$f":"INDEX(allsections[[S]:[Order]],MATCH(Y135,allsections[SGUID],0),3)","v":{"$error":"#N/A"}},"7d1h0m9pz35YRdo6SUeCBJ"]
["6mrYpZ2GcLZ7AP1RVVry5G","FV 32 PLANT PROTECTION PRODUCTS","-",32,{"$nulls":21},"2rOCEOZ7FKjNjNArXiLHzT5S5Axhf3c7R5yra1GF3lz",{"$f":"INDEX(allsections[[S]:[Order]],MATCH(X136,allsections[SGUID],0),3)","v":{"$error":"#N/A"}},{"$f":"INDEX(allsections[[S]:[Order]],MATCH(Y136,allsections[SGUID],0),3)","v":{"$error":"#N/A"}},"6HdXV2n4nPxqhZZHqKk1IB"]
["57pN9EDRNJdtiagduP3fZW","HOP 32 PLANT PROTECTION PRODUCTS",null,32,{"$nulls":21},"2rOCEOZ7FKjNjNArXiLHzT2nHnjQBzxk2jzqTlOcVbMi",{"$f":"INDEX(allsections[[S]:[Order]],MATCH(X137,allsections[SGUID],0),3)","v":{"$error":"#N/A"}},{"$f":"INDEX(allsections[[S]:[Order]],MATCH(Y137,allsections[SGUID],0),3)","v":{"$error":"#N/A"}},"1GylsZuzswRyx3gGY1kRVP"]
["Rm2o1gaBaALvlfFEiYrMu","HOP 33 POSTHARVEST HANDLING",null,33,{"$nulls":21},"3htAhHdPv9OtsLHNNhtZxHKwyucNsg6nzI6rjENLt3d",{"$f":"INDEX(allsections[[S]:[Order]],MATCH(X138,allsections[SGUID],0),3)","v":{"$error":"#N/A"}},{"$f":"INDEX(allsections[[S]:[Order]],MATCH(Y138,allsections[SGUID],0),3)","v":{"$error":"#N/A"}},"4fZ94v0D7Q3k5nMpXDQ1gU"]
["6SSbkfthK0LYaxbv5b14GB","FV 33 POSTHARVEST HANDLING","-",33,{"$nulls":21},"6GF3xiweshSSrjhesMZt6f5TvyR0UgB0EOmnMkFaZftX",{"$f":"INDEX(allsections[[S]:[Order]],MATCH(X139,allsections[SGUID],0),3)","v":{"$error":"#N/A"}},{"$f":"INDEX(allsections[[S]:[Order]],MATCH(Y139,allsections[SGUID],0),3)","v":{"$error":"#N/A"}},"5cdB0Hk0HWWPoe36r10cTG"]
["3Fg5RTdQ7a6O2THEvpVWrG","FO 01.01 Site history","One of the key features of sustainable farming is the continuous integration of site-specific knowledge and practical experience for future management planning and practices. \nThis section is intended to ensure proper site management based on planning and monitoring own practices and products, including listening to external clients to enhance learning and improvement, ensuring that the land, buildings, and other facilities which constitute the fabric of the farm are properly managed for the safe production of flowers and ornamentals and the protection of the environment.",101,{"$nulls":21},"2PY4EEd6KbBqNYrQrNPBD45TvyR0UgB0EOmnMkFaZftX",{"$f":"INDEX(allsections[[S]:[Order]],MATCH(X140,allsections[SGUID],0),3)","v":{"$error":"#N/A"}},{"$f":"INDEX(allsections[[S]:[Order]],MATCH(Y140,allsections[SGUID],0),3)","v":{"$error":"#N/A"}},"39Hes98vGzeLAvKkKTawVO"]
["7BbYPU8D5VjuX50wR037bc","AQ 01.01 Site history","-",101,{"$nulls":21},"2jUiyLvMOWJh04zKpLzls84owgIkC6nXLa7lsm0MrLOO",{"$f":"INDEX(allsections[[S]:[Order]],MATCH(X141,allsections[SGUID],0),3)","v":{"$error":"#N/A"}},{"$f":"INDEX(allsections[[S]:[Order]],MATCH(Y141,allsections[SGUID],0),3)","v":{"$error":"#N/A"}},"2nIFvbGDtVjetX4bSd1ieY"]
["6udigXdkpe8Lswjod4NBOa","AQ 01.02 Site management","-",102,{"$nulls":21},"2jUiyLvMOWJh04zKpLzls857CpNqy9lJZPIEGl3cpn84",{"$f":"INDEX(allsections[[S]:[Order]],MATCH(X142,allsections[SGUID],0),3)","v":{"$error":"#N/A"}},{"$f":"INDEX(allsections[[S]:[Order]],MATCH(Y142,allsections[SGUID],0),3)","v":{"$error":"#N/A"}},"3C1zcoZhmW10RikKo66Omx"]
["1qvPg1ym8f6SRe66rOl40x","FO 01.02 Outsourced activities","-",102,{"$nulls":21},"2jUiyLvMOWJh04zKpLzls823vkcq3eLNCd3go9Rkaald",{"$f":"INDEX(allsections[[S]:[Order]],MATCH(X143,allsections[SGUID],0),3)","v":{"$error":"#N/A"}},{"$f":"INDEX(allsections[[S]:[Order]],MATCH(Y143,allsections[SGUID],0),3)","v":{"$error":"#N/A"}},"1iv5WR7BCTAyGuWtCRpan4"]
["KwyucNsg6nzI6rjENLt3d","AQ 01.03 Legislative framework","-",103,{"$nulls":21},"3jqGVv62GBsd8KJSjIWQ7X55ckAD4CZWQhWLcwQj76KJ",{"$f":"INDEX(allsections[[S]:[Order]],MATCH(X144,allsections[SGUID],0),3)","v":{"$error":"#N/A"}},{"$f":"INDEX(allsections[[S]:[Order]],MATCH(Y144,allsections[SGUID],0),3)","v":{"$error":"#N/A"}},"7t9IyYzQxOwCX1utYaZDrZ"]
["6OqbxahSFlVeKhLRgYFytR","FO 01.03 Internal documentation","-",103,{"$nulls":21},"3jqGVv62GBsd8KJSjIWQ7X5SgdbGCqfnJhgVdCZaO52C",{"$f":"INDEX(allsections[[S]:[Order]],MATCH(X145,allsections[SGUID],0),3)","v":{"$error":"#N/A"}},{"$f":"INDEX(allsections[[S]:[Order]],MATCH(Y145,allsections[SGUID],0),3)","v":{"$error":"#N/A"}},"5zXPfhwhAd1IOsIeHeU5CM"]
["2pCca0Upzl3Nn66JUNHXeF","FO 01.04 Training and assigned responsibilities","-",104,{"$nulls":21},"2rOCEOZ7FKjNjNArXiLHzT2GgfGeHb0isCXFe3cDafB8",{"$f":"INDEX(allsections[[S]:[Order]],MATCH(X146,allsections[SGUID],0),3)","v":{"$error":"#N/A"}},{"$f":"INDEX(allsections[[S]:[Order]],MATCH(Y146,allsections[SGUID],0),3)","v":{"$error":"#N/A"}},"3XeWo0HK2q2LIAWuiLq81E"]
["79pV2c30dTskerAeol8ohZ","FO 01.05 Customer requirements","-",105,{"$nulls":21},"2rOCEOZ7FKjNjNArXiLHzT2z9eo0DDlV0YPSYz2O8J7r",{"$f":"INDEX(allsections[[S]:[Order]],MATCH(X147,allsections[SGUID],0),3)","v":{"$error":"#N/A"}},{"$f":"INDEX(allsections[[S]:[Order]],MATCH(Y147,allsections[SGUID],0),3)","v":{"$error":"#N/A"}},"5DRnU7mjS8VCI7Ap2v73CO"]
["11FBMuieNmnZtyeFBlepcF","FO 01.06 Complaints","-",106,{"$nulls":21},"2rOCEOZ7FKjNjNArXiLHzT3Zzd9zsLAfuVfEUUYQV7Pd",{"$f":"INDEX(allsections[[S]:[Order]],MATCH(X148,allsections[SGUID],0),3)","v":{"$error":"#N/A"}},{"$f":"INDEX(allsections[[S]:[Order]],MATCH(Y148,allsections[SGUID],0),3)","v":{"$error":"#N/A"}},"GPN1iO2ZupplHeWuJnm7J"]
["CSohyDpAegE66esWvDgT5","FO 01.07 Non-conforming products","-",107,{"$nulls":21},"2rOCEOZ7FKjNjNArXiLHzT11ZC60E3YAtAUx5wNuuXwj",{"$f":"INDEX(allsections[[S]:[Order]],MATCH(X149,allsections[SGUID],0),3)","v":{"$error":"#N/A"}},{"$f":"INDEX(allsections[[S]:[Order]],MATCH(Y149,allsections[SGUID],0),3)","v":{"$error":"#N/A"}},"6boq5twCHOdIrNojlxuFjG"]
["743VeTmtrKzh2yBlulWP21","FO 01.08 Recall and withdrawal","-",108,{"$nulls":21},"3WOTX6z9yCADtqy7fUTDJn5TvyR0UgB0EOmnMkFaZftX",{"$f":"INDEX(allsections[[S]:[Order]],MATCH(X150,allsections[SGUID],0),3)","v":{"$error":"#N/A"}},{"$f":"INDEX(allsections[[S]:[Order]],MATCH(Y150,allsections[SGUID],0),3)","v":{"$error":"#N/A"}},"VoonZx94STGuLmJNzGHQX"]
["2PabgCVl2axbE6gvoMhnNb","FO 02.01 Traceability","Traceability allows to distinguish between products originating from certified and noncertified production processes, supporting the credibility of the certificate. It also allows producers to reconcile practices with products and improve their production processes and quality. It allows the withdrawal of flowers and ornamentals when needed, and enables customers to be provided with targeted and accurate information concerning implicated products.",201,{"$nulls":21},"5HjMxha5zh3JmCKzoQNaGT5TvyR0UgB0EOmnMkFaZftX",{"$f":"INDEX(allsections[[S]:[Order]],MATCH(X151,allsections[SGUID],0),3)","v":{"$error":"#N/A"}},{"$f":"INDEX(allsections[[S]:[Order]],MATCH(Y151,allsections[SGUID],0),3)","v":{"$error":"#N/A"}},"4rPb6aRnjT1RlOidzZW8NT"]
["1WLl5crwUtAKu9uhWYEzsL","FO 02.02 Parallel ownership","This section applies to all producers who need to register for parallel ownership (where products originating from certified and noncertified production processes are produced and/or owned by one legal entity). It does not apply to producers who want to achieve certification for 100% of the production processes of all products in their GLOBALG.A.P. scope and buy none of those products from other producers (with certification or not). ",202,{"$nulls":21},"6cVkk3FsKVyXw3Axz1X0EJKWseLrLUhPeorCfNWn5jf",{"$f":"INDEX(allsections[[S]:[Order]],MATCH(X152,allsections[SGUID],0),3)","v":{"$error":"#N/A"}},{"$f":"INDEX(allsections[[S]:[Order]],MATCH(Y152,allsections[SGUID],0),3)","v":{"$error":"#N/A"}},"1Gmj3oSGRRz2wF43jglNiZ"]
["3bNRfY2TpP6vkYKG0u4wwr","FO 02.03 Mass balance","-",203,{"$nulls":21},"6cVkk3FsKVyXw3Axz1X0EJ55afRttVG4dVUXKLoNoQoe",{"$f":"INDEX(allsections[[S]:[Order]],MATCH(X153,allsections[SGUID],0),3)","v":{"$error":"#N/A"}},{"$f":"INDEX(allsections[[S]:[Order]],MATCH(Y153,allsections[SGUID],0),3)","v":{"$error":"#N/A"}},"3U9ZVLZyebAQYRVksg1MLP"]
["412fDoNkTQzvavcR1yffoS","FO 02.04 GLOBALG.A.P. status","-",204,{"$nulls":21},"6cVkk3FsKVyXw3Axz1X0EJ6tiYYI8mKlvSXw5jfqgMdE",{"$f":"INDEX(allsections[[S]:[Order]],MATCH(X154,allsections[SGUID],0),3)","v":{"$error":"#N/A"}},{"$f":"INDEX(allsections[[S]:[Order]],MATCH(Y154,allsections[SGUID],0),3)","v":{"$error":"#N/A"}},"6DK33hs49O0mVODM44PumI"]
["3IMlwAGWtNQ8ZjIBrbKwsL","FO 02.05 Logo use","-",205,{"$nulls":21},"4G6L5rXAv5opyJXaaJSspR5mdYYXLIFyNI492xPC4Wrk",{"$f":"INDEX(allsections[[S]:[Order]],MATCH(X155,allsections[SGUID],0),3)","v":{"$error":"#N/A"}},{"$f":"INDEX(allsections[[S]:[Order]],MATCH(Y155,allsections[SGUID],0),3)","v":{"$error":"#N/A"}},"MfbZ6xSbvl0LIQHCG3HAH"]
["2ea1rhckQVrSaK28J1Se0f","FO 03.01 Propagation material","-",301,{"$nulls":21},"4pvzWZLf4r0AsvpuWuoYAC6eaxQshM5yuY2WLlQ8amUS",{"$f":"INDEX(allsections[[S]:[Order]],MATCH(X156,allsections[SGUID],0),3)","v":{"$error":"#N/A"}},{"$f":"INDEX(allsections[[S]:[Order]],MATCH(Y156,allsections[SGUID],0),3)","v":{"$error":"#N/A"}},"2D3gR7aaHx6tnYQQuF1lXz"]
["AsizSx9djd7Hn9BlLrbya","FO 03.02 Chemical treatments and dressings","-",302,{"$nulls":21},"4pvzWZLf4r0AsvpuWuoYAC6moTS0uCjB77ymqMRrEaKu",{"$f":"INDEX(allsections[[S]:[Order]],MATCH(X157,allsections[SGUID],0),3)","v":{"$error":"#N/A"}},{"$f":"INDEX(allsections[[S]:[Order]],MATCH(Y157,allsections[SGUID],0),3)","v":{"$error":"#N/A"}},"476rC4cdc9j8oss1h3sXXS"]
["1MAAg94AQdklTBAzABM4wS","FO 03.03 Genetically modified organisms","-",303,{"$nulls":21},"4pvzWZLf4r0AsvpuWuoYAC1V7OJsLngbMIMF5cpB2lgv",{"$f":"INDEX(allsections[[S]:[Order]],MATCH(X158,allsections[SGUID],0),3)","v":{"$error":"#N/A"}},{"$f":"INDEX(allsections[[S]:[Order]],MATCH(Y158,allsections[SGUID],0),3)","v":{"$error":"#N/A"}},"3dK0wdZnclzgLIOpYhYOUM"]
["4CTLgpMoXEpcE8tXLndCGp","FO 03.04 Transition period ","-",304,{"$nulls":21},"4pvzWZLf4r0AsvpuWuoYAC69tkf9xTq4aAYbrRMthWNF",{"$f":"INDEX(allsections[[S]:[Order]],MATCH(X159,allsections[SGUID],0),3)","v":{"$error":"#N/A"}},{"$f":"INDEX(allsections[[S]:[Order]],MATCH(Y159,allsections[SGUID],0),3)","v":{"$error":"#N/A"}},"304WayBeH0VzrDds0V9TK0"]
["6GGR163KNx1sTit3j0ivMP","FO 04.01 Soil conservation\n","Good soil husbandry ensures the long-term fertility of the soil, aids yield, and contributes to profitability. Not applicable in the case of crops that are not grown directly in soil (e.g., hydroponic or potted plants).",401,{"$nulls":21},"4pvzWZLf4r0AsvpuWuoYAC32bnxD3iuIFgJa6SxSTZZE",{"$f":"INDEX(allsections[[S]:[Order]],MATCH(X160,allsections[SGUID],0),3)","v":{"$error":"#N/A"}},{"$f":"INDEX(allsections[[S]:[Order]],MATCH(Y160,allsections[SGUID],0),3)","v":{"$error":"#N/A"}},"60YTqCQn7FH9usxqAQOiqL"]
["4owgIkC6nXLa7lsm0MrLOO","AQ 04.01 Workers’ occupational health and safety","-",401,{"$nulls":21},"4pvzWZLf4r0AsvpuWuoYAC65SiBmR9xE6MmZIJH2OMh8",{"$f":"INDEX(allsections[[S]:[Order]],MATCH(X161,allsections[SGUID],0),3)","v":{"$error":"#N/A"}},{"$f":"INDEX(allsections[[S]:[Order]],MATCH(Y161,allsections[SGUID],0),3)","v":{"$error":"#N/A"}},"3voJYmeY4m9jVUrQOPEIep"]
["6twC7WvSzvTac9PtqXVar6","FO 04.02 Soil fumigation","-",402,{"$nulls":21},"4pvzWZLf4r0AsvpuWuoYAC4Zl4dLXiCmXFVqnsslPb0x",{"$f":"INDEX(allsections[[S]:[Order]],MATCH(X162,allsections[SGUID],0),3)","v":{"$error":"#N/A"}},{"$f":"INDEX(allsections[[S]:[Order]],MATCH(Y162,allsections[SGUID],0),3)","v":{"$error":"#N/A"}},"vjS57MJ5nsSkYmlRxSwbF"]
["57CpNqy9lJZPIEGl3cpn84","AQ 04.02 Training and assigned responsibilities","-",402,{"$nulls":21},"4pvzWZLf4r0AsvpuWuoYAC12xtoMmsI7QQenkWEVMZAu",{"$f":"INDEX(allsections[[S]:[Order]],MATCH(X163,allsections[SGUID],0),3)","v":{"$error":"#N/A"}},{"$f":"INDEX(allsections[[S]:[Order]],MATCH(Y163,allsections[SGUID],0),3)","v":{"$error":"#N/A"}},"6Nj4cfV6ylPpCa0EI9BKKW"]
["Jfokfy0DypbRD7D7zEF8h","FO 04.03 Substrates","-",403,{"$nulls":21},"4pvzWZLf4r0AsvpuWuoYAC3bnauhR2XKWnnmjxnrNJeQ",{"$f":"INDEX(allsections[[S]:[Order]],MATCH(X164,allsections[SGUID],0),3)","v":{"$error":"#N/A"}},{"$f":"INDEX(allsections[[S]:[Order]],MATCH(Y164,allsections[SGUID],0),3)","v":{"$error":"#N/A"}},"1JbLaD4cXHUBhzd0XaNL3n"]
["7mYXogZyldja1l4zH5Wvh4","AQ 04.03 Workers’ hazards and first aid","-",403,{"$nulls":21},"4Igs0TcvRtcZaLqERpBzyw5TvyR0UgB0EOmnMkFaZftX",{"$f":"INDEX(allsections[[S]:[Order]],MATCH(X165,allsections[SGUID],0),3)","v":{"$error":"#N/A"}},{"$f":"INDEX(allsections[[S]:[Order]],MATCH(Y165,allsections[SGUID],0),3)","v":{"$error":"#N/A"}},"59QewLUkUiVzPdGlfgu21o"]
["3R84nmeK4iATbuwZ2gsDsb","FO 04.04 Nutritional needs","-",404,{"$nulls":21},"6inH5pgUJeX8hyB3EYnjvL3vLjIvLzmFDnyHGwp4sKjy",{"$f":"INDEX(allsections[[S]:[Order]],MATCH(X166,allsections[SGUID],0),3)","v":{"$error":"#N/A"}},{"$f":"INDEX(allsections[[S]:[Order]],MATCH(Y166,allsections[SGUID],0),3)","v":{"$error":"#N/A"}},"2IpBpucJX7pJDK7yar4Pdz"]
["4JDwCyBH1ImTjbVhIZvTq3","AQ 04.04 Personal protective equipment","-",404,{"$nulls":21},"6inH5pgUJeX8hyB3EYnjvL2lcjWDd2pC4Mxvjx89tTP3",{"$f":"INDEX(allsections[[S]:[Order]],MATCH(X167,allsections[SGUID],0),3)","v":{"$error":"#N/A"}},{"$f":"INDEX(allsections[[S]:[Order]],MATCH(Y167,allsections[SGUID],0),3)","v":{"$error":"#N/A"}},"4b75QxZajdtzw35yuJYzax"]
["23vkcq3eLNCd3go9Rkaald","AQ 04.05 Workers’ welfare","-",405,{"$nulls":21},"6inH5pgUJeX8hyB3EYnjvL4WvVgaj0DmqytcECbsfj85",{"$f":"INDEX(allsections[[S]:[Order]],MATCH(X168,allsections[SGUID],0),3)","v":{"$error":"#N/A"}},{"$f":"INDEX(allsections[[S]:[Order]],MATCH(Y168,allsections[SGUID],0),3)","v":{"$error":"#N/A"}},"LBOB0pVTmEHC3zp2yT9uB"]
["7o4R1VJX1KXn6Y2mK3KBnX","FO 04.05 Nutrient content","-",405,{"$nulls":21},"1YbYgCwF5emApZVepFq1X175ZhDFwSi67hTEERmDGpdT",{"$f":"INDEX(allsections[[S]:[Order]],MATCH(X169,allsections[SGUID],0),3)","v":{"$error":"#N/A"}},{"$f":"INDEX(allsections[[S]:[Order]],MATCH(Y169,allsections[SGUID],0),3)","v":{"$error":"#N/A"}},"2fxuNtMikwq4pGJPm9UHmp"]
["4lUZQXD5tjtX2glVe4lraA","FO 04.06 Application records","-",406,{"$nulls":21},"1YbYgCwF5emApZVepFq1X12fdp0291AK18VPCACdP0xw",{"$f":"INDEX(allsections[[S]:[Order]],MATCH(X170,allsections[SGUID],0),3)","v":{"$error":"#N/A"}},{"$f":"INDEX(allsections[[S]:[Order]],MATCH(Y170,allsections[SGUID],0),3)","v":{"$error":"#N/A"}},"2jMIlVn1YjTp2J7QpgwC0e"]
["3yiRDwLwt1Ow5dQeFJqM2k","FO 04.07 Fertilizer and biostimulant storage","-",407,{"$nulls":21},"61TDaidZRAGqCBPGs8ha8G5TX5THcQM5Np1uQ5ItrWLM",{"$f":"INDEX(allsections[[S]:[Order]],MATCH(X171,allsections[SGUID],0),3)","v":{"$error":"#N/A"}},{"$f":"INDEX(allsections[[S]:[Order]],MATCH(Y171,allsections[SGUID],0),3)","v":{"$error":"#N/A"}},"iRZqmNFK3RvDpleWESvWD"]
["5GJnBn0XaHPkzo9hXhVvqW","FO 05.01 Water sources\n","-",501,{"$nulls":21},"61TDaidZRAGqCBPGs8ha8G1aV0zFwSp9AmvxxfeGq2eA",{"$f":"INDEX(allsections[[S]:[Order]],MATCH(X172,allsections[SGUID],0),3)","v":{"$error":"#N/A"}},{"$f":"INDEX(allsections[[S]:[Order]],MATCH(Y172,allsections[SGUID],0),3)","v":{"$error":"#N/A"}},"ULRbRAkZftwkpBniFH1e3"]
["3yEQbyyk01GoZYBCkYA4FP","FO 05.02 Predicting irrigation requirements","-",502,{"$nulls":21},"61TDaidZRAGqCBPGs8ha8G6gb3L0lEZN6wO8WjVRr7lV",{"$f":"INDEX(allsections[[S]:[Order]],MATCH(X173,allsections[SGUID],0),3)","v":{"$error":"#N/A"}},{"$f":"INDEX(allsections[[S]:[Order]],MATCH(Y173,allsections[SGUID],0),3)","v":{"$error":"#N/A"}},"2Oh375nnYEbnQDw1A6DTeg"]
["3bxp0a7dcsX1zRhf8lSDgg","FO 05.03 Record keeping",null,503,{"$nulls":21},"12V2s4FpWw8zBFdb1VY42AxbaIyuRHw74GoMT8PbnKx",{"$f":"INDEX(allsections[[S]:[Order]],MATCH(X174,allsections[SGUID],0),3)","v":{"$error":"#N/A"}},{"$f":"INDEX(allsections[[S]:[Order]],MATCH(Y174,allsections[SGUID],0),3)","v":{"$error":"#N/A"}},"3oVFuQiVBK4m7nEKjxabKy"]
["25itD9t3AKPNN1d0JIB5bx","FO 05.04 Water quality","-",504,{"$nulls":21},"12V2s4FpWw8zBFdb1VY42A1oGNflTpAerQDWPIkzL1jE",{"$f":"INDEX(allsections[[S]:[Order]],MATCH(X175,allsections[SGUID],0),3)","v":{"$error":"#N/A"}},{"$f":"INDEX(allsections[[S]:[Order]],MATCH(Y175,allsections[SGUID],0),3)","v":{"$error":"#N/A"}},"3R09p8j9SBPrd2ZkAKqqPy"]
["mo9Uog2nl7PhTPO5LbeWt","AQ 06.01 Identification of waste and pollutants","-",601,{"$nulls":21},"fpZn5YAfrwOfpIHt5wBr75TvyR0UgB0EOmnMkFaZftX",{"$f":"INDEX(allsections[[S]:[Order]],MATCH(X176,allsections[SGUID],0),3)","v":{"$error":"#N/A"}},{"$f":"INDEX(allsections[[S]:[Order]],MATCH(Y176,allsections[SGUID],0),3)","v":{"$error":"#N/A"}},"WVkyFPGsvsPsC7Lz3bNRP"]
["2DBDLKNCCHjgeVp2fH2kz4","AQ 06.02 Waste and pollution action plan","-",602,{"$nulls":21},"QZfIR1aSAjL2YcUqo376X5TvyR0UgB0EOmnMkFaZftX",{"$f":"INDEX(allsections[[S]:[Order]],MATCH(X177,allsections[SGUID],0),3)","v":{"$error":"#N/A"}},{"$f":"INDEX(allsections[[S]:[Order]],MATCH(Y177,allsections[SGUID],0),3)","v":{"$error":"#N/A"}},"fICsjkYrHVr87NAeTjI92"]
["55ckAD4CZWQhWLcwQj76KJ","AQ 06.03 Environmental impact and management","-",603,{"$nulls":21},"3htAhHdPv9OtsLHNNhtZxH7BbYPU8D5VjuX50wR037bc",{"$f":"INDEX(allsections[[S]:[Order]],MATCH(X178,allsections[SGUID],0),3)","v":{"$error":"#N/A"}},{"$f":"INDEX(allsections[[S]:[Order]],MATCH(Y178,allsections[SGUID],0),3)","v":{"$error":"#N/A"}},"3wjtllhf2EZ05k7ry5E364"]
["5SgdbGCqfnJhgVdCZaO52C","AQ 06.04 Water usage and disposal \n","Cross-reference with AQ 06.03.02.",604,{"$nulls":21},"3htAhHdPv9OtsLHNNhtZxH6udigXdkpe8Lswjod4NBOa",{"$f":"INDEX(allsections[[S]:[Order]],MATCH(X179,allsections[SGUID],0),3)","v":{"$error":"#N/A"}},{"$f":"INDEX(allsections[[S]:[Order]],MATCH(Y179,allsections[SGUID],0),3)","v":{"$error":"#N/A"}},"2lIJrvbtPcVuY8RZkfCGAZ"]
["1WOpilQQJvvs3HIzyLlTD7","FO 07.01 Choice of plant protection products","-",701,{"$nulls":21},"3jqGVv62GBsd8KJSjIWQ7Xmo9Uog2nl7PhTPO5LbeWt",{"$f":"INDEX(allsections[[S]:[Order]],MATCH(X180,allsections[SGUID],0),3)","v":{"$error":"#N/A"}},{"$f":"INDEX(allsections[[S]:[Order]],MATCH(Y180,allsections[SGUID],0),3)","v":{"$error":"#N/A"}},"54b9jNn5l6JshlbKMcZkvo"]
["2GgfGeHb0isCXFe3cDafB8","AQ 07.01 Impact of farming on the environment and biodiversity","-",701,{"$nulls":21},"3jqGVv62GBsd8KJSjIWQ7X2DBDLKNCCHjgeVp2fH2kz4",{"$f":"INDEX(allsections[[S]:[Order]],MATCH(X181,allsections[SGUID],0),3)","v":{"$error":"#N/A"}},{"$f":"INDEX(allsections[[S]:[Order]],MATCH(Y181,allsections[SGUID],0),3)","v":{"$error":"#N/A"}},"3CUgz7Cjbz3lVegK48kdwN"]
["2z9eo0DDlV0YPSYz2O8J7r","AQ 07.02 Predator exclusion plan","-",702,{"$nulls":21},"1kzI7hCCMY4wQOFQmIPOPD5TvyR0UgB0EOmnMkFaZftX",{"$f":"INDEX(allsections[[S]:[Order]],MATCH(X182,allsections[SGUID],0),3)","v":{"$error":"#N/A"}},{"$f":"INDEX(allsections[[S]:[Order]],MATCH(Y182,allsections[SGUID],0),3)","v":{"$error":"#N/A"}},"101TCDdkyoiKx59uYCCXGd"]
["Cnld8x4oHlmExTFHGeLjj","FO 07.02 Application records ","-",702,{"$nulls":21},"5OZ3Oy0MVM5jXao9ZvAlrA5TvyR0UgB0EOmnMkFaZftX",{"$f":"INDEX(allsections[[S]:[Order]],MATCH(X183,allsections[SGUID],0),3)","v":{"$error":"#N/A"}},{"$f":"INDEX(allsections[[S]:[Order]],MATCH(Y183,allsections[SGUID],0),3)","v":{"$error":"#N/A"}},"vmjGfCIFJSM7cQD7NFV80"]
["3Zzd9zsLAfuVfEUUYQV7Pd","AQ 07.03 Escapes ","-",703,{"$nulls":21},"4ZGW9ZWBwWewpL1DYzfgyb5TvyR0UgB0EOmnMkFaZftX",{"$f":"INDEX(allsections[[S]:[Order]],MATCH(X184,allsections[SGUID],0),3)","v":{"$error":"#N/A"}},{"$f":"INDEX(allsections[[S]:[Order]],MATCH(Y184,allsections[SGUID],0),3)","v":{"$error":"#N/A"}},"4CJaPlJ48CsnwJPpOBaOcW"]
["r4Wl5viNqALmYQehnJigP","FO 07.03 Disposal of surplus application mix","-",703,{"$nulls":21},"4gUkP5eS8EnUG0fKZ0tMiZ5TvyR0UgB0EOmnMkFaZftX",{"$f":"INDEX(allsections[[S]:[Order]],MATCH(X185,allsections[SGUID],0),3)","v":{"$error":"#N/A"}},{"$f":"INDEX(allsections[[S]:[Order]],MATCH(Y185,allsections[SGUID],0),3)","v":{"$error":"#N/A"}},"4amaTwSSW3aZdfZj8YONNc"]
["11ZC60E3YAtAUx5wNuuXwj","AQ 07.04 High conservation value areas","-",704,{"$nulls":21},"7HDQtIsDtzns0bD1ntR0eP5TvyR0UgB0EOmnMkFaZftX",{"$f":"INDEX(allsections[[S]:[Order]],MATCH(X186,allsections[SGUID],0),3)","v":{"$error":"#N/A"}},{"$f":"INDEX(allsections[[S]:[Order]],MATCH(Y186,allsections[SGUID],0),3)","v":{"$error":"#N/A"}},"1iBxbUx6cezVlgCvMmOwI9"]
["3W7dGcEqSrkGPLpK2FPpjb","FO 07.04 Plant protection product and postharvest treatment product storage","-",704,{"$nulls":21},"5ZEbtYAwaiK1X4qvVH0ye85TvyR0UgB0EOmnMkFaZftX",{"$f":"INDEX(allsections[[S]:[Order]],MATCH(X187,allsections[SGUID],0),3)","v":{"$error":"#N/A"}},{"$f":"INDEX(allsections[[S]:[Order]],MATCH(Y187,allsections[SGUID],0),3)","v":{"$error":"#N/A"}},"1nW8TTNH1fusUklcAyzJ3O"]
["5S5Axhf3c7R5yra1GF3lz","AQ 07.05 Ecological upgrading of unproductive sites","-",705,{"$nulls":21},"36VGW0OgI5dbYuNy8pN1X45TvyR0UgB0EOmnMkFaZftX",{"$f":"INDEX(allsections[[S]:[Order]],MATCH(X188,allsections[SGUID],0),3)","v":{"$error":"#N/A"}},{"$f":"INDEX(allsections[[S]:[Order]],MATCH(Y188,allsections[SGUID],0),3)","v":{"$error":"#N/A"}},"4dqTp7fkABPCSIwP6BJ67E"]
["6OVfMLlOhjDUtTGVH4d1tI","FO 07.05 Plant protection product handling","-",705,{"$nulls":21},"1LqxqbMnYmX3O47nTDkHLF5TvyR0UgB0EOmnMkFaZftX",{"$f":"INDEX(allsections[[S]:[Order]],MATCH(X189,allsections[SGUID],0),3)","v":{"$error":"#N/A"}},{"$f":"INDEX(allsections[[S]:[Order]],MATCH(Y189,allsections[SGUID],0),3)","v":{"$error":"#N/A"}},"6CSFbUgkhrbJU87vlKmRUq"]
["2nHnjQBzxk2jzqTlOcVbMi","AQ 07.06 Energy efficiency","Farming equipment shall be selected and maintained for optimum energy efficiency. The use of renewable energy sources should be encouraged.",706,{"$nulls":21},"76Up1Jlz2ogKdKXUH1J3L5TvyR0UgB0EOmnMkFaZftX",{"$f":"INDEX(allsections[[S]:[Order]],MATCH(X190,allsections[SGUID],0),3)","v":{"$error":"#N/A"}},{"$f":"INDEX(allsections[[S]:[Order]],MATCH(Y190,allsections[SGUID],0),3)","v":{"$error":"#N/A"}},"7KbSmeRQQ9vMW32RA3fvgt"]
["5VavlH2MeUS17rVAik4joc","FO 07.06 Empty plant protection product containers","-",706,{"$nulls":21},"6l21qjBupUIUO8XLCiUEef5TvyR0UgB0EOmnMkFaZftX",{"$f":"INDEX(allsections[[S]:[Order]],MATCH(X191,allsections[SGUID],0),3)","v":{"$error":"#N/A"}},{"$f":"INDEX(allsections[[S]:[Order]],MATCH(Y191,allsections[SGUID],0),3)","v":{"$error":"#N/A"}},"5z698mI9SK13uqc3qKoGYH"]
["aJyo4GEfHW26SGyqyk8my","FO 07.07 Obsolete plant protection products ","-",707,{"$nulls":21},"31r3O7m6YdmvyCuOWIOMh65TvyR0UgB0EOmnMkFaZftX",{"$f":"INDEX(allsections[[S]:[Order]],MATCH(X192,allsections[SGUID],0),3)","v":{"$error":"#N/A"}},{"$f":"INDEX(allsections[[S]:[Order]],MATCH(Y192,allsections[SGUID],0),3)","v":{"$error":"#N/A"}},"2gbDib5iDBqNNbrpbd3LT0"]
["3JTeuQtOc1OKqfRNulIqvM","FO 07.08 Application of other substances ","-",708,{"$nulls":21},"7bt3lOtOqh5dlKm5Rqrjx45TvyR0UgB0EOmnMkFaZftX",{"$f":"INDEX(allsections[[S]:[Order]],MATCH(X193,allsections[SGUID],0),3)","v":{"$error":"#N/A"}},{"$f":"INDEX(allsections[[S]:[Order]],MATCH(Y193,allsections[SGUID],0),3)","v":{"$error":"#N/A"}},"SAeb09u4BIJU5hywl5ZTk"]
["1zDGYHavQ1Y1HUI9R90OOZ","FO 07.09 Equipment","-",709,{"$nulls":21},"2RFsPSHa2XlX0JHYiJO2Wc5TvyR0UgB0EOmnMkFaZftX",{"$f":"INDEX(allsections[[S]:[Order]],MATCH(X194,allsections[SGUID],0),3)","v":{"$error":"#N/A"}},{"$f":"INDEX(allsections[[S]:[Order]],MATCH(Y194,allsections[SGUID],0),3)","v":{"$error":"#N/A"}},"OkwgpiefJyhKOx86JFmLs"]
["5l2rJiYbFtvFuXNhk6Xt0S","FO 08.01 Quality of postharvest water","-",801,{"$nulls":21},"6PzSKiJw1bRFye5uX49taK5TvyR0UgB0EOmnMkFaZftX",{"$f":"INDEX(allsections[[S]:[Order]],MATCH(X195,allsections[SGUID],0),3)","v":{"$error":"#N/A"}},{"$f":"INDEX(allsections[[S]:[Order]],MATCH(Y195,allsections[SGUID],0),3)","v":{"$error":"#N/A"}},"Oa7r1b8qY2CRF4UuPKcN3"]
["64wGe3MdQzgQigsw2nGTdA","FO 08.02 Postharvest treatments","-",802,{"$nulls":21},"48EClxc2uJIvBOW8IlSEPt5TvyR0UgB0EOmnMkFaZftX",{"$f":"INDEX(allsections[[S]:[Order]],MATCH(X196,allsections[SGUID],0),3)","v":{"$error":"#N/A"}},{"$f":"INDEX(allsections[[S]:[Order]],MATCH(Y196,allsections[SGUID],0),3)","v":{"$error":"#N/A"}},"3L2zyFJ2zu5HQQgkTRwa7p"]
["7e2OTmZvHrA9xmbHveLBmp","FO 12.01 Workers’ health and safety","-",1201,{"$nulls":21},"2o0PHrjwVpc8TxdOBpkPzy5TvyR0UgB0EOmnMkFaZftX",{"$f":"INDEX(allsections[[S]:[Order]],MATCH(X197,allsections[SGUID],0),3)","v":{"$error":"#N/A"}},{"$f":"INDEX(allsections[[S]:[Order]],MATCH(Y197,allsections[SGUID],0),3)","v":{"$error":"#N/A"}},"5RQ8IqiLnmA7DEtNqhNVls"]
["1j8KzCREQQlaHRiz9wuo0z","FO 12.02 Hazards and first aid","-",1202,{"$nulls":21},"696jSQYmLVDJoD3UnofwTY253gbk0kdnSSFyQX6iFKWy",{"$f":"INDEX(allsections[[S]:[Order]],MATCH(X198,allsections[SGUID],0),3)","v":{"$error":"#N/A"}},{"$f":"INDEX(allsections[[S]:[Order]],MATCH(Y198,allsections[SGUID],0),3)","v":{"$error":"#N/A"}},"4V5PDUBdj9Q0i7fbGfInQk"]
["1ERzCDuPHpofETFZxfdFUx","FO 12.03 Protective clothing and equipment","-",1203,{"$nulls":21},"696jSQYmLVDJoD3UnofwTYuzn8UMxTkF1w7M3FTD0sW",{"$f":"INDEX(allsections[[S]:[Order]],MATCH(X199,allsections[SGUID],0),3)","v":{"$error":"#N/A"}},{"$f":"INDEX(allsections[[S]:[Order]],MATCH(Y199,allsections[SGUID],0),3)","v":{"$error":"#N/A"}},"21mCH63CMsUTKkluKw6dN9"]
["KWseLrLUhPeorCfNWn5jf","AQ 18.01 Brood stock and seedlings","Depending on species: Ova, smolt, fry, fingerling, larvae, alevin, spat, nauplii and post-larvae, others",1801,{"$nulls":21},"696jSQYmLVDJoD3UnofwTY6aZY7458MgGAXucrp2rDfj",{"$f":"INDEX(allsections[[S]:[Order]],MATCH(X200,allsections[SGUID],0),3)","v":{"$error":"#N/A"}},{"$f":"INDEX(allsections[[S]:[Order]],MATCH(Y200,allsections[SGUID],0),3)","v":{"$error":"#N/A"}},"tDOe2o0zWYqYm0KNgqj9x"]
["55afRttVG4dVUXKLoNoQoe","AQ 18.02 Hatchery management","-",1802,{"$nulls":21},"696jSQYmLVDJoD3UnofwTY5U9xxekFJ28sU2NwdkP9u8",{"$f":"INDEX(allsections[[S]:[Order]],MATCH(X201,allsections[SGUID],0),3)","v":{"$error":"#N/A"}},{"$f":"INDEX(allsections[[S]:[Order]],MATCH(Y201,allsections[SGUID],0),3)","v":{"$error":"#N/A"}},"3gLKlk7CEmbkXjaBvbTvGh"]
["6tiYYI8mKlvSXw5jfqgMdE","AQ 18.03 Brood fish stripping","If brood fish are stripped, this shall be done with consideration for the animals’ welfare.\n",1803,{"$nulls":21},"696jSQYmLVDJoD3UnofwTY7GSUGbBCg0zqqdO3nIYknt",{"$f":"INDEX(allsections[[S]:[Order]],MATCH(X202,allsections[SGUID],0),3)","v":{"$error":"#N/A"}},{"$f":"INDEX(allsections[[S]:[Order]],MATCH(Y202,allsections[SGUID],0),3)","v":{"$error":"#N/A"}},"5k6Z1qS7vCZ6NXbWiaUJu9"]
["5mdYYXLIFyNI492xPC4Wrk","AQ 19.01 Chemical compound storage","-",1901,{"$nulls":21},"696jSQYmLVDJoD3UnofwTY4YYEAFlKQL7dZttPmpxB2F",{"$f":"INDEX(allsections[[S]:[Order]],MATCH(X203,allsections[SGUID],0),3)","v":{"$error":"#N/A"}},{"$f":"INDEX(allsections[[S]:[Order]],MATCH(Y203,allsections[SGUID],0),3)","v":{"$error":"#N/A"}},"3snGfVLt7Wxd5FZGpG4j8y"]
["2VMR7eFBhsXQA1k8IjqWQx","AQ 19.02 Empty containers and unused chemicals","-",1902,{"$nulls":21},"1gpvHRL3jcuK0YTVBxeDJK5TvyR0UgB0EOmnMkFaZftX",{"$f":"INDEX(allsections[[S]:[Order]],MATCH(X204,allsections[SGUID],0),3)","v":{"$error":"#N/A"}},{"$f":"INDEX(allsections[[S]:[Order]],MATCH(Y204,allsections[SGUID],0),3)","v":{"$error":"#N/A"}},"4zSkvUbTdlSMEjoMX9r149"]
["24wmFn53ZJndoxOd1EgcHe","AQ 19.03 Transport of chemical compounds","-",1903,{"$nulls":21},"6SSbkfthK0LYaxbv5b14GBCewd3FqcwBMtVtTDK4h9s",{"$f":"INDEX(allsections[[S]:[Order]],MATCH(X205,allsections[SGUID],0),3)","v":{"$error":"#N/A"}},{"$f":"INDEX(allsections[[S]:[Order]],MATCH(Y205,allsections[SGUID],0),3)","v":{"$error":"#N/A"}},"3LyKIn2zocb3lDNExH1RfM"]
["4xvzsgnTOtRkF4CQ8kI09i","HOP 20.01 Risk assessment and training",null,2001,{"$nulls":21},"6SSbkfthK0LYaxbv5b14GB7h4leQtnNFBbHHWbgN8lXM",{"$f":"INDEX(allsections[[S]:[Order]],MATCH(X206,allsections[SGUID],0),3)","v":{"$error":"#N/A"}},{"$f":"INDEX(allsections[[S]:[Order]],MATCH(Y206,allsections[SGUID],0),3)","v":{"$error":"#N/A"}},"7eAOPa3QKXk7fUsXuWAZQT"]
["6eaxQshM5yuY2WLlQ8amUS","AQ 20.01 Traceability and stock origin","-",2001,{"$nulls":21},"6SSbkfthK0LYaxbv5b14GB5RnRCz8ee4Zl9QUgeRKTHd",{"$f":"INDEX(allsections[[S]:[Order]],MATCH(X207,allsections[SGUID],0),3)","v":{"$error":"#N/A"}},{"$f":"INDEX(allsections[[S]:[Order]],MATCH(Y207,allsections[SGUID],0),3)","v":{"$error":"#N/A"}},"1o2yFFL4vOygH47fNAZmGV"]
["2IPCUnYuMhRLMitDdZuBV6","FV 20.01 Risk assessment and training","-",2001,{"$nulls":21},"6SSbkfthK0LYaxbv5b14GB1vk62VlZg3Zq6bcgLfSxGJ",{"$f":"INDEX(allsections[[S]:[Order]],MATCH(X208,allsections[SGUID],0),3)","v":{"$error":"#N/A"}},{"$f":"INDEX(allsections[[S]:[Order]],MATCH(Y208,allsections[SGUID],0),3)","v":{"$error":"#N/A"}},"31PFCSQaqCuB8q57zJg6RP"]
["5Nuj2EiEyMVydcblHaISFD","HOP 20.02 Hazards and first aid",null,2002,{"$nulls":21},"6SSbkfthK0LYaxbv5b14GB5TLexd3GI3AjZkCglPj3h5",{"$f":"INDEX(allsections[[S]:[Order]],MATCH(X209,allsections[SGUID],0),3)","v":{"$error":"#N/A"}},{"$f":"INDEX(allsections[[S]:[Order]],MATCH(Y209,allsections[SGUID],0),3)","v":{"$error":"#N/A"}},"5jtdahGRPyTbM5paWcRuKM"]
["6moTS0uCjB77ymqMRrEaKu","AQ 20.02 Farmed aquatic species health and welfare","-",2002,{"$nulls":21},"6SSbkfthK0LYaxbv5b14GB1OZTzJWvKeCm4lQLj2de5o",{"$f":"INDEX(allsections[[S]:[Order]],MATCH(X210,allsections[SGUID],0),3)","v":{"$error":"#N/A"}},{"$f":"INDEX(allsections[[S]:[Order]],MATCH(Y210,allsections[SGUID],0),3)","v":{"$error":"#N/A"}},"1P5WF4AhiUVjKU0eMjYNP3"]
["6rCsdcQbJnfwmnsw2F9C4z","FV 20.02 Hazards and first aid","-",2002,{"$nulls":21},"6SSbkfthK0LYaxbv5b14GB6v0SS1OCIEL11DaUsdV8qY",{"$f":"INDEX(allsections[[S]:[Order]],MATCH(X211,allsections[SGUID],0),3)","v":{"$error":"#N/A"}},{"$f":"INDEX(allsections[[S]:[Order]],MATCH(Y211,allsections[SGUID],0),3)","v":{"$error":"#N/A"}},"6akCg1bzbz31hRuysr8H2o"]
["1E1VhZbj9C7JN1P2MNO7PP","HOP 20.03 Personal protective equipment",null,2003,{"$nulls":21},"3Xuqd2nxrHRHWBMMAl2PDV5TvyR0UgB0EOmnMkFaZftX",{"$f":"INDEX(allsections[[S]:[Order]],MATCH(X212,allsections[SGUID],0),3)","v":{"$error":"#N/A"}},{"$f":"INDEX(allsections[[S]:[Order]],MATCH(Y212,allsections[SGUID],0),3)","v":{"$error":"#N/A"}},"4Hbavnq82IxeTzp86PTwLH"]
["1V7OJsLngbMIMF5cpB2lgv","AQ 20.03 Treatments","-",2003,{"$nulls":21},"5nPf6FvRIaYhUohxiK6Z4C4e9U8QqFWhkb5syMftPkjz",{"$f":"INDEX(allsections[[S]:[Order]],MATCH(X213,allsections[SGUID],0),3)","v":{"$error":"#N/A"}},{"$f":"INDEX(allsections[[S]:[Order]],MATCH(Y213,allsections[SGUID],0),3)","v":{"$error":"#N/A"}},"3lmOYo1HEXN9WTJSOmoeqn"]
["22v7nnkQpO82gWNsHA3e6i","FV 20.03 Personal protective equipment","-",2003,{"$nulls":21},"5nPf6FvRIaYhUohxiK6Z4C5wu9vqrUGRlCKkbHt3ECf0",{"$f":"INDEX(allsections[[S]:[Order]],MATCH(X214,allsections[SGUID],0),3)","v":{"$error":"#N/A"}},{"$f":"INDEX(allsections[[S]:[Order]],MATCH(Y214,allsections[SGUID],0),3)","v":{"$error":"#N/A"}},"76gj5wqMrhjC9IwB6fPD1O"]
["6iax11SKEZhY8rQyeOo4x9","HOP 20.04 Workers’ welfare",null,2004,{"$nulls":21},"5nPf6FvRIaYhUohxiK6Z4C7tkt1sKqqlLnUrh71qam9K",{"$f":"INDEX(allsections[[S]:[Order]],MATCH(X215,allsections[SGUID],0),3)","v":{"$error":"#N/A"}},{"$f":"INDEX(allsections[[S]:[Order]],MATCH(Y215,allsections[SGUID],0),3)","v":{"$error":"#N/A"}},"7bibspXJGGbnFX0bW7wkAp"]
["69tkf9xTq4aAYbrRMthWNF","AQ 20.04 Treatment records","-",2004,{"$nulls":21},"6mrYpZ2GcLZ7AP1RVVry5G7te0V5sEO4j2gdaCHhqwRe",{"$f":"INDEX(allsections[[S]:[Order]],MATCH(X216,allsections[SGUID],0),3)","v":{"$error":"#N/A"}},{"$f":"INDEX(allsections[[S]:[Order]],MATCH(Y216,allsections[SGUID],0),3)","v":{"$error":"#N/A"}},"3G6XCS3kXxaiT6An6fyXYY"]
["5az4vdaXEuQgs5B9UaOjzb","FV 20.04 Workers’ welfare","-",2004,{"$nulls":21},"6mrYpZ2GcLZ7AP1RVVry5GaeLabNl3CjngCaQDiZCnP",{"$f":"INDEX(allsections[[S]:[Order]],MATCH(X217,allsections[SGUID],0),3)","v":{"$error":"#N/A"}},{"$f":"INDEX(allsections[[S]:[Order]],MATCH(Y217,allsections[SGUID],0),3)","v":{"$error":"#N/A"}},"64tLhqUpveB3E8yVXVsubo"]
["32bnxD3iuIFgJa6SxSTZZE","AQ 20.05 Mortality","-",2005,{"$nulls":21},"6mrYpZ2GcLZ7AP1RVVry5G6ZlIRqNokp14rd0OrJYpUs",{"$f":"INDEX(allsections[[S]:[Order]],MATCH(X218,allsections[SGUID],0),3)","v":{"$error":"#N/A"}},{"$f":"INDEX(allsections[[S]:[Order]],MATCH(Y218,allsections[SGUID],0),3)","v":{"$error":"#N/A"}},"1Jsd4Po9zEonkNa6KicOXv"]
["65SiBmR9xE6MmZIJH2OMh8","AQ 20.06 All pens in bodies of water","-",2006,{"$nulls":21},"6mrYpZ2GcLZ7AP1RVVry5G6Rr7lWkdEx4UFV3lspdV2c",{"$f":"INDEX(allsections[[S]:[Order]],MATCH(X219,allsections[SGUID],0),3)","v":{"$error":"#N/A"}},{"$f":"INDEX(allsections[[S]:[Order]],MATCH(Y219,allsections[SGUID],0),3)","v":{"$error":"#N/A"}},"1A6ymTFpce17AFVUfpWjBA"]
["4Zl4dLXiCmXFVqnsslPb0x","AQ 20.07 Ponds","-",2007,{"$nulls":21},"6mrYpZ2GcLZ7AP1RVVry5G7FzFPUI62I8icT9zFiqYBn",{"$f":"INDEX(allsections[[S]:[Order]],MATCH(X220,allsections[SGUID],0),3)","v":{"$error":"#N/A"}},{"$f":"INDEX(allsections[[S]:[Order]],MATCH(Y220,allsections[SGUID],0),3)","v":{"$error":"#N/A"}},"7qLHXfgMF1BvtNhEoTrOl1"]
["12xtoMmsI7QQenkWEVMZAu","AQ 20.08 Biosecurity \n","In addition to food defense requirements; refer to AQ 10.",2008,{"$nulls":21},"6mrYpZ2GcLZ7AP1RVVry5G2sC7LUqXHhrGUVy4ZkqKu8",{"$f":"INDEX(allsections[[S]:[Order]],MATCH(X221,allsections[SGUID],0),3)","v":{"$error":"#N/A"}},{"$f":"INDEX(allsections[[S]:[Order]],MATCH(Y221,allsections[SGUID],0),3)","v":{"$error":"#N/A"}},"2GyriZTFrdoiLg6YAzlPPH"]
["3bnauhR2XKWnnmjxnrNJeQ","AQ 20.09 Machinery and equipment","-",2009,{"$nulls":21},"6mrYpZ2GcLZ7AP1RVVry5G3ZsSeRvZNIo9inIvGSDPi7",{"$f":"INDEX(allsections[[S]:[Order]],MATCH(X222,allsections[SGUID],0),3)","v":{"$error":"#N/A"}},{"$f":"INDEX(allsections[[S]:[Order]],MATCH(Y222,allsections[SGUID],0),3)","v":{"$error":"#N/A"}},"6LT3SsPHecSghrKBDqqFdh"]
["25ufr7Onk7JPdSt2laMS29","HOP 22.01 Management of biodiversity and habitats",null,2201,{"$nulls":21},"6mrYpZ2GcLZ7AP1RVVry5GwRT3XcKfUaVoLQYa4XeJC",{"$f":"INDEX(allsections[[S]:[Order]],MATCH(X223,allsections[SGUID],0),3)","v":{"$error":"#N/A"}},{"$f":"INDEX(allsections[[S]:[Order]],MATCH(Y223,allsections[SGUID],0),3)","v":{"$error":"#N/A"}},"h8R5jJkb29tHZV3B118Di"]
["3vLjIvLzmFDnyHGwp4sKjy","AQ 22.01 General","-",2201,{"$nulls":21},"6mrYpZ2GcLZ7AP1RVVry5G5OPZTbS8UKCdo5sAfvtHwp",{"$f":"INDEX(allsections[[S]:[Order]],MATCH(X224,allsections[SGUID],0),3)","v":{"$error":"#N/A"}},{"$f":"INDEX(allsections[[S]:[Order]],MATCH(Y224,allsections[SGUID],0),3)","v":{"$error":"#N/A"}},"3ENhTBiDiLIby2zwwYZ4II"]
["7zXnm2lgE6Oh3K9yFP7Gdf","FV 22.01 Management of biodiversity and habitats","-",2201,{"$nulls":21},"64cWD91pr0geaTi2ASvLb5TvyR0UgB0EOmnMkFaZftX",{"$f":"INDEX(allsections[[S]:[Order]],MATCH(X225,allsections[SGUID],0),3)","v":{"$error":"#N/A"}},{"$f":"INDEX(allsections[[S]:[Order]],MATCH(Y225,allsections[SGUID],0),3)","v":{"$error":"#N/A"}},"2I5R4B5uqBuxo2ybSCGbHu"]
["3yzXvEhnmn5Jt2gzgNRyxG","HOP 22.02 Ecological upgrading of unproductive sites",null,2202,{"$nulls":21},"6AvKQ3DXzy69suGAzqeAmu5TvyR0UgB0EOmnMkFaZftX",{"$f":"INDEX(allsections[[S]:[Order]],MATCH(X226,allsections[SGUID],0),3)","v":{"$error":"#N/A"}},{"$f":"INDEX(allsections[[S]:[Order]],MATCH(Y226,allsections[SGUID],0),3)","v":{"$error":"#N/A"}},"1CjsvntGscU8PNU0sD5ccV"]
["2lcjWDd2pC4Mxvjx89tTP3","AQ 22.02 Feed records","-",2202,{"$nulls":21},"2apQYV4sVGueZxb722p8822IPCUnYuMhRLMitDdZuBV6",{"$f":"INDEX(allsections[[S]:[Order]],MATCH(X227,allsections[SGUID],0),3)","v":{"$error":"#N/A"}},{"$f":"INDEX(allsections[[S]:[Order]],MATCH(Y227,allsections[SGUID],0),3)","v":{"$error":"#N/A"}},"3IUiXuwp5nc4lJpNyIt6Gm"]
["glN2WuTeRW3b5FgXbh8Ta","FV 22.02 Ecological upgrading of unproductive sites","-",2202,{"$nulls":21},"2apQYV4sVGueZxb722p8826rCsdcQbJnfwmnsw2F9C4z",{"$f":"INDEX(allsections[[S]:[Order]],MATCH(X228,allsections[SGUID],0),3)","v":{"$error":"#N/A"}},{"$f":"INDEX(allsections[[S]:[Order]],MATCH(Y228,allsections[SGUID],0),3)","v":{"$error":"#N/A"}},"21iP5X956IMsI7DJvW88jr"]
["55PwbCfLEsH487m0LGfq8G","HOP 22.03 Natural ecosystems and habitats are not converted into agricultural areas",null,2203,{"$nulls":21},"2apQYV4sVGueZxb722p88222v7nnkQpO82gWNsHA3e6i",{"$f":"INDEX(allsections[[S]:[Order]],MATCH(X229,allsections[SGUID],0),3)","v":{"$error":"#N/A"}},{"$f":"INDEX(allsections[[S]:[Order]],MATCH(Y229,allsections[SGUID],0),3)","v":{"$error":"#N/A"}},"7cF7TZI0Gd9xPsfARGQ9l9"]
["egxrRxt1wvmpDaKwSbu23","FV 22.03 Natural ecosystems and habitats are not converted into agricultural areas","-",2203,{"$nulls":21},"6mrYpZ2GcLZ7AP1RVVry5G3WBrxkh802qoM6WUHlCwcx",{"$f":"INDEX(allsections[[S]:[Order]],MATCH(X230,allsections[SGUID],0),3)","v":{"$error":"#N/A"}},{"$f":"INDEX(allsections[[S]:[Order]],MATCH(Y230,allsections[SGUID],0),3)","v":{"$error":"#N/A"}},"466hVwkhlu8tOtAvU7MH3t"]
["4WvVgaj0DmqytcECbsfj85","AQ 22.03 Storage of aquaculture feeds","-",2203,{"$nulls":21},"2apQYV4sVGueZxb722p8825az4vdaXEuQgs5B9UaOjzb",{"$f":"INDEX(allsections[[S]:[Order]],MATCH(X231,allsections[SGUID],0),3)","v":{"$error":"#N/A"}},{"$f":"INDEX(allsections[[S]:[Order]],MATCH(Y231,allsections[SGUID],0),3)","v":{"$error":"#N/A"}},"2uILNFLSUSNvYMiLxTWG1l"]
["75ZhDFwSi67hTEERmDGpdT","AQ 24.01 Harvesting – Method of harvest/dispatch","-",2401,{"$nulls":21},"6vDiuqvJNOSRl5wyT01Pym7zXnm2lgE6Oh3K9yFP7Gdf",{"$f":"INDEX(allsections[[S]:[Order]],MATCH(X232,allsections[SGUID],0),3)","v":{"$error":"#N/A"}},{"$f":"INDEX(allsections[[S]:[Order]],MATCH(Y232,allsections[SGUID],0),3)","v":{"$error":"#N/A"}},"1RPVuNcKGhKGNDUNMmqJad"]
["2fdp0291AK18VPCACdP0xw","AQ 24.02 Traceability of harvested farmed aquatic species","-",2402,{"$nulls":21},"6vDiuqvJNOSRl5wyT01PymglN2WuTeRW3b5FgXbh8Ta",{"$f":"INDEX(allsections[[S]:[Order]],MATCH(X233,allsections[SGUID],0),3)","v":{"$error":"#N/A"}},{"$f":"INDEX(allsections[[S]:[Order]],MATCH(Y233,allsections[SGUID],0),3)","v":{"$error":"#N/A"}},"6uoQDWLk4J8jAguIJy4ZW5"]
["5TX5THcQM5Np1uQ5ItrWLM","AQ 25.01 Farmed aquatic species welfare in holding and crowding facilities, including live well boat transfer, and/or prior to slaughter","Minimizing stress of the farmed aquatic species immediately prior to slaughter is necessary to prevent welfare problems.",2501,{"$nulls":21},"6vDiuqvJNOSRl5wyT01PymegxrRxt1wvmpDaKwSbu23",{"$f":"INDEX(allsections[[S]:[Order]],MATCH(X234,allsections[SGUID],0),3)","v":{"$error":"#N/A"}},{"$f":"INDEX(allsections[[S]:[Order]],MATCH(Y234,allsections[SGUID],0),3)","v":{"$error":"#N/A"}},"5c3dR1YVmA5sXHhsKmupYd"]
["1aV0zFwSp9AmvxxfeGq2eA","AQ 25.02 Mortalities in holding facilities, including well boats, and/or prior to slaughter","-",2502,{"$nulls":21},"2lCsmz9pLx7NagHecV9mpX5TvyR0UgB0EOmnMkFaZftX",{"$f":"INDEX(allsections[[S]:[Order]],MATCH(X235,allsections[SGUID],0),3)","v":{"$error":"#N/A"}},{"$f":"INDEX(allsections[[S]:[Order]],MATCH(Y235,allsections[SGUID],0),3)","v":{"$error":"#N/A"}},"2LfyMFMW36CamjuZ0YnMrr"]
["6gb3L0lEZN6wO8WjVRr7lV","AQ 25.03 Escapes and indigenous species","-",2503,{"$nulls":21},"2qQW5LAimcgbwLksFTh6tg5TvyR0UgB0EOmnMkFaZftX",{"$f":"INDEX(allsections[[S]:[Order]],MATCH(X236,allsections[SGUID],0),3)","v":{"$error":"#N/A"}},{"$f":"INDEX(allsections[[S]:[Order]],MATCH(Y236,allsections[SGUID],0),3)","v":{"$error":"#N/A"}},"7iWJXTXYCupkFTEfuzkuQg"]
["xbaIyuRHw74GoMT8PbnKx","AQ 26.01 Stunning and bleeding","-",2601,{"$nulls":21},"19FqK7ekLK0m3iLHchTn8h2g5JReDfSpzAHl16771ew5",{"$f":"INDEX(allsections[[S]:[Order]],MATCH(X237,allsections[SGUID],0),3)","v":{"$error":"#N/A"}},{"$f":"INDEX(allsections[[S]:[Order]],MATCH(Y237,allsections[SGUID],0),3)","v":{"$error":"#N/A"}},"6NNCdhTMTpFbSgoGpb63cp"]
["1oGNflTpAerQDWPIkzL1jE","AQ 26.02 Blood waters","-",2602,{"$nulls":21},"19FqK7ekLK0m3iLHchTn8h14lJpH5qVsP8C976yuQrDU",{"$f":"INDEX(allsections[[S]:[Order]],MATCH(X238,allsections[SGUID],0),3)","v":{"$error":"#N/A"}},{"$f":"INDEX(allsections[[S]:[Order]],MATCH(Y238,allsections[SGUID],0),3)","v":{"$error":"#N/A"}},"13bKix0KDGNudEM0QXmk1y"]
["1GydlnqB5f3ZYrijAhJ8a1","HOP 28.01 Soil management and conservation",null,2801,{"$nulls":21},"30jEVEr91nZpdd9cxyULwz5TvyR0UgB0EOmnMkFaZftX",{"$f":"INDEX(allsections[[S]:[Order]],MATCH(X239,allsections[SGUID],0),3)","v":{"$error":"#N/A"}},{"$f":"INDEX(allsections[[S]:[Order]],MATCH(Y239,allsections[SGUID],0),3)","v":{"$error":"#N/A"}},"1PuOePk9uZL3G34wE5JQsg"]
["1QBze7NaIYiHw7VdVlbt4H","AQ 28.01 MANAGEMENT STRUCTURE","-",2801,{"$nulls":21},"5QTGwGTKitdKuEwjmkCJSy5TvyR0UgB0EOmnMkFaZftX",{"$f":"INDEX(allsections[[S]:[Order]],MATCH(X240,allsections[SGUID],0),3)","v":{"$error":"#N/A"}},{"$f":"INDEX(allsections[[S]:[Order]],MATCH(Y240,allsections[SGUID],0),3)","v":{"$error":"#N/A"}},"2hnZEMTaQG5nB4cObQrjJa"]
["7mjSidGuWy0Ls8TvSUsTPI","FV 28.01 Soil management and conservation","-",2801,{"$nulls":21},"56UycwhshuG3OMlSB7ahAa5TvyR0UgB0EOmnMkFaZftX",{"$f":"INDEX(allsections[[S]:[Order]],MATCH(X241,allsections[SGUID],0),3)","v":{"$error":"#N/A"}},{"$f":"INDEX(allsections[[S]:[Order]],MATCH(Y241,allsections[SGUID],0),3)","v":{"$error":"#N/A"}},"2MaWcCOjrnzTUZYLyLI2po"]
["BNyveclVEQj4HZroYIsSp","HOP 28.02 Soil fumigation",null,2802,{"$nulls":21},"3BmiRfV14Y9UArHysfO3zs5TvyR0UgB0EOmnMkFaZftX",{"$f":"INDEX(allsections[[S]:[Order]],MATCH(X242,allsections[SGUID],0),3)","v":{"$error":"#N/A"}},{"$f":"INDEX(allsections[[S]:[Order]],MATCH(Y242,allsections[SGUID],0),3)","v":{"$error":"#N/A"}},"2KVEEE9taT1qBKZw1pM15e"]
["62pcFPkt77OZum9a77v4Bc","AQ 28.02 INPUT AND OUTPUT VERIFICATION","This section does not apply if the producer processes only their own farmed products and is not registered in the GLOBALG.A.P. IT systems for parallel ownership.",2802,{"$nulls":21},"4UI39RIn6YI8gQZpGRKexG5TvyR0UgB0EOmnMkFaZftX",{"$f":"INDEX(allsections[[S]:[Order]],MATCH(X243,allsections[SGUID],0),3)","v":{"$error":"#N/A"}},{"$f":"INDEX(allsections[[S]:[Order]],MATCH(Y243,allsections[SGUID],0),3)","v":{"$error":"#N/A"}},"2p77rPdFZt9MG3aWryompi"]
["2g5JReDfSpzAHl16771ew5","FV 28.02 Soil fumigation","-",2802,{"$nulls":21},"6vK5KBcIFJbIyxl3B3ekIp2pCca0Upzl3Nn66JUNHXeF",{"$f":"INDEX(allsections[[S]:[Order]],MATCH(X244,allsections[SGUID],0),3)","v":{"$error":"#N/A"}},{"$f":"INDEX(allsections[[S]:[Order]],MATCH(Y244,allsections[SGUID],0),3)","v":{"$error":"#N/A"}},"3G2o2VZD4Vhj1j8NCZvH4W"]
["5WJHGPTTWb7MtMDRBmMa6c","AQ 28.03 TRACEBILITY"," Certified products are traceable. The producer may use either the segregation method or the identity preservation method to ensure traceability.",2803,{"$nulls":21},"3YIgWsy9P8ND3BJPQGnD0j2pCca0Upzl3Nn66JUNHXeF",{"$f":"INDEX(allsections[[S]:[Order]],MATCH(X245,allsections[SGUID],0),3)","v":{"$error":"#N/A"}},{"$f":"INDEX(allsections[[S]:[Order]],MATCH(Y245,allsections[SGUID],0),3)","v":{"$error":"#N/A"}},"6vy7qzuZGnKVxG0fDPIPXR"]
["14lJpH5qVsP8C976yuQrDU","FV 28.03 Substrates","-",2803,{"$nulls":21},"3YIgWsy9P8ND3BJPQGnD0j1qvPg1ym8f6SRe66rOl40x",{"$f":"INDEX(allsections[[S]:[Order]],MATCH(X246,allsections[SGUID],0),3)","v":{"$error":"#N/A"}},{"$f":"INDEX(allsections[[S]:[Order]],MATCH(Y246,allsections[SGUID],0),3)","v":{"$error":"#N/A"}},"3sySSWL5oAIx28hSoUBFMA"]
["198tyEsFhpRSGa7ciBtswI","AQ 28.04 IDENTIFICATION OF OUTPUT WITH CERTIFIED STATUS (ORIGINATING FROM CERTIFIED PRODUCTION PROCESSES)","The producer and the products are properly identified to allow traceability and validation of the certification status.",2804,{"$nulls":21},"3labXsBTDnp2nMlbS2V5AI412fDoNkTQzvavcR1yffoS",{"$f":"INDEX(allsections[[S]:[Order]],MATCH(X247,allsections[SGUID],0),3)","v":{"$error":"#N/A"}},{"$f":"INDEX(allsections[[S]:[Order]],MATCH(Y247,allsections[SGUID],0),3)","v":{"$error":"#N/A"}},"3Y6whE7A4GTOmBM0cLfCgo"]
["zq9mC4X4axaBhi2FBiFDN","AQ 28.05 PRODUCTS WITH THE GGN LABEL VISUAL ELEMENTS","Applicable only to products with the GGN label visual elements\nLicensed companies are entitled to use and label their products with the GGN label visual elements in addition to the GGN Number. For the requirements and guidelines on using the GGN label visual elements, see the GGN label user manual for product packaging. The GGN label visual elements are linked to a public online portal that enables direct verification of GLOBALG.A.P. Numbers (GGNs) and Chain of Custody (CoC) Numbers.",2805,{"$nulls":21},"3labXsBTDnp2nMlbS2V5AI2PabgCVl2axbE6gvoMhnNb",{"$f":"INDEX(allsections[[S]:[Order]],MATCH(X248,allsections[SGUID],0),3)","v":{"$error":"#N/A"}},{"$f":"INDEX(allsections[[S]:[Order]],MATCH(Y248,allsections[SGUID],0),3)","v":{"$error":"#N/A"}},"6Qbmg6JuoN770dfkE0ogCG"]
["10c0y7GWMTWtoirCquzgD2","AQ 28.06 FOOD SAFETY SYSTEM","-",2806,{"$nulls":21},"3labXsBTDnp2nMlbS2V5AI1WLl5crwUtAKu9uhWYEzsL",{"$f":"INDEX(allsections[[S]:[Order]],MATCH(X249,allsections[SGUID],0),3)","v":{"$error":"#N/A"}},{"$f":"INDEX(allsections[[S]:[Order]],MATCH(Y249,allsections[SGUID],0),3)","v":{"$error":"#N/A"}},"3dOYyVrZuqiaWn8aIvCMMR"]
["2G6uwghHDTAis8RUZY3FJx","HOP 29.01 Application records",null,2901,{"$nulls":21},"3labXsBTDnp2nMlbS2V5AI3bNRfY2TpP6vkYKG0u4wwr",{"$f":"INDEX(allsections[[S]:[Order]],MATCH(X250,allsections[SGUID],0),3)","v":{"$error":"#N/A"}},{"$f":"INDEX(allsections[[S]:[Order]],MATCH(Y250,allsections[SGUID],0),3)","v":{"$error":"#N/A"}},"2zscEBuE0OwqbPZjKZeBLF"]
["5wu9vqrUGRlCKkbHt3ECf0","FV 29.01 Application records","-",2901,{"$nulls":21},"3YIgWsy9P8ND3BJPQGnD0j743VeTmtrKzh2yBlulWP21",{"$f":"INDEX(allsections[[S]:[Order]],MATCH(X251,allsections[SGUID],0),3)","v":{"$error":"#N/A"}},{"$f":"INDEX(allsections[[S]:[Order]],MATCH(Y251,allsections[SGUID],0),3)","v":{"$error":"#N/A"}},"6g3NqdQl5NHN5tSVsxrY1N"]
["3QFwSW2yUZI11qFYS6goaH","HOP 29.02 Storage",null,2902,{"$nulls":21},"3YIgWsy9P8ND3BJPQGnD0j11FBMuieNmnZtyeFBlepcF",{"$f":"INDEX(allsections[[S]:[Order]],MATCH(X252,allsections[SGUID],0),3)","v":{"$error":"#N/A"}},{"$f":"INDEX(allsections[[S]:[Order]],MATCH(Y252,allsections[SGUID],0),3)","v":{"$error":"#N/A"}},"5bhPN4DzYGiQBGzqjmqwDA"]
["7tkt1sKqqlLnUrh71qam9K","FV 29.02 Storage","-",2902,{"$nulls":21},"3YIgWsy9P8ND3BJPQGnD0jCSohyDpAegE66esWvDgT5",{"$f":"INDEX(allsections[[S]:[Order]],MATCH(X253,allsections[SGUID],0),3)","v":{"$error":"#N/A"}},{"$f":"INDEX(allsections[[S]:[Order]],MATCH(Y253,allsections[SGUID],0),3)","v":{"$error":"#N/A"}},"3RXNryEkb5RsCci4ZuSpu4"]
["34qytRFn55Pj9v8N6jW9Nd","HOP 29.03 Organic fertilizers",null,2903,{"$nulls":21},"3YIgWsy9P8ND3BJPQGnD0j6OqbxahSFlVeKhLRgYFytR",{"$f":"INDEX(allsections[[S]:[Order]],MATCH(X254,allsections[SGUID],0),3)","v":{"$error":"#N/A"}},{"$f":"INDEX(allsections[[S]:[Order]],MATCH(Y254,allsections[SGUID],0),3)","v":{"$error":"#N/A"}},"56LbVxj8q6LfC4kf1x4GeA"]
["4e9U8QqFWhkb5syMftPkjz","FV 29.03 Organic fertilizers","-",2903,{"$nulls":21},"wyDCB5gmC64vDLZ45LmyF5l2rJiYbFtvFuXNhk6Xt0S",{"$f":"INDEX(allsections[[S]:[Order]],MATCH(X255,allsections[SGUID],0),3)","v":{"$error":"#N/A"}},{"$f":"INDEX(allsections[[S]:[Order]],MATCH(Y255,allsections[SGUID],0),3)","v":{"$error":"#N/A"}},"5HpjunyxjPFZ8ERnK8tq7N"]
["3it1MDZers0ZhAZZAMnlhX","HOP 29.04 Nutrient content",null,2904,{"$nulls":21},"3YIgWsy9P8ND3BJPQGnD0j79pV2c30dTskerAeol8ohZ",{"$f":"INDEX(allsections[[S]:[Order]],MATCH(X256,allsections[SGUID],0),3)","v":{"$error":"#N/A"}},{"$f":"INDEX(allsections[[S]:[Order]],MATCH(Y256,allsections[SGUID],0),3)","v":{"$error":"#N/A"}},"5XO2ouVK6UjXiuayI3pjaw"]
["1DSOMfBwEJ7NMTIzs3yO1i","FV 29.04 Nutrient content","-",2904,{"$nulls":21},"1TyGiQcuRVxqRPsWm6pYn75GJnBn0XaHPkzo9hXhVvqW",{"$f":"INDEX(allsections[[S]:[Order]],MATCH(X257,allsections[SGUID],0),3)","v":{"$error":"#N/A"}},{"$f":"INDEX(allsections[[S]:[Order]],MATCH(Y257,allsections[SGUID],0),3)","v":{"$error":"#N/A"}},"5bVj9VFVZ6tCA1nWKx8e7w"]
["31MnP6cupxhwzTJCfEX2C0","HOP 30.01 Water use risk assessments and management plan",null,3001,{"$nulls":21},"1TyGiQcuRVxqRPsWm6pYn725itD9t3AKPNN1d0JIB5bx",{"$f":"INDEX(allsections[[S]:[Order]],MATCH(X258,allsections[SGUID],0),3)","v":{"$error":"#N/A"}},{"$f":"INDEX(allsections[[S]:[Order]],MATCH(Y258,allsections[SGUID],0),3)","v":{"$error":"#N/A"}},"2xx2r9xm1ZFKgkOLcMZqVd"]
["4YYEAFlKQL7dZttPmpxB2F","FV 30.01 Water use risk assessments and management plan","-",3001,{"$nulls":21},"1TyGiQcuRVxqRPsWm6pYn73yEQbyyk01GoZYBCkYA4FP",{"$f":"INDEX(allsections[[S]:[Order]],MATCH(X259,allsections[SGUID],0),3)","v":{"$error":"#N/A"}},{"$f":"INDEX(allsections[[S]:[Order]],MATCH(Y259,allsections[SGUID],0),3)","v":{"$error":"#N/A"}},"3JyHEnouIJTlEpv89BLJNJ"]
["3bwHSjPIiZlDqoQlQa0RcI","HOP 30.02 Water sources",null,3002,{"$nulls":21},"1TyGiQcuRVxqRPsWm6pYn73bxp0a7dcsX1zRhf8lSDgg",{"$f":"INDEX(allsections[[S]:[Order]],MATCH(X260,allsections[SGUID],0),3)","v":{"$error":"#N/A"}},{"$f":"INDEX(allsections[[S]:[Order]],MATCH(Y260,allsections[SGUID],0),3)","v":{"$error":"#N/A"}},"65q3YF3Fh2kdDGMu1rvFCM"]
["5U9xxekFJ28sU2NwdkP9u8","FV 30.02 Water sources","-",3002,{"$nulls":21},"5JIgB3UDpDaQaRmTmuUpoo2RNwE7jatfe6w5x0Tu6eV4",{"$f":"INDEX(allsections[[S]:[Order]],MATCH(X261,allsections[SGUID],0),3)","v":{"$error":"#N/A"}},{"$f":"INDEX(allsections[[S]:[Order]],MATCH(Y261,allsections[SGUID],0),3)","v":{"$error":"#N/A"}},"32C8htEWfNkaxTSAw1lMmH"]
["5JMEtkoFWwAZfaa1yaPgBK","HOP 30.03 Efficient water use on farm",null,3003,{"$nulls":21},"5JIgB3UDpDaQaRmTmuUpoo5l2rJiYbFtvFuXNhk6Xt0S",{"$f":"INDEX(allsections[[S]:[Order]],MATCH(X262,allsections[SGUID],0),3)","v":{"$error":"#N/A"}},{"$f":"INDEX(allsections[[S]:[Order]],MATCH(Y262,allsections[SGUID],0),3)","v":{"$error":"#N/A"}},"24BgKpKEedoO1JiqqsJ9K0"]
["uzn8UMxTkF1w7M3FTD0sW","FV 30.03 Efficient water use on farm","-",3003,{"$nulls":21},"5g1godsQJRqbjZxI603Etm2ea1rhckQVrSaK28J1Se0f",{"$f":"INDEX(allsections[[S]:[Order]],MATCH(X263,allsections[SGUID],0),3)","v":{"$error":"#N/A"}},{"$f":"INDEX(allsections[[S]:[Order]],MATCH(Y263,allsections[SGUID],0),3)","v":{"$error":"#N/A"}},"6Y28XxkqaGhdKkUwmmVWZU"]
["4AISrwQ9WCshrlYBBrxvLA","HOP 30.04 Water storage",null,3004,{"$nulls":21},"5g1godsQJRqbjZxI603EtmAsizSx9djd7Hn9BlLrbya",{"$f":"INDEX(allsections[[S]:[Order]],MATCH(X264,allsections[SGUID],0),3)","v":{"$error":"#N/A"}},{"$f":"INDEX(allsections[[S]:[Order]],MATCH(Y264,allsections[SGUID],0),3)","v":{"$error":"#N/A"}},"52qkXF3M0StAXkDQXFCSgS"]
["7GSUGbBCg0zqqdO3nIYknt","FV 30.04 Water storage","-",3004,{"$nulls":21},"5g1godsQJRqbjZxI603Etm4CTLgpMoXEpcE8tXLndCGp",{"$f":"INDEX(allsections[[S]:[Order]],MATCH(X265,allsections[SGUID],0),3)","v":{"$error":"#N/A"}},{"$f":"INDEX(allsections[[S]:[Order]],MATCH(Y265,allsections[SGUID],0),3)","v":{"$error":"#N/A"}},"1hr60kCaVVYZ0GddKH3itk"]
["6DLYBu74pUsP9h2Tk6aE8b","HOP 30.05 Water quality",null,3005,{"$nulls":21},"IKtB5yVMmBF7k4LaDgUZw4Lhlvkx1w9JtxEbAhlutRi",{"$f":"INDEX(allsections[[S]:[Order]],MATCH(X266,allsections[SGUID],0),3)","v":{"$error":"#N/A"}},{"$f":"INDEX(allsections[[S]:[Order]],MATCH(Y266,allsections[SGUID],0),3)","v":{"$error":"#N/A"}},"57NpCUzFpLeJMc4iXNsju7"]
["253gbk0kdnSSFyQX6iFKWy","FV 30.05 Water quality","One of the key features of sustainable farming is the continuous integration of site-specific knowledge and practical experience for future management planning and practices. \nThis section is intended to ensure proper site management based on planning and monitoring own practices and products, including listening to external clients to enhance learning and improvement, ensuring that the land, buildings, and other facilities which constitute the fabric of the farm are properly managed for the safe production of flowers and ornamentals and the protection of the environment.",3005,{"$nulls":21},"IKtB5yVMmBF7k4LaDgUZw4lUZQXD5tjtX2glVe4lraA",{"$f":"INDEX(allsections[[S]:[Order]],MATCH(X267,allsections[SGUID],0),3)","v":{"$error":"#N/A"}},{"$f":"INDEX(allsections[[S]:[Order]],MATCH(Y267,allsections[SGUID],0),3)","v":{"$error":"#N/A"}},"2Ic89h7XDhn3EnfuxricmS"]
["SAqaQFjpGvk0dxFTZIzwA","HOP 30.06 Irrigation predictions and record keeping",null,3006,{"$nulls":21},"2BGuoLOuGR86Am1Hf7hCiG1WOpilQQJvvs3HIzyLlTD7",{"$f":"INDEX(allsections[[S]:[Order]],MATCH(X268,allsections[SGUID],0),3)","v":{"$error":"#N/A"}},{"$f":"INDEX(allsections[[S]:[Order]],MATCH(Y268,allsections[SGUID],0),3)","v":{"$error":"#N/A"}},"3KLSVauiw2LpCRLz6sh0Gl"]
["6aZY7458MgGAXucrp2rDfj","FV 30.06 Irrigation predictions and record keeping","-",3006,{"$nulls":21},"2BGuoLOuGR86Am1Hf7hCiGCnld8x4oHlmExTFHGeLjj",{"$f":"INDEX(allsections[[S]:[Order]],MATCH(X269,allsections[SGUID],0),3)","v":{"$error":"#N/A"}},{"$f":"INDEX(allsections[[S]:[Order]],MATCH(Y269,allsections[SGUID],0),3)","v":{"$error":"#N/A"}},"HZVFRQ0lPsAYqgtzVDmvQ"]
["50xAgBpMLFLITAgXsZZZlg","HOP 32.01 Plant protection product management",null,3201,{"$nulls":21},"2BGuoLOuGR86Am1Hf7hCiG3JTeuQtOc1OKqfRNulIqvM",{"$f":"INDEX(allsections[[S]:[Order]],MATCH(X270,allsections[SGUID],0),3)","v":{"$error":"#N/A"}},{"$f":"INDEX(allsections[[S]:[Order]],MATCH(Y270,allsections[SGUID],0),3)","v":{"$error":"#N/A"}},"3FzF1LEqvaqcVg1sPXpO4T"]
["aeLabNl3CjngCaQDiZCnP","FV 32.01 Plant protection product management","-",3201,{"$nulls":21},"2BGuoLOuGR86Am1Hf7hCiG5VavlH2MeUS17rVAik4joc",{"$f":"INDEX(allsections[[S]:[Order]],MATCH(X271,allsections[SGUID],0),3)","v":{"$error":"#N/A"}},{"$f":"INDEX(allsections[[S]:[Order]],MATCH(Y271,allsections[SGUID],0),3)","v":{"$error":"#N/A"}},"7a2Y6DzH7j1VVkaHdI2yOG"]
["4tsSAXoTqULXFfkPGQuphj","HOP 32.02 Application records",null,3202,{"$nulls":21},"2BGuoLOuGR86Am1Hf7hCiGaJyo4GEfHW26SGyqyk8my",{"$f":"INDEX(allsections[[S]:[Order]],MATCH(X272,allsections[SGUID],0),3)","v":{"$error":"#N/A"}},{"$f":"INDEX(allsections[[S]:[Order]],MATCH(Y272,allsections[SGUID],0),3)","v":{"$error":"#N/A"}},"1hKXJ13N5lXYEXEOcZHmyy"]
["7te0V5sEO4j2gdaCHhqwRe","FV 32.02 Application records","-",3202,{"$nulls":21},"2BGuoLOuGR86Am1Hf7hCiGr4Wl5viNqALmYQehnJigP",{"$f":"INDEX(allsections[[S]:[Order]],MATCH(X273,allsections[SGUID],0),3)","v":{"$error":"#N/A"}},{"$f":"INDEX(allsections[[S]:[Order]],MATCH(Y273,allsections[SGUID],0),3)","v":{"$error":"#N/A"}},"32JIKIaeDGwGaAEbTSj6y5"]
["2WGH0RWY1OjvoJuoSirwHO","HOP 32.03 Plant protection product preharvest intervals",null,3203,{"$nulls":21},"5JIgB3UDpDaQaRmTmuUpoo64wGe3MdQzgQigsw2nGTdA",{"$f":"INDEX(allsections[[S]:[Order]],MATCH(X274,allsections[SGUID],0),3)","v":{"$error":"#N/A"}},{"$f":"INDEX(allsections[[S]:[Order]],MATCH(Y274,allsections[SGUID],0),3)","v":{"$error":"#N/A"}},"3xYy6mL2hiBM97rB69PVPI"]
["6Rr7lWkdEx4UFV3lspdV2c","FV 32.03 Plant protection product preharvest intervals","-",3203,{"$nulls":21},"IKtB5yVMmBF7k4LaDgUZw3yiRDwLwt1Ow5dQeFJqM2k",{"$f":"INDEX(allsections[[S]:[Order]],MATCH(X275,allsections[SGUID],0),3)","v":{"$error":"#N/A"}},{"$f":"INDEX(allsections[[S]:[Order]],MATCH(Y275,allsections[SGUID],0),3)","v":{"$error":"#N/A"}},"5vY6xYFjJeJDGdSD1bFJDR"]
["2JbpD7n1ziHSr2bVcKMSYA","HOP 32.04 Empty containers",null,3204,{"$nulls":21},"5EpvIGahtoNQBPGjgtOnbO1zDGYHavQ1Y1HUI9R90OOZ",{"$f":"INDEX(allsections[[S]:[Order]],MATCH(X276,allsections[SGUID],0),3)","v":{"$error":"#N/A"}},{"$f":"INDEX(allsections[[S]:[Order]],MATCH(Y276,allsections[SGUID],0),3)","v":{"$error":"#N/A"}},"3in4vF0L0QH4cz3j8qyG9c"]
["2sC7LUqXHhrGUVy4ZkqKu8","FV 32.04 Empty containers","-",3204,{"$nulls":21},"4a4Qd6ndeeA7u3kN8ZP1We4sgOMeAcsKM18hKZSWSDgu",{"$f":"INDEX(allsections[[S]:[Order]],MATCH(X277,allsections[SGUID],0),3)","v":{"$error":"#N/A"}},{"$f":"INDEX(allsections[[S]:[Order]],MATCH(Y277,allsections[SGUID],0),3)","v":{"$error":"#N/A"}},"5biAiXHSgSk4gPg4kzNSvu"]
["1dk4ytnQWjHBvg1ln8HjTF","HOP 32.05 Obsolete plant protection products",null,3205,{"$nulls":21},"4a4Qd6ndeeA7u3kN8ZP1We7e2OTmZvHrA9xmbHveLBmp",{"$f":"INDEX(allsections[[S]:[Order]],MATCH(X278,allsections[SGUID],0),3)","v":{"$error":"#N/A"}},{"$f":"INDEX(allsections[[S]:[Order]],MATCH(Y278,allsections[SGUID],0),3)","v":{"$error":"#N/A"}},"4zamBXrzVP3v8KPVS98bid"]
["3ZsSeRvZNIo9inIvGSDPi7","FV 32.05 Obsolete plant protection products","-",3205,{"$nulls":21},"4a4Qd6ndeeA7u3kN8ZP1We1j8KzCREQQlaHRiz9wuo0z",{"$f":"INDEX(allsections[[S]:[Order]],MATCH(X279,allsections[SGUID],0),3)","v":{"$error":"#N/A"}},{"$f":"INDEX(allsections[[S]:[Order]],MATCH(Y279,allsections[SGUID],0),3)","v":{"$error":"#N/A"}},"3S4q9BwkV19jVjVj3Fiy75"]
["49eZzszjuUC0B6uHMRpoza","HOP 32.06 Disposal of surplus application mix",null,3206,{"$nulls":21},"4a4Qd6ndeeA7u3kN8ZP1We7iGeybgBH8laSvemDG6yKU",{"$f":"INDEX(allsections[[S]:[Order]],MATCH(X280,allsections[SGUID],0),3)","v":{"$error":"#N/A"}},{"$f":"INDEX(allsections[[S]:[Order]],MATCH(Y280,allsections[SGUID],0),3)","v":{"$error":"#N/A"}},"1ZiMa81KOMVFgXiEoigZEc"]
["wRT3XcKfUaVoLQYa4XeJC","FV 32.06 Disposal of surplus application mix","-",3206,{"$nulls":21},"4a4Qd6ndeeA7u3kN8ZP1We1ERzCDuPHpofETFZxfdFUx",{"$f":"INDEX(allsections[[S]:[Order]],MATCH(X281,allsections[SGUID],0),3)","v":{"$error":"#N/A"}},{"$f":"INDEX(allsections[[S]:[Order]],MATCH(Y281,allsections[SGUID],0),3)","v":{"$error":"#N/A"}},"6mL7rNUJjE6ZUJ2ctQLqD1"]
["5E9apgdIabjK9U9O52kP3v","HOP 32.07 Residue analysis",null,3207,{"$nulls":21},"2BGuoLOuGR86Am1Hf7hCiG3W7dGcEqSrkGPLpK2FPpjb",{"$f":"INDEX(allsections[[S]:[Order]],MATCH(X282,allsections[SGUID],0),3)","v":{"$error":"#N/A"}},{"$f":"INDEX(allsections[[S]:[Order]],MATCH(Y282,allsections[SGUID],0),3)","v":{"$error":"#N/A"}},"77iD9G4XGr5vhbqQwrOfqv"]
["78fF8J8n8uDPsOxFl12Alc","FV 32.07 Residue analysis","-",3207,{"$nulls":21},"2BGuoLOuGR86Am1Hf7hCiG6OVfMLlOhjDUtTGVH4d1tI",{"$f":"INDEX(allsections[[S]:[Order]],MATCH(X283,allsections[SGUID],0),3)","v":{"$error":"#N/A"}},{"$f":"INDEX(allsections[[S]:[Order]],MATCH(Y283,allsections[SGUID],0),3)","v":{"$error":"#N/A"}},"EjvcDaWgn3ttR1SL0MtIP"]
["5XwbzZtEM8lBOyfvXXxdDp","HOP 32.08 Application of other substances",null,3208,{"$nulls":21},"48aQAsWhk4FCpRyiTfbQDc5TvyR0UgB0EOmnMkFaZftX",{"$f":"INDEX(allsections[[S]:[Order]],MATCH(X284,allsections[SGUID],0),3)","v":{"$error":"#N/A"}},{"$f":"INDEX(allsections[[S]:[Order]],MATCH(Y284,allsections[SGUID],0),3)","v":{"$error":"#N/A"}},"3HkNWk3E3qX8G4lyxNXhn"]
["6ZlIRqNokp14rd0OrJYpUs","FV 32.08 Application of other substances","-",3208,{"$nulls":21},"5ZjwAiDPYbGvURtwoHF4gM5TvyR0UgB0EOmnMkFaZftX",{"$f":"INDEX(allsections[[S]:[Order]],MATCH(X285,allsections[SGUID],0),3)","v":{"$error":"#N/A"}},{"$f":"INDEX(allsections[[S]:[Order]],MATCH(Y285,allsections[SGUID],0),3)","v":{"$error":"#N/A"}},"5pmfsUbg8aoTCasOYIPEmO"]
["4QOHCspm1xB86DGAUYDjRE","HOP 32.09 Plant protection product and postharvest treatment product storage",null,3209,{"$nulls":21},"4d9ucNGdAsunr2tbELZ2oO5TvyR0UgB0EOmnMkFaZftX",{"$f":"INDEX(allsections[[S]:[Order]],MATCH(X286,allsections[SGUID],0),3)","v":{"$error":"#N/A"}},{"$f":"INDEX(allsections[[S]:[Order]],MATCH(Y286,allsections[SGUID],0),3)","v":{"$error":"#N/A"}},"wfEosTNsh5ZbZfpJsxQgA"]
["7FzFPUI62I8icT9zFiqYBn","FV 32.09 Plant protection product and postharvest treatment product storage","-",3209,{"$nulls":21},"IKtB5yVMmBF7k4LaDgUZw3R84nmeK4iATbuwZ2gsDsb",{"$f":"INDEX(allsections[[S]:[Order]],MATCH(X287,allsections[SGUID],0),3)","v":{"$error":"#N/A"}},{"$f":"INDEX(allsections[[S]:[Order]],MATCH(Y287,allsections[SGUID],0),3)","v":{"$error":"#N/A"}},"stHgm7kk2SPG9w5vMdz4p"]
["5ct5fM0HqC0lCNZYddSQSP","HOP 32.10 Mixing and handling",null,3210,{"$nulls":21},"IKtB5yVMmBF7k4LaDgUZw7o4R1VJX1KXn6Y2mK3KBnX",{"$f":"INDEX(allsections[[S]:[Order]],MATCH(X288,allsections[SGUID],0),3)","v":{"$error":"#N/A"}},{"$f":"INDEX(allsections[[S]:[Order]],MATCH(Y288,allsections[SGUID],0),3)","v":{"$error":"#N/A"}},"2d7YWQS3FpE89EMmToIXl7"]
["3WBrxkh802qoM6WUHlCwcx","FV 32.10 Mixing and handling","-",3210,{"$nulls":21},"IKtB5yVMmBF7k4LaDgUZw6GGR163KNx1sTit3j0ivMP",{"$f":"INDEX(allsections[[S]:[Order]],MATCH(X289,allsections[SGUID],0),3)","v":{"$error":"#N/A"}},{"$f":"INDEX(allsections[[S]:[Order]],MATCH(Y289,allsections[SGUID],0),3)","v":{"$error":"#N/A"}},"1E2oM3pY57AB2HYh2FrLwa"]
["3ag7qg4fpn4nxKeaoiBogr","HOP 32.11 Invoices and procurement documentation",null,3211,{"$nulls":21},"IKtB5yVMmBF7k4LaDgUZw6twC7WvSzvTac9PtqXVar6",{"$f":"INDEX(allsections[[S]:[Order]],MATCH(X290,allsections[SGUID],0),3)","v":{"$error":"#N/A"}},{"$f":"INDEX(allsections[[S]:[Order]],MATCH(Y290,allsections[SGUID],0),3)","v":{"$error":"#N/A"}},"2KsBqme4dzqwFgisXFOayx"]
["5OPZTbS8UKCdo5sAfvtHwp","FV 32.11 Invoices and procurement documentation","-",3211,{"$nulls":21},"IKtB5yVMmBF7k4LaDgUZwJfokfy0DypbRD7D7zEF8h",{"$f":"INDEX(allsections[[S]:[Order]],MATCH(X291,allsections[SGUID],0),3)","v":{"$error":"#N/A"}},{"$f":"INDEX(allsections[[S]:[Order]],MATCH(Y291,allsections[SGUID],0),3)","v":{"$error":"#N/A"}},"7oyHtBXE4RjANn4ggmq6Y3"]
["1zH3ajr9ldfV66pKaz5uSC","HOP 33.01 Harvest and handling areas",null,3301,{"$nulls":21},"5g1godsQJRqbjZxI603Etm1MAAg94AQdklTBAzABM4wS",{"$f":"INDEX(allsections[[S]:[Order]],MATCH(X292,allsections[SGUID],0),3)","v":{"$error":"#N/A"}},{"$f":"INDEX(allsections[[S]:[Order]],MATCH(Y292,allsections[SGUID],0),3)","v":{"$error":"#N/A"}},"3NggK2eyAFMnxgLmy5ZHwl"]
["Cewd3FqcwBMtVtTDK4h9s","FV 33.01 Packing (in-field or facility) and storage areas","-",3301,{"$nulls":21},"6sAnZuzrLy7KwfabltbVL25TvyR0UgB0EOmnMkFaZftX",{"$f":"INDEX(allsections[[S]:[Order]],MATCH(X293,allsections[SGUID],0),3)","v":{"$error":"#N/A"}},{"$f":"INDEX(allsections[[S]:[Order]],MATCH(Y293,allsections[SGUID],0),3)","v":{"$error":"#N/A"}},"4g6GmkM7SVOjxzDG7bEynl"]
["110oWX79i6mbT4bTqOXnsF","HOP 33.02 Foreign materials",null,3302,{"$nulls":21},"3labXsBTDnp2nMlbS2V5AI3IMlwAGWtNQ8ZjIBrbKwsL",{"$f":"INDEX(allsections[[S]:[Order]],MATCH(X294,allsections[SGUID],0),3)","v":{"$error":"#N/A"}},{"$f":"INDEX(allsections[[S]:[Order]],MATCH(Y294,allsections[SGUID],0),3)","v":{"$error":"#N/A"}},"1oZBiTuiw7JnneP37eRowe"]
["7h4leQtnNFBbHHWbgN8lXM","FV 33.02 Foreign bodies","-",3302,{"$nulls":21},"3YIgWsy9P8ND3BJPQGnD0j3Fg5RTdQ7a6O2THEvpVWrG",{"$f":"INDEX(allsections[[S]:[Order]],MATCH(X295,allsections[SGUID],0),3)","v":{"$error":"#N/A"}},{"$f":"INDEX(allsections[[S]:[Order]],MATCH(Y295,allsections[SGUID],0),3)","v":{"$error":"#N/A"}},"5ADUfpuBbLBbLbTKgfXnbi"]
["4eKy1DGXi4so3zRzyqThnJ","HOP 33.03 Temperature and humidity control",null,3303,{"$nulls":21},"3YIgWsy9P8ND3BJPQGnD0j3wasRW0o0BjnW1Yy5QAtYp",{"$f":"INDEX(allsections[[S]:[Order]],MATCH(X296,allsections[SGUID],0),3)","v":{"$error":"#N/A"}},{"$f":"INDEX(allsections[[S]:[Order]],MATCH(Y296,allsections[SGUID],0),3)","v":{"$error":"#N/A"}},"2UdnbG1EfwovfGYLIAS3BC"]
["5RnRCz8ee4Zl9QUgeRKTHd","FV 33.03 Temperature and humidity control","-",3303,{"$nulls":21},"6MLbOSTUhL6svPsQwb6NH65TvyR0UgB0EOmnMkFaZftX",{"$f":"INDEX(allsections[[S]:[Order]],MATCH(X297,allsections[SGUID],0),3)","v":{"$error":"#N/A"}},{"$f":"INDEX(allsections[[S]:[Order]],MATCH(Y297,allsections[SGUID],0),3)","v":{"$error":"#N/A"}},"4eaXpRnh8mnwfzKcWJnmsL"]
["1YjodcLkPXYuUVJv2kTcFk","HOP 33.04 Pest control",null,3304]
["1OZTzJWvKeCm4lQLj2de5o","FV 33.04 Pest control","-",3304]
["7ctYNkkwyMaJhUZotDNFjC","HOP 33.05 Finished products",null,3305]
["6v0SS1OCIEL11DaUsdV8qY","FV 33.05 Product labeling","-",3305]
["1vk62VlZg3Zq6bcgLfSxGJ","FV 33.06 Environmental monitoring program","-",3306]
["6jeCGSSXYJzTftXx8cbHUd","HOP 33.06 Transport",null,3306]
["5TLexd3GI3AjZkCglPj3h5","FV 33.07 Air and compressed gases ","-",3307]
["6XDlMJZ8YZa4z9YpSWG2pO","HOP 33.07 Harvest and handling area safety",null,3307]
["4vucxRo0LZSSTw9GJs9K5C","QMS 01.01   Legality ","-",10100]
["3xDgKt7CA6fhZm7YTtTFG0","QMS 01.01.01  Legality - Producer group members of producer groups ","-",10101]
["ppb9y4rPwbUUBCj5QAkxS","QMS 01.01.02  Legality - Production sites of multisite producers with QMS  ","-",10102]
["67jQXmb714JA7JO68yT9WJ","QMS 01.02  Internal register ","-",10200]
["6vMdfJ8gSRxB94Qur9PIUJ","QMS 01.02.01 Internal register - Multisite producers with QMS","-",10201]
["65YhqSh0effwCLgSU5PKWi","QMS 01.02.02 Internal register - Producer Groups","-",10202]
["6gNXFot9bj2qIYf6UMlESC","QMS 02.01 Structure","-",20100]
["1BZRMD4dae6RuHe1e220IE","QMS 02.02 Competency and training of staff","-",20200]
["4cLbnSmkp5Cb5himLWnflc","QMS 03.01 Document control requirements","-",30100]
["6cqHYchodcu4mfags7nEfI","QMS 03.02 Records","-",30200]
["3DacSTY4JYjnci5zdyhJco","QMS 05.01 Internal QMS audits","-",50100]
["5H57GE3E0oeJiTQUwzLR4e","QMS 05.02 Internal audits of members/sites","-",50200]
["TNECOkMrplT0VST5e7LlI","QMS 05.03 Non-compliances, corrective actions, and sanctions","-",50300]
["2rWrYhbbVlHZkKXd3fJaOG","QMS 11.1 Key Tasks - QMS manager","-",110100]
["4LkoX8uL7IKysZNtMA9ACA","QMS 11.2 Key Tasks - Internal QMS auditors","-",110200]
["68QqPVS7uQ4h17EehtW3dB","QMS 11.3 Key Tasks -Internal farm auditors","-",110300]
["1VqzFhqArY3cojASXB90xU","QMS 12.1 Formal qualifications for internal QMS auditors","-",120100]
["5YUhVcJlBJEi7I8LspLadi","QMS 12.2 Formal qualifications for internal  farm auditors ","-",120200]
["6tORAFbgXTHTA03U5KBq2e","QMS 12.3.1 Technical skills and qualifications - QMS manager","-",120301]
["4hGEPqL5l7s3DOLYKtvmbC","QMS 12.3.2 Technical skills and qualifications - Internal QMS auditor","-",120302]
["3wx6HUisx5HDpRwFvCTwWN","QMS 12.3.3  Technical skills and qualifications - Internal farm auditor","Sign-off of internal farm auditors shall only occur as a result of:",120303]
["1wFLkLpapYX6o9clnCsMpf","QMS 12.3.4 Technical skills and qualifications - Training in food safety and good agricultural practices for internal QMS and farm auditors","-",120304]
["3uom9p3qca6ax7AaTTK2QT","QMS 12.3.4 Technical skills and qualifications - Training in food safety and good agricultural practices for internal QMS and farm auditors","-",120304]
["5aNPbKKRWAA60MBjo0xV4c","QMS 12.4  Communication skills","-",120400]
["2Uopg36JNeaciZYcYszEzl","QMS 12.5  Independence and confidentiality","NOTE: The qualification of internal auditors shall be evaluated annually by the CBs.",120500]
["5TvyR0UgB0EOmnMkFaZftX","-","-"]

{"sheet":"PQ","index":3,"n_rows":242,"n_cols":4,"rows_kept":242,"hidden":true}
["PIGUID","PQGUID","N:N ID","PIGUID & \"NO\""]
["3xVfcw8MEHmhHKuLYJZlbE","7BjiTqdbz9EPX1It8mlxYw",{"$f":"S2PQ_relational[[#This Row],[PIGUID]]&S2PQ_relational[[#This Row],[PQGUID]]","v":"3xVfcw8MEHmhHKuLYJZlbE7BjiTqdbz9EPX1It8mlxYw"},{"$f":"IF(INDEX(S2PQ[[S2PQGUID]:[Answer]],MATCH(S2PQ_relational[[#This Row],[PQGUID]],S2PQ[S2PQGUID],0),5)=\"no\",S2PQ_relational[[#This Row],[PIGUID]]&\"NO\",\"-\")","v":"-"}]
["4FQ1W215iNqDBI41cTVChR","7BjiTqdbz9EPX1It8mlxYw",{"$f":"S2PQ_relational[[#This Row],[PIGUID]]&S2PQ_relational[[#This Row],[PQGUID]]","v":"4FQ1W215iNqDBI41cTVChR7BjiTqdbz9EPX1It8mlxYw"},{"$f":"IF(INDEX(S2PQ[[S2PQGUID]:[Answer]],MATCH(S2PQ_relational[[#This Row],[PQGUID]],S2PQ[S2PQGUID],0),5)=\"no\",S2PQ_relational[[#This Row],[PIGUID]]&\"NO\",\"-\")","v":"-"}]
["2iwc5vRFwsOZLoIuGkmAhU","7BjiTqdbz9EPX1It8mlxYw",{"$f":"S2PQ_relational[[#This Row],[PIGUID]]&S2PQ_relational[[#This Row],[PQGUID]]","v":"2iwc5vRFwsOZLoIuGkmAhU7BjiTqdbz9EPX1It8mlxYw"},{"$f":"IF(INDEX(S2PQ[[S2PQGUID]:[Answer]],MATCH(S2PQ_relational[[#This Row],[PQGUID]],S2PQ[S2PQGUID],0),5)=\"no\",S2PQ_relational[[#This Row],[PIGUID]]&\"NO\",\"-\")","v":"-"}]
["3Dimiqdc67UKDeufwfoeiw","7BjiTqdbz9EPX1It8mlxYw",{"$f":"S2PQ_relational[[#This Row],[PIGUID]]&S2PQ_relational[[#This Row],[PQGUID]]","v":"3Dimiqdc67UKDeufwfoeiw7BjiTqdbz9EPX1It8mlxYw"},{"$f":"IF(INDEX(S2PQ[[S2PQGUID]:[Answer]],MATCH(S2PQ_relational[[#This Row],[PQGUID]],S2PQ[S2PQGUID],0),5)=\"no\",S2PQ_relational[[#This Row],[PIGUID]]&\"NO\",\"-\")","v":"-"}]
["3MSvFAu06ogDjRbyfMHZC","7BjiTqdbz9EPX1It8mlxYw",{"$f":"S2PQ_relational[[#This Row],[PIGUID]]&S2PQ_relational[[#This Row],[PQGUID]]","v":"3MSvFAu06ogDjRbyfMHZC7BjiTqdbz9EPX1It8mlxYw"},{"$f":"IF(INDEX(S2PQ[[S2PQGUID]:[Answer]],MATCH(S2PQ_relational[[#This Row],[PQGUID]],S2PQ[S2PQGUID],0),5)=\"no\",S2PQ_relational[[#This Row],[PIGUID]]&\"NO\",\"-\")","v":"-"}]
["6XwwhNCjx0ZRqAJBgSk2yO","7BjiTqdbz9EPX1It8mlxYw",{"$f":"S2PQ_relational[[#This Row],[PIGUID]]&S2PQ_relational[[#This Row],[PQGUID]]","v":"6XwwhNCjx0ZRqAJBgSk2yO7BjiTqdbz9EPX1It8mlxYw"},{"$f":"IF(INDEX(S2PQ[[S2PQGUID]:[Answer]],MATCH(S2PQ_relational[[#This Row],[PQGUID]],S2PQ[S2PQGUID],0),5)=\"no\",S2PQ_relational[[#This Row],[PIGUID]]&\"NO\",\"-\")","v":"-"}]
["7cTRyquh7U3O8cBA8Paijt","7BjiTqdbz9EPX1It8mlxYw",{"$f":"S2PQ_relational[[#This Row],[PIGUID]]&S2PQ_relational[[#This Row],[PQGUID]]","v":"7cTRyquh7U3O8cBA8Paijt7BjiTqdbz9EPX1It8mlxYw"},{"$f":"IF(INDEX(S2PQ[[S2PQGUID]:[Answer]],MATCH(S2PQ_relational[[#This Row],[PQGUID]],S2PQ[S2PQGUID],0),5)=\"no\",S2PQ_relational[[#This Row],[PIGUID]]&\"NO\",\"-\")","v":"-"}]
["3KoSwP3h3LcPPyAnUuTVh8","7BjiTqdbz9EPX1It8mlxYw",{"$f":"S2PQ_relational[[#This Row],[PIGUID]]&S2PQ_relational[[#This Row],[PQGUID]]","v":"3KoSwP3h3LcPPyAnUuTVh87BjiTqdbz9EPX1It8mlxYw"},{"$f":"IF(INDEX(S2PQ[[S2PQGUID]:[Answer]],MATCH(S2PQ_relational[[#This Row],[PQGUID]],S2PQ[S2PQGUID],0),5)=\"no\",S2PQ_relational[[#This Row],[PIGUID]]&\"NO\",\"-\")","v":"-"}]
["53Sx4h1tiaBx96W255bwTA","7BjiTqdbz9EPX1It8mlxYw",{"$f":"S2PQ_relational[[#This Row],[PIGUID]]&S2PQ_relational[[#This Row],[PQGUID]]","v":"53Sx4h1tiaBx96W255bwTA7BjiTqdbz9EPX1It8mlxYw"},{"$f":"IF(INDEX(S2PQ[[S2PQGUID]:[Answer]],MATCH(S2PQ_relational[[#This Row],[PQGUID]],S2PQ[S2PQGUID],0),5)=\"no\",S2PQ_relational[[#This Row],[PIGUID]]&\"NO\",\"-\")","v":"-"}]
["1R8z6iLS1vLIAHZN4fwLck","7BjiTqdbz9EPX1It8mlxYw",{"$f":"S2PQ_relational[[#This Row],[PIGUID]]&S2PQ_relational[[#This Row],[PQGUID]]","v":"1R8z6iLS1vLIAHZN4fwLck7BjiTqdbz9EPX1It8mlxYw"},{"$f":"IF(INDEX(S2PQ[[S2PQGUID]:[Answer]],MATCH(S2PQ_relational[[#This Row],[PQGUID]],S2PQ[S2PQGUID],0),5)=\"no\",S2PQ_relational[[#This Row],[PIGUID]]&\"NO\",\"-\")","v":"-"}]
["42sYt5DbTXQHx6SiVgVWiU","7BjiTqdbz9EPX1It8mlxYw",{"$f":"S2PQ_relational[[#This Row],[PIGUID]]&S2PQ_relational[[#This Row],[PQGUID]]","v":"42sYt5DbTXQHx6SiVgVWiU7BjiTqdbz9EPX1It8mlxYw"},{"$f":"IF(INDEX(S2PQ[[S2PQGUID]:[Answer]],MATCH(S2PQ_relational[[#This Row],[PQGUID]],S2PQ[S2PQGUID],0),5)=\"no\",S2PQ_relational[[#This Row],[PIGUID]]&\"NO\",\"-\")","v":"-"}]
["5urfMQplyrLGOXRqccX879","7BjiTqdbz9EPX1It8mlxYw",{"$f":"S2PQ_relational[[#This Row],[PIGUID]]&S2PQ_relational[[#This Row],[PQGUID]]","v":"5urfMQplyrLGOXRqccX8797BjiTqdbz9EPX1It8mlxYw"},{"$f":"IF(INDEX(S2PQ[[S2PQGUID]:[Answer]],MATCH(S2PQ_relational[[#This Row],[PQGUID]],S2PQ[S2PQGUID],0),5)=\"no\",S2PQ_relational[[#This Row],[PIGUID]]&\"NO\",\"-\")","v":"-"}]
["1DXT5oU3nI7HrnWiwb1VIc","7BjiTqdbz9EPX1It8mlxYw",{"$f":"S2PQ_relational[[#This Row],[PIGUID]]&S2PQ_relational[[#This Row],[PQGUID]]","v":"1DXT5oU3nI7HrnWiwb1VIc7BjiTqdbz9EPX1It8mlxYw"},{"$f":"IF(INDEX(S2PQ[[S2PQGUID]:[Answer]],MATCH(S2PQ_relational[[#This Row],[PQGUID]],S2PQ[S2PQGUID],0),5)=\"no\",S2PQ_relational[[#This Row],[PIGUID]]&\"NO\",\"-\")","v":"-"}]
["18SAx6TL2CCMJBjVfiJQD1","7BjiTqdbz9EPX1It8mlxYw",{"$f":"S2PQ_relational[[#This Row],[PIGUID]]&S2PQ_relational[[#This Row],[PQGUID]]","v":"18SAx6TL2CCMJBjVfiJQD17BjiTqdbz9EPX1It8mlxYw"},{"$f":"IF(INDEX(S2PQ[[S2PQGUID]:[Answer]],MATCH(S2PQ_relational[[#This Row],[PQGUID]],S2PQ[S2PQGUID],0),5)=\"no\",S2PQ_relational[[#This Row],[PIGUID]]&\"NO\",\"-\")","v":"-"}]
["1fCDpR8Tble3y6GAsbA5SQ","7BjiTqdbz9EPX1It8mlxYw",{"$f":"S2PQ_relational[[#This Row],[PIGUID]]&S2PQ_relational[[#This Row],[PQGUID]]","v":"1fCDpR8Tble3y6GAsbA5SQ7BjiTqdbz9EPX1It8mlxYw"},{"$f":"IF(INDEX(S2PQ[[S2PQGUID]:[Answer]],MATCH(S2PQ_relational[[#This Row],[PQGUID]],S2PQ[S2PQGUID],0),5)=\"no\",S2PQ_relational[[#This Row],[PIGUID]]&\"NO\",\"-\")","v":"-"}]
["54dPs5U6gBeP4afltpfCE9","7BjiTqdbz9EPX1It8mlxYw",{"$f":"S2PQ_relational[[#This Row],[PIGUID]]&S2PQ_relational[[#This Row],[PQGUID]]","v":"54dPs5U6gBeP4afltpfCE97BjiTqdbz9EPX1It8mlxYw"},{"$f":"IF(INDEX(S2PQ[[S2PQGUID]:[Answer]],MATCH(S2PQ_relational[[#This Row],[PQGUID]],S2PQ[S2PQGUID],0),5)=\"no\",S2PQ_relational[[#This Row],[PIGUID]]&\"NO\",\"-\")","v":"-"}]
["2efu6CRg9BprsT9UGczVg5","7BjiTqdbz9EPX1It8mlxYw",{"$f":"S2PQ_relational[[#This Row],[PIGUID]]&S2PQ_relational[[#This Row],[PQGUID]]","v":"2efu6CRg9BprsT9UGczVg57BjiTqdbz9EPX1It8mlxYw"},{"$f":"IF(INDEX(S2PQ[[S2PQGUID]:[Answer]],MATCH(S2PQ_relational[[#This Row],[PQGUID]],S2PQ[S2PQGUID],0),5)=\"no\",S2PQ_relational[[#This Row],[PIGUID]]&\"NO\",\"-\")","v":"-"}]
["3PZFbxrO2SbhAhzMifmoqP","7BjiTqdbz9EPX1It8mlxYw",{"$f":"S2PQ_relational[[#This Row],[PIGUID]]&S2PQ_relational[[#This Row],[PQGUID]]","v":"3PZFbxrO2SbhAhzMifmoqP7BjiTqdbz9EPX1It8mlxYw"},{"$f":"IF(INDEX(S2PQ[[S2PQGUID]:[Answer]],MATCH(S2PQ_relational[[#This Row],[PQGUID]],S2PQ[S2PQGUID],0),5)=\"no\",S2PQ_relational[[#This Row],[PIGUID]]&\"NO\",\"-\")","v":"-"}]
["28h0o0cSIJtD06wm9OzLvK","7BjiTqdbz9EPX1It8mlxYw",{"$f":"S2PQ_relational[[#This Row],[PIGUID]]&S2PQ_relational[[#This Row],[PQGUID]]","v":"28h0o0cSIJtD06wm9OzLvK7BjiTqdbz9EPX1It8mlxYw"},{"$f":"IF(INDEX(S2PQ[[S2PQGUID]:[Answer]],MATCH(S2PQ_relational[[#This Row],[PQGUID]],S2PQ[S2PQGUID],0),5)=\"no\",S2PQ_relational[[#This Row],[PIGUID]]&\"NO\",\"-\")","v":"-"}]
["1c9fEucPgLEBwZcAB3PJnL","7BjiTqdbz9EPX1It8mlxYw",{"$f":"S2PQ_relational[[#This Row],[PIGUID]]&S2PQ_relational[[#This Row],[PQGUID]]","v":"1c9fEucPgLEBwZcAB3PJnL7BjiTqdbz9EPX1It8mlxYw"},{"$f":"IF(INDEX(S2PQ[[S2PQGUID]:[Answer]],MATCH(S2PQ_relational[[#This Row],[PQGUID]],S2PQ[S2PQGUID],0),5)=\"no\",S2PQ_relational[[#This Row],[PIGUID]]&\"NO\",\"-\")","v":"-"}]
["7iB0AdjwaAwIoJhCjExqqN","7BjiTqdbz9EPX1It8mlxYw",{"$f":"S2PQ_relational[[#This Row],[PIGUID]]&S2PQ_relational[[#This Row],[PQGUID]]","v":"7iB0AdjwaAwIoJhCjExqqN7BjiTqdbz9EPX1It8mlxYw"},{"$f":"IF(INDEX(S2PQ[[S2PQGUID]:[Answer]],MATCH(S2PQ_relational[[#This Row],[PQGUID]],S2PQ[S2PQGUID],0),5)=\"no\",S2PQ_relational[[#This Row],[PIGUID]]&\"NO\",\"-\")","v":"-"}]
["4lfxJOCcV1ojVuJVjCfBj6","7BjiTqdbz9EPX1It8mlxYw",{"$f":"S2PQ_relational[[#This Row],[PIGUID]]&S2PQ_relational[[#This Row],[PQGUID]]","v":"4lfxJOCcV1ojVuJVjCfBj67BjiTqdbz9EPX1It8mlxYw"},{"$f":"IF(INDEX(S2PQ[[S2PQGUID]:[Answer]],MATCH(S2PQ_relational[[#This Row],[PQGUID]],S2PQ[S2PQGUID],0),5)=\"no\",S2PQ_relational[[#This Row],[PIGUID]]&\"NO\",\"-\")","v":"-"}]
["LE4NAcmeT6PyqI8qg5XjN","7BjiTqdbz9EPX1It8mlxYw",{"$f":"S2PQ_relational[[#This Row],[PIGUID]]&S2PQ_relational[[#This Row],[PQGUID]]","v":"LE4NAcmeT6PyqI8qg5XjN7BjiTqdbz9EPX1It8mlxYw"},{"$f":"IF(INDEX(S2PQ[[S2PQGUID]:[Answer]],MATCH(S2PQ_relational[[#This Row],[PQGUID]],S2PQ[S2PQGUID],0),5)=\"no\",S2PQ_relational[[#This Row],[PIGUID]]&\"NO\",\"-\")","v":"-"}]
["5owSqO99lt8mdba69ziJ02","7BjiTqdbz9EPX1It8mlxYw",{"$f":"S2PQ_relational[[#This Row],[PIGUID]]&S2PQ_relational[[#This Row],[PQGUID]]","v":"5owSqO99lt8mdba69ziJ027BjiTqdbz9EPX1It8mlxYw"},{"$f":"IF(INDEX(S2PQ[[S2PQGUID]:[Answer]],MATCH(S2PQ_relational[[#This Row],[PQGUID]],S2PQ[S2PQGUID],0),5)=\"no\",S2PQ_relational[[#This Row],[PIGUID]]&\"NO\",\"-\")","v":"-"}]
["169V5uzyn9ByI9Q89OWVYm","7BjiTqdbz9EPX1It8mlxYw",{"$f":"S2PQ_relational[[#This Row],[PIGUID]]&S2PQ_relational[[#This Row],[PQGUID]]","v":"169V5uzyn9ByI9Q89OWVYm7BjiTqdbz9EPX1It8mlxYw"},{"$f":"IF(INDEX(S2PQ[[S2PQGUID]:[Answer]],MATCH(S2PQ_relational[[#This Row],[PQGUID]],S2PQ[S2PQGUID],0),5)=\"no\",S2PQ_relational[[#This Row],[PIGUID]]&\"NO\",\"-\")","v":"-"}]
["5yTnF65Qbex3e2bAyS1xdt","7BjiTqdbz9EPX1It8mlxYw",{"$f":"S2PQ_relational[[#This Row],[PIGUID]]&S2PQ_relational[[#This Row],[PQGUID]]","v":"5yTnF65Qbex3e2bAyS1xdt7BjiTqdbz9EPX1It8mlxYw"},{"$f":"IF(INDEX(S2PQ[[S2PQGUID]:[Answer]],MATCH(S2PQ_relational[[#This Row],[PQGUID]],S2PQ[S2PQGUID],0),5)=\"no\",S2PQ_relational[[#This Row],[PIGUID]]&\"NO\",\"-\")","v":"-"}]
["1V2OcHOgEDqWpRdFnWQeLp","7BjiTqdbz9EPX1It8mlxYw",{"$f":"S2PQ_relational[[#This Row],[PIGUID]]&S2PQ_relational[[#This Row],[PQGUID]]","v":"1V2OcHOgEDqWpRdFnWQeLp7BjiTqdbz9EPX1It8mlxYw"},{"$f":"IF(INDEX(S2PQ[[S2PQGUID]:[Answer]],MATCH(S2PQ_relational[[#This Row],[PQGUID]],S2PQ[S2PQGUID],0),5)=\"no\",S2PQ_relational[[#This Row],[PIGUID]]&\"NO\",\"-\")","v":"-"}]
["6qIIzIJVrT5K6kz0wqsNq7","7BjiTqdbz9EPX1It8mlxYw",{"$f":"S2PQ_relational[[#This Row],[PIGUID]]&S2PQ_relational[[#This Row],[PQGUID]]","v":"6qIIzIJVrT5K6kz0wqsNq77BjiTqdbz9EPX1It8mlxYw"},{"$f":"IF(INDEX(S2PQ[[S2PQGUID]:[Answer]],MATCH(S2PQ_relational[[#This Row],[PQGUID]],S2PQ[S2PQGUID],0),5)=\"no\",S2PQ_relational[[#This Row],[PIGUID]]&\"NO\",\"-\")","v":"-"}]
["61Y0IWjG13DxoG3Uo2hEWK","7BjiTqdbz9EPX1It8mlxYw",{"$f":"S2PQ_relational[[#This Row],[PIGUID]]&S2PQ_relational[[#This Row],[PQGUID]]","v":"61Y0IWjG13DxoG3Uo2hEWK7BjiTqdbz9EPX1It8mlxYw"},{"$f":"IF(INDEX(S2PQ[[S2PQGUID]:[Answer]],MATCH(S2PQ_relational[[#This Row],[PQGUID]],S2PQ[S2PQGUID],0),5)=\"no\",S2PQ_relational[[#This Row],[PIGUID]]&\"NO\",\"-\")","v":"-"}]
["3l55YHkfbty5EJ2kS1gub","7BjiTqdbz9EPX1It8mlxYw",{"$f":"S2PQ_relational[[#This Row],[PIGUID]]&S2PQ_relational[[#This Row],[PQGUID]]","v":"3l55YHkfbty5EJ2kS1gub7BjiTqdbz9EPX1It8mlxYw"},{"$f":"IF(INDEX(S2PQ[[S2PQGUID]:[Answer]],MATCH(S2PQ_relational[[#This Row],[PQGUID]],S2PQ[S2PQGUID],0),5)=\"no\",S2PQ_relational[[#This Row],[PIGUID]]&\"NO\",\"-\")","v":"-"}]
["6Kmhdg9uaBaVHmxDfxHQss","7BjiTqdbz9EPX1It8mlxYw",{"$f":"S2PQ_relational[[#This Row],[PIGUID]]&S2PQ_relational[[#This Row],[PQGUID]]","v":"6Kmhdg9uaBaVHmxDfxHQss7BjiTqdbz9EPX1It8mlxYw"},{"$f":"IF(INDEX(S2PQ[[S2PQGUID]:[Answer]],MATCH(S2PQ_relational[[#This Row],[PQGUID]],S2PQ[S2PQGUID],0),5)=\"no\",S2PQ_relational[[#This Row],[PIGUID]]&\"NO\",\"-\")","v":"-"}]
["1UQ4cj8qsny76nudFqxKHT","7BjiTqdbz9EPX1It8mlxYw",{"$f":"S2PQ_relational[[#This Row],[PIGUID]]&S2PQ_relational[[#This Row],[PQGUID]]","v":"1UQ4cj8qsny76nudFqxKHT7BjiTqdbz9EPX1It8mlxYw"},{"$f":"IF(INDEX(S2PQ[[S2PQGUID]:[Answer]],MATCH(S2PQ_relational[[#This Row],[PQGUID]],S2PQ[S2PQGUID],0),5)=\"no\",S2PQ_relational[[#This Row],[PIGUID]]&\"NO\",\"-\")","v":"-"}]
["4dxc7TRPkWVNNH2pZB36pQ","7BjiTqdbz9EPX1It8mlxYw",{"$f":"S2PQ_relational[[#This Row],[PIGUID]]&S2PQ_relational[[#This Row],[PQGUID]]","v":"4dxc7TRPkWVNNH2pZB36pQ7BjiTqdbz9EPX1It8mlxYw"},{"$f":"IF(INDEX(S2PQ[[S2PQGUID]:[Answer]],MATCH(S2PQ_relational[[#This Row],[PQGUID]],S2PQ[S2PQGUID],0),5)=\"no\",S2PQ_relational[[#This Row],[PIGUID]]&\"NO\",\"-\")","v":"-"}]
["4vs7hMdmbszZJa4z1P4ANX","7BjiTqdbz9EPX1It8mlxYw",{"$f":"S2PQ_relational[[#This Row],[PIGUID]]&S2PQ_relational[[#This Row],[PQGUID]]","v":"4vs7hMdmbszZJa4z1P4ANX7BjiTqdbz9EPX1It8mlxYw"},{"$f":"IF(INDEX(S2PQ[[S2PQGUID]:[Answer]],MATCH(S2PQ_relational[[#This Row],[PQGUID]],S2PQ[S2PQGUID],0),5)=\"no\",S2PQ_relational[[#This Row],[PIGUID]]&\"NO\",\"-\")","v":"-"}]
["SbdUrZdQafuWvSKGxihAZ","7BjiTqdbz9EPX1It8mlxYw",{"$f":"S2PQ_relational[[#This Row],[PIGUID]]&S2PQ_relational[[#This Row],[PQGUID]]","v":"SbdUrZdQafuWvSKGxihAZ7BjiTqdbz9EPX1It8mlxYw"},{"$f":"IF(INDEX(S2PQ[[S2PQGUID]:[Answer]],MATCH(S2PQ_relational[[#This Row],[PQGUID]],S2PQ[S2PQGUID],0),5)=\"no\",S2PQ_relational[[#This Row],[PIGUID]]&\"NO\",\"-\")","v":"-"}]
["5lQyvcgz6P4t1QYC9ROCDQ","7BjiTqdbz9EPX1It8mlxYw",{"$f":"S2PQ_relational[[#This Row],[PIGUID]]&S2PQ_relational[[#This Row],[PQGUID]]","v":"5lQyvcgz6P4t1QYC9ROCDQ7BjiTqdbz9EPX1It8mlxYw"},{"$f":"IF(INDEX(S2PQ[[S2PQGUID]:[Answer]],MATCH(S2PQ_relational[[#This Row],[PQGUID]],S2PQ[S2PQGUID],0),5)=\"no\",S2PQ_relational[[#This Row],[PIGUID]]&\"NO\",\"-\")","v":"-"}]
["7yHxsFU07aKWqJR694BXA3","7BjiTqdbz9EPX1It8mlxYw",{"$f":"S2PQ_relational[[#This Row],[PIGUID]]&S2PQ_relational[[#This Row],[PQGUID]]","v":"7yHxsFU07aKWqJR694BXA37BjiTqdbz9EPX1It8mlxYw"},{"$f":"IF(INDEX(S2PQ[[S2PQGUID]:[Answer]],MATCH(S2PQ_relational[[#This Row],[PQGUID]],S2PQ[S2PQGUID],0),5)=\"no\",S2PQ_relational[[#This Row],[PIGUID]]&\"NO\",\"-\")","v":"-"}]
["5F1w8HtUMo0qTpTxru5MRt","7BjiTqdbz9EPX1It8mlxYw",{"$f":"S2PQ_relational[[#This Row],[PIGUID]]&S2PQ_relational[[#This Row],[PQGUID]]","v":"5F1w8HtUMo0qTpTxru5MRt7BjiTqdbz9EPX1It8mlxYw"},{"$f":"IF(INDEX(S2PQ[[S2PQGUID]:[Answer]],MATCH(S2PQ_relational[[#This Row],[PQGUID]],S2PQ[S2PQGUID],0),5)=\"no\",S2PQ_relational[[#This Row],[PIGUID]]&\"NO\",\"-\")","v":"-"}]
["57OcRtlpyLvTsLTfwBsWBi","7BjiTqdbz9EPX1It8mlxYw",{"$f":"S2PQ_relational[[#This Row],[PIGUID]]&S2PQ_relational[[#This Row],[PQGUID]]","v":"57OcRtlpyLvTsLTfwBsWBi7BjiTqdbz9EPX1It8mlxYw"},{"$f":"IF(INDEX(S2PQ[[S2PQGUID]:[Answer]],MATCH(S2PQ_relational[[#This Row],[PQGUID]],S2PQ[S2PQGUID],0),5)=\"no\",S2PQ_relational[[#This Row],[PIGUID]]&\"NO\",\"-\")","v":"-"}]
["757whJZYiE1KwL8gJcj2H","7BjiTqdbz9EPX1It8mlxYw",{"$f":"S2PQ_relational[[#This Row],[PIGUID]]&S2PQ_relational[[#This Row],[PQGUID]]","v":"757whJZYiE1KwL8gJcj2H7BjiTqdbz9EPX1It8mlxYw"},{"$f":"IF(INDEX(S2PQ[[S2PQGUID]:[Answer]],MATCH(S2PQ_relational[[#This Row],[PQGUID]],S2PQ[S2PQGUID],0),5)=\"no\",S2PQ_relational[[#This Row],[PIGUID]]&\"NO\",\"-\")","v":"-"}]
["b1uXtPummmP5fYPyz7OsN","7BjiTqdbz9EPX1It8mlxYw",{"$f":"S2PQ_relational[[#This Row],[PIGUID]]&S2PQ_relational[[#This Row],[PQGUID]]","v":"b1uXtPummmP5fYPyz7OsN7BjiTqdbz9EPX1It8mlxYw"},{"$f":"IF(INDEX(S2PQ[[S2PQGUID]:[Answer]],MATCH(S2PQ_relational[[#This Row],[PQGUID]],S2PQ[S2PQGUID],0),5)=\"no\",S2PQ_relational[[#This Row],[PIGUID]]&\"NO\",\"-\")","v":"-"}]
["1qG7PcWvwdKSGDa7dJ75NW","7BjiTqdbz9EPX1It8mlxYw",{"$f":"S2PQ_relational[[#This Row],[PIGUID]]&S2PQ_relational[[#This Row],[PQGUID]]","v":"1qG7PcWvwdKSGDa7dJ75NW7BjiTqdbz9EPX1It8mlxYw"},{"$f":"IF(INDEX(S2PQ[[S2PQGUID]:[Answer]],MATCH(S2PQ_relational[[#This Row],[PQGUID]],S2PQ[S2PQGUID],0),5)=\"no\",S2PQ_relational[[#This Row],[PIGUID]]&\"NO\",\"-\")","v":"-"}]
["h7oXDmdmJMZ6fIerKOiWd","7BjiTqdbz9EPX1It8mlxYw",{"$f":"S2PQ_relational[[#This Row],[PIGUID]]&S2PQ_relational[[#This Row],[PQGUID]]","v":"h7oXDmdmJMZ6fIerKOiWd7BjiTqdbz9EPX1It8mlxYw"},{"$f":"IF(INDEX(S2PQ[[S2PQGUID]:[Answer]],MATCH(S2PQ_relational[[#This Row],[PQGUID]],S2PQ[S2PQGUID],0),5)=\"no\",S2PQ_relational[[#This Row],[PIGUID]]&\"NO\",\"-\")","v":"-"}]
["6pkyPAaEzhqILFZKAQjFmh","7BjiTqdbz9EPX1It8mlxYw",{"$f":"S2PQ_relational[[#This Row],[PIGUID]]&S2PQ_relational[[#This Row],[PQGUID]]","v":"6pkyPAaEzhqILFZKAQjFmh7BjiTqdbz9EPX1It8mlxYw"},{"$f":"IF(INDEX(S2PQ[[S2PQGUID]:[Answer]],MATCH(S2PQ_relational[[#This Row],[PQGUID]],S2PQ[S2PQGUID],0),5)=\"no\",S2PQ_relational[[#This Row],[PIGUID]]&\"NO\",\"-\")","v":"-"}]
["5GjSFRGliXoulGkdlAeEre","7BjiTqdbz9EPX1It8mlxYw",{"$f":"S2PQ_relational[[#This Row],[PIGUID]]&S2PQ_relational[[#This Row],[PQGUID]]","v":"5GjSFRGliXoulGkdlAeEre7BjiTqdbz9EPX1It8mlxYw"},{"$f":"IF(INDEX(S2PQ[[S2PQGUID]:[Answer]],MATCH(S2PQ_relational[[#This Row],[PQGUID]],S2PQ[S2PQGUID],0),5)=\"no\",S2PQ_relational[[#This Row],[PIGUID]]&\"NO\",\"-\")","v":"-"}]
["QJ2yybwDAksAecWyfu7xh","7BjiTqdbz9EPX1It8mlxYw",{"$f":"S2PQ_relational[[#This Row],[PIGUID]]&S2PQ_relational[[#This Row],[PQGUID]]","v":"QJ2yybwDAksAecWyfu7xh7BjiTqdbz9EPX1It8mlxYw"},{"$f":"IF(INDEX(S2PQ[[S2PQGUID]:[Answer]],MATCH(S2PQ_relational[[#This Row],[PQGUID]],S2PQ[S2PQGUID],0),5)=\"no\",S2PQ_relational[[#This Row],[PIGUID]]&\"NO\",\"-\")","v":"-"}]
["5341tD3frWQkSDpaOjaT9y","7BjiTqdbz9EPX1It8mlxYw",{"$f":"S2PQ_relational[[#This Row],[PIGUID]]&S2PQ_relational[[#This Row],[PQGUID]]","v":"5341tD3frWQkSDpaOjaT9y7BjiTqdbz9EPX1It8mlxYw"},{"$f":"IF(INDEX(S2PQ[[S2PQGUID]:[Answer]],MATCH(S2PQ_relational[[#This Row],[PQGUID]],S2PQ[S2PQGUID],0),5)=\"no\",S2PQ_relational[[#This Row],[PIGUID]]&\"NO\",\"-\")","v":"-"}]
["74JlWgnkjnlI8rDlEAMb04","7BjiTqdbz9EPX1It8mlxYw",{"$f":"S2PQ_relational[[#This Row],[PIGUID]]&S2PQ_relational[[#This Row],[PQGUID]]","v":"74JlWgnkjnlI8rDlEAMb047BjiTqdbz9EPX1It8mlxYw"},{"$f":"IF(INDEX(S2PQ[[S2PQGUID]:[Answer]],MATCH(S2PQ_relational[[#This Row],[PQGUID]],S2PQ[S2PQGUID],0),5)=\"no\",S2PQ_relational[[#This Row],[PIGUID]]&\"NO\",\"-\")","v":"-"}]
["59rvtmSodx96vNiWaBpI7r","7BjiTqdbz9EPX1It8mlxYw",{"$f":"S2PQ_relational[[#This Row],[PIGUID]]&S2PQ_relational[[#This Row],[PQGUID]]","v":"59rvtmSodx96vNiWaBpI7r7BjiTqdbz9EPX1It8mlxYw"},{"$f":"IF(INDEX(S2PQ[[S2PQGUID]:[Answer]],MATCH(S2PQ_relational[[#This Row],[PQGUID]],S2PQ[S2PQGUID],0),5)=\"no\",S2PQ_relational[[#This Row],[PIGUID]]&\"NO\",\"-\")","v":"-"}]
["5QlqV0nuBakmWh8AX0IROm","7BjiTqdbz9EPX1It8mlxYw",{"$f":"S2PQ_relational[[#This Row],[PIGUID]]&S2PQ_relational[[#This Row],[PQGUID]]","v":"5QlqV0nuBakmWh8AX0IROm7BjiTqdbz9EPX1It8mlxYw"},{"$f":"IF(INDEX(S2PQ[[S2PQGUID]:[Answer]],MATCH(S2PQ_relational[[#This Row],[PQGUID]],S2PQ[S2PQGUID],0),5)=\"no\",S2PQ_relational[[#This Row],[PIGUID]]&\"NO\",\"-\")","v":"-"}]
["7xQIu9XtI8TEVE8AU8Izo1","7BjiTqdbz9EPX1It8mlxYw",{"$f":"S2PQ_relational[[#This Row],[PIGUID]]&S2PQ_relational[[#This Row],[PQGUID]]","v":"7xQIu9XtI8TEVE8AU8Izo17BjiTqdbz9EPX1It8mlxYw"},{"$f":"IF(INDEX(S2PQ[[S2PQGUID]:[Answer]],MATCH(S2PQ_relational[[#This Row],[PQGUID]],S2PQ[S2PQGUID],0),5)=\"no\",S2PQ_relational[[#This Row],[PIGUID]]&\"NO\",\"-\")","v":"-"}]
["3uaA6l6inUWdqT3f4hmHAE","7BjiTqdbz9EPX1It8mlxYw",{"$f":"S2PQ_relational[[#This Row],[PIGUID]]&S2PQ_relational[[#This Row],[PQGUID]]","v":"3uaA6l6inUWdqT3f4hmHAE7BjiTqdbz9EPX1It8mlxYw"},{"$f":"IF(INDEX(S2PQ[[S2PQGUID]:[Answer]],MATCH(S2PQ_relational[[#This Row],[PQGUID]],S2PQ[S2PQGUID],0),5)=\"no\",S2PQ_relational[[#This Row],[PIGUID]]&\"NO\",\"-\")","v":"-"}]
["6rtaRMxnDqpmX3MNNT0YX4","7BjiTqdbz9EPX1It8mlxYw",{"$f":"S2PQ_relational[[#This Row],[PIGUID]]&S2PQ_relational[[#This Row],[PQGUID]]","v":"6rtaRMxnDqpmX3MNNT0YX47BjiTqdbz9EPX1It8mlxYw"},{"$f":"IF(INDEX(S2PQ[[S2PQGUID]:[Answer]],MATCH(S2PQ_relational[[#This Row],[PQGUID]],S2PQ[S2PQGUID],0),5)=\"no\",S2PQ_relational[[#This Row],[PIGUID]]&\"NO\",\"-\")","v":"-"}]
["3vKz1XeHl2F8VNaaUrDMUl","7BjiTqdbz9EPX1It8mlxYw",{"$f":"S2PQ_relational[[#This Row],[PIGUID]]&S2PQ_relational[[#This Row],[PQGUID]]","v":"3vKz1XeHl2F8VNaaUrDMUl7BjiTqdbz9EPX1It8mlxYw"},{"$f":"IF(INDEX(S2PQ[[S2PQGUID]:[Answer]],MATCH(S2PQ_relational[[#This Row],[PQGUID]],S2PQ[S2PQGUID],0),5)=\"no\",S2PQ_relational[[#This Row],[PIGUID]]&\"NO\",\"-\")","v":"-"}]
["01v2H3qr0AtPFmXMU5RXew","7BjiTqdbz9EPX1It8mlxYw",{"$f":"S2PQ_relational[[#This Row],[PIGUID]]&S2PQ_relational[[#This Row],[PQGUID]]","v":"01v2H3qr0AtPFmXMU5RXew7BjiTqdbz9EPX1It8mlxYw"},{"$f":"IF(INDEX(S2PQ[[S2PQGUID]:[Answer]],MATCH(S2PQ_relational[[#This Row],[PQGUID]],S2PQ[S2PQGUID],0),5)=\"no\",S2PQ_relational[[#This Row],[PIGUID]]&\"NO\",\"-\")","v":"-"}]
["6p9JXzwRhZyGTbr6ztZQwa","7BjiTqdbz9EPX1It8mlxYw",{"$f":"S2PQ_relational[[#This Row],[PIGUID]]&S2PQ_relational[[#This Row],[PQGUID]]","v":"6p9JXzwRhZyGTbr6ztZQwa7BjiTqdbz9EPX1It8mlxYw"},{"$f":"IF(INDEX(S2PQ[[S2PQGUID]:[Answer]],MATCH(S2PQ_relational[[#This Row],[PQGUID]],S2PQ[S2PQGUID],0),5)=\"no\",S2PQ_relational[[#This Row],[PIGUID]]&\"NO\",\"-\")","v":"-"}]
["504jxiMLX4m1KEs5eytNfX","7BjiTqdbz9EPX1It8mlxYw",{"$f":"S2PQ_relational[[#This Row],[PIGUID]]&S2PQ_relational[[#This Row],[PQGUID]]","v":"504jxiMLX4m1KEs5eytNfX7BjiTqdbz9EPX1It8mlxYw"},{"$f":"IF(INDEX(S2PQ[[S2PQGUID]:[Answer]],MATCH(S2PQ_relational[[#This Row],[PQGUID]],S2PQ[S2PQGUID],0),5)=\"no\",S2PQ_relational[[#This Row],[PIGUID]]&\"NO\",\"-\")","v":"-"}]
["5m0BI5wZuoNOyDPYCiX3Xe","7BjiTqdbz9EPX1It8mlxYw",{"$f":"S2PQ_relational[[#This Row],[PIGUID]]&S2PQ_relational[[#This Row],[PQGUID]]","v":"5m0BI5wZuoNOyDPYCiX3Xe7BjiTqdbz9EPX1It8mlxYw"},{"$f":"IF(INDEX(S2PQ[[S2PQGUID]:[Answer]],MATCH(S2PQ_relational[[#This Row],[PQGUID]],S2PQ[S2PQGUID],0),5)=\"no\",S2PQ_relational[[#This Row],[PIGUID]]&\"NO\",\"-\")","v":"-"}]
["6NzSDV2IsFOtacEOaj13Gl","7BjiTqdbz9EPX1It8mlxYw",{"$f":"S2PQ_relational[[#This Row],[PIGUID]]&S2PQ_relational[[#This Row],[PQGUID]]","v":"6NzSDV2IsFOtacEOaj13Gl7BjiTqdbz9EPX1It8mlxYw"},{"$f":"IF(INDEX(S2PQ[[S2PQGUID]:[Answer]],MATCH(S2PQ_relational[[#This Row],[PQGUID]],S2PQ[S2PQGUID],0),5)=\"no\",S2PQ_relational[[#This Row],[PIGUID]]&\"NO\",\"-\")","v":"-"}]
["6uSpDnR3yQ5uar8BBVrZrv","7BjiTqdbz9EPX1It8mlxYw",{"$f":"S2PQ_relational[[#This Row],[PIGUID]]&S2PQ_relational[[#This Row],[PQGUID]]","v":"6uSpDnR3yQ5uar8BBVrZrv7BjiTqdbz9EPX1It8mlxYw"},{"$f":"IF(INDEX(S2PQ[[S2PQGUID]:[Answer]],MATCH(S2PQ_relational[[#This Row],[PQGUID]],S2PQ[S2PQGUID],0),5)=\"no\",S2PQ_relational[[#This Row],[PIGUID]]&\"NO\",\"-\")","v":"-"}]
["5zn5rvPKBMqVZFwtGJoNJG","7BjiTqdbz9EPX1It8mlxYw",{"$f":"S2PQ_relational[[#This Row],[PIGUID]]&S2PQ_relational[[#This Row],[PQGUID]]","v":"5zn5rvPKBMqVZFwtGJoNJG7BjiTqdbz9EPX1It8mlxYw"},{"$f":"IF(INDEX(S2PQ[[S2PQGUID]:[Answer]],MATCH(S2PQ_relational[[#This Row],[PQGUID]],S2PQ[S2PQGUID],0),5)=\"no\",S2PQ_relational[[#This Row],[PIGUID]]&\"NO\",\"-\")","v":"-"}]
["1I2lvoMa3TWCWbPOI8a06k","7BjiTqdbz9EPX1It8mlxYw",{"$f":"S2PQ_relational[[#This Row],[PIGUID]]&S2PQ_relational[[#This Row],[PQGUID]]","v":"1I2lvoMa3TWCWbPOI8a06k7BjiTqdbz9EPX1It8mlxYw"},{"$f":"IF(INDEX(S2PQ[[S2PQGUID]:[Answer]],MATCH(S2PQ_relational[[#This Row],[PQGUID]],S2PQ[S2PQGUID],0),5)=\"no\",S2PQ_relational[[#This Row],[PIGUID]]&\"NO\",\"-\")","v":"-"}]
["7geNs0j1gKJkrzJeivUc5B","7BjiTqdbz9EPX1It8mlxYw",{"$f":"S2PQ_relational[[#This Row],[PIGUID]]&S2PQ_relational[[#This Row],[PQGUID]]","v":"7geNs0j1gKJkrzJeivUc5B7BjiTqdbz9EPX1It8mlxYw"},{"$f":"IF(INDEX(S2PQ[[S2PQGUID]:[Answer]],MATCH(S2PQ_relational[[#This Row],[PQGUID]],S2PQ[S2PQGUID],0),5)=\"no\",S2PQ_relational[[#This Row],[PIGUID]]&\"NO\",\"-\")","v":"-"}]
["2eqj1B1ZG1aYK9JZ0Yoe4U","7BjiTqdbz9EPX1It8mlxYw",{"$f":"S2PQ_relational[[#This Row],[PIGUID]]&S2PQ_relational[[#This Row],[PQGUID]]","v":"2eqj1B1ZG1aYK9JZ0Yoe4U7BjiTqdbz9EPX1It8mlxYw"},{"$f":"IF(INDEX(S2PQ[[S2PQGUID]:[Answer]],MATCH(S2PQ_relational[[#This Row],[PQGUID]],S2PQ[S2PQGUID],0),5)=\"no\",S2PQ_relational[[#This Row],[PIGUID]]&\"NO\",\"-\")","v":"-"}]
["79P2YlIaBbTYuLX5kn7gmT","7BjiTqdbz9EPX1It8mlxYw",{"$f":"S2PQ_relational[[#This Row],[PIGUID]]&S2PQ_relational[[#This Row],[PQGUID]]","v":"79P2YlIaBbTYuLX5kn7gmT7BjiTqdbz9EPX1It8mlxYw"},{"$f":"IF(INDEX(S2PQ[[S2PQGUID]:[Answer]],MATCH(S2PQ_relational[[#This Row],[PQGUID]],S2PQ[S2PQGUID],0),5)=\"no\",S2PQ_relational[[#This Row],[PIGUID]]&\"NO\",\"-\")","v":"-"}]
["wBEPtgHvVdAw5AnSADfam","7BjiTqdbz9EPX1It8mlxYw",{"$f":"S2PQ_relational[[#This Row],[PIGUID]]&S2PQ_relational[[#This Row],[PQGUID]]","v":"wBEPtgHvVdAw5AnSADfam7BjiTqdbz9EPX1It8mlxYw"},{"$f":"IF(INDEX(S2PQ[[S2PQGUID]:[Answer]],MATCH(S2PQ_relational[[#This Row],[PQGUID]],S2PQ[S2PQGUID],0),5)=\"no\",S2PQ_relational[[#This Row],[PIGUID]]&\"NO\",\"-\")","v":"-"}]
["1QXyVfdBIBo1vUMDJvmkto","7BjiTqdbz9EPX1It8mlxYw",{"$f":"S2PQ_relational[[#This Row],[PIGUID]]&S2PQ_relational[[#This Row],[PQGUID]]","v":"1QXyVfdBIBo1vUMDJvmkto7BjiTqdbz9EPX1It8mlxYw"},{"$f":"IF(INDEX(S2PQ[[S2PQGUID]:[Answer]],MATCH(S2PQ_relational[[#This Row],[PQGUID]],S2PQ[S2PQGUID],0),5)=\"no\",S2PQ_relational[[#This Row],[PIGUID]]&\"NO\",\"-\")","v":"-"}]
["nLQp6Z2dA0ba8MNAiLJ6s","7BjiTqdbz9EPX1It8mlxYw",{"$f":"S2PQ_relational[[#This Row],[PIGUID]]&S2PQ_relational[[#This Row],[PQGUID]]","v":"nLQp6Z2dA0ba8MNAiLJ6s7BjiTqdbz9EPX1It8mlxYw"},{"$f":"IF(INDEX(S2PQ[[S2PQGUID]:[Answer]],MATCH(S2PQ_relational[[#This Row],[PQGUID]],S2PQ[S2PQGUID],0),5)=\"no\",S2PQ_relational[[#This Row],[PIGUID]]&\"NO\",\"-\")","v":"-"}]
["7vh4rzn69GDVBFTuIYGSFw","7BjiTqdbz9EPX1It8mlxYw",{"$f":"S2PQ_relational[[#This Row],[PIGUID]]&S2PQ_relational[[#This Row],[PQGUID]]","v":"7vh4rzn69GDVBFTuIYGSFw7BjiTqdbz9EPX1It8mlxYw"},{"$f":"IF(INDEX(S2PQ[[S2PQGUID]:[Answer]],MATCH(S2PQ_relational[[#This Row],[PQGUID]],S2PQ[S2PQGUID],0),5)=\"no\",S2PQ_relational[[#This Row],[PIGUID]]&\"NO\",\"-\")","v":"-"}]
["5nVsN512P1ihIAlGnEShZx","7BjiTqdbz9EPX1It8mlxYw",{"$f":"S2PQ_relational[[#This Row],[PIGUID]]&S2PQ_relational[[#This Row],[PQGUID]]","v":"5nVsN512P1ihIAlGnEShZx7BjiTqdbz9EPX1It8mlxYw"},{"$f":"IF(INDEX(S2PQ[[S2PQGUID]:[Answer]],MATCH(S2PQ_relational[[#This Row],[PQGUID]],S2PQ[S2PQGUID],0),5)=\"no\",S2PQ_relational[[#This Row],[PIGUID]]&\"NO\",\"-\")","v":"-"}]
["OUJXQZSzOeFdIhal7ZoXx","7BjiTqdbz9EPX1It8mlxYw",{"$f":"S2PQ_relational[[#This Row],[PIGUID]]&S2PQ_relational[[#This Row],[PQGUID]]","v":"OUJXQZSzOeFdIhal7ZoXx7BjiTqdbz9EPX1It8mlxYw"},{"$f":"IF(INDEX(S2PQ[[S2PQGUID]:[Answer]],MATCH(S2PQ_relational[[#This Row],[PQGUID]],S2PQ[S2PQGUID],0),5)=\"no\",S2PQ_relational[[#This Row],[PIGUID]]&\"NO\",\"-\")","v":"-"}]
["2uY4AAajOUzuQYK0i5HEJS","7BjiTqdbz9EPX1It8mlxYw",{"$f":"S2PQ_relational[[#This Row],[PIGUID]]&S2PQ_relational[[#This Row],[PQGUID]]","v":"2uY4AAajOUzuQYK0i5HEJS7BjiTqdbz9EPX1It8mlxYw"},{"$f":"IF(INDEX(S2PQ[[S2PQGUID]:[Answer]],MATCH(S2PQ_relational[[#This Row],[PQGUID]],S2PQ[S2PQGUID],0),5)=\"no\",S2PQ_relational[[#This Row],[PIGUID]]&\"NO\",\"-\")","v":"-"}]
["71T3wYvAOGC3A8C3dBPDXd","7BjiTqdbz9EPX1It8mlxYw",{"$f":"S2PQ_relational[[#This Row],[PIGUID]]&S2PQ_relational[[#This Row],[PQGUID]]","v":"71T3wYvAOGC3A8C3dBPDXd7BjiTqdbz9EPX1It8mlxYw"},{"$f":"IF(INDEX(S2PQ[[S2PQGUID]:[Answer]],MATCH(S2PQ_relational[[#This Row],[PQGUID]],S2PQ[S2PQGUID],0),5)=\"no\",S2PQ_relational[[#This Row],[PIGUID]]&\"NO\",\"-\")","v":"-"}]
["5FB5ql1VFtEHzacW0dkEyh","7BjiTqdbz9EPX1It8mlxYw",{"$f":"S2PQ_relational[[#This Row],[PIGUID]]&S2PQ_relational[[#This Row],[PQGUID]]","v":"5FB5ql1VFtEHzacW0dkEyh7BjiTqdbz9EPX1It8mlxYw"},{"$f":"IF(INDEX(S2PQ[[S2PQGUID]:[Answer]],MATCH(S2PQ_relational[[#This Row],[PQGUID]],S2PQ[S2PQGUID],0),5)=\"no\",S2PQ_relational[[#This Row],[PIGUID]]&\"NO\",\"-\")","v":"-"}]
["7hjy92CxnhjoqfUf0sxpPm","7BjiTqdbz9EPX1It8mlxYw",{"$f":"S2PQ_relational[[#This Row],[PIGUID]]&S2PQ_relational[[#This Row],[PQGUID]]","v":"7hjy92CxnhjoqfUf0sxpPm7BjiTqdbz9EPX1It8mlxYw"},{"$f":"IF(INDEX(S2PQ[[S2PQGUID]:[Answer]],MATCH(S2PQ_relational[[#This Row],[PQGUID]],S2PQ[S2PQGUID],0),5)=\"no\",S2PQ_relational[[#This Row],[PIGUID]]&\"NO\",\"-\")","v":"-"}]
["7JadSCojAvDNLSHK26BiXc","7BjiTqdbz9EPX1It8mlxYw",{"$f":"S2PQ_relational[[#This Row],[PIGUID]]&S2PQ_relational[[#This Row],[PQGUID]]","v":"7JadSCojAvDNLSHK26BiXc7BjiTqdbz9EPX1It8mlxYw"},{"$f":"IF(INDEX(S2PQ[[S2PQGUID]:[Answer]],MATCH(S2PQ_relational[[#This Row],[PQGUID]],S2PQ[S2PQGUID],0),5)=\"no\",S2PQ_relational[[#This Row],[PIGUID]]&\"NO\",\"-\")","v":"-"}]
["2AU0Rll1ZV8PPz420O78db","7BjiTqdbz9EPX1It8mlxYw",{"$f":"S2PQ_relational[[#This Row],[PIGUID]]&S2PQ_relational[[#This Row],[PQGUID]]","v":"2AU0Rll1ZV8PPz420O78db7BjiTqdbz9EPX1It8mlxYw"},{"$f":"IF(INDEX(S2PQ[[S2PQGUID]:[Answer]],MATCH(S2PQ_relational[[#This Row],[PQGUID]],S2PQ[S2PQGUID],0),5)=\"no\",S2PQ_relational[[#This Row],[PIGUID]]&\"NO\",\"-\")","v":"-"}]
["7L9M3vUuHtx6WK7TuILq92","7BjiTqdbz9EPX1It8mlxYw",{"$f":"S2PQ_relational[[#This Row],[PIGUID]]&S2PQ_relational[[#This Row],[PQGUID]]","v":"7L9M3vUuHtx6WK7TuILq927BjiTqdbz9EPX1It8mlxYw"},{"$f":"IF(INDEX(S2PQ[[S2PQGUID]:[Answer]],MATCH(S2PQ_relational[[#This Row],[PQGUID]],S2PQ[S2PQGUID],0),5)=\"no\",S2PQ_relational[[#This Row],[PIGUID]]&\"NO\",\"-\")","v":"-"}]
["2ddM8JCAfgsJ6XIpNQ4YlB","7BjiTqdbz9EPX1It8mlxYw",{"$f":"S2PQ_relational[[#This Row],[PIGUID]]&S2PQ_relational[[#This Row],[PQGUID]]","v":"2ddM8JCAfgsJ6XIpNQ4YlB7BjiTqdbz9EPX1It8mlxYw"},{"$f":"IF(INDEX(S2PQ[[S2PQGUID]:[Answer]],MATCH(S2PQ_relational[[#This Row],[PQGUID]],S2PQ[S2PQGUID],0),5)=\"no\",S2PQ_relational[[#This Row],[PIGUID]]&\"NO\",\"-\")","v":"-"}]
["47xPHO8UxslhAdrZpPtuo4","7BjiTqdbz9EPX1It8mlxYw",{"$f":"S2PQ_relational[[#This Row],[PIGUID]]&S2PQ_relational[[#This Row],[PQGUID]]","v":"47xPHO8UxslhAdrZpPtuo47BjiTqdbz9EPX1It8mlxYw"},{"$f":"IF(INDEX(S2PQ[[S2PQGUID]:[Answer]],MATCH(S2PQ_relational[[#This Row],[PQGUID]],S2PQ[S2PQGUID],0),5)=\"no\",S2PQ_relational[[#This Row],[PIGUID]]&\"NO\",\"-\")","v":"-"}]
["4ZnVuDviK4rbgaIDxYJc1E","7BjiTqdbz9EPX1It8mlxYw",{"$f":"S2PQ_relational[[#This Row],[PIGUID]]&S2PQ_relational[[#This Row],[PQGUID]]","v":"4ZnVuDviK4rbgaIDxYJc1E7BjiTqdbz9EPX1It8mlxYw"},{"$f":"IF(INDEX(S2PQ[[S2PQGUID]:[Answer]],MATCH(S2PQ_relational[[#This Row],[PQGUID]],S2PQ[S2PQGUID],0),5)=\"no\",S2PQ_relational[[#This Row],[PIGUID]]&\"NO\",\"-\")","v":"-"}]
["7Lm3bvisDzLLgtTWDSeVP4","7BjiTqdbz9EPX1It8mlxYw",{"$f":"S2PQ_relational[[#This Row],[PIGUID]]&S2PQ_relational[[#This Row],[PQGUID]]","v":"7Lm3bvisDzLLgtTWDSeVP47BjiTqdbz9EPX1It8mlxYw"},{"$f":"IF(INDEX(S2PQ[[S2PQGUID]:[Answer]],MATCH(S2PQ_relational[[#This Row],[PQGUID]],S2PQ[S2PQGUID],0),5)=\"no\",S2PQ_relational[[#This Row],[PIGUID]]&\"NO\",\"-\")","v":"-"}]
["1L3M3Av0uLACImNgJFAzjv","7BjiTqdbz9EPX1It8mlxYw",{"$f":"S2PQ_relational[[#This Row],[PIGUID]]&S2PQ_relational[[#This Row],[PQGUID]]","v":"1L3M3Av0uLACImNgJFAzjv7BjiTqdbz9EPX1It8mlxYw"},{"$f":"IF(INDEX(S2PQ[[S2PQGUID]:[Answer]],MATCH(S2PQ_relational[[#This Row],[PQGUID]],S2PQ[S2PQGUID],0),5)=\"no\",S2PQ_relational[[#This Row],[PIGUID]]&\"NO\",\"-\")","v":"-"}]
["5ad0ksbR0rX5JdFNTO3BmZ","7BjiTqdbz9EPX1It8mlxYw",{"$f":"S2PQ_relational[[#This Row],[PIGUID]]&S2PQ_relational[[#This Row],[PQGUID]]","v":"5ad0ksbR0rX5JdFNTO3BmZ7BjiTqdbz9EPX1It8mlxYw"},{"$f":"IF(INDEX(S2PQ[[S2PQGUID]:[Answer]],MATCH(S2PQ_relational[[#This Row],[PQGUID]],S2PQ[S2PQGUID],0),5)=\"no\",S2PQ_relational[[#This Row],[PIGUID]]&\"NO\",\"-\")","v":"-"}]
["3oyPXv9JByXBhykT7U5La4","7BjiTqdbz9EPX1It8mlxYw",{"$f":"S2PQ_relational[[#This Row],[PIGUID]]&S2PQ_relational[[#This Row],[PQGUID]]","v":"3oyPXv9JByXBhykT7U5La47BjiTqdbz9EPX1It8mlxYw"},{"$f":"IF(INDEX(S2PQ[[S2PQGUID]:[Answer]],MATCH(S2PQ_relational[[#This Row],[PQGUID]],S2PQ[S2PQGUID],0),5)=\"no\",S2PQ_relational[[#This Row],[PIGUID]]&\"NO\",\"-\")","v":"-"}]
["6XhgtadoxKw3XWIYF3Seuf","7BjiTqdbz9EPX1It8mlxYw",{"$f":"S2PQ_relational[[#This Row],[PIGUID]]&S2PQ_relational[[#This Row],[PQGUID]]","v":"6XhgtadoxKw3XWIYF3Seuf7BjiTqdbz9EPX1It8mlxYw"},{"$f":"IF(INDEX(S2PQ[[S2PQGUID]:[Answer]],MATCH(S2PQ_relational[[#This Row],[PQGUID]],S2PQ[S2PQGUID],0),5)=\"no\",S2PQ_relational[[#This Row],[PIGUID]]&\"NO\",\"-\")","v":"-"}]
["568aLgrkve2v8UDFWOTM6Q","7BjiTqdbz9EPX1It8mlxYw",{"$f":"S2PQ_relational[[#This Row],[PIGUID]]&S2PQ_relational[[#This Row],[PQGUID]]","v":"568aLgrkve2v8UDFWOTM6Q7BjiTqdbz9EPX1It8mlxYw"},{"$f":"IF(INDEX(S2PQ[[S2PQGUID]:[Answer]],MATCH(S2PQ_relational[[#This Row],[PQGUID]],S2PQ[S2PQGUID],0),5)=\"no\",S2PQ_relational[[#This Row],[PIGUID]]&\"NO\",\"-\")","v":"-"}]
["54Q9UUuTd5dTSdyekKgQzO","7BjiTqdbz9EPX1It8mlxYw",{"$f":"S2PQ_relational[[#This Row],[PIGUID]]&S2PQ_relational[[#This Row],[PQGUID]]","v":"54Q9UUuTd5dTSdyekKgQzO7BjiTqdbz9EPX1It8mlxYw"},{"$f":"IF(INDEX(S2PQ[[S2PQGUID]:[Answer]],MATCH(S2PQ_relational[[#This Row],[PQGUID]],S2PQ[S2PQGUID],0),5)=\"no\",S2PQ_relational[[#This Row],[PIGUID]]&\"NO\",\"-\")","v":"-"}]
["6XNxMXF6QWhjOijgpoalYG","7BjiTqdbz9EPX1It8mlxYw",{"$f":"S2PQ_relational[[#This Row],[PIGUID]]&S2PQ_relational[[#This Row],[PQGUID]]","v":"6XNxMXF6QWhjOijgpoalYG7BjiTqdbz9EPX1It8mlxYw"},{"$f":"IF(INDEX(S2PQ[[S2PQGUID]:[Answer]],MATCH(S2PQ_relational[[#This Row],[PQGUID]],S2PQ[S2PQGUID],0),5)=\"no\",S2PQ_relational[[#This Row],[PIGUID]]&\"NO\",\"-\")","v":"-"}]
["hG77himehSgHeDDOlDNBX","7BjiTqdbz9EPX1It8mlxYw",{"$f":"S2PQ_relational[[#This Row],[PIGUID]]&S2PQ_relational[[#This Row],[PQGUID]]","v":"hG77himehSgHeDDOlDNBX7BjiTqdbz9EPX1It8mlxYw"},{"$f":"IF(INDEX(S2PQ[[S2PQGUID]:[Answer]],MATCH(S2PQ_relational[[#This Row],[PQGUID]],S2PQ[S2PQGUID],0),5)=\"no\",S2PQ_relational[[#This Row],[PIGUID]]&\"NO\",\"-\")","v":"-"}]
["5OmbGwMJDvjKYXu5ogpQUl","7BjiTqdbz9EPX1It8mlxYw",{"$f":"S2PQ_relational[[#This Row],[PIGUID]]&S2PQ_relational[[#This Row],[PQGUID]]","v":"5OmbGwMJDvjKYXu5ogpQUl7BjiTqdbz9EPX1It8mlxYw"},{"$f":"IF(INDEX(S2PQ[[S2PQGUID]:[Answer]],MATCH(S2PQ_relational[[#This Row],[PQGUID]],S2PQ[S2PQGUID],0),5)=\"no\",S2PQ_relational[[#This Row],[PIGUID]]&\"NO\",\"-\")","v":"-"}]
["6r6UKO6tVO1cFOEq0mi9aq","7BjiTqdbz9EPX1It8mlxYw",{"$f":"S2PQ_relational[[#This Row],[PIGUID]]&S2PQ_relational[[#This Row],[PQGUID]]","v":"6r6UKO6tVO1cFOEq0mi9aq7BjiTqdbz9EPX1It8mlxYw"},{"$f":"IF(INDEX(S2PQ[[S2PQGUID]:[Answer]],MATCH(S2PQ_relational[[#This Row],[PQGUID]],S2PQ[S2PQGUID],0),5)=\"no\",S2PQ_relational[[#This Row],[PIGUID]]&\"NO\",\"-\")","v":"-"}]
["2LTDXoG3x1dvJEtrFOwold","7BjiTqdbz9EPX1It8mlxYw",{"$f":"S2PQ_relational[[#This Row],[PIGUID]]&S2PQ_relational[[#This Row],[PQGUID]]","v":"2LTDXoG3x1dvJEtrFOwold7BjiTqdbz9EPX1It8mlxYw"},{"$f":"IF(INDEX(S2PQ[[S2PQGUID]:[Answer]],MATCH(S2PQ_relational[[#This Row],[PQGUID]],S2PQ[S2PQGUID],0),5)=\"no\",S2PQ_relational[[#This Row],[PIGUID]]&\"NO\",\"-\")","v":"-"}]
["1QeEsrc8UuyqWR1lPTaf0U","7BjiTqdbz9EPX1It8mlxYw",{"$f":"S2PQ_relational[[#This Row],[PIGUID]]&S2PQ_relational[[#This Row],[PQGUID]]","v":"1QeEsrc8UuyqWR1lPTaf0U7BjiTqdbz9EPX1It8mlxYw"},{"$f":"IF(INDEX(S2PQ[[S2PQGUID]:[Answer]],MATCH(S2PQ_relational[[#This Row],[PQGUID]],S2PQ[S2PQGUID],0),5)=\"no\",S2PQ_relational[[#This Row],[PIGUID]]&\"NO\",\"-\")","v":"-"}]
["4KnqFWr7YBL2OuIMD72y2c","7BjiTqdbz9EPX1It8mlxYw",{"$f":"S2PQ_relational[[#This Row],[PIGUID]]&S2PQ_relational[[#This Row],[PQGUID]]","v":"4KnqFWr7YBL2OuIMD72y2c7BjiTqdbz9EPX1It8mlxYw"},{"$f":"IF(INDEX(S2PQ[[S2PQGUID]:[Answer]],MATCH(S2PQ_relational[[#This Row],[PQGUID]],S2PQ[S2PQGUID],0),5)=\"no\",S2PQ_relational[[#This Row],[PIGUID]]&\"NO\",\"-\")","v":"-"}]
["6jbxivO9VjbvgCgxcNnDK5","7BjiTqdbz9EPX1It8mlxYw",{"$f":"S2PQ_relational[[#This Row],[PIGUID]]&S2PQ_relational[[#This Row],[PQGUID]]","v":"6jbxivO9VjbvgCgxcNnDK57BjiTqdbz9EPX1It8mlxYw"},{"$f":"IF(INDEX(S2PQ[[S2PQGUID]:[Answer]],MATCH(S2PQ_relational[[#This Row],[PQGUID]],S2PQ[S2PQGUID],0),5)=\"no\",S2PQ_relational[[#This Row],[PIGUID]]&\"NO\",\"-\")","v":"-"}]
["3euBNRpF4vyZ0UqqOwFwc1","7BjiTqdbz9EPX1It8mlxYw",{"$f":"S2PQ_relational[[#This Row],[PIGUID]]&S2PQ_relational[[#This Row],[PQGUID]]","v":"3euBNRpF4vyZ0UqqOwFwc17BjiTqdbz9EPX1It8mlxYw"},{"$f":"IF(INDEX(S2PQ[[S2PQGUID]:[Answer]],MATCH(S2PQ_relational[[#This Row],[PQGUID]],S2PQ[S2PQGUID],0),5)=\"no\",S2PQ_relational[[#This Row],[PIGUID]]&\"NO\",\"-\")","v":"-"}]
["7kVX5cvtYPun0ts8TLlcrd","7BjiTqdbz9EPX1It8mlxYw",{"$f":"S2PQ_relational[[#This Row],[PIGUID]]&S2PQ_relational[[#This Row],[PQGUID]]","v":"7kVX5cvtYPun0ts8TLlcrd7BjiTqdbz9EPX1It8mlxYw"},{"$f":"IF(INDEX(S2PQ[[S2PQGUID]:[Answer]],MATCH(S2PQ_relational[[#This Row],[PQGUID]],S2PQ[S2PQGUID],0),5)=\"no\",S2PQ_relational[[#This Row],[PIGUID]]&\"NO\",\"-\")","v":"-"}]
["3dOIqQzX8pCbXnijvWhzus","7BjiTqdbz9EPX1It8mlxYw",{"$f":"S2PQ_relational[[#This Row],[PIGUID]]&S2PQ_relational[[#This Row],[PQGUID]]","v":"3dOIqQzX8pCbXnijvWhzus7BjiTqdbz9EPX1It8mlxYw"},{"$f":"IF(INDEX(S2PQ[[S2PQGUID]:[Answer]],MATCH(S2PQ_relational[[#This Row],[PQGUID]],S2PQ[S2PQGUID],0),5)=\"no\",S2PQ_relational[[#This Row],[PIGUID]]&\"NO\",\"-\")","v":"-"}]
["15rmagqDILiL9OehElaZcF","7BjiTqdbz9EPX1It8mlxYw",{"$f":"S2PQ_relational[[#This Row],[PIGUID]]&S2PQ_relational[[#This Row],[PQGUID]]","v":"15rmagqDILiL9OehElaZcF7BjiTqdbz9EPX1It8mlxYw"},{"$f":"IF(INDEX(S2PQ[[S2PQGUID]:[Answer]],MATCH(S2PQ_relational[[#This Row],[PQGUID]],S2PQ[S2PQGUID],0),5)=\"no\",S2PQ_relational[[#This Row],[PIGUID]]&\"NO\",\"-\")","v":"-"}]
["18hg0Wx3h9CUGZ5iIEVXGK","7BjiTqdbz9EPX1It8mlxYw",{"$f":"S2PQ_relational[[#This Row],[PIGUID]]&S2PQ_relational[[#This Row],[PQGUID]]","v":"18hg0Wx3h9CUGZ5iIEVXGK7BjiTqdbz9EPX1It8mlxYw"},{"$f":"IF(INDEX(S2PQ[[S2PQGUID]:[Answer]],MATCH(S2PQ_relational[[#This Row],[PQGUID]],S2PQ[S2PQGUID],0),5)=\"no\",S2PQ_relational[[#This Row],[PIGUID]]&\"NO\",\"-\")","v":"-"}]
["6Do8vAYP3N7Xv7Vfnwf97M","7BjiTqdbz9EPX1It8mlxYw",{"$f":"S2PQ_relational[[#This Row],[PIGUID]]&S2PQ_relational[[#This Row],[PQGUID]]","v":"6Do8vAYP3N7Xv7Vfnwf97M7BjiTqdbz9EPX1It8mlxYw"},{"$f":"IF(INDEX(S2PQ[[S2PQGUID]:[Answer]],MATCH(S2PQ_relational[[#This Row],[PQGUID]],S2PQ[S2PQGUID],0),5)=\"no\",S2PQ_relational[[#This Row],[PIGUID]]&\"NO\",\"-\")","v":"-"}]
["6MMc5tDcp0zKsLhBH5DeER","7BjiTqdbz9EPX1It8mlxYw",{"$f":"S2PQ_relational[[#This Row],[PIGUID]]&S2PQ_relational[[#This Row],[PQGUID]]","v":"6MMc5tDcp0zKsLhBH5DeER7BjiTqdbz9EPX1It8mlxYw"},{"$f":"IF(INDEX(S2PQ[[S2PQGUID]:[Answer]],MATCH(S2PQ_relational[[#This Row],[PQGUID]],S2PQ[S2PQGUID],0),5)=\"no\",S2PQ_relational[[#This Row],[PIGUID]]&\"NO\",\"-\")","v":"-"}]
["1fPzYRqGLyZOy1llb5Vtlb","7BjiTqdbz9EPX1It8mlxYw",{"$f":"S2PQ_relational[[#This Row],[PIGUID]]&S2PQ_relational[[#This Row],[PQGUID]]","v":"1fPzYRqGLyZOy1llb5Vtlb7BjiTqdbz9EPX1It8mlxYw"},{"$f":"IF(INDEX(S2PQ[[S2PQGUID]:[Answer]],MATCH(S2PQ_relational[[#This Row],[PQGUID]],S2PQ[S2PQGUID],0),5)=\"no\",S2PQ_relational[[#This Row],[PIGUID]]&\"NO\",\"-\")","v":"-"}]
["72vqg1gXC6oRBqiD9PPtAO","7BjiTqdbz9EPX1It8mlxYw",{"$f":"S2PQ_relational[[#This Row],[PIGUID]]&S2PQ_relational[[#This Row],[PQGUID]]","v":"72vqg1gXC6oRBqiD9PPtAO7BjiTqdbz9EPX1It8mlxYw"},{"$f":"IF(INDEX(S2PQ[[S2PQGUID]:[Answer]],MATCH(S2PQ_relational[[#This Row],[PQGUID]],S2PQ[S2PQGUID],0),5)=\"no\",S2PQ_relational[[#This Row],[PIGUID]]&\"NO\",\"-\")","v":"-"}]
["1Gw23GHb8dfoPGOAOpNNoF","7BjiTqdbz9EPX1It8mlxYw",{"$f":"S2PQ_relational[[#This Row],[PIGUID]]&S2PQ_relational[[#This Row],[PQGUID]]","v":"1Gw23GHb8dfoPGOAOpNNoF7BjiTqdbz9EPX1It8mlxYw"},{"$f":"IF(INDEX(S2PQ[[S2PQGUID]:[Answer]],MATCH(S2PQ_relational[[#This Row],[PQGUID]],S2PQ[S2PQGUID],0),5)=\"no\",S2PQ_relational[[#This Row],[PIGUID]]&\"NO\",\"-\")","v":"-"}]
["5FB5ql1VFtEHzacW0dkEyh","7BjiTqdbz9EPX1It8mlxYw",{"$f":"S2PQ_relational[[#This Row],[PIGUID]]&S2PQ_relational[[#This Row],[PQGUID]]","v":"5FB5ql1VFtEHzacW0dkEyh7BjiTqdbz9EPX1It8mlxYw"},{"$f":"IF(INDEX(S2PQ[[S2PQGUID]:[Answer]],MATCH(S2PQ_relational[[#This Row],[PQGUID]],S2PQ[S2PQGUID],0),5)=\"no\",S2PQ_relational[[#This Row],[PIGUID]]&\"NO\",\"-\")","v":"-"}]
["5l7lQUJ4H5ofm7vyAhCQPQ","4Avk7C7MmAoFg744HYI5OO",{"$f":"S2PQ_relational[[#This Row],[PIGUID]]&S2PQ_relational[[#This Row],[PQGUID]]","v":"5l7lQUJ4H5ofm7vyAhCQPQ4Avk7C7MmAoFg744HYI5OO"},{"$f":"IF(INDEX(S2PQ[[S2PQGUID]:[Answer]],MATCH(S2PQ_relational[[#This Row],[PQGUID]],S2PQ[S2PQGUID],0),5)=\"no\",S2PQ_relational[[#This Row],[PIGUID]]&\"NO\",\"-\")","v":"-"}]
["2CMiJVpd4Z92GuVArniewu","4Avk7C7MmAoFg744HYI5OO",{"$f":"S2PQ_relational[[#This Row],[PIGUID]]&S2PQ_relational[[#This Row],[PQGUID]]","v":"2CMiJVpd4Z92GuVArniewu4Avk7C7MmAoFg744HYI5OO"},{"$f":"IF(INDEX(S2PQ[[S2PQGUID]:[Answer]],MATCH(S2PQ_relational[[#This Row],[PQGUID]],S2PQ[S2PQGUID],0),5)=\"no\",S2PQ_relational[[#This Row],[PIGUID]]&\"NO\",\"-\")","v":"-"}]
["5daR9wN7iqTSOfNZubjNDm","4Avk7C7MmAoFg744HYI5OO",{"$f":"S2PQ_relational[[#This Row],[PIGUID]]&S2PQ_relational[[#This Row],[PQGUID]]","v":"5daR9wN7iqTSOfNZubjNDm4Avk7C7MmAoFg744HYI5OO"},{"$f":"IF(INDEX(S2PQ[[S2PQGUID]:[Answer]],MATCH(S2PQ_relational[[#This Row],[PQGUID]],S2PQ[S2PQGUID],0),5)=\"no\",S2PQ_relational[[#This Row],[PIGUID]]&\"NO\",\"-\")","v":"-"}]
["1qADWk8X0Hyx4oiNlVbcwH","4Avk7C7MmAoFg744HYI5OO",{"$f":"S2PQ_relational[[#This Row],[PIGUID]]&S2PQ_relational[[#This Row],[PQGUID]]","v":"1qADWk8X0Hyx4oiNlVbcwH4Avk7C7MmAoFg744HYI5OO"},{"$f":"IF(INDEX(S2PQ[[S2PQGUID]:[Answer]],MATCH(S2PQ_relational[[#This Row],[PQGUID]],S2PQ[S2PQGUID],0),5)=\"no\",S2PQ_relational[[#This Row],[PIGUID]]&\"NO\",\"-\")","v":"-"}]
["4lfxJOCcV1ojVuJVjCfBj6","4Avk7C7MmAoFg744HYI5OO",{"$f":"S2PQ_relational[[#This Row],[PIGUID]]&S2PQ_relational[[#This Row],[PQGUID]]","v":"4lfxJOCcV1ojVuJVjCfBj64Avk7C7MmAoFg744HYI5OO"},{"$f":"IF(INDEX(S2PQ[[S2PQGUID]:[Answer]],MATCH(S2PQ_relational[[#This Row],[PQGUID]],S2PQ[S2PQGUID],0),5)=\"no\",S2PQ_relational[[#This Row],[PIGUID]]&\"NO\",\"-\")","v":"-"}]
["LE4NAcmeT6PyqI8qg5XjN","4Avk7C7MmAoFg744HYI5OO",{"$f":"S2PQ_relational[[#This Row],[PIGUID]]&S2PQ_relational[[#This Row],[PQGUID]]","v":"LE4NAcmeT6PyqI8qg5XjN4Avk7C7MmAoFg744HYI5OO"},{"$f":"IF(INDEX(S2PQ[[S2PQGUID]:[Answer]],MATCH(S2PQ_relational[[#This Row],[PQGUID]],S2PQ[S2PQGUID],0),5)=\"no\",S2PQ_relational[[#This Row],[PIGUID]]&\"NO\",\"-\")","v":"-"}]
["5owSqO99lt8mdba69ziJ02","4Avk7C7MmAoFg744HYI5OO",{"$f":"S2PQ_relational[[#This Row],[PIGUID]]&S2PQ_relational[[#This Row],[PQGUID]]","v":"5owSqO99lt8mdba69ziJ024Avk7C7MmAoFg744HYI5OO"},{"$f":"IF(INDEX(S2PQ[[S2PQGUID]:[Answer]],MATCH(S2PQ_relational[[#This Row],[PQGUID]],S2PQ[S2PQGUID],0),5)=\"no\",S2PQ_relational[[#This Row],[PIGUID]]&\"NO\",\"-\")","v":"-"}]
["169V5uzyn9ByI9Q89OWVYm","4Avk7C7MmAoFg744HYI5OO",{"$f":"S2PQ_relational[[#This Row],[PIGUID]]&S2PQ_relational[[#This Row],[PQGUID]]","v":"169V5uzyn9ByI9Q89OWVYm4Avk7C7MmAoFg744HYI5OO"},{"$f":"IF(INDEX(S2PQ[[S2PQGUID]:[Answer]],MATCH(S2PQ_relational[[#This Row],[PQGUID]],S2PQ[S2PQGUID],0),5)=\"no\",S2PQ_relational[[#This Row],[PIGUID]]&\"NO\",\"-\")","v":"-"}]
["1Gw23GHb8dfoPGOAOpNNoF","4Avk7C7MmAoFg744HYI5OO",{"$f":"S2PQ_relational[[#This Row],[PIGUID]]&S2PQ_relational[[#This Row],[PQGUID]]","v":"1Gw23GHb8dfoPGOAOpNNoF4Avk7C7MmAoFg744HYI5OO"},{"$f":"IF(INDEX(S2PQ[[S2PQGUID]:[Answer]],MATCH(S2PQ_relational[[#This Row],[PQGUID]],S2PQ[S2PQGUID],0),5)=\"no\",S2PQ_relational[[#This Row],[PIGUID]]&\"NO\",\"-\")","v":"-"}]
["5yTnF65Qbex3e2bAyS1xdt","4Avk7C7MmAoFg744HYI5OO",{"$f":"S2PQ_relational[[#This Row],[PIGUID]]&S2PQ_relational[[#This Row],[PQGUID]]","v":"5yTnF65Qbex3e2bAyS1xdt4Avk7C7MmAoFg744HYI5OO"},{"$f":"IF(INDEX(S2PQ[[S2PQGUID]:[Answer]],MATCH(S2PQ_relational[[#This Row],[PQGUID]],S2PQ[S2PQGUID],0),5)=\"no\",S2PQ_relational[[#This Row],[PIGUID]]&\"NO\",\"-\")","v":"-"}]
["1V2OcHOgEDqWpRdFnWQeLp","4Avk7C7MmAoFg744HYI5OO",{"$f":"S2PQ_relational[[#This Row],[PIGUID]]&S2PQ_relational[[#This Row],[PQGUID]]","v":"1V2OcHOgEDqWpRdFnWQeLp4Avk7C7MmAoFg744HYI5OO"},{"$f":"IF(INDEX(S2PQ[[S2PQGUID]:[Answer]],MATCH(S2PQ_relational[[#This Row],[PQGUID]],S2PQ[S2PQGUID],0),5)=\"no\",S2PQ_relational[[#This Row],[PIGUID]]&\"NO\",\"-\")","v":"-"}]
["6qIIzIJVrT5K6kz0wqsNq7","4Avk7C7MmAoFg744HYI5OO",{"$f":"S2PQ_relational[[#This Row],[PIGUID]]&S2PQ_relational[[#This Row],[PQGUID]]","v":"6qIIzIJVrT5K6kz0wqsNq74Avk7C7MmAoFg744HYI5OO"},{"$f":"IF(INDEX(S2PQ[[S2PQGUID]:[Answer]],MATCH(S2PQ_relational[[#This Row],[PQGUID]],S2PQ[S2PQGUID],0),5)=\"no\",S2PQ_relational[[#This Row],[PIGUID]]&\"NO\",\"-\")","v":"-"}]
["61Y0IWjG13DxoG3Uo2hEWK","4Avk7C7MmAoFg744HYI5OO",{"$f":"S2PQ_relational[[#This Row],[PIGUID]]&S2PQ_relational[[#This Row],[PQGUID]]","v":"61Y0IWjG13DxoG3Uo2hEWK4Avk7C7MmAoFg744HYI5OO"},{"$f":"IF(INDEX(S2PQ[[S2PQGUID]:[Answer]],MATCH(S2PQ_relational[[#This Row],[PQGUID]],S2PQ[S2PQGUID],0),5)=\"no\",S2PQ_relational[[#This Row],[PIGUID]]&\"NO\",\"-\")","v":"-"}]
["3l55YHkfbty5EJ2kS1gub","4Avk7C7MmAoFg744HYI5OO",{"$f":"S2PQ_relational[[#This Row],[PIGUID]]&S2PQ_relational[[#This Row],[PQGUID]]","v":"3l55YHkfbty5EJ2kS1gub4Avk7C7MmAoFg744HYI5OO"},{"$f":"IF(INDEX(S2PQ[[S2PQGUID]:[Answer]],MATCH(S2PQ_relational[[#This Row],[PQGUID]],S2PQ[S2PQGUID],0),5)=\"no\",S2PQ_relational[[#This Row],[PIGUID]]&\"NO\",\"-\")","v":"-"}]
["6Kmhdg9uaBaVHmxDfxHQss","4Avk7C7MmAoFg744HYI5OO",{"$f":"S2PQ_relational[[#This Row],[PIGUID]]&S2PQ_relational[[#This Row],[PQGUID]]","v":"6Kmhdg9uaBaVHmxDfxHQss4Avk7C7MmAoFg744HYI5OO"},{"$f":"IF(INDEX(S2PQ[[S2PQGUID]:[Answer]],MATCH(S2PQ_relational[[#This Row],[PQGUID]],S2PQ[S2PQGUID],0),5)=\"no\",S2PQ_relational[[#This Row],[PIGUID]]&\"NO\",\"-\")","v":"-"}]
["7LDXR0TA0ZhNC5jVtG46w0","4Avk7C7MmAoFg744HYI5OO",{"$f":"S2PQ_relational[[#This Row],[PIGUID]]&S2PQ_relational[[#This Row],[PQGUID]]","v":"7LDXR0TA0ZhNC5jVtG46w04Avk7C7MmAoFg744HYI5OO"},{"$f":"IF(INDEX(S2PQ[[S2PQGUID]:[Answer]],MATCH(S2PQ_relational[[#This Row],[PQGUID]],S2PQ[S2PQGUID],0),5)=\"no\",S2PQ_relational[[#This Row],[PIGUID]]&\"NO\",\"-\")","v":"-"}]
["6CWvALRsYw5fDzugrr4kAl","4Avk7C7MmAoFg744HYI5OO",{"$f":"S2PQ_relational[[#This Row],[PIGUID]]&S2PQ_relational[[#This Row],[PQGUID]]","v":"6CWvALRsYw5fDzugrr4kAl4Avk7C7MmAoFg744HYI5OO"},{"$f":"IF(INDEX(S2PQ[[S2PQGUID]:[Answer]],MATCH(S2PQ_relational[[#This Row],[PQGUID]],S2PQ[S2PQGUID],0),5)=\"no\",S2PQ_relational[[#This Row],[PIGUID]]&\"NO\",\"-\")","v":"-"}]
["1MoE8uMRvkZ77AtUKZ16L1","4Avk7C7MmAoFg744HYI5OO",{"$f":"S2PQ_relational[[#This Row],[PIGUID]]&S2PQ_relational[[#This Row],[PQGUID]]","v":"1MoE8uMRvkZ77AtUKZ16L14Avk7C7MmAoFg744HYI5OO"},{"$f":"IF(INDEX(S2PQ[[S2PQGUID]:[Answer]],MATCH(S2PQ_relational[[#This Row],[PQGUID]],S2PQ[S2PQGUID],0),5)=\"no\",S2PQ_relational[[#This Row],[PIGUID]]&\"NO\",\"-\")","v":"-"}]
["5ACEE2giwQHlfnqD6UM5r2","4Avk7C7MmAoFg744HYI5OO",{"$f":"S2PQ_relational[[#This Row],[PIGUID]]&S2PQ_relational[[#This Row],[PQGUID]]","v":"5ACEE2giwQHlfnqD6UM5r24Avk7C7MmAoFg744HYI5OO"},{"$f":"IF(INDEX(S2PQ[[S2PQGUID]:[Answer]],MATCH(S2PQ_relational[[#This Row],[PQGUID]],S2PQ[S2PQGUID],0),5)=\"no\",S2PQ_relational[[#This Row],[PIGUID]]&\"NO\",\"-\")","v":"-"}]
["2h4whuwdDnnIZzrKO1b7CY","4Avk7C7MmAoFg744HYI5OO",{"$f":"S2PQ_relational[[#This Row],[PIGUID]]&S2PQ_relational[[#This Row],[PQGUID]]","v":"2h4whuwdDnnIZzrKO1b7CY4Avk7C7MmAoFg744HYI5OO"},{"$f":"IF(INDEX(S2PQ[[S2PQGUID]:[Answer]],MATCH(S2PQ_relational[[#This Row],[PQGUID]],S2PQ[S2PQGUID],0),5)=\"no\",S2PQ_relational[[#This Row],[PIGUID]]&\"NO\",\"-\")","v":"-"}]
["1UQ4cj8qsny76nudFqxKHT","4Avk7C7MmAoFg744HYI5OO",{"$f":"S2PQ_relational[[#This Row],[PIGUID]]&S2PQ_relational[[#This Row],[PQGUID]]","v":"1UQ4cj8qsny76nudFqxKHT4Avk7C7MmAoFg744HYI5OO"},{"$f":"IF(INDEX(S2PQ[[S2PQGUID]:[Answer]],MATCH(S2PQ_relational[[#This Row],[PQGUID]],S2PQ[S2PQGUID],0),5)=\"no\",S2PQ_relational[[#This Row],[PIGUID]]&\"NO\",\"-\")","v":"-"}]
["4dxc7TRPkWVNNH2pZB36pQ","4Avk7C7MmAoFg744HYI5OO",{"$f":"S2PQ_relational[[#This Row],[PIGUID]]&S2PQ_relational[[#This Row],[PQGUID]]","v":"4dxc7TRPkWVNNH2pZB36pQ4Avk7C7MmAoFg744HYI5OO"},{"$f":"IF(INDEX(S2PQ[[S2PQGUID]:[Answer]],MATCH(S2PQ_relational[[#This Row],[PQGUID]],S2PQ[S2PQGUID],0),5)=\"no\",S2PQ_relational[[#This Row],[PIGUID]]&\"NO\",\"-\")","v":"-"}]
["4vs7hMdmbszZJa4z1P4ANX","4Avk7C7MmAoFg744HYI5OO",{"$f":"S2PQ_relational[[#This Row],[PIGUID]]&S2PQ_relational[[#This Row],[PQGUID]]","v":"4vs7hMdmbszZJa4z1P4ANX4Avk7C7MmAoFg744HYI5OO"},{"$f":"IF(INDEX(S2PQ[[S2PQGUID]:[Answer]],MATCH(S2PQ_relational[[#This Row],[PQGUID]],S2PQ[S2PQGUID],0),5)=\"no\",S2PQ_relational[[#This Row],[PIGUID]]&\"NO\",\"-\")","v":"-"}]
["SbdUrZdQafuWvSKGxihAZ","4Avk7C7MmAoFg744HYI5OO",{"$f":"S2PQ_relational[[#This Row],[PIGUID]]&S2PQ_relational[[#This Row],[PQGUID]]","v":"SbdUrZdQafuWvSKGxihAZ4Avk7C7MmAoFg744HYI5OO"},{"$f":"IF(INDEX(S2PQ[[S2PQGUID]:[Answer]],MATCH(S2PQ_relational[[#This Row],[PQGUID]],S2PQ[S2PQGUID],0),5)=\"no\",S2PQ_relational[[#This Row],[PIGUID]]&\"NO\",\"-\")","v":"-"}]
["5lQyvcgz6P4t1QYC9ROCDQ","4Avk7C7MmAoFg744HYI5OO",{"$f":"S2PQ_relational[[#This Row],[PIGUID]]&S2PQ_relational[[#This Row],[PQGUID]]","v":"5lQyvcgz6P4t1QYC9ROCDQ4Avk7C7MmAoFg744HYI5OO"},{"$f":"IF(INDEX(S2PQ[[S2PQGUID]:[Answer]],MATCH(S2PQ_relational[[#This Row],[PQGUID]],S2PQ[S2PQGUID],0),5)=\"no\",S2PQ_relational[[#This Row],[PIGUID]]&\"NO\",\"-\")","v":"-"}]
["7yHxsFU07aKWqJR694BXA3","4Avk7C7MmAoFg744HYI5OO",{"$f":"S2PQ_relational[[#This Row],[PIGUID]]&S2PQ_relational[[#This Row],[PQGUID]]","v":"7yHxsFU07aKWqJR694BXA34Avk7C7MmAoFg744HYI5OO"},{"$f":"IF(INDEX(S2PQ[[S2PQGUID]:[Answer]],MATCH(S2PQ_relational[[#This Row],[PQGUID]],S2PQ[S2PQGUID],0),5)=\"no\",S2PQ_relational[[#This Row],[PIGUID]]&\"NO\",\"-\")","v":"-"}]
["5F1w8HtUMo0qTpTxru5MRt","4Avk7C7MmAoFg744HYI5OO",{"$f":"S2PQ_relational[[#This Row],[PIGUID]]&S2PQ_relational[[#This Row],[PQGUID]]","v":"5F1w8HtUMo0qTpTxru5MRt4Avk7C7MmAoFg744HYI5OO"},{"$f":"IF(INDEX(S2PQ[[S2PQGUID]:[Answer]],MATCH(S2PQ_relational[[#This Row],[PQGUID]],S2PQ[S2PQGUID],0),5)=\"no\",S2PQ_relational[[#This Row],[PIGUID]]&\"NO\",\"-\")","v":"-"}]
["57OcRtlpyLvTsLTfwBsWBi","4Avk7C7MmAoFg744HYI5OO",{"$f":"S2PQ_relational[[#This Row],[PIGUID]]&S2PQ_relational[[#This Row],[PQGUID]]","v":"57OcRtlpyLvTsLTfwBsWBi4Avk7C7MmAoFg744HYI5OO"},{"$f":"IF(INDEX(S2PQ[[S2PQGUID]:[Answer]],MATCH(S2PQ_relational[[#This Row],[PQGUID]],S2PQ[S2PQGUID],0),5)=\"no\",S2PQ_relational[[#This Row],[PIGUID]]&\"NO\",\"-\")","v":"-"}]
["757whJZYiE1KwL8gJcj2H","4Avk7C7MmAoFg744HYI5OO",{"$f":"S2PQ_relational[[#This Row],[PIGUID]]&S2PQ_relational[[#This Row],[PQGUID]]","v":"757whJZYiE1KwL8gJcj2H4Avk7C7MmAoFg744HYI5OO"},{"$f":"IF(INDEX(S2PQ[[S2PQGUID]:[Answer]],MATCH(S2PQ_relational[[#This Row],[PQGUID]],S2PQ[S2PQGUID],0),5)=\"no\",S2PQ_relational[[#This Row],[PIGUID]]&\"NO\",\"-\")","v":"-"}]
["b1uXtPummmP5fYPyz7OsN","4Avk7C7MmAoFg744HYI5OO",{"$f":"S2PQ_relational[[#This Row],[PIGUID]]&S2PQ_relational[[#This Row],[PQGUID]]","v":"b1uXtPummmP5fYPyz7OsN4Avk7C7MmAoFg744HYI5OO"},{"$f":"IF(INDEX(S2PQ[[S2PQGUID]:[Answer]],MATCH(S2PQ_relational[[#This Row],[PQGUID]],S2PQ[S2PQGUID],0),5)=\"no\",S2PQ_relational[[#This Row],[PIGUID]]&\"NO\",\"-\")","v":"-"}]
["1qG7PcWvwdKSGDa7dJ75NW","4Avk7C7MmAoFg744HYI5OO",{"$f":"S2PQ_relational[[#This Row],[PIGUID]]&S2PQ_relational[[#This Row],[PQGUID]]","v":"1qG7PcWvwdKSGDa7dJ75NW4Avk7C7MmAoFg744HYI5OO"},{"$f":"IF(INDEX(S2PQ[[S2PQGUID]:[Answer]],MATCH(S2PQ_relational[[#This Row],[PQGUID]],S2PQ[S2PQGUID],0),5)=\"no\",S2PQ_relational[[#This Row],[PIGUID]]&\"NO\",\"-\")","v":"-"}]
["h7oXDmdmJMZ6fIerKOiWd","4Avk7C7MmAoFg744HYI5OO",{"$f":"S2PQ_relational[[#This Row],[PIGUID]]&S2PQ_relational[[#This Row],[PQGUID]]","v":"h7oXDmdmJMZ6fIerKOiWd4Avk7C7MmAoFg744HYI5OO"},{"$f":"IF(INDEX(S2PQ[[S2PQGUID]:[Answer]],MATCH(S2PQ_relational[[#This Row],[PQGUID]],S2PQ[S2PQGUID],0),5)=\"no\",S2PQ_relational[[#This Row],[PIGUID]]&\"NO\",\"-\")","v":"-"}]
["6pkyPAaEzhqILFZKAQjFmh","4Avk7C7MmAoFg744HYI5OO",{"$f":"S2PQ_relational[[#This Row],[PIGUID]]&S2PQ_relational[[#This Row],[PQGUID]]","v":"6pkyPAaEzhqILFZKAQjFmh4Avk7C7MmAoFg744HYI5OO"},{"$f":"IF(INDEX(S2PQ[[S2PQGUID]:[Answer]],MATCH(S2PQ_relational[[#This Row],[PQGUID]],S2PQ[S2PQGUID],0),5)=\"no\",S2PQ_relational[[#This Row],[PIGUID]]&\"NO\",\"-\")","v":"-"}]
["5GjSFRGliXoulGkdlAeEre","4Avk7C7MmAoFg744HYI5OO",{"$f":"S2PQ_relational[[#This Row],[PIGUID]]&S2PQ_relational[[#This Row],[PQGUID]]","v":"5GjSFRGliXoulGkdlAeEre4Avk7C7MmAoFg744HYI5OO"},{"$f":"IF(INDEX(S2PQ[[S2PQGUID]:[Answer]],MATCH(S2PQ_relational[[#This Row],[PQGUID]],S2PQ[S2PQGUID],0),5)=\"no\",S2PQ_relational[[#This Row],[PIGUID]]&\"NO\",\"-\")","v":"-"}]
["QJ2yybwDAksAecWyfu7xh","4Avk7C7MmAoFg744HYI5OO",{"$f":"S2PQ_relational[[#This Row],[PIGUID]]&S2PQ_relational[[#This Row],[PQGUID]]","v":"QJ2yybwDAksAecWyfu7xh4Avk7C7MmAoFg744HYI5OO"},{"$f":"IF(INDEX(S2PQ[[S2PQGUID]:[Answer]],MATCH(S2PQ_relational[[#This Row],[PQGUID]],S2PQ[S2PQGUID],0),5)=\"no\",S2PQ_relational[[#This Row],[PIGUID]]&\"NO\",\"-\")","v":"-"}]
["5341tD3frWQkSDpaOjaT9y","4Avk7C7MmAoFg744HYI5OO",{"$f":"S2PQ_relational[[#This Row],[PIGUID]]&S2PQ_relational[[#This Row],[PQGUID]]","v":"5341tD3frWQkSDpaOjaT9y4Avk7C7MmAoFg744HYI5OO"},{"$f":"IF(INDEX(S2PQ[[S2PQGUID]:[Answer]],MATCH(S2PQ_relational[[#This Row],[PQGUID]],S2PQ[S2PQGUID],0),5)=\"no\",S2PQ_relational[[#This Row],[PIGUID]]&\"NO\",\"-\")","v":"-"}]
["3xVfcw8MEHmhHKuLYJZlbE","4Avk7C7MmAoFg744HYI5OO",{"$f":"S2PQ_relational[[#This Row],[PIGUID]]&S2PQ_relational[[#This Row],[PQGUID]]","v":"3xVfcw8MEHmhHKuLYJZlbE4Avk7C7MmAoFg744HYI5OO"},{"$f":"IF(INDEX(S2PQ[[S2PQGUID]:[Answer]],MATCH(S2PQ_relational[[#This Row],[PQGUID]],S2PQ[S2PQGUID],0),5)=\"no\",S2PQ_relational[[#This Row],[PIGUID]]&\"NO\",\"-\")","v":"-"}]
["2iwc5vRFwsOZLoIuGkmAhU","4Avk7C7MmAoFg744HYI5OO",{"$f":"S2PQ_relational[[#This Row],[PIGUID]]&S2PQ_relational[[#This Row],[PQGUID]]","v":"2iwc5vRFwsOZLoIuGkmAhU4Avk7C7MmAoFg744HYI5OO"},{"$f":"IF(INDEX(S2PQ[[S2PQGUID]:[Answer]],MATCH(S2PQ_relational[[#This Row],[PQGUID]],S2PQ[S2PQGUID],0),5)=\"no\",S2PQ_relational[[#This Row],[PIGUID]]&\"NO\",\"-\")","v":"-"}]
["3Dimiqdc67UKDeufwfoeiw","4Avk7C7MmAoFg744HYI5OO",{"$f":"S2PQ_relational[[#This Row],[PIGUID]]&S2PQ_relational[[#This Row],[PQGUID]]","v":"3Dimiqdc67UKDeufwfoeiw4Avk7C7MmAoFg744HYI5OO"},{"$f":"IF(INDEX(S2PQ[[S2PQGUID]:[Answer]],MATCH(S2PQ_relational[[#This Row],[PQGUID]],S2PQ[S2PQGUID],0),5)=\"no\",S2PQ_relational[[#This Row],[PIGUID]]&\"NO\",\"-\")","v":"-"}]
["74JlWgnkjnlI8rDlEAMb04","4Avk7C7MmAoFg744HYI5OO",{"$f":"S2PQ_relational[[#This Row],[PIGUID]]&S2PQ_relational[[#This Row],[PQGUID]]","v":"74JlWgnkjnlI8rDlEAMb044Avk7C7MmAoFg744HYI5OO"},{"$f":"IF(INDEX(S2PQ[[S2PQGUID]:[Answer]],MATCH(S2PQ_relational[[#This Row],[PQGUID]],S2PQ[S2PQGUID],0),5)=\"no\",S2PQ_relational[[#This Row],[PIGUID]]&\"NO\",\"-\")","v":"-"}]
["60v3YWnkZQm19cqGSHuJdZ","4Avk7C7MmAoFg744HYI5OO",{"$f":"S2PQ_relational[[#This Row],[PIGUID]]&S2PQ_relational[[#This Row],[PQGUID]]","v":"60v3YWnkZQm19cqGSHuJdZ4Avk7C7MmAoFg744HYI5OO"},{"$f":"IF(INDEX(S2PQ[[S2PQGUID]:[Answer]],MATCH(S2PQ_relational[[#This Row],[PQGUID]],S2PQ[S2PQGUID],0),5)=\"no\",S2PQ_relational[[#This Row],[PIGUID]]&\"NO\",\"-\")","v":"-"}]
["1DtFWIImb9ROE9KpP2DR4A","4Avk7C7MmAoFg744HYI5OO",{"$f":"S2PQ_relational[[#This Row],[PIGUID]]&S2PQ_relational[[#This Row],[PQGUID]]","v":"1DtFWIImb9ROE9KpP2DR4A4Avk7C7MmAoFg744HYI5OO"},{"$f":"IF(INDEX(S2PQ[[S2PQGUID]:[Answer]],MATCH(S2PQ_relational[[#This Row],[PQGUID]],S2PQ[S2PQGUID],0),5)=\"no\",S2PQ_relational[[#This Row],[PIGUID]]&\"NO\",\"-\")","v":"-"}]
["7Gx5HSqj9D3u0n8xv7BWm","4Avk7C7MmAoFg744HYI5OO",{"$f":"S2PQ_relational[[#This Row],[PIGUID]]&S2PQ_relational[[#This Row],[PQGUID]]","v":"7Gx5HSqj9D3u0n8xv7BWm4Avk7C7MmAoFg744HYI5OO"},{"$f":"IF(INDEX(S2PQ[[S2PQGUID]:[Answer]],MATCH(S2PQ_relational[[#This Row],[PQGUID]],S2PQ[S2PQGUID],0),5)=\"no\",S2PQ_relational[[#This Row],[PIGUID]]&\"NO\",\"-\")","v":"-"}]
["7xQIu9XtI8TEVE8AU8Izo1","4Avk7C7MmAoFg744HYI5OO",{"$f":"S2PQ_relational[[#This Row],[PIGUID]]&S2PQ_relational[[#This Row],[PQGUID]]","v":"7xQIu9XtI8TEVE8AU8Izo14Avk7C7MmAoFg744HYI5OO"},{"$f":"IF(INDEX(S2PQ[[S2PQGUID]:[Answer]],MATCH(S2PQ_relational[[#This Row],[PQGUID]],S2PQ[S2PQGUID],0),5)=\"no\",S2PQ_relational[[#This Row],[PIGUID]]&\"NO\",\"-\")","v":"-"}]
["4FQ1W215iNqDBI41cTVChR","4Avk7C7MmAoFg744HYI5OO",{"$f":"S2PQ_relational[[#This Row],[PIGUID]]&S2PQ_relational[[#This Row],[PQGUID]]","v":"4FQ1W215iNqDBI41cTVChR4Avk7C7MmAoFg744HYI5OO"},{"$f":"IF(INDEX(S2PQ[[S2PQGUID]:[Answer]],MATCH(S2PQ_relational[[#This Row],[PQGUID]],S2PQ[S2PQGUID],0),5)=\"no\",S2PQ_relational[[#This Row],[PIGUID]]&\"NO\",\"-\")","v":"-"}]
["3MSvFAu06ogDjRbyfMHZC","4Avk7C7MmAoFg744HYI5OO",{"$f":"S2PQ_relational[[#This Row],[PIGUID]]&S2PQ_relational[[#This Row],[PQGUID]]","v":"3MSvFAu06ogDjRbyfMHZC4Avk7C7MmAoFg744HYI5OO"},{"$f":"IF(INDEX(S2PQ[[S2PQGUID]:[Answer]],MATCH(S2PQ_relational[[#This Row],[PQGUID]],S2PQ[S2PQGUID],0),5)=\"no\",S2PQ_relational[[#This Row],[PIGUID]]&\"NO\",\"-\")","v":"-"}]
["6XwwhNCjx0ZRqAJBgSk2yO","4Avk7C7MmAoFg744HYI5OO",{"$f":"S2PQ_relational[[#This Row],[PIGUID]]&S2PQ_relational[[#This Row],[PQGUID]]","v":"6XwwhNCjx0ZRqAJBgSk2yO4Avk7C7MmAoFg744HYI5OO"},{"$f":"IF(INDEX(S2PQ[[S2PQGUID]:[Answer]],MATCH(S2PQ_relational[[#This Row],[PQGUID]],S2PQ[S2PQGUID],0),5)=\"no\",S2PQ_relational[[#This Row],[PIGUID]]&\"NO\",\"-\")","v":"-"}]
["7cTRyquh7U3O8cBA8Paijt","4Avk7C7MmAoFg744HYI5OO",{"$f":"S2PQ_relational[[#This Row],[PIGUID]]&S2PQ_relational[[#This Row],[PQGUID]]","v":"7cTRyquh7U3O8cBA8Paijt4Avk7C7MmAoFg744HYI5OO"},{"$f":"IF(INDEX(S2PQ[[S2PQGUID]:[Answer]],MATCH(S2PQ_relational[[#This Row],[PQGUID]],S2PQ[S2PQGUID],0),5)=\"no\",S2PQ_relational[[#This Row],[PIGUID]]&\"NO\",\"-\")","v":"-"}]
["3KoSwP3h3LcPPyAnUuTVh8","4Avk7C7MmAoFg744HYI5OO",{"$f":"S2PQ_relational[[#This Row],[PIGUID]]&S2PQ_relational[[#This Row],[PQGUID]]","v":"3KoSwP3h3LcPPyAnUuTVh84Avk7C7MmAoFg744HYI5OO"},{"$f":"IF(INDEX(S2PQ[[S2PQGUID]:[Answer]],MATCH(S2PQ_relational[[#This Row],[PQGUID]],S2PQ[S2PQGUID],0),5)=\"no\",S2PQ_relational[[#This Row],[PIGUID]]&\"NO\",\"-\")","v":"-"}]
["53Sx4h1tiaBx96W255bwTA","4Avk7C7MmAoFg744HYI5OO",{"$f":"S2PQ_relational[[#This Row],[PIGUID]]&S2PQ_relational[[#This Row],[PQGUID]]","v":"53Sx4h1tiaBx96W255bwTA4Avk7C7MmAoFg744HYI5OO"},{"$f":"IF(INDEX(S2PQ[[S2PQGUID]:[Answer]],MATCH(S2PQ_relational[[#This Row],[PQGUID]],S2PQ[S2PQGUID],0),5)=\"no\",S2PQ_relational[[#This Row],[PIGUID]]&\"NO\",\"-\")","v":"-"}]
["1R8z6iLS1vLIAHZN4fwLck","4Avk7C7MmAoFg744HYI5OO",{"$f":"S2PQ_relational[[#This Row],[PIGUID]]&S2PQ_relational[[#This Row],[PQGUID]]","v":"1R8z6iLS1vLIAHZN4fwLck4Avk7C7MmAoFg744HYI5OO"},{"$f":"IF(INDEX(S2PQ[[S2PQGUID]:[Answer]],MATCH(S2PQ_relational[[#This Row],[PQGUID]],S2PQ[S2PQGUID],0),5)=\"no\",S2PQ_relational[[#This Row],[PIGUID]]&\"NO\",\"-\")","v":"-"}]
["42sYt5DbTXQHx6SiVgVWiU","4Avk7C7MmAoFg744HYI5OO",{"$f":"S2PQ_relational[[#This Row],[PIGUID]]&S2PQ_relational[[#This Row],[PQGUID]]","v":"42sYt5DbTXQHx6SiVgVWiU4Avk7C7MmAoFg744HYI5OO"},{"$f":"IF(INDEX(S2PQ[[S2PQGUID]:[Answer]],MATCH(S2PQ_relational[[#This Row],[PQGUID]],S2PQ[S2PQGUID],0),5)=\"no\",S2PQ_relational[[#This Row],[PIGUID]]&\"NO\",\"-\")","v":"-"}]
["5urfMQplyrLGOXRqccX879","4Avk7C7MmAoFg744HYI5OO",{"$f":"S2PQ_relational[[#This Row],[PIGUID]]&S2PQ_relational[[#This Row],[PQGUID]]","v":"5urfMQplyrLGOXRqccX8794Avk7C7MmAoFg744HYI5OO"},{"$f":"IF(INDEX(S2PQ[[S2PQGUID]:[Answer]],MATCH(S2PQ_relational[[#This Row],[PQGUID]],S2PQ[S2PQGUID],0),5)=\"no\",S2PQ_relational[[#This Row],[PIGUID]]&\"NO\",\"-\")","v":"-"}]
["1DXT5oU3nI7HrnWiwb1VIc","4Avk7C7MmAoFg744HYI5OO",{"$f":"S2PQ_relational[[#This Row],[PIGUID]]&S2PQ_relational[[#This Row],[PQGUID]]","v":"1DXT5oU3nI7HrnWiwb1VIc4Avk7C7MmAoFg744HYI5OO"},{"$f":"IF(INDEX(S2PQ[[S2PQGUID]:[Answer]],MATCH(S2PQ_relational[[#This Row],[PQGUID]],S2PQ[S2PQGUID],0),5)=\"no\",S2PQ_relational[[#This Row],[PIGUID]]&\"NO\",\"-\")","v":"-"}]
["58cJmy1kh77tn2J4Hpf3MA","4Avk7C7MmAoFg744HYI5OO",{"$f":"S2PQ_relational[[#This Row],[PIGUID]]&S2PQ_relational[[#This Row],[PQGUID]]","v":"58cJmy1kh77tn2J4Hpf3MA4Avk7C7MmAoFg744HYI5OO"},{"$f":"IF(INDEX(S2PQ[[S2PQGUID]:[Answer]],MATCH(S2PQ_relational[[#This Row],[PQGUID]],S2PQ[S2PQGUID],0),5)=\"no\",S2PQ_relational[[#This Row],[PIGUID]]&\"NO\",\"-\")","v":"-"}]
["18SAx6TL2CCMJBjVfiJQD1","4Avk7C7MmAoFg744HYI5OO",{"$f":"S2PQ_relational[[#This Row],[PIGUID]]&S2PQ_relational[[#This Row],[PQGUID]]","v":"18SAx6TL2CCMJBjVfiJQD14Avk7C7MmAoFg744HYI5OO"},{"$f":"IF(INDEX(S2PQ[[S2PQGUID]:[Answer]],MATCH(S2PQ_relational[[#This Row],[PQGUID]],S2PQ[S2PQGUID],0),5)=\"no\",S2PQ_relational[[#This Row],[PIGUID]]&\"NO\",\"-\")","v":"-"}]
["59rvtmSodx96vNiWaBpI7r","4Avk7C7MmAoFg744HYI5OO",{"$f":"S2PQ_relational[[#This Row],[PIGUID]]&S2PQ_relational[[#This Row],[PQGUID]]","v":"59rvtmSodx96vNiWaBpI7r4Avk7C7MmAoFg744HYI5OO"},{"$f":"IF(INDEX(S2PQ[[S2PQGUID]:[Answer]],MATCH(S2PQ_relational[[#This Row],[PQGUID]],S2PQ[S2PQGUID],0),5)=\"no\",S2PQ_relational[[#This Row],[PIGUID]]&\"NO\",\"-\")","v":"-"}]
["1fCDpR8Tble3y6GAsbA5SQ","4Avk7C7MmAoFg744HYI5OO",{"$f":"S2PQ_relational[[#This Row],[PIGUID]]&S2PQ_relational[[#This Row],[PQGUID]]","v":"1fCDpR8Tble3y6GAsbA5SQ4Avk7C7MmAoFg744HYI5OO"},{"$f":"IF(INDEX(S2PQ[[S2PQGUID]:[Answer]],MATCH(S2PQ_relational[[#This Row],[PQGUID]],S2PQ[S2PQGUID],0),5)=\"no\",S2PQ_relational[[#This Row],[PIGUID]]&\"NO\",\"-\")","v":"-"}]
["5QlqV0nuBakmWh8AX0IROm","4Avk7C7MmAoFg744HYI5OO",{"$f":"S2PQ_relational[[#This Row],[PIGUID]]&S2PQ_relational[[#This Row],[PQGUID]]","v":"5QlqV0nuBakmWh8AX0IROm4Avk7C7MmAoFg744HYI5OO"},{"$f":"IF(INDEX(S2PQ[[S2PQGUID]:[Answer]],MATCH(S2PQ_relational[[#This Row],[PQGUID]],S2PQ[S2PQGUID],0),5)=\"no\",S2PQ_relational[[#This Row],[PIGUID]]&\"NO\",\"-\")","v":"-"}]
["54dPs5U6gBeP4afltpfCE9","4Avk7C7MmAoFg744HYI5OO",{"$f":"S2PQ_relational[[#This Row],[PIGUID]]&S2PQ_relational[[#This Row],[PQGUID]]","v":"54dPs5U6gBeP4afltpfCE94Avk7C7MmAoFg744HYI5OO"},{"$f":"IF(INDEX(S2PQ[[S2PQGUID]:[Answer]],MATCH(S2PQ_relational[[#This Row],[PQGUID]],S2PQ[S2PQGUID],0),5)=\"no\",S2PQ_relational[[#This Row],[PIGUID]]&\"NO\",\"-\")","v":"-"}]
["2efu6CRg9BprsT9UGczVg5","4Avk7C7MmAoFg744HYI5OO",{"$f":"S2PQ_relational[[#This Row],[PIGUID]]&S2PQ_relational[[#This Row],[PQGUID]]","v":"2efu6CRg9BprsT9UGczVg54Avk7C7MmAoFg744HYI5OO"},{"$f":"IF(INDEX(S2PQ[[S2PQGUID]:[Answer]],MATCH(S2PQ_relational[[#This Row],[PQGUID]],S2PQ[S2PQGUID],0),5)=\"no\",S2PQ_relational[[#This Row],[PIGUID]]&\"NO\",\"-\")","v":"-"}]
["2Qdjx9Bh84rwMQxPkUom0T","4Avk7C7MmAoFg744HYI5OO",{"$f":"S2PQ_relational[[#This Row],[PIGUID]]&S2PQ_relational[[#This Row],[PQGUID]]","v":"2Qdjx9Bh84rwMQxPkUom0T4Avk7C7MmAoFg744HYI5OO"},{"$f":"IF(INDEX(S2PQ[[S2PQGUID]:[Answer]],MATCH(S2PQ_relational[[#This Row],[PQGUID]],S2PQ[S2PQGUID],0),5)=\"no\",S2PQ_relational[[#This Row],[PIGUID]]&\"NO\",\"-\")","v":"-"}]
["3PZFbxrO2SbhAhzMifmoqP","4Avk7C7MmAoFg744HYI5OO",{"$f":"S2PQ_relational[[#This Row],[PIGUID]]&S2PQ_relational[[#This Row],[PQGUID]]","v":"3PZFbxrO2SbhAhzMifmoqP4Avk7C7MmAoFg744HYI5OO"},{"$f":"IF(INDEX(S2PQ[[S2PQGUID]:[Answer]],MATCH(S2PQ_relational[[#This Row],[PQGUID]],S2PQ[S2PQGUID],0),5)=\"no\",S2PQ_relational[[#This Row],[PIGUID]]&\"NO\",\"-\")","v":"-"}]
["28h0o0cSIJtD06wm9OzLvK","4Avk7C7MmAoFg744HYI5OO",{"$f":"S2PQ_relational[[#This Row],[PIGUID]]&S2PQ_relational[[#This Row],[PQGUID]]","v":"28h0o0cSIJtD06wm9OzLvK4Avk7C7MmAoFg744HYI5OO"},{"$f":"IF(INDEX(S2PQ[[S2PQGUID]:[Answer]],MATCH(S2PQ_relational[[#This Row],[PQGUID]],S2PQ[S2PQGUID],0),5)=\"no\",S2PQ_relational[[#This Row],[PIGUID]]&\"NO\",\"-\")","v":"-"}]
["1c9fEucPgLEBwZcAB3PJnL","4Avk7C7MmAoFg744HYI5OO",{"$f":"S2PQ_relational[[#This Row],[PIGUID]]&S2PQ_relational[[#This Row],[PQGUID]]","v":"1c9fEucPgLEBwZcAB3PJnL4Avk7C7MmAoFg744HYI5OO"},{"$f":"IF(INDEX(S2PQ[[S2PQGUID]:[Answer]],MATCH(S2PQ_relational[[#This Row],[PQGUID]],S2PQ[S2PQGUID],0),5)=\"no\",S2PQ_relational[[#This Row],[PIGUID]]&\"NO\",\"-\")","v":"-"}]
["7iB0AdjwaAwIoJhCjExqqN","4Avk7C7MmAoFg744HYI5OO",{"$f":"S2PQ_relational[[#This Row],[PIGUID]]&S2PQ_relational[[#This Row],[PQGUID]]","v":"7iB0AdjwaAwIoJhCjExqqN4Avk7C7MmAoFg744HYI5OO"},{"$f":"IF(INDEX(S2PQ[[S2PQGUID]:[Answer]],MATCH(S2PQ_relational[[#This Row],[PQGUID]],S2PQ[S2PQGUID],0),5)=\"no\",S2PQ_relational[[#This Row],[PIGUID]]&\"NO\",\"-\")","v":"-"}]
["7lTZOj0V0Ao8cJAdaJGgd5","4Avk7C7MmAoFg744HYI5OO",{"$f":"S2PQ_relational[[#This Row],[PIGUID]]&S2PQ_relational[[#This Row],[PQGUID]]","v":"7lTZOj0V0Ao8cJAdaJGgd54Avk7C7MmAoFg744HYI5OO"},{"$f":"IF(INDEX(S2PQ[[S2PQGUID]:[Answer]],MATCH(S2PQ_relational[[#This Row],[PQGUID]],S2PQ[S2PQGUID],0),5)=\"no\",S2PQ_relational[[#This Row],[PIGUID]]&\"NO\",\"-\")","v":"-"}]
["7yA7XRnr1WZ1iZgqnC9ZCF","4Avk7C7MmAoFg744HYI5OO",{"$f":"S2PQ_relational[[#This Row],[PIGUID]]&S2PQ_relational[[#This Row],[PQGUID]]","v":"7yA7XRnr1WZ1iZgqnC9ZCF4Avk7C7MmAoFg744HYI5OO"},{"$f":"IF(INDEX(S2PQ[[S2PQGUID]:[Answer]],MATCH(S2PQ_relational[[#This Row],[PQGUID]],S2PQ[S2PQGUID],0),5)=\"no\",S2PQ_relational[[#This Row],[PIGUID]]&\"NO\",\"-\")","v":"-"}]
["4lVHcGLPT4btdMvIq4YwsF","4Avk7C7MmAoFg744HYI5OO",{"$f":"S2PQ_relational[[#This Row],[PIGUID]]&S2PQ_relational[[#This Row],[PQGUID]]","v":"4lVHcGLPT4btdMvIq4YwsF4Avk7C7MmAoFg744HYI5OO"},{"$f":"IF(INDEX(S2PQ[[S2PQGUID]:[Answer]],MATCH(S2PQ_relational[[#This Row],[PQGUID]],S2PQ[S2PQGUID],0),5)=\"no\",S2PQ_relational[[#This Row],[PIGUID]]&\"NO\",\"-\")","v":"-"}]
["1o4ipagm2j86vbWnQ1M7Gc","4Avk7C7MmAoFg744HYI5OO",{"$f":"S2PQ_relational[[#This Row],[PIGUID]]&S2PQ_relational[[#This Row],[PQGUID]]","v":"1o4ipagm2j86vbWnQ1M7Gc4Avk7C7MmAoFg744HYI5OO"},{"$f":"IF(INDEX(S2PQ[[S2PQGUID]:[Answer]],MATCH(S2PQ_relational[[#This Row],[PQGUID]],S2PQ[S2PQGUID],0),5)=\"no\",S2PQ_relational[[#This Row],[PIGUID]]&\"NO\",\"-\")","v":"-"}]
["3uaA6l6inUWdqT3f4hmHAE","4Avk7C7MmAoFg744HYI5OO",{"$f":"S2PQ_relational[[#This Row],[PIGUID]]&S2PQ_relational[[#This Row],[PQGUID]]","v":"3uaA6l6inUWdqT3f4hmHAE4Avk7C7MmAoFg744HYI5OO"},{"$f":"IF(INDEX(S2PQ[[S2PQGUID]:[Answer]],MATCH(S2PQ_relational[[#This Row],[PQGUID]],S2PQ[S2PQGUID],0),5)=\"no\",S2PQ_relational[[#This Row],[PIGUID]]&\"NO\",\"-\")","v":"-"}]
["6rtaRMxnDqpmX3MNNT0YX4","4Avk7C7MmAoFg744HYI5OO",{"$f":"S2PQ_relational[[#This Row],[PIGUID]]&S2PQ_relational[[#This Row],[PQGUID]]","v":"6rtaRMxnDqpmX3MNNT0YX44Avk7C7MmAoFg744HYI5OO"},{"$f":"IF(INDEX(S2PQ[[S2PQGUID]:[Answer]],MATCH(S2PQ_relational[[#This Row],[PQGUID]],S2PQ[S2PQGUID],0),5)=\"no\",S2PQ_relational[[#This Row],[PIGUID]]&\"NO\",\"-\")","v":"-"}]
["3vKz1XeHl2F8VNaaUrDMUl","4Avk7C7MmAoFg744HYI5OO",{"$f":"S2PQ_relational[[#This Row],[PIGUID]]&S2PQ_relational[[#This Row],[PQGUID]]","v":"3vKz1XeHl2F8VNaaUrDMUl4Avk7C7MmAoFg744HYI5OO"},{"$f":"IF(INDEX(S2PQ[[S2PQGUID]:[Answer]],MATCH(S2PQ_relational[[#This Row],[PQGUID]],S2PQ[S2PQGUID],0),5)=\"no\",S2PQ_relational[[#This Row],[PIGUID]]&\"NO\",\"-\")","v":"-"}]
["01v2H3qr0AtPFmXMU5RXew","4Avk7C7MmAoFg744HYI5OO",{"$f":"S2PQ_relational[[#This Row],[PIGUID]]&S2PQ_relational[[#This Row],[PQGUID]]","v":"01v2H3qr0AtPFmXMU5RXew4Avk7C7MmAoFg744HYI5OO"},{"$f":"IF(INDEX(S2PQ[[S2PQGUID]:[Answer]],MATCH(S2PQ_relational[[#This Row],[PQGUID]],S2PQ[S2PQGUID],0),5)=\"no\",S2PQ_relational[[#This Row],[PIGUID]]&\"NO\",\"-\")","v":"-"}]
["6p9JXzwRhZyGTbr6ztZQwa","4Avk7C7MmAoFg744HYI5OO",{"$f":"S2PQ_relational[[#This Row],[PIGUID]]&S2PQ_relational[[#This Row],[PQGUID]]","v":"6p9JXzwRhZyGTbr6ztZQwa4Avk7C7MmAoFg744HYI5OO"},{"$f":"IF(INDEX(S2PQ[[S2PQGUID]:[Answer]],MATCH(S2PQ_relational[[#This Row],[PQGUID]],S2PQ[S2PQGUID],0),5)=\"no\",S2PQ_relational[[#This Row],[PIGUID]]&\"NO\",\"-\")","v":"-"}]
["504jxiMLX4m1KEs5eytNfX","4Avk7C7MmAoFg744HYI5OO",{"$f":"S2PQ_relational[[#This Row],[PIGUID]]&S2PQ_relational[[#This Row],[PQGUID]]","v":"504jxiMLX4m1KEs5eytNfX4Avk7C7MmAoFg744HYI5OO"},{"$f":"IF(INDEX(S2PQ[[S2PQGUID]:[Answer]],MATCH(S2PQ_relational[[#This Row],[PQGUID]],S2PQ[S2PQGUID],0),5)=\"no\",S2PQ_relational[[#This Row],[PIGUID]]&\"NO\",\"-\")","v":"-"}]
["5m0BI5wZuoNOyDPYCiX3Xe","4Avk7C7MmAoFg744HYI5OO",{"$f":"S2PQ_relational[[#This Row],[PIGUID]]&S2PQ_relational[[#This Row],[PQGUID]]","v":"5m0BI5wZuoNOyDPYCiX3Xe4Avk7C7MmAoFg744HYI5OO"},{"$f":"IF(INDEX(S2PQ[[S2PQGUID]:[Answer]],MATCH(S2PQ_relational[[#This Row],[PQGUID]],S2PQ[S2PQGUID],0),5)=\"no\",S2PQ_relational[[#This Row],[PIGUID]]&\"NO\",\"-\")","v":"-"}]
["6NzSDV2IsFOtacEOaj13Gl","4Avk7C7MmAoFg744HYI5OO",{"$f":"S2PQ_relational[[#This Row],[PIGUID]]&S2PQ_relational[[#This Row],[PQGUID]]","v":"6NzSDV2IsFOtacEOaj13Gl4Avk7C7MmAoFg744HYI5OO"},{"$f":"IF(INDEX(S2PQ[[S2PQGUID]:[Answer]],MATCH(S2PQ_relational[[#This Row],[PQGUID]],S2PQ[S2PQGUID],0),5)=\"no\",S2PQ_relational[[#This Row],[PIGUID]]&\"NO\",\"-\")","v":"-"}]
["6uSpDnR3yQ5uar8BBVrZrv","4Avk7C7MmAoFg744HYI5OO",{"$f":"S2PQ_relational[[#This Row],[PIGUID]]&S2PQ_relational[[#This Row],[PQGUID]]","v":"6uSpDnR3yQ5uar8BBVrZrv4Avk7C7MmAoFg744HYI5OO"},{"$f":"IF(INDEX(S2PQ[[S2PQGUID]:[Answer]],MATCH(S2PQ_relational[[#This Row],[PQGUID]],S2PQ[S2PQGUID],0),5)=\"no\",S2PQ_relational[[#This Row],[PIGUID]]&\"NO\",\"-\")","v":"-"}]
["5zn5rvPKBMqVZFwtGJoNJG","4Avk7C7MmAoFg744HYI5OO",{"$f":"S2PQ_relational[[#This Row],[PIGUID]]&S2PQ_relational[[#This Row],[PQGUID]]","v":"5zn5rvPKBMqVZFwtGJoNJG4Avk7C7MmAoFg744HYI5OO"},{"$f":"IF(INDEX(S2PQ[[S2PQGUID]:[Answer]],MATCH(S2PQ_relational[[#This Row],[PQGUID]],S2PQ[S2PQGUID],0),5)=\"no\",S2PQ_relational[[#This Row],[PIGUID]]&\"NO\",\"-\")","v":"-"}]
["5QYYzcS5RynnmhMFO3IxSb","4Avk7C7MmAoFg744HYI5OO",{"$f":"S2PQ_relational[[#This Row],[PIGUID]]&S2PQ_relational[[#This Row],[PQGUID]]","v":"5QYYzcS5RynnmhMFO3IxSb4Avk7C7MmAoFg744HYI5OO"},{"$f":"IF(INDEX(S2PQ[[S2PQGUID]:[Answer]],MATCH(S2PQ_relational[[#This Row],[PQGUID]],S2PQ[S2PQGUID],0),5)=\"no\",S2PQ_relational[[#This Row],[PIGUID]]&\"NO\",\"-\")","v":"-"}]
["1I2lvoMa3TWCWbPOI8a06k","4Avk7C7MmAoFg744HYI5OO",{"$f":"S2PQ_relational[[#This Row],[PIGUID]]&S2PQ_relational[[#This Row],[PQGUID]]","v":"1I2lvoMa3TWCWbPOI8a06k4Avk7C7MmAoFg744HYI5OO"},{"$f":"IF(INDEX(S2PQ[[S2PQGUID]:[Answer]],MATCH(S2PQ_relational[[#This Row],[PQGUID]],S2PQ[S2PQGUID],0),5)=\"no\",S2PQ_relational[[#This Row],[PIGUID]]&\"NO\",\"-\")","v":"-"}]
["7geNs0j1gKJkrzJeivUc5B","4Avk7C7MmAoFg744HYI5OO",{"$f":"S2PQ_relational[[#This Row],[PIGUID]]&S2PQ_relational[[#This Row],[PQGUID]]","v":"7geNs0j1gKJkrzJeivUc5B4Avk7C7MmAoFg744HYI5OO"},{"$f":"IF(INDEX(S2PQ[[S2PQGUID]:[Answer]],MATCH(S2PQ_relational[[#This Row],[PQGUID]],S2PQ[S2PQGUID],0),5)=\"no\",S2PQ_relational[[#This Row],[PIGUID]]&\"NO\",\"-\")","v":"-"}]
["2eqj1B1ZG1aYK9JZ0Yoe4U","4Avk7C7MmAoFg744HYI5OO",{"$f":"S2PQ_relational[[#This Row],[PIGUID]]&S2PQ_relational[[#This Row],[PQGUID]]","v":"2eqj1B1ZG1aYK9JZ0Yoe4U4Avk7C7MmAoFg744HYI5OO"},{"$f":"IF(INDEX(S2PQ[[S2PQGUID]:[Answer]],MATCH(S2PQ_relational[[#This Row],[PQGUID]],S2PQ[S2PQGUID],0),5)=\"no\",S2PQ_relational[[#This Row],[PIGUID]]&\"NO\",\"-\")","v":"-"}]
["79P2YlIaBbTYuLX5kn7gmT","4Avk7C7MmAoFg744HYI5OO",{"$f":"S2PQ_relational[[#This Row],[PIGUID]]&S2PQ_relational[[#This Row],[PQGUID]]","v":"79P2YlIaBbTYuLX5kn7gmT4Avk7C7MmAoFg744HYI5OO"},{"$f":"IF(INDEX(S2PQ[[S2PQGUID]:[Answer]],MATCH(S2PQ_relational[[#This Row],[PQGUID]],S2PQ[S2PQGUID],0),5)=\"no\",S2PQ_relational[[#This Row],[PIGUID]]&\"NO\",\"-\")","v":"-"}]
["1UsFNQjqnI4NREyezoXBqD","4Avk7C7MmAoFg744HYI5OO",{"$f":"S2PQ_relational[[#This Row],[PIGUID]]&S2PQ_relational[[#This Row],[PQGUID]]","v":"1UsFNQjqnI4NREyezoXBqD4Avk7C7MmAoFg744HYI5OO"},{"$f":"IF(INDEX(S2PQ[[S2PQGUID]:[Answer]],MATCH(S2PQ_relational[[#This Row],[PQGUID]],S2PQ[S2PQGUID],0),5)=\"no\",S2PQ_relational[[#This Row],[PIGUID]]&\"NO\",\"-\")","v":"-"}]
["wBEPtgHvVdAw5AnSADfam","4Avk7C7MmAoFg744HYI5OO",{"$f":"S2PQ_relational[[#This Row],[PIGUID]]&S2PQ_relational[[#This Row],[PQGUID]]","v":"wBEPtgHvVdAw5AnSADfam4Avk7C7MmAoFg744HYI5OO"},{"$f":"IF(INDEX(S2PQ[[S2PQGUID]:[Answer]],MATCH(S2PQ_relational[[#This Row],[PQGUID]],S2PQ[S2PQGUID],0),5)=\"no\",S2PQ_relational[[#This Row],[PIGUID]]&\"NO\",\"-\")","v":"-"}]
["1QXyVfdBIBo1vUMDJvmkto","4Avk7C7MmAoFg744HYI5OO",{"$f":"S2PQ_relational[[#This Row],[PIGUID]]&S2PQ_relational[[#This Row],[PQGUID]]","v":"1QXyVfdBIBo1vUMDJvmkto4Avk7C7MmAoFg744HYI5OO"},{"$f":"IF(INDEX(S2PQ[[S2PQGUID]:[Answer]],MATCH(S2PQ_relational[[#This Row],[PQGUID]],S2PQ[S2PQGUID],0),5)=\"no\",S2PQ_relational[[#This Row],[PIGUID]]&\"NO\",\"-\")","v":"-"}]
["nLQp6Z2dA0ba8MNAiLJ6s","4Avk7C7MmAoFg744HYI5OO",{"$f":"S2PQ_relational[[#This Row],[PIGUID]]&S2PQ_relational[[#This Row],[PQGUID]]","v":"nLQp6Z2dA0ba8MNAiLJ6s4Avk7C7MmAoFg744HYI5OO"},{"$f":"IF(INDEX(S2PQ[[S2PQGUID]:[Answer]],MATCH(S2PQ_relational[[#This Row],[PQGUID]],S2PQ[S2PQGUID],0),5)=\"no\",S2PQ_relational[[#This Row],[PIGUID]]&\"NO\",\"-\")","v":"-"}]
["7vh4rzn69GDVBFTuIYGSFw","4Avk7C7MmAoFg744HYI5OO",{"$f":"S2PQ_relational[[#This Row],[PIGUID]]&S2PQ_relational[[#This Row],[PQGUID]]","v":"7vh4rzn69GDVBFTuIYGSFw4Avk7C7MmAoFg744HYI5OO"},{"$f":"IF(INDEX(S2PQ[[S2PQGUID]:[Answer]],MATCH(S2PQ_relational[[#This Row],[PQGUID]],S2PQ[S2PQGUID],0),5)=\"no\",S2PQ_relational[[#This Row],[PIGUID]]&\"NO\",\"-\")","v":"-"}]
["5nVsN512P1ihIAlGnEShZx","4Avk7C7MmAoFg744HYI5OO",{"$f":"S2PQ_relational[[#This Row],[PIGUID]]&S2PQ_relational[[#This Row],[PQGUID]]","v":"5nVsN512P1ihIAlGnEShZx4Avk7C7MmAoFg744HYI5OO"},{"$f":"IF(INDEX(S2PQ[[S2PQGUID]:[Answer]],MATCH(S2PQ_relational[[#This Row],[PQGUID]],S2PQ[S2PQGUID],0),5)=\"no\",S2PQ_relational[[#This Row],[PIGUID]]&\"NO\",\"-\")","v":"-"}]
["OUJXQZSzOeFdIhal7ZoXx","4Avk7C7MmAoFg744HYI5OO",{"$f":"S2PQ_relational[[#This Row],[PIGUID]]&S2PQ_relational[[#This Row],[PQGUID]]","v":"OUJXQZSzOeFdIhal7ZoXx4Avk7C7MmAoFg744HYI5OO"},{"$f":"IF(INDEX(S2PQ[[S2PQGUID]:[Answer]],MATCH(S2PQ_relational[[#This Row],[PQGUID]],S2PQ[S2PQGUID],0),5)=\"no\",S2PQ_relational[[#This Row],[PIGUID]]&\"NO\",\"-\")","v":"-"}]
["2uY4AAajOUzuQYK0i5HEJS","4Avk7C7MmAoFg744HYI5OO",{"$f":"S2PQ_relational[[#This Row],[PIGUID]]&S2PQ_relational[[#This Row],[PQGUID]]","v":"2uY4AAajOUzuQYK0i5HEJS4Avk7C7MmAoFg744HYI5OO"},{"$f":"IF(INDEX(S2PQ[[S2PQGUID]:[Answer]],MATCH(S2PQ_relational[[#This Row],[PQGUID]],S2PQ[S2PQGUID],0),5)=\"no\",S2PQ_relational[[#This Row],[PIGUID]]&\"NO\",\"-\")","v":"-"}]
["71T3wYvAOGC3A8C3dBPDXd","4Avk7C7MmAoFg744HYI5OO",{"$f":"S2PQ_relational[[#This Row],[PIGUID]]&S2PQ_relational[[#This Row],[PQGUID]]","v":"71T3wYvAOGC3A8C3dBPDXd4Avk7C7MmAoFg744HYI5OO"},{"$f":"IF(INDEX(S2PQ[[S2PQGUID]:[Answer]],MATCH(S2PQ_relational[[#This Row],[PQGUID]],S2PQ[S2PQGUID],0),5)=\"no\",S2PQ_relational[[#This Row],[PIGUID]]&\"NO\",\"-\")","v":"-"}]
["5FB5ql1VFtEHzacW0dkEyh","4Avk7C7MmAoFg744HYI5OO",{"$f":"S2PQ_relational[[#This Row],[PIGUID]]&S2PQ_relational[[#This Row],[PQGUID]]","v":"5FB5ql1VFtEHzacW0dkEyh4Avk7C7MmAoFg744HYI5OO"},{"$f":"IF(INDEX(S2PQ[[S2PQGUID]:[Answer]],MATCH(S2PQ_relational[[#This Row],[PQGUID]],S2PQ[S2PQGUID],0),5)=\"no\",S2PQ_relational[[#This Row],[PIGUID]]&\"NO\",\"-\")","v":"-"}]
["7hjy92CxnhjoqfUf0sxpPm","4Avk7C7MmAoFg744HYI5OO",{"$f":"S2PQ_relational[[#This Row],[PIGUID]]&S2PQ_relational[[#This Row],[PQGUID]]","v":"7hjy92CxnhjoqfUf0sxpPm4Avk7C7MmAoFg744HYI5OO"},{"$f":"IF(INDEX(S2PQ[[S2PQGUID]:[Answer]],MATCH(S2PQ_relational[[#This Row],[PQGUID]],S2PQ[S2PQGUID],0),5)=\"no\",S2PQ_relational[[#This Row],[PIGUID]]&\"NO\",\"-\")","v":"-"}]
["7JadSCojAvDNLSHK26BiXc","4Avk7C7MmAoFg744HYI5OO",{"$f":"S2PQ_relational[[#This Row],[PIGUID]]&S2PQ_relational[[#This Row],[PQGUID]]","v":"7JadSCojAvDNLSHK26BiXc4Avk7C7MmAoFg744HYI5OO"},{"$f":"IF(INDEX(S2PQ[[S2PQGUID]:[Answer]],MATCH(S2PQ_relational[[#This Row],[PQGUID]],S2PQ[S2PQGUID],0),5)=\"no\",S2PQ_relational[[#This Row],[PIGUID]]&\"NO\",\"-\")","v":"-"}]
["2AU0Rll1ZV8PPz420O78db","4Avk7C7MmAoFg744HYI5OO",{"$f":"S2PQ_relational[[#This Row],[PIGUID]]&S2PQ_relational[[#This Row],[PQGUID]]","v":"2AU0Rll1ZV8PPz420O78db4Avk7C7MmAoFg744HYI5OO"},{"$f":"IF(INDEX(S2PQ[[S2PQGUID]:[Answer]],MATCH(S2PQ_relational[[#This Row],[PQGUID]],S2PQ[S2PQGUID],0),5)=\"no\",S2PQ_relational[[#This Row],[PIGUID]]&\"NO\",\"-\")","v":"-"}]
["2ddM8JCAfgsJ6XIpNQ4YlB","4Avk7C7MmAoFg744HYI5OO",{"$f":"S2PQ_relational[[#This Row],[PIGUID]]&S2PQ_relational[[#This Row],[PQGUID]]","v":"2ddM8JCAfgsJ6XIpNQ4YlB4Avk7C7MmAoFg744HYI5OO"},{"$f":"IF(INDEX(S2PQ[[S2PQGUID]:[Answer]],MATCH(S2PQ_relational[[#This Row],[PQGUID]],S2PQ[S2PQGUID],0),5)=\"no\",S2PQ_relational[[#This Row],[PIGUID]]&\"NO\",\"-\")","v":"-"}]
["7L9M3vUuHtx6WK7TuILq92","4Avk7C7MmAoFg744HYI5OO",{"$f":"S2PQ_relational[[#This Row],[PIGUID]]&S2PQ_relational[[#This Row],[PQGUID]]","v":"7L9M3vUuHtx6WK7TuILq924Avk7C7MmAoFg744HYI5OO"},{"$f":"IF(INDEX(S2PQ[[S2PQGUID]:[Answer]],MATCH(S2PQ_relational[[#This Row],[PQGUID]],S2PQ[S2PQGUID],0),5)=\"no\",S2PQ_relational[[#This Row],[PIGUID]]&\"NO\",\"-\")","v":"-"}]
["47xPHO8UxslhAdrZpPtuo4","4Avk7C7MmAoFg744HYI5OO",{"$f":"S2PQ_relational[[#This Row],[PIGUID]]&S2PQ_relational[[#This Row],[PQGUID]]","v":"47xPHO8UxslhAdrZpPtuo44Avk7C7MmAoFg744HYI5OO"},{"$f":"IF(INDEX(S2PQ[[S2PQGUID]:[Answer]],MATCH(S2PQ_relational[[#This Row],[PQGUID]],S2PQ[S2PQGUID],0),5)=\"no\",S2PQ_relational[[#This Row],[PIGUID]]&\"NO\",\"-\")","v":"-"}]
["4MXkUbBzWPBDeLgWkf1Nrz","4Avk7C7MmAoFg744HYI5OO",{"$f":"S2PQ_relational[[#This Row],[PIGUID]]&S2PQ_relational[[#This Row],[PQGUID]]","v":"4MXkUbBzWPBDeLgWkf1Nrz4Avk7C7MmAoFg744HYI5OO"},{"$f":"IF(INDEX(S2PQ[[S2PQGUID]:[Answer]],MATCH(S2PQ_relational[[#This Row],[PQGUID]],S2PQ[S2PQGUID],0),5)=\"no\",S2PQ_relational[[#This Row],[PIGUID]]&\"NO\",\"-\")","v":"-"}]
["11vbwwY7FDR5ijFG54HRRX","4Avk7C7MmAoFg744HYI5OO",{"$f":"S2PQ_relational[[#This Row],[PIGUID]]&S2PQ_relational[[#This Row],[PQGUID]]","v":"11vbwwY7FDR5ijFG54HRRX4Avk7C7MmAoFg744HYI5OO"},{"$f":"IF(INDEX(S2PQ[[S2PQGUID]:[Answer]],MATCH(S2PQ_relational[[#This Row],[PQGUID]],S2PQ[S2PQGUID],0),5)=\"no\",S2PQ_relational[[#This Row],[PIGUID]]&\"NO\",\"-\")","v":"-"}]
["2q3Qew96xppHm4YhdowKe6","4Avk7C7MmAoFg744HYI5OO",{"$f":"S2PQ_relational[[#This Row],[PIGUID]]&S2PQ_relational[[#This Row],[PQGUID]]","v":"2q3Qew96xppHm4YhdowKe64Avk7C7MmAoFg744HYI5OO"},{"$f":"IF(INDEX(S2PQ[[S2PQGUID]:[Answer]],MATCH(S2PQ_relational[[#This Row],[PQGUID]],S2PQ[S2PQGUID],0),5)=\"no\",S2PQ_relational[[#This Row],[PIGUID]]&\"NO\",\"-\")","v":"-"}]
["7bILznBt63q1KynGvuuyg3","4Avk7C7MmAoFg744HYI5OO",{"$f":"S2PQ_relational[[#This Row],[PIGUID]]&S2PQ_relational[[#This Row],[PQGUID]]","v":"7bILznBt63q1KynGvuuyg34Avk7C7MmAoFg744HYI5OO"},{"$f":"IF(INDEX(S2PQ[[S2PQGUID]:[Answer]],MATCH(S2PQ_relational[[#This Row],[PQGUID]],S2PQ[S2PQGUID],0),5)=\"no\",S2PQ_relational[[#This Row],[PIGUID]]&\"NO\",\"-\")","v":"-"}]
["1yYGn2OV22MAusoIFctqCZ","4Avk7C7MmAoFg744HYI5OO",{"$f":"S2PQ_relational[[#This Row],[PIGUID]]&S2PQ_relational[[#This Row],[PQGUID]]","v":"1yYGn2OV22MAusoIFctqCZ4Avk7C7MmAoFg744HYI5OO"},{"$f":"IF(INDEX(S2PQ[[S2PQGUID]:[Answer]],MATCH(S2PQ_relational[[#This Row],[PQGUID]],S2PQ[S2PQGUID],0),5)=\"no\",S2PQ_relational[[#This Row],[PIGUID]]&\"NO\",\"-\")","v":"-"}]
["4ZnVuDviK4rbgaIDxYJc1E","4Avk7C7MmAoFg744HYI5OO",{"$f":"S2PQ_relational[[#This Row],[PIGUID]]&S2PQ_relational[[#This Row],[PQGUID]]","v":"4ZnVuDviK4rbgaIDxYJc1E4Avk7C7MmAoFg744HYI5OO"},{"$f":"IF(INDEX(S2PQ[[S2PQGUID]:[Answer]],MATCH(S2PQ_relational[[#This Row],[PQGUID]],S2PQ[S2PQGUID],0),5)=\"no\",S2PQ_relational[[#This Row],[PIGUID]]&\"NO\",\"-\")","v":"-"}]
["7Lm3bvisDzLLgtTWDSeVP4","4Avk7C7MmAoFg744HYI5OO",{"$f":"S2PQ_relational[[#This Row],[PIGUID]]&S2PQ_relational[[#This Row],[PQGUID]]","v":"7Lm3bvisDzLLgtTWDSeVP44Avk7C7MmAoFg744HYI5OO"},{"$f":"IF(INDEX(S2PQ[[S2PQGUID]:[Answer]],MATCH(S2PQ_relational[[#This Row],[PQGUID]],S2PQ[S2PQGUID],0),5)=\"no\",S2PQ_relational[[#This Row],[PIGUID]]&\"NO\",\"-\")","v":"-"}]
["1L3M3Av0uLACImNgJFAzjv","4Avk7C7MmAoFg744HYI5OO",{"$f":"S2PQ_relational[[#This Row],[PIGUID]]&S2PQ_relational[[#This Row],[PQGUID]]","v":"1L3M3Av0uLACImNgJFAzjv4Avk7C7MmAoFg744HYI5OO"},{"$f":"IF(INDEX(S2PQ[[S2PQGUID]:[Answer]],MATCH(S2PQ_relational[[#This Row],[PQGUID]],S2PQ[S2PQGUID],0),5)=\"no\",S2PQ_relational[[#This Row],[PIGUID]]&\"NO\",\"-\")","v":"-"}]
["5ad0ksbR0rX5JdFNTO3BmZ","4Avk7C7MmAoFg744HYI5OO",{"$f":"S2PQ_relational[[#This Row],[PIGUID]]&S2PQ_relational[[#This Row],[PQGUID]]","v":"5ad0ksbR0rX5JdFNTO3BmZ4Avk7C7MmAoFg744HYI5OO"},{"$f":"IF(INDEX(S2PQ[[S2PQGUID]:[Answer]],MATCH(S2PQ_relational[[#This Row],[PQGUID]],S2PQ[S2PQGUID],0),5)=\"no\",S2PQ_relational[[#This Row],[PIGUID]]&\"NO\",\"-\")","v":"-"}]
["3oyPXv9JByXBhykT7U5La4","4Avk7C7MmAoFg744HYI5OO",{"$f":"S2PQ_relational[[#This Row],[PIGUID]]&S2PQ_relational[[#This Row],[PQGUID]]","v":"3oyPXv9JByXBhykT7U5La44Avk7C7MmAoFg744HYI5OO"},{"$f":"IF(INDEX(S2PQ[[S2PQGUID]:[Answer]],MATCH(S2PQ_relational[[#This Row],[PQGUID]],S2PQ[S2PQGUID],0),5)=\"no\",S2PQ_relational[[#This Row],[PIGUID]]&\"NO\",\"-\")","v":"-"}]
["6XhgtadoxKw3XWIYF3Seuf","4Avk7C7MmAoFg744HYI5OO",{"$f":"S2PQ_relational[[#This Row],[PIGUID]]&S2PQ_relational[[#This Row],[PQGUID]]","v":"6XhgtadoxKw3XWIYF3Seuf4Avk7C7MmAoFg744HYI5OO"},{"$f":"IF(INDEX(S2PQ[[S2PQGUID]:[Answer]],MATCH(S2PQ_relational[[#This Row],[PQGUID]],S2PQ[S2PQGUID],0),5)=\"no\",S2PQ_relational[[#This Row],[PIGUID]]&\"NO\",\"-\")","v":"-"}]
["568aLgrkve2v8UDFWOTM6Q","4Avk7C7MmAoFg744HYI5OO",{"$f":"S2PQ_relational[[#This Row],[PIGUID]]&S2PQ_relational[[#This Row],[PQGUID]]","v":"568aLgrkve2v8UDFWOTM6Q4Avk7C7MmAoFg744HYI5OO"},{"$f":"IF(INDEX(S2PQ[[S2PQGUID]:[Answer]],MATCH(S2PQ_relational[[#This Row],[PQGUID]],S2PQ[S2PQGUID],0),5)=\"no\",S2PQ_relational[[#This Row],[PIGUID]]&\"NO\",\"-\")","v":"-"}]
["54Q9UUuTd5dTSdyekKgQzO","4Avk7C7MmAoFg744HYI5OO",{"$f":"S2PQ_relational[[#This Row],[PIGUID]]&S2PQ_relational[[#This Row],[PQGUID]]","v":"54Q9UUuTd5dTSdyekKgQzO4Avk7C7MmAoFg744HYI5OO"},{"$f":"IF(INDEX(S2PQ[[S2PQGUID]:[Answer]],MATCH(S2PQ_relational[[#This Row],[PQGUID]],S2PQ[S2PQGUID],0),5)=\"no\",S2PQ_relational[[#This Row],[PIGUID]]&\"NO\",\"-\")","v":"-"}]
["6XNxMXF6QWhjOijgpoalYG","4Avk7C7MmAoFg744HYI5OO",{"$f":"S2PQ_relational[[#This Row],[PIGUID]]&S2PQ_relational[[#This Row],[PQGUID]]","v":"6XNxMXF6QWhjOijgpoalYG4Avk7C7MmAoFg744HYI5OO"},{"$f":"IF(INDEX(S2PQ[[S2PQGUID]:[Answer]],MATCH(S2PQ_relational[[#This Row],[PQGUID]],S2PQ[S2PQGUID],0),5)=\"no\",S2PQ_relational[[#This Row],[PIGUID]]&\"NO\",\"-\")","v":"-"}]
["hG77himehSgHeDDOlDNBX","4Avk7C7MmAoFg744HYI5OO",{"$f":"S2PQ_relational[[#This Row],[PIGUID]]&S2PQ_relational[[#This Row],[PQGUID]]","v":"hG77himehSgHeDDOlDNBX4Avk7C7MmAoFg744HYI5OO"},{"$f":"IF(INDEX(S2PQ[[S2PQGUID]:[Answer]],MATCH(S2PQ_relational[[#This Row],[PQGUID]],S2PQ[S2PQGUID],0),5)=\"no\",S2PQ_relational[[#This Row],[PIGUID]]&\"NO\",\"-\")","v":"-"}]
["5OmbGwMJDvjKYXu5ogpQUl","4Avk7C7MmAoFg744HYI5OO",{"$f":"S2PQ_relational[[#This Row],[PIGUID]]&S2PQ_relational[[#This Row],[PQGUID]]","v":"5OmbGwMJDvjKYXu5ogpQUl4Avk7C7MmAoFg744HYI5OO"},{"$f":"IF(INDEX(S2PQ[[S2PQGUID]:[Answer]],MATCH(S2PQ_relational[[#This Row],[PQGUID]],S2PQ[S2PQGUID],0),5)=\"no\",S2PQ_relational[[#This Row],[PIGUID]]&\"NO\",\"-\")","v":"-"}]
["6r6UKO6tVO1cFOEq0mi9aq","4Avk7C7MmAoFg744HYI5OO",{"$f":"S2PQ_relational[[#This Row],[PIGUID]]&S2PQ_relational[[#This Row],[PQGUID]]","v":"6r6UKO6tVO1cFOEq0mi9aq4Avk7C7MmAoFg744HYI5OO"},{"$f":"IF(INDEX(S2PQ[[S2PQGUID]:[Answer]],MATCH(S2PQ_relational[[#This Row],[PQGUID]],S2PQ[S2PQGUID],0),5)=\"no\",S2PQ_relational[[#This Row],[PIGUID]]&\"NO\",\"-\")","v":"-"}]
["2LTDXoG3x1dvJEtrFOwold","4Avk7C7MmAoFg744HYI5OO",{"$f":"S2PQ_relational[[#This Row],[PIGUID]]&S2PQ_relational[[#This Row],[PQGUID]]","v":"2LTDXoG3x1dvJEtrFOwold4Avk7C7MmAoFg744HYI5OO"},{"$f":"IF(INDEX(S2PQ[[S2PQGUID]:[Answer]],MATCH(S2PQ_relational[[#This Row],[PQGUID]],S2PQ[S2PQGUID],0),5)=\"no\",S2PQ_relational[[#This Row],[PIGUID]]&\"NO\",\"-\")","v":"-"}]
["1QeEsrc8UuyqWR1lPTaf0U","4Avk7C7MmAoFg744HYI5OO",{"$f":"S2PQ_relational[[#This Row],[PIGUID]]&S2PQ_relational[[#This Row],[PQGUID]]","v":"1QeEsrc8UuyqWR1lPTaf0U4Avk7C7MmAoFg744HYI5OO"},{"$f":"IF(INDEX(S2PQ[[S2PQGUID]:[Answer]],MATCH(S2PQ_relational[[#This Row],[PQGUID]],S2PQ[S2PQGUID],0),5)=\"no\",S2PQ_relational[[#This Row],[PIGUID]]&\"NO\",\"-\")","v":"-"}]
["4KnqFWr7YBL2OuIMD72y2c","4Avk7C7MmAoFg744HYI5OO",{"$f":"S2PQ_relational[[#This Row],[PIGUID]]&S2PQ_relational[[#This Row],[PQGUID]]","v":"4KnqFWr7YBL2OuIMD72y2c4Avk7C7MmAoFg744HYI5OO"},{"$f":"IF(INDEX(S2PQ[[S2PQGUID]:[Answer]],MATCH(S2PQ_relational[[#This Row],[PQGUID]],S2PQ[S2PQGUID],0),5)=\"no\",S2PQ_relational[[#This Row],[PIGUID]]&\"NO\",\"-\")","v":"-"}]
["6jbxivO9VjbvgCgxcNnDK5","4Avk7C7MmAoFg744HYI5OO",{"$f":"S2PQ_relational[[#This Row],[PIGUID]]&S2PQ_relational[[#This Row],[PQGUID]]","v":"6jbxivO9VjbvgCgxcNnDK54Avk7C7MmAoFg744HYI5OO"},{"$f":"IF(INDEX(S2PQ[[S2PQGUID]:[Answer]],MATCH(S2PQ_relational[[#This Row],[PQGUID]],S2PQ[S2PQGUID],0),5)=\"no\",S2PQ_relational[[#This Row],[PIGUID]]&\"NO\",\"-\")","v":"-"}]
["3euBNRpF4vyZ0UqqOwFwc1","4Avk7C7MmAoFg744HYI5OO",{"$f":"S2PQ_relational[[#This Row],[PIGUID]]&S2PQ_relational[[#This Row],[PQGUID]]","v":"3euBNRpF4vyZ0UqqOwFwc14Avk7C7MmAoFg744HYI5OO"},{"$f":"IF(INDEX(S2PQ[[S2PQGUID]:[Answer]],MATCH(S2PQ_relational[[#This Row],[PQGUID]],S2PQ[S2PQGUID],0),5)=\"no\",S2PQ_relational[[#This Row],[PIGUID]]&\"NO\",\"-\")","v":"-"}]
["7kVX5cvtYPun0ts8TLlcrd","4Avk7C7MmAoFg744HYI5OO",{"$f":"S2PQ_relational[[#This Row],[PIGUID]]&S2PQ_relational[[#This Row],[PQGUID]]","v":"7kVX5cvtYPun0ts8TLlcrd4Avk7C7MmAoFg744HYI5OO"},{"$f":"IF(INDEX(S2PQ[[S2PQGUID]:[Answer]],MATCH(S2PQ_relational[[#This Row],[PQGUID]],S2PQ[S2PQGUID],0),5)=\"no\",S2PQ_relational[[#This Row],[PIGUID]]&\"NO\",\"-\")","v":"-"}]
["3dOIqQzX8pCbXnijvWhzus","4Avk7C7MmAoFg744HYI5OO",{"$f":"S2PQ_relational[[#This Row],[PIGUID]]&S2PQ_relational[[#This Row],[PQGUID]]","v":"3dOIqQzX8pCbXnijvWhzus4Avk7C7MmAoFg744HYI5OO"},{"$f":"IF(INDEX(S2PQ[[S2PQGUID]:[Answer]],MATCH(S2PQ_relational[[#This Row],[PQGUID]],S2PQ[S2PQGUID],0),5)=\"no\",S2PQ_relational[[#This Row],[PIGUID]]&\"NO\",\"-\")","v":"-"}]
["15rmagqDILiL9OehElaZcF","4Avk7C7MmAoFg744HYI5OO",{"$f":"S2PQ_relational[[#This Row],[PIGUID]]&S2PQ_relational[[#This Row],[PQGUID]]","v":"15rmagqDILiL9OehElaZcF4Avk7C7MmAoFg744HYI5OO"},{"$f":"IF(INDEX(S2PQ[[S2PQGUID]:[Answer]],MATCH(S2PQ_relational[[#This Row],[PQGUID]],S2PQ[S2PQGUID],0),5)=\"no\",S2PQ_relational[[#This Row],[PIGUID]]&\"NO\",\"-\")","v":"-"}]
["18hg0Wx3h9CUGZ5iIEVXGK","4Avk7C7MmAoFg744HYI5OO",{"$f":"S2PQ_relational[[#This Row],[PIGUID]]&S2PQ_relational[[#This Row],[PQGUID]]","v":"18hg0Wx3h9CUGZ5iIEVXGK4Avk7C7MmAoFg744HYI5OO"},{"$f":"IF(INDEX(S2PQ[[S2PQGUID]:[Answer]],MATCH(S2PQ_relational[[#This Row],[PQGUID]],S2PQ[S2PQGUID],0),5)=\"no\",S2PQ_relational[[#This Row],[PIGUID]]&\"NO\",\"-\")","v":"-"}]
["48Kfoa4PqmcfqhOmRGtnxL","4Avk7C7MmAoFg744HYI5OO",{"$f":"S2PQ_relational[[#This Row],[PIGUID]]&S2PQ_relational[[#This Row],[PQGUID]]","v":"48Kfoa4PqmcfqhOmRGtnxL4Avk7C7MmAoFg744HYI5OO"},{"$f":"IF(INDEX(S2PQ[[S2PQGUID]:[Answer]],MATCH(S2PQ_relational[[#This Row],[PQGUID]],S2PQ[S2PQGUID],0),5)=\"no\",S2PQ_relational[[#This Row],[PIGUID]]&\"NO\",\"-\")","v":"-"}]
["2j6Ket1Nb7Mbvw9lA7fb04","4Avk7C7MmAoFg744HYI5OO",{"$f":"S2PQ_relational[[#This Row],[PIGUID]]&S2PQ_relational[[#This Row],[PQGUID]]","v":"2j6Ket1Nb7Mbvw9lA7fb044Avk7C7MmAoFg744HYI5OO"},{"$f":"IF(INDEX(S2PQ[[S2PQGUID]:[Answer]],MATCH(S2PQ_relational[[#This Row],[PQGUID]],S2PQ[S2PQGUID],0),5)=\"no\",S2PQ_relational[[#This Row],[PIGUID]]&\"NO\",\"-\")","v":"-"}]
["2qCBkbLsGCA2vaZfEo70jl","4Avk7C7MmAoFg744HYI5OO",{"$f":"S2PQ_relational[[#This Row],[PIGUID]]&S2PQ_relational[[#This Row],[PQGUID]]","v":"2qCBkbLsGCA2vaZfEo70jl4Avk7C7MmAoFg744HYI5OO"},{"$f":"IF(INDEX(S2PQ[[S2PQGUID]:[Answer]],MATCH(S2PQ_relational[[#This Row],[PQGUID]],S2PQ[S2PQGUID],0),5)=\"no\",S2PQ_relational[[#This Row],[PIGUID]]&\"NO\",\"-\")","v":"-"}]
["6Do8vAYP3N7Xv7Vfnwf97M","4Avk7C7MmAoFg744HYI5OO",{"$f":"S2PQ_relational[[#This Row],[PIGUID]]&S2PQ_relational[[#This Row],[PQGUID]]","v":"6Do8vAYP3N7Xv7Vfnwf97M4Avk7C7MmAoFg744HYI5OO"},{"$f":"IF(INDEX(S2PQ[[S2PQGUID]:[Answer]],MATCH(S2PQ_relational[[#This Row],[PQGUID]],S2PQ[S2PQGUID],0),5)=\"no\",S2PQ_relational[[#This Row],[PIGUID]]&\"NO\",\"-\")","v":"-"}]
["72vqg1gXC6oRBqiD9PPtAO","4Avk7C7MmAoFg744HYI5OO",{"$f":"S2PQ_relational[[#This Row],[PIGUID]]&S2PQ_relational[[#This Row],[PQGUID]]","v":"72vqg1gXC6oRBqiD9PPtAO4Avk7C7MmAoFg744HYI5OO"},{"$f":"IF(INDEX(S2PQ[[S2PQGUID]:[Answer]],MATCH(S2PQ_relational[[#This Row],[PQGUID]],S2PQ[S2PQGUID],0),5)=\"no\",S2PQ_relational[[#This Row],[PIGUID]]&\"NO\",\"-\")","v":"-"}]
["6MMc5tDcp0zKsLhBH5DeER","4Avk7C7MmAoFg744HYI5OO",{"$f":"S2PQ_relational[[#This Row],[PIGUID]]&S2PQ_relational[[#This Row],[PQGUID]]","v":"6MMc5tDcp0zKsLhBH5DeER4Avk7C7MmAoFg744HYI5OO"},{"$f":"IF(INDEX(S2PQ[[S2PQGUID]:[Answer]],MATCH(S2PQ_relational[[#This Row],[PQGUID]],S2PQ[S2PQGUID],0),5)=\"no\",S2PQ_relational[[#This Row],[PIGUID]]&\"NO\",\"-\")","v":"-"}]
["1fPzYRqGLyZOy1llb5Vtlb","4Avk7C7MmAoFg744HYI5OO",{"$f":"S2PQ_relational[[#This Row],[PIGUID]]&S2PQ_relational[[#This Row],[PQGUID]]","v":"1fPzYRqGLyZOy1llb5Vtlb4Avk7C7MmAoFg744HYI5OO"},{"$f":"IF(INDEX(S2PQ[[S2PQGUID]:[Answer]],MATCH(S2PQ_relational[[#This Row],[PQGUID]],S2PQ[S2PQGUID],0),5)=\"no\",S2PQ_relational[[#This Row],[PIGUID]]&\"NO\",\"-\")","v":"-"}]

{"sheet":"Static ID Table","index":4,"n_rows":7,"n_cols":9,"rows_kept":7,"hidden":true}
["6sAnZuzrLy7KwfabltbVL2",null,{"$f":"IF(#REF!=\"\",\"\",INDEX(PIs[[Column1]:[SS]],MATCH(#REF!,PIs[SGUID],0),14))","v":{"$error":"#REF!"}},{"$nulls":3},{"$f":"IF(#REF!=\"\",INDEX(PIs[[Column1]:[SS]],MATCH(#REF!,PIs[GUID],0),2),\"\")","v":{"$error":"#REF!"}},{"$f":"IF(#REF!=\"\",INDEX(PIs[[Column1]:[SS]],MATCH(#REF!,PIs[GUID],0),4),\"\")","v":{"$error":"#REF!"}},{"$f":"IF(#REF!=\"\",INDEX(PIs[[Column1]:[SS]],MATCH(#REF!,PIs[GUID],0),6),\"\")","v":{"$error":"#REF!"}}]
[]
["GUID","Level"]
["3WqH0sbUd41S1QgzsshLUw","-"]
["5nISxpmIvwZJyExTIGOvlS","Major Must"]
["3h3x9CFhwi5CfLaTiL0cuk","Recom."]
["oOfpsr1EZQ6CxCOIvBlFe","Minor Must"]

{"sheet":"Cover","index":5,"n_rows":11,"n_cols":1,"rows_kept":11}
["GLOBALG.A.P. Risk Assessment on Social Practice (GRASP)\n"]
["CHECKLIST"]
[]
["ENGLISH VERSION 2.0_OCT22\n\n\nVALID FROM: 1 OCTOBER 2022\nOBLIGATORY FROM: 1 JANUARY 2024\n"]
[]
[]
[]
[]
[]
["Copyright"]
["© Copyright: GLOBALG.A.P. c/o FoodPLUS GmbH, Spichernstr. 55, 50672 Cologne, Germany. Copying and distribution permitted only in unaltered form."]

{"sheet":"Instructions","index":6,"n_rows":26,"n_cols":8,"rows_kept":26,"merged":[[0,5,0,6],[1,5,1,6],[2,5,2,6],[4,5,4,6],[5,5,5,6],[6,5,6,6],[7,5,7,6],[8,5,8,6],[9,5,9,6],[10,5,10,6],[12,5,12,6],[13,5,13,6],[14,5,14,6],[15,5,15,6],[16,5,16,6],[18,5,18,6],[19,5,19,6]]}
[{"$nulls":5},"Your GRASP v2 assessment checklist (step 2)"]
[{"$nulls":5},"This document lists the principles and criteria (P&Cs) for GRASP v2."]
[{"$nulls":5},"By answering the questions on this page, you can filter out P&Cs which are not applicable to you. The checklist on the next page will be adapted accordingly. Alternatively, you can continue with the checklist in its current state."]
[]
[{"$nulls":5},"How it works"]
[{"$nulls":5},"The GRASP P&Cs which are applicable to you depend on your situation with regards to hiring workers:"]
[{"$nulls":5},"·         For family farms that do not hire any further workers, a smaller number of P&Cs are applicable, i.e., some will be filtered out of the checklist."]
[{"$nulls":5},"·         For family farms that have hired workers (who are not core family members), all P&Cs are applicable and will be shown in the checklist."]
[{"$nulls":5},"·         For producers that have not hired any workers (and are not a family farm), GRASP P&Cs are not applicable at all, i.e., they are all marked as not applicable in the checklist."]
[{"$nulls":5},"Definition: A family farm is a farm that is run as a family’s core business by the core family members* that live in the same household."]
[{"$nulls":5},"*Core family members are defined as: parents, spouses, siblings, and children. It does not include aunts/uncles, cousins, or other relatives."]
[]
[{"$nulls":5},"If you are a family farm, answer question 1 only."]
["-",{"$nulls":4},"Select “Yes” or “No”. If you answer this question with “Yes”, the checklist will include all P&Cs. If you answer with “No” a shortened checklist with 15 P&Cs for family farms without workers will be generated."]
["no"]
["yes",{"$nulls":4},"If you are NOT a family farm, answer question 2 only. "]
[{"$nulls":5},"Select “Yes” or “No”. If you answer this question with “Yes”, the checklist will include all P&Cs, since they are all applicable. If you answer this question with “No”, all the P&Cs are marked as not applicable. "]
[]
[{"$nulls":5},"Using your checklist"]
[{"$nulls":5},"Once you have answered the questions on this page (Excel sheet), your checklist will be displayed on the next page. You can then mark the P&Cs with an “x” in the appropriate column (“Yes” or “No”). Note: If you answer any step 2 questions with “No,” the related P&Cs will automatically be marked as “Not applicable.” You can change this status by overwriting or deleting it. Changing an automatically generated status of “Not applicable” deletes the underlying formula and is therefore irreversible."]
[]
[]
[]
[null,null,"S2PQGUID","Effective Number","Number","Step 2  questions","Answer","Justification"]
[null,null,"7BjiTqdbz9EPX1It8mlxYw",97,null,"1. If you are a family farm, did you employ any workers during the year prior to the audit other than your core family members (please check definition above)? ","-",{"$f":"\"This point is not applicable because ''\"&S2PQ[[#This Row],[Step 2  questions]]&\"'' was answered with ''No.'' This item was automatically set to ''N/A'' by the system.\"","v":"This point is not applicable because ''1. If you are a family farm, did you employ any workers during the year prior to the audit other than your core family members (please check definition above)? '' was answered with ''No.'' This item was automatically set to ''N/A'' by the system."}]
[null,null,"4Avk7C7MmAoFg744HYI5OO",114,null,"2. If you are not a family farm, did you employ any workers during the year prior to the audit?","-",{"$f":"\"This point is not applicable because ''\"&S2PQ[[#This Row],[Step 2  questions]]&\"'' was answered with ''No.'' This item was automatically set to ''N/A'' by the system.\"","v":"This point is not applicable because ''2. If you are not a family farm, did you employ any workers during the year prior to the audit?'' was answered with ''No.'' This item was automatically set to ''N/A'' by the system."}]

{"sheet":"Audit notes","index":7,"n_rows":50,"n_cols":3,"rows_kept":50,"merged":[[0,4,1,6],[0,7,1,8],[1,0,1,3],[2,0,2,8],[3,0,3,8],[4,0,4,8],[5,0,5,8],[6,0,6,8],[7,0,7,8],[8,0,8,8],[10,2,10,3],[10,4,10,6],[10,7,10,8],[11,2,11,3],[11,4,11,6],[11,7,11,8],[12,2,12,3],[12,4,12,6],[12,7,12,8],[13,2,13,3],[13,4,13,6],[13,7,13,8],[14,2,14,3],[14,4,14,6],[14,7,14,8],[15,2,15,3],[15,4,15,6],[15,7,15,8],[16,2,16,3],[16,4,16,6],[16,7,16,8],[17,2,17,3],[17,4,17,6],[17,7,17,8],[18,2,18,3],[18,4,18,6],[18,7,18,8],[19,2,19,3],[19,4,19,6],[19,7,19,8],[20,4,20,6],[20,7,20,8],[21,4,21,6],[21,7,21,8],[22,4,22,6],[22,7,22,8],[23,1,23,3],[23,4,23,7],[24,4,24,6],[24,7,24,8],[25,1,25,3],[25,4,25,7],[26,4,26,6],[26,7,26,8],[27,1,27,3],[27,4,27,7],[28,4,28,6],[28,7,28,8],[29,1,29,3],[29,4,29,7],[30,4,30,6],[30,7,30,8],[31,1,31,3],[31,4,31,7],[32,4,32,6],[32,7,32,8],[33,1,33,3],[33,4,33,6],[33,7,33,8],[34,4,34,6],[34,7,34,8],[35,1,35,3],[35,4,35,7],[36,4,36,6],[36,7,36,8],[37,1,37,3],[37,4,37,7],[38,1,38,3],[38,4,38,7],[39,1,39,3],[39,4,39,7],[40,1,40,3],[40,4,40,7],[41,1,41,3],[41,4,41,7],[43,1,43,8],[44,1,44,8],[45,1,45,8],[46,0,46,1],[46,3,46,4],[46,6,46,7],[47,1,47,8],[48,1,48,8],[49,1,49,8]]}
["GRASP audit notes"]
["(For all certification body (CB) audits and self-assessments)"]
["1. All principles and criteria (P&Cs) must be audited and are applicable by default unless otherwise stated."]
["2. P&Cs shall be justified (commented) to ensure that the audit trail can be followed."]
["3. However, the self-assessment checklist (Option 1) shall contain comments regarding the evidence observed for all non-compliant and/or not applicable P&Cs, whether they are Major Must or Minor Must P&Cs. "]
["4. For internal GRASP QMS audits or internal audits of members/sites (Option 2 producer groups or Option 1 multisite producers with QMS) and CB audits, comments shall be supplied for all Major Must P&Cs and for all non-compliant and not applicable Minor Must P&Cs unless otherwise indicated in the guideline for audit methodology, where available. CBs shall record positive findings for compliant Major Must and Minor Must P&Cs to allow the audit trail to be reviewed after the event."]
["5. Local legislation overrides GRASP P&Cs if the relevant legislation is stricter. Where there is no legislation (or legislation is not as strict), GRASP provides the minimum requirements, i.e., the P&Cs. The GRASP national interpretation guidelines (GRASP NIGs) that are available on the GLOBALG.A.P. website make requirements transparent to producers and assessors. "]
["6. Please consult the GRASP country risk classification concept and interview rules before proceeding with the assessment. This will determine the type of interviews required and the sample size for document revision. The country risk classification shall be used for the internal GRASP QMS audit and for the document sample size in self-assessments. "]
["Both the principles and the criteria are added to the checklist for the sake of completeness and to give guidance."]
[]
["Please choose"]
["Option 1 single site producer"]
["Option 1 multisite producer without QMS"]
["Production site of an Option 1 multisite producer with QMS "]
["Option 2 producer group member"]
["Type of audit"]
["Self-assessment"]
["Announced CB audit"]
["Unannounced CB audit"]
["Other"]
[null,"Yes","No"]
["Does the producer make use of a consultant? "]
["If yes, is the consultant a Registered Trainer? "]
["If yes, what is the consultant’s name?  "]
["Is the producer registered for parallel production (including what was previously called parallel ownership)? "]
["If yes, for which products?"]
["Does the producer buy products from external sources that originate from production processes that are GRASP compliant?"]
["If yes, which products? "]
["Does the CB audit take place in combination with any other standard or add-on? "]
["If yes, which standard or add-on? "]
["Has the harvest of the products been observed during the CB audit? "]
["If yes, of which products? "]
["Were workers present during the assessment?"]
["If yes, how many?"]
["Has product handling been observed during the CB audit?  "]
["If yes, of which products? "]
["Were workers present during the assessment?"]
["If yes, how many?"]
["List all products presented during the CB audit: "]
["Location(s) visited: "]
["CB audit duration: "]
["Calculation of the Minor Must compliance rate:"]
[]
["Producer name: "]
["Date: "]
["Signature:     "]
[]
["CB auditor name:    "]
["Date: "]
["Signature:     "]

{"sheet":"P&Cs ","index":8,"n_rows":96,"n_cols":18,"rows_kept":96}
["x","SGUID","SSGUID","Column2","PIGUID","ifna","RelatedPQ","PIGUID&NO","NA Exempt","Section","Description/Principle","Criteria","Level","Yes","No","N/A","Automated answer for step 2 parameter question","Justification"]
[null,"538rGD6MQerNMNSCfcYCp7",null,{"$f":"IF(Checklist4810[[#This Row],[SGUID]]=\"\",IF(Checklist4810[[#This Row],[SSGUID]]=\"\",0,1),1)","v":1},null,{"$f":"_xlfn.IFNA(Checklist4810[[#This Row],[RelatedPQ]],\"NA\")","v":""},{"$f":"IF(Checklist4810[[#This Row],[PIGUID]]=\"\",\"\",INDEX(S2PQ_relational[],MATCH(Checklist4810[[#This Row],[PIGUID&NO]],S2PQ_relational[PIGUID & \"NO\"],0),2))","v":""},{"$f":"Checklist4810[[#This Row],[PIGUID]]&\"NO\"","v":"NO"},{"$f":"IF(Checklist4810[[#This Row],[PIGUID]]=\"\",\"\",INDEX(PIs[NA Exempt],MATCH(Checklist4810[[#This Row],[PIGUID]],PIs[GUID],0),1))","v":""},{"$f":"IF(Checklist4810[[#This Row],[SGUID]]=\"\",IF(Checklist4810[[#This Row],[SSGUID]]=\"\",IF(Checklist4810[[#This Row],[PIGUID]]=\"\",\"\",INDEX(PIs[[Column1]:[SS]],MATCH(Checklist4810[[#This Row],[PIGUID]],PIs[GUID],0),2)),INDEX(PIs[[Column1]:[SS]],MATCH(Checklist4810[[#This Row],[SSGUID]],PIs[SSGUID],0),18)),INDEX(PIs[[Column1]:[SS]],MATCH(Checklist4810[[#This Row],[SGUID]],PIs[SGUID],0),14))","v":"GENERAL"},{"$f":"IF(Checklist4810[[#This Row],[SGUID]]=\"\",IF(Checklist4810[[#This Row],[SSGUID]]=\"\",IF(Checklist4810[[#This Row],[PIGUID]]=\"\",\"\",INDEX(PIs[[Column1]:[SS]],MATCH(Checklist4810[[#This Row],[PIGUID]],PIs[GUID],0),4)),INDEX(PIs[[Column1]:[Ssbody]],MATCH(Checklist4810[[#This Row],[SSGUID]],PIs[SSGUID],0),19)),INDEX(PIs[[Column1]:[SS]],MATCH(Checklist4810[[#This Row],[SGUID]],PIs[SGUID],0),15))","v":"-"},{"$f":"IF(Checklist4810[[#This Row],[SGUID]]=\"\",IF(Checklist4810[[#This Row],[SSGUID]]=\"\",INDEX(PIs[[Column1]:[SS]],MATCH(Checklist4810[[#This Row],[PIGUID]],PIs[GUID],0),6),\"\"),\"\")","v":""},{"$f":"IF(Checklist4810[[#This Row],[SSGUID]]=\"\",IF(Checklist4810[[#This Row],[PIGUID]]=\"\",\"\",INDEX(PIs[[Column1]:[SS]],MATCH(Checklist4810[[#This Row],[PIGUID]],PIs[GUID],0),8)),\"\")","v":""},null,null,{"$f":"IF(Checklist4810[[#This Row],[ifna]]=\"NA\",\"\",IF(Checklist4810[[#This Row],[RelatedPQ]]=0,\"\",IF(Checklist4810[[#This Row],[RelatedPQ]]=\"\",\"\",IF((INDEX(S2PQ_relational[],MATCH(Checklist4810[[#This Row],[PIGUID&NO]],S2PQ_relational[PIGUID & \"NO\"],0),1))=Checklist4810[[#This Row],[PIGUID]],\"Not applicable\",\"\"))))","v":""},{"$f":"IF(Checklist4810[[#This Row],[N/A]]=\"Not Applicable\",INDEX(S2PQ[[Step 2  questions]:[Justification]],MATCH(Checklist4810[[#This Row],[RelatedPQ]],S2PQ[S2PQGUID],0),3),\"\")","v":""}]
[null,null,"5TvyR0UgB0EOmnMkFaZftX",{"$f":"IF(Checklist4810[[#This Row],[SGUID]]=\"\",IF(Checklist4810[[#This Row],[SSGUID]]=\"\",0,1),1)","v":1},null,{"$f":"_xlfn.IFNA(Checklist4810[[#This Row],[RelatedPQ]],\"NA\")","v":""},{"$f":"IF(Checklist4810[[#This Row],[PIGUID]]=\"\",\"\",INDEX(S2PQ_relational[],MATCH(Checklist4810[[#This Row],[PIGUID&NO]],S2PQ_relational[PIGUID & \"NO\"],0),2))","v":""},{"$f":"Checklist4810[[#This Row],[PIGUID]]&\"NO\"","v":"NO"},{"$f":"IF(Checklist4810[[#This Row],[PIGUID]]=\"\",\"\",INDEX(PIs[NA Exempt],MATCH(Checklist4810[[#This Row],[PIGUID]],PIs[GUID],0),1))","v":""},{"$f":"IF(Checklist4810[[#This Row],[SGUID]]=\"\",IF(Checklist4810[[#This Row],[SSGUID]]=\"\",IF(Checklist4810[[#This Row],[PIGUID]]=\"\",\"\",INDEX(PIs[[Column1]:[SS]],MATCH(Checklist4810[[#This Row],[PIGUID]],PIs[GUID],0),2)),INDEX(PIs[[Column1]:[SS]],MATCH(Checklist4810[[#This Row],[SSGUID]],PIs[SSGUID],0),18)),INDEX(PIs[[Column1]:[SS]],MATCH(Checklist4810[[#This Row],[SGUID]],PIs[SGUID],0),14))","v":"-"},{"$f":"IF(Checklist4810[[#This Row],[SGUID]]=\"\",IF(Checklist4810[[#This Row],[SSGUID]]=\"\",IF(Checklist4810[[#This Row],[PIGUID]]=\"\",\"\",INDEX(PIs[[Column1]:[SS]],MATCH(Checklist4810[[#This Row],[PIGUID]],PIs[GUID],0),4)),INDEX(PIs[[Column1]:[Ssbody]],MATCH(Checklist4810[[#This Row],[SSGUID]],PIs[SSGUID],0),19)),INDEX(PIs[[Column1]:[SS]],MATCH(Checklist4810[[#This Row],[SGUID]],PIs[SGUID],0),15))","v":"-"},{"$f":"IF(Checklist4810[[#This Row],[SGUID]]=\"\",IF(Checklist4810[[#This Row],[SSGUID]]=\"\",INDEX(PIs[[Column1]:[SS]],MATCH(Checklist4810[[#This Row],[PIGUID]],PIs[GUID],0),6),\"\"),\"\")","v":""},{"$f":"IF(Checklist4810[[#This Row],[SSGUID]]=\"\",IF(Checklist4810[[#This Row],[PIGUID]]=\"\",\"\",INDEX(PIs[[Column1]:[SS]],MATCH(Checklist4810[[#This Row],[PIGUID]],PIs[GUID],0),8)),\"\")","v":""},null,null,{"$f":"IF(Checklist4810[[#This Row],[ifna]]=\"NA\",\"\",IF(Checklist4810[[#This Row],[RelatedPQ]]=0,\"\",IF(Checklist4810[[#This Row],[RelatedPQ]]=\"\",\"\",IF((INDEX(S2PQ_relational[],MATCH(Checklist4810[[#This Row],[PIGUID&NO]],S2PQ_relational[PIGUID & \"NO\"],0),1))=Checklist4810[[#This Row],[PIGUID]],\"Not applicable\",\"\"))))","v":""},{"$f":"IF(Checklist4810[[#This Row],[N/A]]=\"Not Applicable\",INDEX(S2PQ[[Step 2  questions]:[Justification]],MATCH(Checklist4810[[#This Row],[RelatedPQ]],S2PQ[S2PQGUID],0),3),\"\")","v":""}]
[{"$nulls":3},{"$f":"IF(Checklist4810[[#This Row],[SGUID]]=\"\",IF(Checklist4810[[#This Row],[SSGUID]]=\"\",0,1),1)","v":0},"4lVHcGLPT4btdMvIq4YwsF",{"$f":"_xlfn.IFNA(Checklist4810[[#This Row],[RelatedPQ]],\"NA\")","v":"NA"},{"$f":"IF(Checklist4810[[#This Row],[PIGUID]]=\"\",\"\",INDEX(S2PQ_relational[],MATCH(Checklist4810[[#This Row],[PIGUID&NO]],S2PQ_relational[PIGUID & \"NO\"],0),2))","v":{"$error":"#N/A"}},{"$f":"Checklist4810[[#This Row],[PIGUID]]&\"NO\"","v":"4lVHcGLPT4btdMvIq4YwsFNO"},{"$f":"IF(Checklist4810[[#This Row],[PIGUID]]=\"\",\"\",INDEX(PIs[NA Exempt],MATCH(Checklist4810[[#This Row],[PIGUID]],PIs[GUID],0),1))","v":false},{"$f":"IF(Checklist4810[[#This Row],[SGUID]]=\"\",IF(Checklist4810[[#This Row],[SSGUID]]=\"\",IF(Checklist4810[[#This Row],[PIGUID]]=\"\",\"\",INDEX(PIs[[Column1]:[SS]],MATCH(Checklist4810[[#This Row],[PIGUID]],PIs[GUID],0),2)),INDEX(PIs[[Column1]:[SS]],MATCH(Checklist4810[[#This Row],[SSGUID]],PIs[SSGUID],0),18)),INDEX(PIs[[Column1]:[SS]],MATCH(Checklist4810[[#This Row],[SGUID]],PIs[SGUID],0),14))","v":"G1"},{"$f":"IF(Checklist4810[[#This Row],[SGUID]]=\"\",IF(Checklist4810[[#This Row],[SSGUID]]=\"\",IF(Checklist4810[[#This Row],[PIGUID]]=\"\",\"\",INDEX(PIs[[Column1]:[SS]],MATCH(Checklist4810[[#This Row],[PIGUID]],PIs[GUID],0),4)),INDEX(PIs[[Column1]:[Ssbody]],MATCH(Checklist4810[[#This Row],[SSGUID]],PIs[SSGUID],0),19)),INDEX(PIs[[Column1]:[SS]],MATCH(Checklist4810[[#This Row],[SGUID]],PIs[SGUID],0),15))","v":"The producer informs the workers of the GRASP assessment and its scope at least two working days before the date of assessment."},{"$f":"IF(Checklist4810[[#This Row],[SGUID]]=\"\",IF(Checklist4810[[#This Row],[SSGUID]]=\"\",INDEX(PIs[[Column1]:[SS]],MATCH(Checklist4810[[#This Row],[PIGUID]],PIs[GUID],0),6),\"\"),\"\")","v":"The term “inform” shall require the producer to include reference to the key areas of the standards.\nThe term “GRASP scope” shall require the producer to provide workers with/remind workers of where to access the producer’s human rights policy and/or NIG. These requirements shall also cover any subcontracted labor. For family farms without hired workers, “workers” shall refer to core family members working on the farm.\nException: For unannounced assessments, this P&C shall be considered compliant. \n"},{"$f":"IF(Checklist4810[[#This Row],[SSGUID]]=\"\",IF(Checklist4810[[#This Row],[PIGUID]]=\"\",\"\",INDEX(PIs[[Column1]:[SS]],MATCH(Checklist4810[[#This Row],[PIGUID]],PIs[GUID],0),8)),\"\")","v":"Minor Must"},null,null,{"$f":"IF(Checklist4810[[#This Row],[ifna]]=\"NA\",\"\",IF(Checklist4810[[#This Row],[RelatedPQ]]=0,\"\",IF(Checklist4810[[#This Row],[RelatedPQ]]=\"\",\"\",IF((INDEX(S2PQ_relational[],MATCH(Checklist4810[[#This Row],[PIGUID&NO]],S2PQ_relational[PIGUID & \"NO\"],0),1))=Checklist4810[[#This Row],[PIGUID]],\"Not applicable\",\"\"))))","v":""},{"$f":"IF(Checklist4810[[#This Row],[N/A]]=\"Not Applicable\",INDEX(S2PQ[[Step 2  questions]:[Justification]],MATCH(Checklist4810[[#This Row],[RelatedPQ]],S2PQ[S2PQGUID],0),3),\"\")","v":""}]
[{"$nulls":3},{"$f":"IF(Checklist4810[[#This Row],[SGUID]]=\"\",IF(Checklist4810[[#This Row],[SSGUID]]=\"\",0,1),1)","v":0},"7yA7XRnr1WZ1iZgqnC9ZCF",{"$f":"_xlfn.IFNA(Checklist4810[[#This Row],[RelatedPQ]],\"NA\")","v":"NA"},{"$f":"IF(Checklist4810[[#This Row],[PIGUID]]=\"\",\"\",INDEX(S2PQ_relational[],MATCH(Checklist4810[[#This Row],[PIGUID&NO]],S2PQ_relational[PIGUID & \"NO\"],0),2))","v":{"$error":"#N/A"}},{"$f":"Checklist4810[[#This Row],[PIGUID]]&\"NO\"","v":"7yA7XRnr1WZ1iZgqnC9ZCFNO"},{"$f":"IF(Checklist4810[[#This Row],[PIGUID]]=\"\",\"\",INDEX(PIs[NA Exempt],MATCH(Checklist4810[[#This Row],[PIGUID]],PIs[GUID],0),1))","v":false},{"$f":"IF(Checklist4810[[#This Row],[SGUID]]=\"\",IF(Checklist4810[[#This Row],[SSGUID]]=\"\",IF(Checklist4810[[#This Row],[PIGUID]]=\"\",\"\",INDEX(PIs[[Column1]:[SS]],MATCH(Checklist4810[[#This Row],[PIGUID]],PIs[GUID],0),2)),INDEX(PIs[[Column1]:[SS]],MATCH(Checklist4810[[#This Row],[SSGUID]],PIs[SSGUID],0),18)),INDEX(PIs[[Column1]:[SS]],MATCH(Checklist4810[[#This Row],[SGUID]],PIs[SGUID],0),14))","v":"G2"},{"$f":"IF(Checklist4810[[#This Row],[SGUID]]=\"\",IF(Checklist4810[[#This Row],[SSGUID]]=\"\",IF(Checklist4810[[#This Row],[PIGUID]]=\"\",\"\",INDEX(PIs[[Column1]:[SS]],MATCH(Checklist4810[[#This Row],[PIGUID]],PIs[GUID],0),4)),INDEX(PIs[[Column1]:[Ssbody]],MATCH(Checklist4810[[#This Row],[SSGUID]],PIs[SSGUID],0),19)),INDEX(PIs[[Column1]:[SS]],MATCH(Checklist4810[[#This Row],[SGUID]],PIs[SGUID],0),15))","v":"The producer provides a register of any/all workers hired and those present on the date of the assessment."},{"$f":"IF(Checklist4810[[#This Row],[SGUID]]=\"\",IF(Checklist4810[[#This Row],[SSGUID]]=\"\",INDEX(PIs[[Column1]:[SS]],MATCH(Checklist4810[[#This Row],[PIGUID]],PIs[GUID],0),6),\"\"),\"\")","v":"The register is only a reference to be used by the assessor and not to be kept. Once the assessment is completed, the assessor shall return the register to the producer without keeping copies.\nThe register shall include all workers of the current (calendar/seasonal) year or at least those hired since the last assessment. Use of subcontracted labor, prison labor, and/or family labor shall be clearly indicated. For family farms without hired workers, “workers” shall refer to core family members working on the farm."},{"$f":"IF(Checklist4810[[#This Row],[SSGUID]]=\"\",IF(Checklist4810[[#This Row],[PIGUID]]=\"\",\"\",INDEX(PIs[[Column1]:[SS]],MATCH(Checklist4810[[#This Row],[PIGUID]],PIs[GUID],0),8)),\"\")","v":"Minor Must"},null,null,{"$f":"IF(Checklist4810[[#This Row],[ifna]]=\"NA\",\"\",IF(Checklist4810[[#This Row],[RelatedPQ]]=0,\"\",IF(Checklist4810[[#This Row],[RelatedPQ]]=\"\",\"\",IF((INDEX(S2PQ_relational[],MATCH(Checklist4810[[#This Row],[PIGUID&NO]],S2PQ_relational[PIGUID & \"NO\"],0),1))=Checklist4810[[#This Row],[PIGUID]],\"Not applicable\",\"\"))))","v":""},{"$f":"IF(Checklist4810[[#This Row],[N/A]]=\"Not Applicable\",INDEX(S2PQ[[Step 2  questions]:[Justification]],MATCH(Checklist4810[[#This Row],[RelatedPQ]],S2PQ[S2PQGUID],0),3),\"\")","v":""}]
[{"$nulls":3},{"$f":"IF(Checklist4810[[#This Row],[SGUID]]=\"\",IF(Checklist4810[[#This Row],[SSGUID]]=\"\",0,1),1)","v":0},"7lTZOj0V0Ao8cJAdaJGgd5",{"$f":"_xlfn.IFNA(Checklist4810[[#This Row],[RelatedPQ]],\"NA\")","v":"NA"},{"$f":"IF(Checklist4810[[#This Row],[PIGUID]]=\"\",\"\",INDEX(S2PQ_relational[],MATCH(Checklist4810[[#This Row],[PIGUID&NO]],S2PQ_relational[PIGUID & \"NO\"],0),2))","v":{"$error":"#N/A"}},{"$f":"Checklist4810[[#This Row],[PIGUID]]&\"NO\"","v":"7lTZOj0V0Ao8cJAdaJGgd5NO"},{"$f":"IF(Checklist4810[[#This Row],[PIGUID]]=\"\",\"\",INDEX(PIs[NA Exempt],MATCH(Checklist4810[[#This Row],[PIGUID]],PIs[GUID],0),1))","v":false},{"$f":"IF(Checklist4810[[#This Row],[SGUID]]=\"\",IF(Checklist4810[[#This Row],[SSGUID]]=\"\",IF(Checklist4810[[#This Row],[PIGUID]]=\"\",\"\",INDEX(PIs[[Column1]:[SS]],MATCH(Checklist4810[[#This Row],[PIGUID]],PIs[GUID],0),2)),INDEX(PIs[[Column1]:[SS]],MATCH(Checklist4810[[#This Row],[SSGUID]],PIs[SSGUID],0),18)),INDEX(PIs[[Column1]:[SS]],MATCH(Checklist4810[[#This Row],[SGUID]],PIs[SGUID],0),14))","v":"G3"},{"$f":"IF(Checklist4810[[#This Row],[SGUID]]=\"\",IF(Checklist4810[[#This Row],[SSGUID]]=\"\",IF(Checklist4810[[#This Row],[PIGUID]]=\"\",\"\",INDEX(PIs[[Column1]:[SS]],MATCH(Checklist4810[[#This Row],[PIGUID]],PIs[GUID],0),4)),INDEX(PIs[[Column1]:[Ssbody]],MATCH(Checklist4810[[#This Row],[SSGUID]],PIs[SSGUID],0),19)),INDEX(PIs[[Column1]:[SS]],MATCH(Checklist4810[[#This Row],[SGUID]],PIs[SGUID],0),15))","v":"The producer/producer group completes a minimum of one self-assessment/internal GRASP assessment annually. "},{"$f":"IF(Checklist4810[[#This Row],[SGUID]]=\"\",IF(Checklist4810[[#This Row],[SSGUID]]=\"\",INDEX(PIs[[Column1]:[SS]],MATCH(Checklist4810[[#This Row],[PIGUID]],PIs[GUID],0),6),\"\"),\"\")","v":"There shall be documented evidence available that a self-assessment/an internal GRASP assessment has been completed under the responsibility of the producer/producer group (this may be carried out by a person other than the producer). The self-assessment/internal GRASP assessment shall have been completed before the CB external assessment and during the time with the highest presence of workers at the farm and when agricultural activities are taking place. For family farms without hired workers, “workers” shall refer to core family members working on the farm."},{"$f":"IF(Checklist4810[[#This Row],[SSGUID]]=\"\",IF(Checklist4810[[#This Row],[PIGUID]]=\"\",\"\",INDEX(PIs[[Column1]:[SS]],MATCH(Checklist4810[[#This Row],[PIGUID]],PIs[GUID],0),8)),\"\")","v":"Major Must"},null,null,{"$f":"IF(Checklist4810[[#This Row],[ifna]]=\"NA\",\"\",IF(Checklist4810[[#This Row],[RelatedPQ]]=0,\"\",IF(Checklist4810[[#This Row],[RelatedPQ]]=\"\",\"\",IF((INDEX(S2PQ_relational[],MATCH(Checklist4810[[#This Row],[PIGUID&NO]],S2PQ_relational[PIGUID & \"NO\"],0),1))=Checklist4810[[#This Row],[PIGUID]],\"Not applicable\",\"\"))))","v":""},{"$f":"IF(Checklist4810[[#This Row],[N/A]]=\"Not Applicable\",INDEX(S2PQ[[Step 2  questions]:[Justification]],MATCH(Checklist4810[[#This Row],[RelatedPQ]],S2PQ[S2PQGUID],0),3),\"\")","v":""}]
[{"$nulls":3},{"$f":"IF(Checklist4810[[#This Row],[SGUID]]=\"\",IF(Checklist4810[[#This Row],[SSGUID]]=\"\",0,1),1)","v":0},"1o4ipagm2j86vbWnQ1M7Gc",{"$f":"_xlfn.IFNA(Checklist4810[[#This Row],[RelatedPQ]],\"NA\")","v":"NA"},{"$f":"IF(Checklist4810[[#This Row],[PIGUID]]=\"\",\"\",INDEX(S2PQ_relational[],MATCH(Checklist4810[[#This Row],[PIGUID&NO]],S2PQ_relational[PIGUID & \"NO\"],0),2))","v":{"$error":"#N/A"}},{"$f":"Checklist4810[[#This Row],[PIGUID]]&\"NO\"","v":"1o4ipagm2j86vbWnQ1M7GcNO"},{"$f":"IF(Checklist4810[[#This Row],[PIGUID]]=\"\",\"\",INDEX(PIs[NA Exempt],MATCH(Checklist4810[[#This Row],[PIGUID]],PIs[GUID],0),1))","v":false},{"$f":"IF(Checklist4810[[#This Row],[SGUID]]=\"\",IF(Checklist4810[[#This Row],[SSGUID]]=\"\",IF(Checklist4810[[#This Row],[PIGUID]]=\"\",\"\",INDEX(PIs[[Column1]:[SS]],MATCH(Checklist4810[[#This Row],[PIGUID]],PIs[GUID],0),2)),INDEX(PIs[[Column1]:[SS]],MATCH(Checklist4810[[#This Row],[SSGUID]],PIs[SSGUID],0),18)),INDEX(PIs[[Column1]:[SS]],MATCH(Checklist4810[[#This Row],[SGUID]],PIs[SGUID],0),14))","v":"G4"},{"$f":"IF(Checklist4810[[#This Row],[SGUID]]=\"\",IF(Checklist4810[[#This Row],[SSGUID]]=\"\",IF(Checklist4810[[#This Row],[PIGUID]]=\"\",\"\",INDEX(PIs[[Column1]:[SS]],MATCH(Checklist4810[[#This Row],[PIGUID]],PIs[GUID],0),4)),INDEX(PIs[[Column1]:[Ssbody]],MATCH(Checklist4810[[#This Row],[SSGUID]],PIs[SSGUID],0),19)),INDEX(PIs[[Column1]:[SS]],MATCH(Checklist4810[[#This Row],[SGUID]],PIs[SGUID],0),15))","v":"Effective corrective actions are taken to address all non-compliant Major Musts and at least a percentage of Minor Musts detected during the self-assessment/internal GRASP assessment. "},{"$f":"IF(Checklist4810[[#This Row],[SGUID]]=\"\",IF(Checklist4810[[#This Row],[SSGUID]]=\"\",INDEX(PIs[[Column1]:[SS]],MATCH(Checklist4810[[#This Row],[PIGUID]],PIs[GUID],0),6),\"\"),\"\")","v":"Before or at the beginning of the assessment, any corrective actions shall be documented. \nThe assessor shall include comments in the assessment report wherever deviations are found between the current assessment and the self-assessment/internal GRASP assessment."},{"$f":"IF(Checklist4810[[#This Row],[SSGUID]]=\"\",IF(Checklist4810[[#This Row],[PIGUID]]=\"\",\"\",INDEX(PIs[[Column1]:[SS]],MATCH(Checklist4810[[#This Row],[PIGUID]],PIs[GUID],0),8)),\"\")","v":"Minor Must"},null,null,{"$f":"IF(Checklist4810[[#This Row],[ifna]]=\"NA\",\"\",IF(Checklist4810[[#This Row],[RelatedPQ]]=0,\"\",IF(Checklist4810[[#This Row],[RelatedPQ]]=\"\",\"\",IF((INDEX(S2PQ_relational[],MATCH(Checklist4810[[#This Row],[PIGUID&NO]],S2PQ_relational[PIGUID & \"NO\"],0),1))=Checklist4810[[#This Row],[PIGUID]],\"Not applicable\",\"\"))))","v":""},{"$f":"IF(Checklist4810[[#This Row],[N/A]]=\"Not Applicable\",INDEX(S2PQ[[Step 2  questions]:[Justification]],MATCH(Checklist4810[[#This Row],[RelatedPQ]],S2PQ[S2PQGUID],0),3),\"\")","v":""}]
[null,"1o8mD6EnK5wQwCEJoONfYj",null,{"$f":"IF(Checklist4810[[#This Row],[SGUID]]=\"\",IF(Checklist4810[[#This Row],[SSGUID]]=\"\",0,1),1)","v":1},null,{"$f":"_xlfn.IFNA(Checklist4810[[#This Row],[RelatedPQ]],\"NA\")","v":""},{"$f":"IF(Checklist4810[[#This Row],[PIGUID]]=\"\",\"\",INDEX(S2PQ_relational[],MATCH(Checklist4810[[#This Row],[PIGUID&NO]],S2PQ_relational[PIGUID & \"NO\"],0),2))","v":""},{"$f":"Checklist4810[[#This Row],[PIGUID]]&\"NO\"","v":"NO"},{"$f":"IF(Checklist4810[[#This Row],[PIGUID]]=\"\",\"\",INDEX(PIs[NA Exempt],MATCH(Checklist4810[[#This Row],[PIGUID]],PIs[GUID],0),1))","v":""},{"$f":"IF(Checklist4810[[#This Row],[SGUID]]=\"\",IF(Checklist4810[[#This Row],[SSGUID]]=\"\",IF(Checklist4810[[#This Row],[PIGUID]]=\"\",\"\",INDEX(PIs[[Column1]:[SS]],MATCH(Checklist4810[[#This Row],[PIGUID]],PIs[GUID],0),2)),INDEX(PIs[[Column1]:[SS]],MATCH(Checklist4810[[#This Row],[SSGUID]],PIs[SSGUID],0),18)),INDEX(PIs[[Column1]:[SS]],MATCH(Checklist4810[[#This Row],[SGUID]],PIs[SGUID],0),14))","v":"RIGHT OF ASSOCIATION AND REPRESENTATION"},{"$f":"IF(Checklist4810[[#This Row],[SGUID]]=\"\",IF(Checklist4810[[#This Row],[SSGUID]]=\"\",IF(Checklist4810[[#This Row],[PIGUID]]=\"\",\"\",INDEX(PIs[[Column1]:[SS]],MATCH(Checklist4810[[#This Row],[PIGUID]],PIs[GUID],0),4)),INDEX(PIs[[Column1]:[Ssbody]],MATCH(Checklist4810[[#This Row],[SSGUID]],PIs[SSGUID],0),19)),INDEX(PIs[[Column1]:[SS]],MATCH(Checklist4810[[#This Row],[SGUID]],PIs[SGUID],0),15))","v":"-"},{"$f":"IF(Checklist4810[[#This Row],[SGUID]]=\"\",IF(Checklist4810[[#This Row],[SSGUID]]=\"\",INDEX(PIs[[Column1]:[SS]],MATCH(Checklist4810[[#This Row],[PIGUID]],PIs[GUID],0),6),\"\"),\"\")","v":""},{"$f":"IF(Checklist4810[[#This Row],[SSGUID]]=\"\",IF(Checklist4810[[#This Row],[PIGUID]]=\"\",\"\",INDEX(PIs[[Column1]:[SS]],MATCH(Checklist4810[[#This Row],[PIGUID]],PIs[GUID],0),8)),\"\")","v":""},null,null,{"$f":"IF(Checklist4810[[#This Row],[ifna]]=\"NA\",\"\",IF(Checklist4810[[#This Row],[RelatedPQ]]=0,\"\",IF(Checklist4810[[#This Row],[RelatedPQ]]=\"\",\"\",IF((INDEX(S2PQ_relational[],MATCH(Checklist4810[[#This Row],[PIGUID&NO]],S2PQ_relational[PIGUID & \"NO\"],0),1))=Checklist4810[[#This Row],[PIGUID]],\"Not applicable\",\"\"))))","v":""},{"$f":"IF(Checklist4810[[#This Row],[N/A]]=\"Not Applicable\",INDEX(S2PQ[[Step 2  questions]:[Justification]],MATCH(Checklist4810[[#This Row],[RelatedPQ]],S2PQ[S2PQGUID],0),3),\"\")","v":""}]
[null,null,"5TvyR0UgB0EOmnMkFaZftX",{"$f":"IF(Checklist4810[[#This Row],[SGUID]]=\"\",IF(Checklist4810[[#This Row],[SSGUID]]=\"\",0,1),1)","v":1},null,{"$f":"_xlfn.IFNA(Checklist4810[[#This Row],[RelatedPQ]],\"NA\")","v":""},{"$f":"IF(Checklist4810[[#This Row],[PIGUID]]=\"\",\"\",INDEX(S2PQ_relational[],MATCH(Checklist4810[[#This Row],[PIGUID&NO]],S2PQ_relational[PIGUID & \"NO\"],0),2))","v":""},{"$f":"Checklist4810[[#This Row],[PIGUID]]&\"NO\"","v":"NO"},{"$f":"IF(Checklist4810[[#This Row],[PIGUID]]=\"\",\"\",INDEX(PIs[NA Exempt],MATCH(Checklist4810[[#This Row],[PIGUID]],PIs[GUID],0),1))","v":""},{"$f":"IF(Checklist4810[[#This Row],[SGUID]]=\"\",IF(Checklist4810[[#This Row],[SSGUID]]=\"\",IF(Checklist4810[[#This Row],[PIGUID]]=\"\",\"\",INDEX(PIs[[Column1]:[SS]],MATCH(Checklist4810[[#This Row],[PIGUID]],PIs[GUID],0),2)),INDEX(PIs[[Column1]:[SS]],MATCH(Checklist4810[[#This Row],[SSGUID]],PIs[SSGUID],0),18)),INDEX(PIs[[Column1]:[SS]],MATCH(Checklist4810[[#This Row],[SGUID]],PIs[SGUID],0),14))","v":"-"},{"$f":"IF(Checklist4810[[#This Row],[SGUID]]=\"\",IF(Checklist4810[[#This Row],[SSGUID]]=\"\",IF(Checklist4810[[#This Row],[PIGUID]]=\"\",\"\",INDEX(PIs[[Column1]:[SS]],MATCH(Checklist4810[[#This Row],[PIGUID]],PIs[GUID],0),4)),INDEX(PIs[[Column1]:[Ssbody]],MATCH(Checklist4810[[#This Row],[SSGUID]],PIs[SSGUID],0),19)),INDEX(PIs[[Column1]:[SS]],MATCH(Checklist4810[[#This Row],[SGUID]],PIs[SGUID],0),15))","v":"-"},{"$f":"IF(Checklist4810[[#This Row],[SGUID]]=\"\",IF(Checklist4810[[#This Row],[SSGUID]]=\"\",INDEX(PIs[[Column1]:[SS]],MATCH(Checklist4810[[#This Row],[PIGUID]],PIs[GUID],0),6),\"\"),\"\")","v":""},{"$f":"IF(Checklist4810[[#This Row],[SSGUID]]=\"\",IF(Checklist4810[[#This Row],[PIGUID]]=\"\",\"\",INDEX(PIs[[Column1]:[SS]],MATCH(Checklist4810[[#This Row],[PIGUID]],PIs[GUID],0),8)),\"\")","v":""},null,null,{"$f":"IF(Checklist4810[[#This Row],[ifna]]=\"NA\",\"\",IF(Checklist4810[[#This Row],[RelatedPQ]]=0,\"\",IF(Checklist4810[[#This Row],[RelatedPQ]]=\"\",\"\",IF((INDEX(S2PQ_relational[],MATCH(Checklist4810[[#This Row],[PIGUID&NO]],S2PQ_relational[PIGUID & \"NO\"],0),1))=Checklist4810[[#This Row],[PIGUID]],\"Not applicable\",\"\"))))","v":""},{"$f":"IF(Checklist4810[[#This Row],[N/A]]=\"Not Applicable\",INDEX(S2PQ[[Step 2  questions]:[Justification]],MATCH(Checklist4810[[#This Row],[RelatedPQ]],S2PQ[S2PQGUID],0),3),\"\")","v":""}]
[{"$nulls":3},{"$f":"IF(Checklist4810[[#This Row],[SGUID]]=\"\",IF(Checklist4810[[#This Row],[SSGUID]]=\"\",0,1),1)","v":0},"3euBNRpF4vyZ0UqqOwFwc1",{"$f":"_xlfn.IFNA(Checklist4810[[#This Row],[RelatedPQ]],\"NA\")","v":"NA"},{"$f":"IF(Checklist4810[[#This Row],[PIGUID]]=\"\",\"\",INDEX(S2PQ_relational[],MATCH(Checklist4810[[#This Row],[PIGUID&NO]],S2PQ_relational[PIGUID & \"NO\"],0),2))","v":{"$error":"#N/A"}},{"$f":"Checklist4810[[#This Row],[PIGUID]]&\"NO\"","v":"3euBNRpF4vyZ0UqqOwFwc1NO"},{"$f":"IF(Checklist4810[[#This Row],[PIGUID]]=\"\",\"\",INDEX(PIs[NA Exempt],MATCH(Checklist4810[[#This Row],[PIGUID]],PIs[GUID],0),1))","v":false},{"$f":"IF(Checklist4810[[#This Row],[SGUID]]=\"\",IF(Checklist4810[[#This Row],[SSGUID]]=\"\",IF(Checklist4810[[#This Row],[PIGUID]]=\"\",\"\",INDEX(PIs[[Column1]:[SS]],MATCH(Checklist4810[[#This Row],[PIGUID]],PIs[GUID],0),2)),INDEX(PIs[[Column1]:[SS]],MATCH(Checklist4810[[#This Row],[SSGUID]],PIs[SSGUID],0),18)),INDEX(PIs[[Column1]:[SS]],MATCH(Checklist4810[[#This Row],[SGUID]],PIs[SGUID],0),14))","v":"01.01"},{"$f":"IF(Checklist4810[[#This Row],[SGUID]]=\"\",IF(Checklist4810[[#This Row],[SSGUID]]=\"\",IF(Checklist4810[[#This Row],[PIGUID]]=\"\",\"\",INDEX(PIs[[Column1]:[SS]],MATCH(Checklist4810[[#This Row],[PIGUID]],PIs[GUID],0),4)),INDEX(PIs[[Column1]:[Ssbody]],MATCH(Checklist4810[[#This Row],[SSGUID]],PIs[SSGUID],0),19)),INDEX(PIs[[Column1]:[SS]],MATCH(Checklist4810[[#This Row],[SGUID]],PIs[SGUID],0),15))","v":"The producer respects the right of workers to join and/or form trade unions or other worker organizations of their choice (as well as the right to refrain from joining/forming such organizations) in accordance with applicable national legal requirements."},{"$f":"IF(Checklist4810[[#This Row],[SGUID]]=\"\",IF(Checklist4810[[#This Row],[SSGUID]]=\"\",INDEX(PIs[[Column1]:[SS]],MATCH(Checklist4810[[#This Row],[PIGUID]],PIs[GUID],0),6),\"\"),\"\")","v":"This requirement shall include subcontracted labor while at the farm.\nThe assessor shall be informed about the type of worker organizations recognized in the country and the applicable legal requirements.\n"},{"$f":"IF(Checklist4810[[#This Row],[SSGUID]]=\"\",IF(Checklist4810[[#This Row],[PIGUID]]=\"\",\"\",INDEX(PIs[[Column1]:[SS]],MATCH(Checklist4810[[#This Row],[PIGUID]],PIs[GUID],0),8)),\"\")","v":"Major Must"},null,null,{"$f":"IF(Checklist4810[[#This Row],[ifna]]=\"NA\",\"\",IF(Checklist4810[[#This Row],[RelatedPQ]]=0,\"\",IF(Checklist4810[[#This Row],[RelatedPQ]]=\"\",\"\",IF((INDEX(S2PQ_relational[],MATCH(Checklist4810[[#This Row],[PIGUID&NO]],S2PQ_relational[PIGUID & \"NO\"],0),1))=Checklist4810[[#This Row],[PIGUID]],\"Not applicable\",\"\"))))","v":""},{"$f":"IF(Checklist4810[[#This Row],[N/A]]=\"Not Applicable\",INDEX(S2PQ[[Step 2  questions]:[Justification]],MATCH(Checklist4810[[#This Row],[RelatedPQ]],S2PQ[S2PQGUID],0),3),\"\")","v":""}]
[{"$nulls":3},{"$f":"IF(Checklist4810[[#This Row],[SGUID]]=\"\",IF(Checklist4810[[#This Row],[SSGUID]]=\"\",0,1),1)","v":0},"3uaA6l6inUWdqT3f4hmHAE",{"$f":"_xlfn.IFNA(Checklist4810[[#This Row],[RelatedPQ]],\"NA\")","v":"NA"},{"$f":"IF(Checklist4810[[#This Row],[PIGUID]]=\"\",\"\",INDEX(S2PQ_relational[],MATCH(Checklist4810[[#This Row],[PIGUID&NO]],S2PQ_relational[PIGUID & \"NO\"],0),2))","v":{"$error":"#N/A"}},{"$f":"Checklist4810[[#This Row],[PIGUID]]&\"NO\"","v":"3uaA6l6inUWdqT3f4hmHAENO"},{"$f":"IF(Checklist4810[[#This Row],[PIGUID]]=\"\",\"\",INDEX(PIs[NA Exempt],MATCH(Checklist4810[[#This Row],[PIGUID]],PIs[GUID],0),1))","v":false},{"$f":"IF(Checklist4810[[#This Row],[SGUID]]=\"\",IF(Checklist4810[[#This Row],[SSGUID]]=\"\",IF(Checklist4810[[#This Row],[PIGUID]]=\"\",\"\",INDEX(PIs[[Column1]:[SS]],MATCH(Checklist4810[[#This Row],[PIGUID]],PIs[GUID],0),2)),INDEX(PIs[[Column1]:[SS]],MATCH(Checklist4810[[#This Row],[SSGUID]],PIs[SSGUID],0),18)),INDEX(PIs[[Column1]:[SS]],MATCH(Checklist4810[[#This Row],[SGUID]],PIs[SGUID],0),14))","v":"01.02"},{"$f":"IF(Checklist4810[[#This Row],[SGUID]]=\"\",IF(Checklist4810[[#This Row],[SSGUID]]=\"\",IF(Checklist4810[[#This Row],[PIGUID]]=\"\",\"\",INDEX(PIs[[Column1]:[SS]],MATCH(Checklist4810[[#This Row],[PIGUID]],PIs[GUID],0),4)),INDEX(PIs[[Column1]:[Ssbody]],MATCH(Checklist4810[[#This Row],[SSGUID]],PIs[SSGUID],0),19)),INDEX(PIs[[Column1]:[SS]],MATCH(Checklist4810[[#This Row],[SGUID]],PIs[SGUID],0),15))","v":"If the right to freedom of association and collective bargaining is absent, restricted, or denied under local law, the producer allows alternative forms of independent worker representation and negotiation that is free of employer control."},{"$f":"IF(Checklist4810[[#This Row],[SGUID]]=\"\",IF(Checklist4810[[#This Row],[SSGUID]]=\"\",INDEX(PIs[[Column1]:[SS]],MATCH(Checklist4810[[#This Row],[PIGUID]],PIs[GUID],0),6),\"\"),\"\")","v":"This requirement shall include subcontracted labor while at the farm.\n"},{"$f":"IF(Checklist4810[[#This Row],[SSGUID]]=\"\",IF(Checklist4810[[#This Row],[PIGUID]]=\"\",\"\",INDEX(PIs[[Column1]:[SS]],MATCH(Checklist4810[[#This Row],[PIGUID]],PIs[GUID],0),8)),\"\")","v":"Minor Must"},null,null,{"$f":"IF(Checklist4810[[#This Row],[ifna]]=\"NA\",\"\",IF(Checklist4810[[#This Row],[RelatedPQ]]=0,\"\",IF(Checklist4810[[#This Row],[RelatedPQ]]=\"\",\"\",IF((INDEX(S2PQ_relational[],MATCH(Checklist4810[[#This Row],[PIGUID&NO]],S2PQ_relational[PIGUID & \"NO\"],0),1))=Checklist4810[[#This Row],[PIGUID]],\"Not applicable\",\"\"))))","v":""},{"$f":"IF(Checklist4810[[#This Row],[N/A]]=\"Not Applicable\",INDEX(S2PQ[[Step 2  questions]:[Justification]],MATCH(Checklist4810[[#This Row],[RelatedPQ]],S2PQ[S2PQGUID],0),3),\"\")","v":""}]
[{"$nulls":3},{"$f":"IF(Checklist4810[[#This Row],[SGUID]]=\"\",IF(Checklist4810[[#This Row],[SSGUID]]=\"\",0,1),1)","v":0},"7kVX5cvtYPun0ts8TLlcrd",{"$f":"_xlfn.IFNA(Checklist4810[[#This Row],[RelatedPQ]],\"NA\")","v":"NA"},{"$f":"IF(Checklist4810[[#This Row],[PIGUID]]=\"\",\"\",INDEX(S2PQ_relational[],MATCH(Checklist4810[[#This Row],[PIGUID&NO]],S2PQ_relational[PIGUID & \"NO\"],0),2))","v":{"$error":"#N/A"}},{"$f":"Checklist4810[[#This Row],[PIGUID]]&\"NO\"","v":"7kVX5cvtYPun0ts8TLlcrdNO"},{"$f":"IF(Checklist4810[[#This Row],[PIGUID]]=\"\",\"\",INDEX(PIs[NA Exempt],MATCH(Checklist4810[[#This Row],[PIGUID]],PIs[GUID],0),1))","v":false},{"$f":"IF(Checklist4810[[#This Row],[SGUID]]=\"\",IF(Checklist4810[[#This Row],[SSGUID]]=\"\",IF(Checklist4810[[#This Row],[PIGUID]]=\"\",\"\",INDEX(PIs[[Column1]:[SS]],MATCH(Checklist4810[[#This Row],[PIGUID]],PIs[GUID],0),2)),INDEX(PIs[[Column1]:[SS]],MATCH(Checklist4810[[#This Row],[SSGUID]],PIs[SSGUID],0),18)),INDEX(PIs[[Column1]:[SS]],MATCH(Checklist4810[[#This Row],[SGUID]],PIs[SGUID],0),14))","v":"01.03"},{"$f":"IF(Checklist4810[[#This Row],[SGUID]]=\"\",IF(Checklist4810[[#This Row],[SSGUID]]=\"\",IF(Checklist4810[[#This Row],[PIGUID]]=\"\",\"\",INDEX(PIs[[Column1]:[SS]],MATCH(Checklist4810[[#This Row],[PIGUID]],PIs[GUID],0),4)),INDEX(PIs[[Column1]:[Ssbody]],MATCH(Checklist4810[[#This Row],[SSGUID]],PIs[SSGUID],0),19)),INDEX(PIs[[Column1]:[SS]],MATCH(Checklist4810[[#This Row],[SGUID]],PIs[SGUID],0),15))","v":"The producer does not discriminate or otherwise penalize worker representation, members of trade unions, or other worker organizations because of their membership in or affiliation with legally registered worker organizations."},{"$f":"IF(Checklist4810[[#This Row],[SGUID]]=\"\",IF(Checklist4810[[#This Row],[SSGUID]]=\"\",INDEX(PIs[[Column1]:[SS]],MATCH(Checklist4810[[#This Row],[PIGUID]],PIs[GUID],0),6),\"\"),\"\")","v":"This requirement shall include subcontracted labor while at the farm.\nThe assessor shall know about the worker organizations available locally. \n"},{"$f":"IF(Checklist4810[[#This Row],[SSGUID]]=\"\",IF(Checklist4810[[#This Row],[PIGUID]]=\"\",\"\",INDEX(PIs[[Column1]:[SS]],MATCH(Checklist4810[[#This Row],[PIGUID]],PIs[GUID],0),8)),\"\")","v":"Major Must"},null,null,{"$f":"IF(Checklist4810[[#This Row],[ifna]]=\"NA\",\"\",IF(Checklist4810[[#This Row],[RelatedPQ]]=0,\"\",IF(Checklist4810[[#This Row],[RelatedPQ]]=\"\",\"\",IF((INDEX(S2PQ_relational[],MATCH(Checklist4810[[#This Row],[PIGUID&NO]],S2PQ_relational[PIGUID & \"NO\"],0),1))=Checklist4810[[#This Row],[PIGUID]],\"Not applicable\",\"\"))))","v":""},{"$f":"IF(Checklist4810[[#This Row],[N/A]]=\"Not Applicable\",INDEX(S2PQ[[Step 2  questions]:[Justification]],MATCH(Checklist4810[[#This Row],[RelatedPQ]],S2PQ[S2PQGUID],0),3),\"\")","v":""}]
[{"$nulls":3},{"$f":"IF(Checklist4810[[#This Row],[SGUID]]=\"\",IF(Checklist4810[[#This Row],[SSGUID]]=\"\",0,1),1)","v":0},"3dOIqQzX8pCbXnijvWhzus",{"$f":"_xlfn.IFNA(Checklist4810[[#This Row],[RelatedPQ]],\"NA\")","v":"NA"},{"$f":"IF(Checklist4810[[#This Row],[PIGUID]]=\"\",\"\",INDEX(S2PQ_relational[],MATCH(Checklist4810[[#This Row],[PIGUID&NO]],S2PQ_relational[PIGUID & \"NO\"],0),2))","v":{"$error":"#N/A"}},{"$f":"Checklist4810[[#This Row],[PIGUID]]&\"NO\"","v":"3dOIqQzX8pCbXnijvWhzusNO"},{"$f":"IF(Checklist4810[[#This Row],[PIGUID]]=\"\",\"\",INDEX(PIs[NA Exempt],MATCH(Checklist4810[[#This Row],[PIGUID]],PIs[GUID],0),1))","v":false},{"$f":"IF(Checklist4810[[#This Row],[SGUID]]=\"\",IF(Checklist4810[[#This Row],[SSGUID]]=\"\",IF(Checklist4810[[#This Row],[PIGUID]]=\"\",\"\",INDEX(PIs[[Column1]:[SS]],MATCH(Checklist4810[[#This Row],[PIGUID]],PIs[GUID],0),2)),INDEX(PIs[[Column1]:[SS]],MATCH(Checklist4810[[#This Row],[SSGUID]],PIs[SSGUID],0),18)),INDEX(PIs[[Column1]:[SS]],MATCH(Checklist4810[[#This Row],[SGUID]],PIs[SGUID],0),14))","v":"01.04"},{"$f":"IF(Checklist4810[[#This Row],[SGUID]]=\"\",IF(Checklist4810[[#This Row],[SSGUID]]=\"\",IF(Checklist4810[[#This Row],[PIGUID]]=\"\",\"\",INDEX(PIs[[Column1]:[SS]],MATCH(Checklist4810[[#This Row],[PIGUID]],PIs[GUID],0),4)),INDEX(PIs[[Column1]:[Ssbody]],MATCH(Checklist4810[[#This Row],[SSGUID]],PIs[SSGUID],0),19)),INDEX(PIs[[Column1]:[SS]],MATCH(Checklist4810[[#This Row],[SGUID]],PIs[SGUID],0),15))","v":"The producer allows any worker representation duly registered and duly recognized by the local law access to the workplace to carry out their representative functions in accordance with applicable national legal requirements."},{"$f":"IF(Checklist4810[[#This Row],[SGUID]]=\"\",IF(Checklist4810[[#This Row],[SSGUID]]=\"\",INDEX(PIs[[Column1]:[SS]],MATCH(Checklist4810[[#This Row],[PIGUID]],PIs[GUID],0),6),\"\"),\"\")","v":"This requirement shall include subcontracted labor while at the farm.\n"},{"$f":"IF(Checklist4810[[#This Row],[SSGUID]]=\"\",IF(Checklist4810[[#This Row],[PIGUID]]=\"\",\"\",INDEX(PIs[[Column1]:[SS]],MATCH(Checklist4810[[#This Row],[PIGUID]],PIs[GUID],0),8)),\"\")","v":"Major Must"},null,null,{"$f":"IF(Checklist4810[[#This Row],[ifna]]=\"NA\",\"\",IF(Checklist4810[[#This Row],[RelatedPQ]]=0,\"\",IF(Checklist4810[[#This Row],[RelatedPQ]]=\"\",\"\",IF((INDEX(S2PQ_relational[],MATCH(Checklist4810[[#This Row],[PIGUID&NO]],S2PQ_relational[PIGUID & \"NO\"],0),1))=Checklist4810[[#This Row],[PIGUID]],\"Not applicable\",\"\"))))","v":""},{"$f":"IF(Checklist4810[[#This Row],[N/A]]=\"Not Applicable\",INDEX(S2PQ[[Step 2  questions]:[Justification]],MATCH(Checklist4810[[#This Row],[RelatedPQ]],S2PQ[S2PQGUID],0),3),\"\")","v":""}]
[null,"hQNd2uxITz3h9L5NA0Esq",null,{"$f":"IF(Checklist4810[[#This Row],[SGUID]]=\"\",IF(Checklist4810[[#This Row],[SSGUID]]=\"\",0,1),1)","v":1},null,{"$f":"_xlfn.IFNA(Checklist4810[[#This Row],[RelatedPQ]],\"NA\")","v":""},{"$f":"IF(Checklist4810[[#This Row],[PIGUID]]=\"\",\"\",INDEX(S2PQ_relational[],MATCH(Checklist4810[[#This Row],[PIGUID&NO]],S2PQ_relational[PIGUID & \"NO\"],0),2))","v":""},{"$f":"Checklist4810[[#This Row],[PIGUID]]&\"NO\"","v":"NO"},{"$f":"IF(Checklist4810[[#This Row],[PIGUID]]=\"\",\"\",INDEX(PIs[NA Exempt],MATCH(Checklist4810[[#This Row],[PIGUID]],PIs[GUID],0),1))","v":""},{"$f":"IF(Checklist4810[[#This Row],[SGUID]]=\"\",IF(Checklist4810[[#This Row],[SSGUID]]=\"\",IF(Checklist4810[[#This Row],[PIGUID]]=\"\",\"\",INDEX(PIs[[Column1]:[SS]],MATCH(Checklist4810[[#This Row],[PIGUID]],PIs[GUID],0),2)),INDEX(PIs[[Column1]:[SS]],MATCH(Checklist4810[[#This Row],[SSGUID]],PIs[SSGUID],0),18)),INDEX(PIs[[Column1]:[SS]],MATCH(Checklist4810[[#This Row],[SGUID]],PIs[SGUID],0),14))","v":"GRASP WORKER REPRESENTATION"},{"$f":"IF(Checklist4810[[#This Row],[SGUID]]=\"\",IF(Checklist4810[[#This Row],[SSGUID]]=\"\",IF(Checklist4810[[#This Row],[PIGUID]]=\"\",\"\",INDEX(PIs[[Column1]:[SS]],MATCH(Checklist4810[[#This Row],[PIGUID]],PIs[GUID],0),4)),INDEX(PIs[[Column1]:[Ssbody]],MATCH(Checklist4810[[#This Row],[SSGUID]],PIs[SSGUID],0),19)),INDEX(PIs[[Column1]:[SS]],MATCH(Checklist4810[[#This Row],[SGUID]],PIs[SGUID],0),15))","v":"-"},{"$f":"IF(Checklist4810[[#This Row],[SGUID]]=\"\",IF(Checklist4810[[#This Row],[SSGUID]]=\"\",INDEX(PIs[[Column1]:[SS]],MATCH(Checklist4810[[#This Row],[PIGUID]],PIs[GUID],0),6),\"\"),\"\")","v":""},{"$f":"IF(Checklist4810[[#This Row],[SSGUID]]=\"\",IF(Checklist4810[[#This Row],[PIGUID]]=\"\",\"\",INDEX(PIs[[Column1]:[SS]],MATCH(Checklist4810[[#This Row],[PIGUID]],PIs[GUID],0),8)),\"\")","v":""},null,null,{"$f":"IF(Checklist4810[[#This Row],[ifna]]=\"NA\",\"\",IF(Checklist4810[[#This Row],[RelatedPQ]]=0,\"\",IF(Checklist4810[[#This Row],[RelatedPQ]]=\"\",\"\",IF((INDEX(S2PQ_relational[],MATCH(Checklist4810[[#This Row],[PIGUID&NO]],S2PQ_relational[PIGUID & \"NO\"],0),1))=Checklist4810[[#This Row],[PIGUID]],\"Not applicable\",\"\"))))","v":""},{"$f":"IF(Checklist4810[[#This Row],[N/A]]=\"Not Applicable\",INDEX(S2PQ[[Step 2  questions]:[Justification]],MATCH(Checklist4810[[#This Row],[RelatedPQ]],S2PQ[S2PQGUID],0),3),\"\")","v":""}]
[null,null,"5TvyR0UgB0EOmnMkFaZftX",{"$f":"IF(Checklist4810[[#This Row],[SGUID]]=\"\",IF(Checklist4810[[#This Row],[SSGUID]]=\"\",0,1),1)","v":1},null,{"$f":"_xlfn.IFNA(Checklist4810[[#This Row],[RelatedPQ]],\"NA\")","v":""},{"$f":"IF(Checklist4810[[#This Row],[PIGUID]]=\"\",\"\",INDEX(S2PQ_relational[],MATCH(Checklist4810[[#This Row],[PIGUID&NO]],S2PQ_relational[PIGUID & \"NO\"],0),2))","v":""},{"$f":"Checklist4810[[#This Row],[PIGUID]]&\"NO\"","v":"NO"},{"$f":"IF(Checklist4810[[#This Row],[PIGUID]]=\"\",\"\",INDEX(PIs[NA Exempt],MATCH(Checklist4810[[#This Row],[PIGUID]],PIs[GUID],0),1))","v":""},{"$f":"IF(Checklist4810[[#This Row],[SGUID]]=\"\",IF(Checklist4810[[#This Row],[SSGUID]]=\"\",IF(Checklist4810[[#This Row],[PIGUID]]=\"\",\"\",INDEX(PIs[[Column1]:[SS]],MATCH(Checklist4810[[#This Row],[PIGUID]],PIs[GUID],0),2)),INDEX(PIs[[Column1]:[SS]],MATCH(Checklist4810[[#This Row],[SSGUID]],PIs[SSGUID],0),18)),INDEX(PIs[[Column1]:[SS]],MATCH(Checklist4810[[#This Row],[SGUID]],PIs[SGUID],0),14))","v":"-"},{"$f":"IF(Checklist4810[[#This Row],[SGUID]]=\"\",IF(Checklist4810[[#This Row],[SSGUID]]=\"\",IF(Checklist4810[[#This Row],[PIGUID]]=\"\",\"\",INDEX(PIs[[Column1]:[SS]],MATCH(Checklist4810[[#This Row],[PIGUID]],PIs[GUID],0),4)),INDEX(PIs[[Column1]:[Ssbody]],MATCH(Checklist4810[[#This Row],[SSGUID]],PIs[SSGUID],0),19)),INDEX(PIs[[Column1]:[SS]],MATCH(Checklist4810[[#This Row],[SGUID]],PIs[SGUID],0),15))","v":"-"},{"$f":"IF(Checklist4810[[#This Row],[SGUID]]=\"\",IF(Checklist4810[[#This Row],[SSGUID]]=\"\",INDEX(PIs[[Column1]:[SS]],MATCH(Checklist4810[[#This Row],[PIGUID]],PIs[GUID],0),6),\"\"),\"\")","v":""},{"$f":"IF(Checklist4810[[#This Row],[SSGUID]]=\"\",IF(Checklist4810[[#This Row],[PIGUID]]=\"\",\"\",INDEX(PIs[[Column1]:[SS]],MATCH(Checklist4810[[#This Row],[PIGUID]],PIs[GUID],0),8)),\"\")","v":""},null,null,{"$f":"IF(Checklist4810[[#This Row],[ifna]]=\"NA\",\"\",IF(Checklist4810[[#This Row],[RelatedPQ]]=0,\"\",IF(Checklist4810[[#This Row],[RelatedPQ]]=\"\",\"\",IF((INDEX(S2PQ_relational[],MATCH(Checklist4810[[#This Row],[PIGUID&NO]],S2PQ_relational[PIGUID & \"NO\"],0),1))=Checklist4810[[#This Row],[PIGUID]],\"Not applicable\",\"\"))))","v":""},{"$f":"IF(Checklist4810[[#This Row],[N/A]]=\"Not Applicable\",INDEX(S2PQ[[Step 2  questions]:[Justification]],MATCH(Checklist4810[[#This Row],[RelatedPQ]],S2PQ[S2PQGUID],0),3),\"\")","v":""}]
[{"$nulls":3},{"$f":"IF(Checklist4810[[#This Row],[SGUID]]=\"\",IF(Checklist4810[[#This Row],[SSGUID]]=\"\",0,1),1)","v":0},"6rtaRMxnDqpmX3MNNT0YX4",{"$f":"_xlfn.IFNA(Checklist4810[[#This Row],[RelatedPQ]],\"NA\")","v":"NA"},{"$f":"IF(Checklist4810[[#This Row],[PIGUID]]=\"\",\"\",INDEX(S2PQ_relational[],MATCH(Checklist4810[[#This Row],[PIGUID&NO]],S2PQ_relational[PIGUID & \"NO\"],0),2))","v":{"$error":"#N/A"}},{"$f":"Checklist4810[[#This Row],[PIGUID]]&\"NO\"","v":"6rtaRMxnDqpmX3MNNT0YX4NO"},{"$f":"IF(Checklist4810[[#This Row],[PIGUID]]=\"\",\"\",INDEX(PIs[NA Exempt],MATCH(Checklist4810[[#This Row],[PIGUID]],PIs[GUID],0),1))","v":false},{"$f":"IF(Checklist4810[[#This Row],[SGUID]]=\"\",IF(Checklist4810[[#This Row],[SSGUID]]=\"\",IF(Checklist4810[[#This Row],[PIGUID]]=\"\",\"\",INDEX(PIs[[Column1]:[SS]],MATCH(Checklist4810[[#This Row],[PIGUID]],PIs[GUID],0),2)),INDEX(PIs[[Column1]:[SS]],MATCH(Checklist4810[[#This Row],[SSGUID]],PIs[SSGUID],0),18)),INDEX(PIs[[Column1]:[SS]],MATCH(Checklist4810[[#This Row],[SGUID]],PIs[SGUID],0),14))","v":"02.01"},{"$f":"IF(Checklist4810[[#This Row],[SGUID]]=\"\",IF(Checklist4810[[#This Row],[SSGUID]]=\"\",IF(Checklist4810[[#This Row],[PIGUID]]=\"\",\"\",INDEX(PIs[[Column1]:[SS]],MATCH(Checklist4810[[#This Row],[PIGUID]],PIs[GUID],0),4)),INDEX(PIs[[Column1]:[Ssbody]],MATCH(Checklist4810[[#This Row],[SSGUID]],PIs[SSGUID],0),19)),INDEX(PIs[[Column1]:[SS]],MATCH(Checklist4810[[#This Row],[SGUID]],PIs[SGUID],0),15))","v":"Current workers have decided on appropriate representation to help assess, communicate, and monitor their interests before the producer."},{"$f":"IF(Checklist4810[[#This Row],[SGUID]]=\"\",IF(Checklist4810[[#This Row],[SSGUID]]=\"\",INDEX(PIs[[Column1]:[SS]],MATCH(Checklist4810[[#This Row],[PIGUID]],PIs[GUID],0),6),\"\"),\"\")","v":"Possible types of decision: \n1. Using the same form of representation as in the previous production cycle\n2. Using the representative(s) of a trade union organization representing workers, works councils, or collective organizations (if legally possible)\n3. Using a newly chosen form of representation\n4. Deciding not to have collective representation\nThe representation can be: \n- A person or group of persons\n- A representative of a collective labor organization legally active at the farm: a trade union representative, a delegate, work councils, or any other form operating legally\n- Any other form that provides opportunity to the workers to raise their voice (e.g., a documented, regularly repeated meeting organized and led by the workers to discuss issues) \n- A management GRASP liaison: \na. If a producer only operates with subcontracted labor or \nb. If workers decide against all of the options above and individually self-represent before management, or\nc. If workers of producers with five or fewer workers during a production year decide not to have a collective representation, a written declaration shall be provided by the workers, and the producer (or supervisory staff) shall take the role of the GRASP liaison\nThe representation is appropriate if\n- The decision has taken place in the ongoing year or production period and\n- It consists of workers currently hired and present at the farm"},{"$f":"IF(Checklist4810[[#This Row],[SSGUID]]=\"\",IF(Checklist4810[[#This Row],[PIGUID]]=\"\",\"\",INDEX(PIs[[Column1]:[SS]],MATCH(Checklist4810[[#This Row],[PIGUID]],PIs[GUID],0),8)),\"\")","v":"Major Must"},null,null,{"$f":"IF(Checklist4810[[#This Row],[ifna]]=\"NA\",\"\",IF(Checklist4810[[#This Row],[RelatedPQ]]=0,\"\",IF(Checklist4810[[#This Row],[RelatedPQ]]=\"\",\"\",IF((INDEX(S2PQ_relational[],MATCH(Checklist4810[[#This Row],[PIGUID&NO]],S2PQ_relational[PIGUID & \"NO\"],0),1))=Checklist4810[[#This Row],[PIGUID]],\"Not applicable\",\"\"))))","v":""},{"$f":"IF(Checklist4810[[#This Row],[N/A]]=\"Not Applicable\",INDEX(S2PQ[[Step 2  questions]:[Justification]],MATCH(Checklist4810[[#This Row],[RelatedPQ]],S2PQ[S2PQGUID],0),3),\"\")","v":""}]
[{"$nulls":3},{"$f":"IF(Checklist4810[[#This Row],[SGUID]]=\"\",IF(Checklist4810[[#This Row],[SSGUID]]=\"\",0,1),1)","v":0},"3vKz1XeHl2F8VNaaUrDMUl",{"$f":"_xlfn.IFNA(Checklist4810[[#This Row],[RelatedPQ]],\"NA\")","v":"NA"},{"$f":"IF(Checklist4810[[#This Row],[PIGUID]]=\"\",\"\",INDEX(S2PQ_relational[],MATCH(Checklist4810[[#This Row],[PIGUID&NO]],S2PQ_relational[PIGUID & \"NO\"],0),2))","v":{"$error":"#N/A"}},{"$f":"Checklist4810[[#This Row],[PIGUID]]&\"NO\"","v":"3vKz1XeHl2F8VNaaUrDMUlNO"},{"$f":"IF(Checklist4810[[#This Row],[PIGUID]]=\"\",\"\",INDEX(PIs[NA Exempt],MATCH(Checklist4810[[#This Row],[PIGUID]],PIs[GUID],0),1))","v":false},{"$f":"IF(Checklist4810[[#This Row],[SGUID]]=\"\",IF(Checklist4810[[#This Row],[SSGUID]]=\"\",IF(Checklist4810[[#This Row],[PIGUID]]=\"\",\"\",INDEX(PIs[[Column1]:[SS]],MATCH(Checklist4810[[#This Row],[PIGUID]],PIs[GUID],0),2)),INDEX(PIs[[Column1]:[SS]],MATCH(Checklist4810[[#This Row],[SSGUID]],PIs[SSGUID],0),18)),INDEX(PIs[[Column1]:[SS]],MATCH(Checklist4810[[#This Row],[SGUID]],PIs[SGUID],0),14))","v":"02.02"},{"$f":"IF(Checklist4810[[#This Row],[SGUID]]=\"\",IF(Checklist4810[[#This Row],[SSGUID]]=\"\",IF(Checklist4810[[#This Row],[PIGUID]]=\"\",\"\",INDEX(PIs[[Column1]:[SS]],MATCH(Checklist4810[[#This Row],[PIGUID]],PIs[GUID],0),4)),INDEX(PIs[[Column1]:[Ssbody]],MATCH(Checklist4810[[#This Row],[SSGUID]],PIs[SSGUID],0),19)),INDEX(PIs[[Column1]:[SS]],MATCH(Checklist4810[[#This Row],[SGUID]],PIs[SGUID],0),15))","v":"After the workers reach a decision on the representation, the composition and type of the worker representation is communicated by management to the current workers. "},{"$f":"IF(Checklist4810[[#This Row],[SGUID]]=\"\",IF(Checklist4810[[#This Row],[SSGUID]]=\"\",INDEX(PIs[[Column1]:[SS]],MATCH(Checklist4810[[#This Row],[PIGUID]],PIs[GUID],0),6),\"\"),\"\")","v":"The term “communicated” shall require that information is always available in the predominant language(s) of the workforce and/or pictograms (especially for workers who cannot read), e.g., farm sign boards, handouts given directly to workers/subcontractors (evidence of accessibility of handouts shall be presented).\nInformation to be communicated shall include names and whereabouts during working hours of the worker representation.\nWhere applicable, the producer shall communicate the name and contact of the management GRASP liaison.\nIf a producer operates only with subcontracted labor, a management GRASP liaison shall be designated."},{"$f":"IF(Checklist4810[[#This Row],[SSGUID]]=\"\",IF(Checklist4810[[#This Row],[PIGUID]]=\"\",\"\",INDEX(PIs[[Column1]:[SS]],MATCH(Checklist4810[[#This Row],[PIGUID]],PIs[GUID],0),8)),\"\")","v":"Major Must"},null,null,{"$f":"IF(Checklist4810[[#This Row],[ifna]]=\"NA\",\"\",IF(Checklist4810[[#This Row],[RelatedPQ]]=0,\"\",IF(Checklist4810[[#This Row],[RelatedPQ]]=\"\",\"\",IF((INDEX(S2PQ_relational[],MATCH(Checklist4810[[#This Row],[PIGUID&NO]],S2PQ_relational[PIGUID & \"NO\"],0),1))=Checklist4810[[#This Row],[PIGUID]],\"Not applicable\",\"\"))))","v":""},{"$f":"IF(Checklist4810[[#This Row],[N/A]]=\"Not Applicable\",INDEX(S2PQ[[Step 2  questions]:[Justification]],MATCH(Checklist4810[[#This Row],[RelatedPQ]],S2PQ[S2PQGUID],0),3),\"\")","v":""}]
[{"$nulls":3},{"$f":"IF(Checklist4810[[#This Row],[SGUID]]=\"\",IF(Checklist4810[[#This Row],[SSGUID]]=\"\",0,1),1)","v":0},"01v2H3qr0AtPFmXMU5RXew",{"$f":"_xlfn.IFNA(Checklist4810[[#This Row],[RelatedPQ]],\"NA\")","v":"NA"},{"$f":"IF(Checklist4810[[#This Row],[PIGUID]]=\"\",\"\",INDEX(S2PQ_relational[],MATCH(Checklist4810[[#This Row],[PIGUID&NO]],S2PQ_relational[PIGUID & \"NO\"],0),2))","v":{"$error":"#N/A"}},{"$f":"Checklist4810[[#This Row],[PIGUID]]&\"NO\"","v":"01v2H3qr0AtPFmXMU5RXewNO"},{"$f":"IF(Checklist4810[[#This Row],[PIGUID]]=\"\",\"\",INDEX(PIs[NA Exempt],MATCH(Checklist4810[[#This Row],[PIGUID]],PIs[GUID],0),1))","v":false},{"$f":"IF(Checklist4810[[#This Row],[SGUID]]=\"\",IF(Checklist4810[[#This Row],[SSGUID]]=\"\",IF(Checklist4810[[#This Row],[PIGUID]]=\"\",\"\",INDEX(PIs[[Column1]:[SS]],MATCH(Checklist4810[[#This Row],[PIGUID]],PIs[GUID],0),2)),INDEX(PIs[[Column1]:[SS]],MATCH(Checklist4810[[#This Row],[SSGUID]],PIs[SSGUID],0),18)),INDEX(PIs[[Column1]:[SS]],MATCH(Checklist4810[[#This Row],[SGUID]],PIs[SGUID],0),14))","v":"02.03"},{"$f":"IF(Checklist4810[[#This Row],[SGUID]]=\"\",IF(Checklist4810[[#This Row],[SSGUID]]=\"\",IF(Checklist4810[[#This Row],[PIGUID]]=\"\",\"\",INDEX(PIs[[Column1]:[SS]],MATCH(Checklist4810[[#This Row],[PIGUID]],PIs[GUID],0),4)),INDEX(PIs[[Column1]:[Ssbody]],MATCH(Checklist4810[[#This Row],[SSGUID]],PIs[SSGUID],0),19)),INDEX(PIs[[Column1]:[SS]],MATCH(Checklist4810[[#This Row],[SGUID]],PIs[SGUID],0),15))","v":"The producer ensures that worker representation is decided during the time with the highest presence of workers at the farm. "},{"$f":"IF(Checklist4810[[#This Row],[SGUID]]=\"\",IF(Checklist4810[[#This Row],[SSGUID]]=\"\",INDEX(PIs[[Column1]:[SS]],MATCH(Checklist4810[[#This Row],[PIGUID]],PIs[GUID],0),6),\"\"),\"\")","v":"The term “highest presence” shall require that the decision process take place during the most recent peak season or harvest period. If most workers are not present at those times, the decision process shall at least take place during the time when the highest number of workers is present during activities registered under GLOBALG.A.P. Integrated Farm Assurance (IFA).\nThe phrase “the producer ensures” shall cover, e.g., providing guidance, motivating workers, facilitating time and place during working hours, providing information on the role of representation, offering breaks without payment reduction, granting paid working time to participate in the meetings."},{"$f":"IF(Checklist4810[[#This Row],[SSGUID]]=\"\",IF(Checklist4810[[#This Row],[PIGUID]]=\"\",\"\",INDEX(PIs[[Column1]:[SS]],MATCH(Checklist4810[[#This Row],[PIGUID]],PIs[GUID],0),8)),\"\")","v":"Minor Must"},null,null,{"$f":"IF(Checklist4810[[#This Row],[ifna]]=\"NA\",\"\",IF(Checklist4810[[#This Row],[RelatedPQ]]=0,\"\",IF(Checklist4810[[#This Row],[RelatedPQ]]=\"\",\"\",IF((INDEX(S2PQ_relational[],MATCH(Checklist4810[[#This Row],[PIGUID&NO]],S2PQ_relational[PIGUID & \"NO\"],0),1))=Checklist4810[[#This Row],[PIGUID]],\"Not applicable\",\"\"))))","v":""},{"$f":"IF(Checklist4810[[#This Row],[N/A]]=\"Not Applicable\",INDEX(S2PQ[[Step 2  questions]:[Justification]],MATCH(Checklist4810[[#This Row],[RelatedPQ]],S2PQ[S2PQGUID],0),3),\"\")","v":""}]
[{"$nulls":3},{"$f":"IF(Checklist4810[[#This Row],[SGUID]]=\"\",IF(Checklist4810[[#This Row],[SSGUID]]=\"\",0,1),1)","v":0},"6p9JXzwRhZyGTbr6ztZQwa",{"$f":"_xlfn.IFNA(Checklist4810[[#This Row],[RelatedPQ]],\"NA\")","v":"NA"},{"$f":"IF(Checklist4810[[#This Row],[PIGUID]]=\"\",\"\",INDEX(S2PQ_relational[],MATCH(Checklist4810[[#This Row],[PIGUID&NO]],S2PQ_relational[PIGUID & \"NO\"],0),2))","v":{"$error":"#N/A"}},{"$f":"Checklist4810[[#This Row],[PIGUID]]&\"NO\"","v":"6p9JXzwRhZyGTbr6ztZQwaNO"},{"$f":"IF(Checklist4810[[#This Row],[PIGUID]]=\"\",\"\",INDEX(PIs[NA Exempt],MATCH(Checklist4810[[#This Row],[PIGUID]],PIs[GUID],0),1))","v":false},{"$f":"IF(Checklist4810[[#This Row],[SGUID]]=\"\",IF(Checklist4810[[#This Row],[SSGUID]]=\"\",IF(Checklist4810[[#This Row],[PIGUID]]=\"\",\"\",INDEX(PIs[[Column1]:[SS]],MATCH(Checklist4810[[#This Row],[PIGUID]],PIs[GUID],0),2)),INDEX(PIs[[Column1]:[SS]],MATCH(Checklist4810[[#This Row],[SSGUID]],PIs[SSGUID],0),18)),INDEX(PIs[[Column1]:[SS]],MATCH(Checklist4810[[#This Row],[SGUID]],PIs[SGUID],0),14))","v":"02.04"},{"$f":"IF(Checklist4810[[#This Row],[SGUID]]=\"\",IF(Checklist4810[[#This Row],[SSGUID]]=\"\",IF(Checklist4810[[#This Row],[PIGUID]]=\"\",\"\",INDEX(PIs[[Column1]:[SS]],MATCH(Checklist4810[[#This Row],[PIGUID]],PIs[GUID],0),4)),INDEX(PIs[[Column1]:[Ssbody]],MATCH(Checklist4810[[#This Row],[SSGUID]],PIs[SSGUID],0),19)),INDEX(PIs[[Column1]:[SS]],MATCH(Checklist4810[[#This Row],[SGUID]],PIs[SGUID],0),15))","v":"The worker representation/management liaison has been instructed on their role, duties, and rights within GRASP."},{"$f":"IF(Checklist4810[[#This Row],[SGUID]]=\"\",IF(Checklist4810[[#This Row],[SSGUID]]=\"\",INDEX(PIs[[Column1]:[SS]],MATCH(Checklist4810[[#This Row],[PIGUID]],PIs[GUID],0),6),\"\"),\"\")","v":"The main role, duties, and rights shall include providing information on the complaint process to all workers, meeting with workers, sharing information from management, and facilitating contact with the different labor unions accessible to the workers and contact with the local labor authorities."},{"$f":"IF(Checklist4810[[#This Row],[SSGUID]]=\"\",IF(Checklist4810[[#This Row],[PIGUID]]=\"\",\"\",INDEX(PIs[[Column1]:[SS]],MATCH(Checklist4810[[#This Row],[PIGUID]],PIs[GUID],0),8)),\"\")","v":"Major Must"},null,null,{"$f":"IF(Checklist4810[[#This Row],[ifna]]=\"NA\",\"\",IF(Checklist4810[[#This Row],[RelatedPQ]]=0,\"\",IF(Checklist4810[[#This Row],[RelatedPQ]]=\"\",\"\",IF((INDEX(S2PQ_relational[],MATCH(Checklist4810[[#This Row],[PIGUID&NO]],S2PQ_relational[PIGUID & \"NO\"],0),1))=Checklist4810[[#This Row],[PIGUID]],\"Not applicable\",\"\"))))","v":""},{"$f":"IF(Checklist4810[[#This Row],[N/A]]=\"Not Applicable\",INDEX(S2PQ[[Step 2  questions]:[Justification]],MATCH(Checklist4810[[#This Row],[RelatedPQ]],S2PQ[S2PQGUID],0),3),\"\")","v":""}]
[{"$nulls":3},{"$f":"IF(Checklist4810[[#This Row],[SGUID]]=\"\",IF(Checklist4810[[#This Row],[SSGUID]]=\"\",0,1),1)","v":0},"504jxiMLX4m1KEs5eytNfX",{"$f":"_xlfn.IFNA(Checklist4810[[#This Row],[RelatedPQ]],\"NA\")","v":"NA"},{"$f":"IF(Checklist4810[[#This Row],[PIGUID]]=\"\",\"\",INDEX(S2PQ_relational[],MATCH(Checklist4810[[#This Row],[PIGUID&NO]],S2PQ_relational[PIGUID & \"NO\"],0),2))","v":{"$error":"#N/A"}},{"$f":"Checklist4810[[#This Row],[PIGUID]]&\"NO\"","v":"504jxiMLX4m1KEs5eytNfXNO"},{"$f":"IF(Checklist4810[[#This Row],[PIGUID]]=\"\",\"\",INDEX(PIs[NA Exempt],MATCH(Checklist4810[[#This Row],[PIGUID]],PIs[GUID],0),1))","v":false},{"$f":"IF(Checklist4810[[#This Row],[SGUID]]=\"\",IF(Checklist4810[[#This Row],[SSGUID]]=\"\",IF(Checklist4810[[#This Row],[PIGUID]]=\"\",\"\",INDEX(PIs[[Column1]:[SS]],MATCH(Checklist4810[[#This Row],[PIGUID]],PIs[GUID],0),2)),INDEX(PIs[[Column1]:[SS]],MATCH(Checklist4810[[#This Row],[SSGUID]],PIs[SSGUID],0),18)),INDEX(PIs[[Column1]:[SS]],MATCH(Checklist4810[[#This Row],[SGUID]],PIs[SGUID],0),14))","v":"02.05"},{"$f":"IF(Checklist4810[[#This Row],[SGUID]]=\"\",IF(Checklist4810[[#This Row],[SSGUID]]=\"\",IF(Checklist4810[[#This Row],[PIGUID]]=\"\",\"\",INDEX(PIs[[Column1]:[SS]],MATCH(Checklist4810[[#This Row],[PIGUID]],PIs[GUID],0),4)),INDEX(PIs[[Column1]:[Ssbody]],MATCH(Checklist4810[[#This Row],[SSGUID]],PIs[SSGUID],0),19)),INDEX(PIs[[Column1]:[SS]],MATCH(Checklist4810[[#This Row],[SGUID]],PIs[SGUID],0),15))","v":"Workers, their representation, and the producer hold monthly gatherings on issues related to GRASP during the time with the highest presence of workers."},{"$f":"IF(Checklist4810[[#This Row],[SGUID]]=\"\",IF(Checklist4810[[#This Row],[SSGUID]]=\"\",INDEX(PIs[[Column1]:[SS]],MATCH(Checklist4810[[#This Row],[PIGUID]],PIs[GUID],0),6),\"\"),\"\")","v":"The term “highest presence” of workers shall require that the gatherings take place during the most recent peak season or harvest period. If most workers are not present at those times, the gatherings shall take place at least once during the time when the highest number of workers is present during activities registered under IFA.\nIf the highest presence of workers occurs during seven weeks or less, compliance with the requirement for monthly meetings can be met with one meeting during the seven weeks.\nFor a management GRASP liaison, workers shall meet monthly with the management liaison.\nGatherings may take the form of meetings or quick conversations where information is exchanged, provided workers can speak/ask freely. As conditions allow that the gatherings can take place in a single group, smaller groups, or one-to-one sessions.\nDiscussion of issues related to GRASP shall include at least:\n- Information on schedules, wages, changes in labor conditions, and any other working condition of interest to the workers\n- Information on the producer’s human rights policy\n- The importance of the complaint process and how to use it \n- Important local contacts (e.g., governmental labor office or local labor authorities, local trade unions, ombudspersons, etc.)"},{"$f":"IF(Checklist4810[[#This Row],[SSGUID]]=\"\",IF(Checklist4810[[#This Row],[PIGUID]]=\"\",\"\",INDEX(PIs[[Column1]:[SS]],MATCH(Checklist4810[[#This Row],[PIGUID]],PIs[GUID],0),8)),\"\")","v":"Minor Must"},null,null,{"$f":"IF(Checklist4810[[#This Row],[ifna]]=\"NA\",\"\",IF(Checklist4810[[#This Row],[RelatedPQ]]=0,\"\",IF(Checklist4810[[#This Row],[RelatedPQ]]=\"\",\"\",IF((INDEX(S2PQ_relational[],MATCH(Checklist4810[[#This Row],[PIGUID&NO]],S2PQ_relational[PIGUID & \"NO\"],0),1))=Checklist4810[[#This Row],[PIGUID]],\"Not applicable\",\"\"))))","v":""},{"$f":"IF(Checklist4810[[#This Row],[N/A]]=\"Not Applicable\",INDEX(S2PQ[[Step 2  questions]:[Justification]],MATCH(Checklist4810[[#This Row],[RelatedPQ]],S2PQ[S2PQGUID],0),3),\"\")","v":""}]
[null,"7M8kd0W9wjpA8V5QSHHaVd",null,{"$f":"IF(Checklist4810[[#This Row],[SGUID]]=\"\",IF(Checklist4810[[#This Row],[SSGUID]]=\"\",0,1),1)","v":1},null,{"$f":"_xlfn.IFNA(Checklist4810[[#This Row],[RelatedPQ]],\"NA\")","v":""},{"$f":"IF(Checklist4810[[#This Row],[PIGUID]]=\"\",\"\",INDEX(S2PQ_relational[],MATCH(Checklist4810[[#This Row],[PIGUID&NO]],S2PQ_relational[PIGUID & \"NO\"],0),2))","v":""},{"$f":"Checklist4810[[#This Row],[PIGUID]]&\"NO\"","v":"NO"},{"$f":"IF(Checklist4810[[#This Row],[PIGUID]]=\"\",\"\",INDEX(PIs[NA Exempt],MATCH(Checklist4810[[#This Row],[PIGUID]],PIs[GUID],0),1))","v":""},{"$f":"IF(Checklist4810[[#This Row],[SGUID]]=\"\",IF(Checklist4810[[#This Row],[SSGUID]]=\"\",IF(Checklist4810[[#This Row],[PIGUID]]=\"\",\"\",INDEX(PIs[[Column1]:[SS]],MATCH(Checklist4810[[#This Row],[PIGUID]],PIs[GUID],0),2)),INDEX(PIs[[Column1]:[SS]],MATCH(Checklist4810[[#This Row],[SSGUID]],PIs[SSGUID],0),18)),INDEX(PIs[[Column1]:[SS]],MATCH(Checklist4810[[#This Row],[SGUID]],PIs[SGUID],0),14))","v":"COMPLAINT PROCESS"},{"$f":"IF(Checklist4810[[#This Row],[SGUID]]=\"\",IF(Checklist4810[[#This Row],[SSGUID]]=\"\",IF(Checklist4810[[#This Row],[PIGUID]]=\"\",\"\",INDEX(PIs[[Column1]:[SS]],MATCH(Checklist4810[[#This Row],[PIGUID]],PIs[GUID],0),4)),INDEX(PIs[[Column1]:[Ssbody]],MATCH(Checklist4810[[#This Row],[SSGUID]],PIs[SSGUID],0),19)),INDEX(PIs[[Column1]:[SS]],MATCH(Checklist4810[[#This Row],[SGUID]],PIs[SGUID],0),15))","v":"-"},{"$f":"IF(Checklist4810[[#This Row],[SGUID]]=\"\",IF(Checklist4810[[#This Row],[SSGUID]]=\"\",INDEX(PIs[[Column1]:[SS]],MATCH(Checklist4810[[#This Row],[PIGUID]],PIs[GUID],0),6),\"\"),\"\")","v":""},{"$f":"IF(Checklist4810[[#This Row],[SSGUID]]=\"\",IF(Checklist4810[[#This Row],[PIGUID]]=\"\",\"\",INDEX(PIs[[Column1]:[SS]],MATCH(Checklist4810[[#This Row],[PIGUID]],PIs[GUID],0),8)),\"\")","v":""},null,null,{"$f":"IF(Checklist4810[[#This Row],[ifna]]=\"NA\",\"\",IF(Checklist4810[[#This Row],[RelatedPQ]]=0,\"\",IF(Checklist4810[[#This Row],[RelatedPQ]]=\"\",\"\",IF((INDEX(S2PQ_relational[],MATCH(Checklist4810[[#This Row],[PIGUID&NO]],S2PQ_relational[PIGUID & \"NO\"],0),1))=Checklist4810[[#This Row],[PIGUID]],\"Not applicable\",\"\"))))","v":""},{"$f":"IF(Checklist4810[[#This Row],[N/A]]=\"Not Applicable\",INDEX(S2PQ[[Step 2  questions]:[Justification]],MATCH(Checklist4810[[#This Row],[RelatedPQ]],S2PQ[S2PQGUID],0),3),\"\")","v":""}]
[null,null,"5TvyR0UgB0EOmnMkFaZftX",{"$f":"IF(Checklist4810[[#This Row],[SGUID]]=\"\",IF(Checklist4810[[#This Row],[SSGUID]]=\"\",0,1),1)","v":1},null,{"$f":"_xlfn.IFNA(Checklist4810[[#This Row],[RelatedPQ]],\"NA\")","v":""},{"$f":"IF(Checklist4810[[#This Row],[PIGUID]]=\"\",\"\",INDEX(S2PQ_relational[],MATCH(Checklist4810[[#This Row],[PIGUID&NO]],S2PQ_relational[PIGUID & \"NO\"],0),2))","v":""},{"$f":"Checklist4810[[#This Row],[PIGUID]]&\"NO\"","v":"NO"},{"$f":"IF(Checklist4810[[#This Row],[PIGUID]]=\"\",\"\",INDEX(PIs[NA Exempt],MATCH(Checklist4810[[#This Row],[PIGUID]],PIs[GUID],0),1))","v":""},{"$f":"IF(Checklist4810[[#This Row],[SGUID]]=\"\",IF(Checklist4810[[#This Row],[SSGUID]]=\"\",IF(Checklist4810[[#This Row],[PIGUID]]=\"\",\"\",INDEX(PIs[[Column1]:[SS]],MATCH(Checklist4810[[#This Row],[PIGUID]],PIs[GUID],0),2)),INDEX(PIs[[Column1]:[SS]],MATCH(Checklist4810[[#This Row],[SSGUID]],PIs[SSGUID],0),18)),INDEX(PIs[[Column1]:[SS]],MATCH(Checklist4810[[#This Row],[SGUID]],PIs[SGUID],0),14))","v":"-"},{"$f":"IF(Checklist4810[[#This Row],[SGUID]]=\"\",IF(Checklist4810[[#This Row],[SSGUID]]=\"\",IF(Checklist4810[[#This Row],[PIGUID]]=\"\",\"\",INDEX(PIs[[Column1]:[SS]],MATCH(Checklist4810[[#This Row],[PIGUID]],PIs[GUID],0),4)),INDEX(PIs[[Column1]:[Ssbody]],MATCH(Checklist4810[[#This Row],[SSGUID]],PIs[SSGUID],0),19)),INDEX(PIs[[Column1]:[SS]],MATCH(Checklist4810[[#This Row],[SGUID]],PIs[SGUID],0),15))","v":"-"},{"$f":"IF(Checklist4810[[#This Row],[SGUID]]=\"\",IF(Checklist4810[[#This Row],[SSGUID]]=\"\",INDEX(PIs[[Column1]:[SS]],MATCH(Checklist4810[[#This Row],[PIGUID]],PIs[GUID],0),6),\"\"),\"\")","v":""},{"$f":"IF(Checklist4810[[#This Row],[SSGUID]]=\"\",IF(Checklist4810[[#This Row],[PIGUID]]=\"\",\"\",INDEX(PIs[[Column1]:[SS]],MATCH(Checklist4810[[#This Row],[PIGUID]],PIs[GUID],0),8)),\"\")","v":""},null,null,{"$f":"IF(Checklist4810[[#This Row],[ifna]]=\"NA\",\"\",IF(Checklist4810[[#This Row],[RelatedPQ]]=0,\"\",IF(Checklist4810[[#This Row],[RelatedPQ]]=\"\",\"\",IF((INDEX(S2PQ_relational[],MATCH(Checklist4810[[#This Row],[PIGUID&NO]],S2PQ_relational[PIGUID & \"NO\"],0),1))=Checklist4810[[#This Row],[PIGUID]],\"Not applicable\",\"\"))))","v":""},{"$f":"IF(Checklist4810[[#This Row],[N/A]]=\"Not Applicable\",INDEX(S2PQ[[Step 2  questions]:[Justification]],MATCH(Checklist4810[[#This Row],[RelatedPQ]],S2PQ[S2PQGUID],0),3),\"\")","v":""}]
[{"$nulls":3},{"$f":"IF(Checklist4810[[#This Row],[SGUID]]=\"\",IF(Checklist4810[[#This Row],[SSGUID]]=\"\",0,1),1)","v":0},"5m0BI5wZuoNOyDPYCiX3Xe",{"$f":"_xlfn.IFNA(Checklist4810[[#This Row],[RelatedPQ]],\"NA\")","v":"NA"},{"$f":"IF(Checklist4810[[#This Row],[PIGUID]]=\"\",\"\",INDEX(S2PQ_relational[],MATCH(Checklist4810[[#This Row],[PIGUID&NO]],S2PQ_relational[PIGUID & \"NO\"],0),2))","v":{"$error":"#N/A"}},{"$f":"Checklist4810[[#This Row],[PIGUID]]&\"NO\"","v":"5m0BI5wZuoNOyDPYCiX3XeNO"},{"$f":"IF(Checklist4810[[#This Row],[PIGUID]]=\"\",\"\",INDEX(PIs[NA Exempt],MATCH(Checklist4810[[#This Row],[PIGUID]],PIs[GUID],0),1))","v":false},{"$f":"IF(Checklist4810[[#This Row],[SGUID]]=\"\",IF(Checklist4810[[#This Row],[SSGUID]]=\"\",IF(Checklist4810[[#This Row],[PIGUID]]=\"\",\"\",INDEX(PIs[[Column1]:[SS]],MATCH(Checklist4810[[#This Row],[PIGUID]],PIs[GUID],0),2)),INDEX(PIs[[Column1]:[SS]],MATCH(Checklist4810[[#This Row],[SSGUID]],PIs[SSGUID],0),18)),INDEX(PIs[[Column1]:[SS]],MATCH(Checklist4810[[#This Row],[SGUID]],PIs[SGUID],0),14))","v":"03.01"},{"$f":"IF(Checklist4810[[#This Row],[SGUID]]=\"\",IF(Checklist4810[[#This Row],[SSGUID]]=\"\",IF(Checklist4810[[#This Row],[PIGUID]]=\"\",\"\",INDEX(PIs[[Column1]:[SS]],MATCH(Checklist4810[[#This Row],[PIGUID]],PIs[GUID],0),4)),INDEX(PIs[[Column1]:[Ssbody]],MATCH(Checklist4810[[#This Row],[SSGUID]],PIs[SSGUID],0),19)),INDEX(PIs[[Column1]:[SS]],MATCH(Checklist4810[[#This Row],[SGUID]],PIs[SGUID],0),15))","v":"A confidential complaint process is available to be used by all workers free of any retaliation or penalty."},{"$f":"IF(Checklist4810[[#This Row],[SGUID]]=\"\",IF(Checklist4810[[#This Row],[SSGUID]]=\"\",INDEX(PIs[[Column1]:[SS]],MATCH(Checklist4810[[#This Row],[PIGUID]],PIs[GUID],0),6),\"\"),\"\")","v":"The process shall be simple and available to all hired and/or subcontracted labor.\nThe process shall be available in the predominant language(s) of the workforce and/or pictograms.\nThe process shall also cover verbal complaints that can be sorted out immediately with a personal conversation/meeting conducted in a language understood by the worker."},{"$f":"IF(Checklist4810[[#This Row],[SSGUID]]=\"\",IF(Checklist4810[[#This Row],[PIGUID]]=\"\",\"\",INDEX(PIs[[Column1]:[SS]],MATCH(Checklist4810[[#This Row],[PIGUID]],PIs[GUID],0),8)),\"\")","v":"Major Must"},null,null,{"$f":"IF(Checklist4810[[#This Row],[ifna]]=\"NA\",\"\",IF(Checklist4810[[#This Row],[RelatedPQ]]=0,\"\",IF(Checklist4810[[#This Row],[RelatedPQ]]=\"\",\"\",IF((INDEX(S2PQ_relational[],MATCH(Checklist4810[[#This Row],[PIGUID&NO]],S2PQ_relational[PIGUID & \"NO\"],0),1))=Checklist4810[[#This Row],[PIGUID]],\"Not applicable\",\"\"))))","v":""},{"$f":"IF(Checklist4810[[#This Row],[N/A]]=\"Not Applicable\",INDEX(S2PQ[[Step 2  questions]:[Justification]],MATCH(Checklist4810[[#This Row],[RelatedPQ]],S2PQ[S2PQGUID],0),3),\"\")","v":""}]
[{"$nulls":3},{"$f":"IF(Checklist4810[[#This Row],[SGUID]]=\"\",IF(Checklist4810[[#This Row],[SSGUID]]=\"\",0,1),1)","v":0},"6NzSDV2IsFOtacEOaj13Gl",{"$f":"_xlfn.IFNA(Checklist4810[[#This Row],[RelatedPQ]],\"NA\")","v":"NA"},{"$f":"IF(Checklist4810[[#This Row],[PIGUID]]=\"\",\"\",INDEX(S2PQ_relational[],MATCH(Checklist4810[[#This Row],[PIGUID&NO]],S2PQ_relational[PIGUID & \"NO\"],0),2))","v":{"$error":"#N/A"}},{"$f":"Checklist4810[[#This Row],[PIGUID]]&\"NO\"","v":"6NzSDV2IsFOtacEOaj13GlNO"},{"$f":"IF(Checklist4810[[#This Row],[PIGUID]]=\"\",\"\",INDEX(PIs[NA Exempt],MATCH(Checklist4810[[#This Row],[PIGUID]],PIs[GUID],0),1))","v":false},{"$f":"IF(Checklist4810[[#This Row],[SGUID]]=\"\",IF(Checklist4810[[#This Row],[SSGUID]]=\"\",IF(Checklist4810[[#This Row],[PIGUID]]=\"\",\"\",INDEX(PIs[[Column1]:[SS]],MATCH(Checklist4810[[#This Row],[PIGUID]],PIs[GUID],0),2)),INDEX(PIs[[Column1]:[SS]],MATCH(Checklist4810[[#This Row],[SSGUID]],PIs[SSGUID],0),18)),INDEX(PIs[[Column1]:[SS]],MATCH(Checklist4810[[#This Row],[SGUID]],PIs[SGUID],0),14))","v":"03.02"},{"$f":"IF(Checklist4810[[#This Row],[SGUID]]=\"\",IF(Checklist4810[[#This Row],[SSGUID]]=\"\",IF(Checklist4810[[#This Row],[PIGUID]]=\"\",\"\",INDEX(PIs[[Column1]:[SS]],MATCH(Checklist4810[[#This Row],[PIGUID]],PIs[GUID],0),4)),INDEX(PIs[[Column1]:[Ssbody]],MATCH(Checklist4810[[#This Row],[SSGUID]],PIs[SSGUID],0),19)),INDEX(PIs[[Column1]:[SS]],MATCH(Checklist4810[[#This Row],[SGUID]],PIs[SGUID],0),15))","v":"The complaint process is implemented and appropriate to the number and type of workers for filing complaints in person, anonymously, or through the worker representation."},{"$f":"IF(Checklist4810[[#This Row],[SGUID]]=\"\",IF(Checklist4810[[#This Row],[SSGUID]]=\"\",INDEX(PIs[[Column1]:[SS]],MATCH(Checklist4810[[#This Row],[PIGUID]],PIs[GUID],0),6),\"\"),\"\")","v":"The term “implemented” shall require that the process be available in the predominant language(s) of the workforce and/or pictograms (especially for workers who cannot read), e.g., farm sign boards, handouts given directly to workers/subcontractors (evidence of accessibility of handouts shall be presented).\nThe process shall indicate how and where to file the complaint information, time for resolution, who will answer, and a clear statement that the process will be confidential without prejudice to workers’ right to go to court and that there is no retaliation or penalty for using the process.\nSubcontracted labor shall have access to the complaint process. Their complaints can be 1) within the scope of the commercial contract (e.g., conditions or hours of work at the production site are not as indicated) or 2) outside of the scope of the commercial contract (e.g., direct employer does not provide good housing accommodation).\nThe term “appropriate” shall require that the process provide any worker with possibilities to file and get an answer to the complaint in an appropriate time and in a confidential form. For short-term workers, the process shall provide shorter resolution times. \nWhere personal conversations/meetings are an option for immediately resolving complaints, the meeting/conversation shall be conducted in a language understood by the worker and shall be documented."},{"$f":"IF(Checklist4810[[#This Row],[SSGUID]]=\"\",IF(Checklist4810[[#This Row],[PIGUID]]=\"\",\"\",INDEX(PIs[[Column1]:[SS]],MATCH(Checklist4810[[#This Row],[PIGUID]],PIs[GUID],0),8)),\"\")","v":"Minor Must"},null,null,{"$f":"IF(Checklist4810[[#This Row],[ifna]]=\"NA\",\"\",IF(Checklist4810[[#This Row],[RelatedPQ]]=0,\"\",IF(Checklist4810[[#This Row],[RelatedPQ]]=\"\",\"\",IF((INDEX(S2PQ_relational[],MATCH(Checklist4810[[#This Row],[PIGUID&NO]],S2PQ_relational[PIGUID & \"NO\"],0),1))=Checklist4810[[#This Row],[PIGUID]],\"Not applicable\",\"\"))))","v":""},{"$f":"IF(Checklist4810[[#This Row],[N/A]]=\"Not Applicable\",INDEX(S2PQ[[Step 2  questions]:[Justification]],MATCH(Checklist4810[[#This Row],[RelatedPQ]],S2PQ[S2PQGUID],0),3),\"\")","v":""}]
[{"$nulls":3},{"$f":"IF(Checklist4810[[#This Row],[SGUID]]=\"\",IF(Checklist4810[[#This Row],[SSGUID]]=\"\",0,1),1)","v":0},"6uSpDnR3yQ5uar8BBVrZrv",{"$f":"_xlfn.IFNA(Checklist4810[[#This Row],[RelatedPQ]],\"NA\")","v":"NA"},{"$f":"IF(Checklist4810[[#This Row],[PIGUID]]=\"\",\"\",INDEX(S2PQ_relational[],MATCH(Checklist4810[[#This Row],[PIGUID&NO]],S2PQ_relational[PIGUID & \"NO\"],0),2))","v":{"$error":"#N/A"}},{"$f":"Checklist4810[[#This Row],[PIGUID]]&\"NO\"","v":"6uSpDnR3yQ5uar8BBVrZrvNO"},{"$f":"IF(Checklist4810[[#This Row],[PIGUID]]=\"\",\"\",INDEX(PIs[NA Exempt],MATCH(Checklist4810[[#This Row],[PIGUID]],PIs[GUID],0),1))","v":false},{"$f":"IF(Checklist4810[[#This Row],[SGUID]]=\"\",IF(Checklist4810[[#This Row],[SSGUID]]=\"\",IF(Checklist4810[[#This Row],[PIGUID]]=\"\",\"\",INDEX(PIs[[Column1]:[SS]],MATCH(Checklist4810[[#This Row],[PIGUID]],PIs[GUID],0),2)),INDEX(PIs[[Column1]:[SS]],MATCH(Checklist4810[[#This Row],[SSGUID]],PIs[SSGUID],0),18)),INDEX(PIs[[Column1]:[SS]],MATCH(Checklist4810[[#This Row],[SGUID]],PIs[SGUID],0),14))","v":"03.03"},{"$f":"IF(Checklist4810[[#This Row],[SGUID]]=\"\",IF(Checklist4810[[#This Row],[SSGUID]]=\"\",IF(Checklist4810[[#This Row],[PIGUID]]=\"\",\"\",INDEX(PIs[[Column1]:[SS]],MATCH(Checklist4810[[#This Row],[PIGUID]],PIs[GUID],0),4)),INDEX(PIs[[Column1]:[Ssbody]],MATCH(Checklist4810[[#This Row],[SSGUID]],PIs[SSGUID],0),19)),INDEX(PIs[[Column1]:[SS]],MATCH(Checklist4810[[#This Row],[SGUID]],PIs[SGUID],0),15))","v":"The worker representation has been instructed on how to use the process on behalf of other workers on the rights included in the producer’s human rights policies."},{"$f":"IF(Checklist4810[[#This Row],[SGUID]]=\"\",IF(Checklist4810[[#This Row],[SSGUID]]=\"\",INDEX(PIs[[Column1]:[SS]],MATCH(Checklist4810[[#This Row],[PIGUID]],PIs[GUID],0),6),\"\"),\"\")","v":"The term “instructed on” shall require describing to the worker representation how to use the process on behalf of the workers.\nThe worker representation shall be made aware that the worker must authorize the worker representation to file a complaint on their behalf.\nThe worker representation shall be made aware of the obligation to keep all the information confidential. \nIf applicable, a document of the worker’s consent to have the worker representation act on their behalf shall be filed. When this representation is requested by the worker to protect the anonymity of the complainant, the process shall respect the request and continue without affecting the outcome.\nWhere workers decide not to have a form of representation, workers shall be allowed to request help from other fellow workers. In these cases, the management GRASP liaison shall provide the information to the worker, person, or organization (independent from the producer) selected to support them in filing the complaint."},{"$f":"IF(Checklist4810[[#This Row],[SSGUID]]=\"\",IF(Checklist4810[[#This Row],[PIGUID]]=\"\",\"\",INDEX(PIs[[Column1]:[SS]],MATCH(Checklist4810[[#This Row],[PIGUID]],PIs[GUID],0),8)),\"\")","v":"Minor Must"},null,null,{"$f":"IF(Checklist4810[[#This Row],[ifna]]=\"NA\",\"\",IF(Checklist4810[[#This Row],[RelatedPQ]]=0,\"\",IF(Checklist4810[[#This Row],[RelatedPQ]]=\"\",\"\",IF((INDEX(S2PQ_relational[],MATCH(Checklist4810[[#This Row],[PIGUID&NO]],S2PQ_relational[PIGUID & \"NO\"],0),1))=Checklist4810[[#This Row],[PIGUID]],\"Not applicable\",\"\"))))","v":""},{"$f":"IF(Checklist4810[[#This Row],[N/A]]=\"Not Applicable\",INDEX(S2PQ[[Step 2  questions]:[Justification]],MATCH(Checklist4810[[#This Row],[RelatedPQ]],S2PQ[S2PQGUID],0),3),\"\")","v":""}]
[{"$nulls":3},{"$f":"IF(Checklist4810[[#This Row],[SGUID]]=\"\",IF(Checklist4810[[#This Row],[SSGUID]]=\"\",0,1),1)","v":0},"15rmagqDILiL9OehElaZcF",{"$f":"_xlfn.IFNA(Checklist4810[[#This Row],[RelatedPQ]],\"NA\")","v":"NA"},{"$f":"IF(Checklist4810[[#This Row],[PIGUID]]=\"\",\"\",INDEX(S2PQ_relational[],MATCH(Checklist4810[[#This Row],[PIGUID&NO]],S2PQ_relational[PIGUID & \"NO\"],0),2))","v":{"$error":"#N/A"}},{"$f":"Checklist4810[[#This Row],[PIGUID]]&\"NO\"","v":"15rmagqDILiL9OehElaZcFNO"},{"$f":"IF(Checklist4810[[#This Row],[PIGUID]]=\"\",\"\",INDEX(PIs[NA Exempt],MATCH(Checklist4810[[#This Row],[PIGUID]],PIs[GUID],0),1))","v":false},{"$f":"IF(Checklist4810[[#This Row],[SGUID]]=\"\",IF(Checklist4810[[#This Row],[SSGUID]]=\"\",IF(Checklist4810[[#This Row],[PIGUID]]=\"\",\"\",INDEX(PIs[[Column1]:[SS]],MATCH(Checklist4810[[#This Row],[PIGUID]],PIs[GUID],0),2)),INDEX(PIs[[Column1]:[SS]],MATCH(Checklist4810[[#This Row],[SSGUID]],PIs[SSGUID],0),18)),INDEX(PIs[[Column1]:[SS]],MATCH(Checklist4810[[#This Row],[SGUID]],PIs[SGUID],0),14))","v":"03.04"},{"$f":"IF(Checklist4810[[#This Row],[SGUID]]=\"\",IF(Checklist4810[[#This Row],[SSGUID]]=\"\",IF(Checklist4810[[#This Row],[PIGUID]]=\"\",\"\",INDEX(PIs[[Column1]:[SS]],MATCH(Checklist4810[[#This Row],[PIGUID]],PIs[GUID],0),4)),INDEX(PIs[[Column1]:[Ssbody]],MATCH(Checklist4810[[#This Row],[SSGUID]],PIs[SSGUID],0),19)),INDEX(PIs[[Column1]:[SS]],MATCH(Checklist4810[[#This Row],[SGUID]],PIs[SGUID],0),15))","v":"Easy-to-understand instructions are provided to all workers about the complaint process."},{"$f":"IF(Checklist4810[[#This Row],[SGUID]]=\"\",IF(Checklist4810[[#This Row],[SSGUID]]=\"\",INDEX(PIs[[Column1]:[SS]],MATCH(Checklist4810[[#This Row],[PIGUID]],PIs[GUID],0),6),\"\"),\"\")","v":"The term “easy-to-understand” shall require that all communication be available in the predominant language(s) of the workforce. If workers cannot read, the producer shall provide alternatives (e.g., pictograms or the possibility of ad hoc verbal instructions).\nThe instructions shall be well communicated, e.g., through displays on farm sign boards, handouts given directly to workers/subcontractors (evidence of accessibility of handouts shall be presented), contracts and worker documentation (evidence that workers/subcontractors received a copy of the document shall be presented), and electronic delivery (with proof of receipt by the worker/subcontractor). When instructions are posted, evidence shall show that the producer indicated clearly where to find the instructions.\nAny new worker shall be instructed in the complaint process. At minimum, the producer shall inform workers of the process during the first working instructions or during the first meeting with workers.\nSubcontracted workers shall receive these instructions and be entitled to file complaints."},{"$f":"IF(Checklist4810[[#This Row],[SSGUID]]=\"\",IF(Checklist4810[[#This Row],[PIGUID]]=\"\",\"\",INDEX(PIs[[Column1]:[SS]],MATCH(Checklist4810[[#This Row],[PIGUID]],PIs[GUID],0),8)),\"\")","v":"Major Must"},null,null,{"$f":"IF(Checklist4810[[#This Row],[ifna]]=\"NA\",\"\",IF(Checklist4810[[#This Row],[RelatedPQ]]=0,\"\",IF(Checklist4810[[#This Row],[RelatedPQ]]=\"\",\"\",IF((INDEX(S2PQ_relational[],MATCH(Checklist4810[[#This Row],[PIGUID&NO]],S2PQ_relational[PIGUID & \"NO\"],0),1))=Checklist4810[[#This Row],[PIGUID]],\"Not applicable\",\"\"))))","v":""},{"$f":"IF(Checklist4810[[#This Row],[N/A]]=\"Not Applicable\",INDEX(S2PQ[[Step 2  questions]:[Justification]],MATCH(Checklist4810[[#This Row],[RelatedPQ]],S2PQ[S2PQGUID],0),3),\"\")","v":""}]
[{"$nulls":3},{"$f":"IF(Checklist4810[[#This Row],[SGUID]]=\"\",IF(Checklist4810[[#This Row],[SSGUID]]=\"\",0,1),1)","v":0},"6MMc5tDcp0zKsLhBH5DeER",{"$f":"_xlfn.IFNA(Checklist4810[[#This Row],[RelatedPQ]],\"NA\")","v":"NA"},{"$f":"IF(Checklist4810[[#This Row],[PIGUID]]=\"\",\"\",INDEX(S2PQ_relational[],MATCH(Checklist4810[[#This Row],[PIGUID&NO]],S2PQ_relational[PIGUID & \"NO\"],0),2))","v":{"$error":"#N/A"}},{"$f":"Checklist4810[[#This Row],[PIGUID]]&\"NO\"","v":"6MMc5tDcp0zKsLhBH5DeERNO"},{"$f":"IF(Checklist4810[[#This Row],[PIGUID]]=\"\",\"\",INDEX(PIs[NA Exempt],MATCH(Checklist4810[[#This Row],[PIGUID]],PIs[GUID],0),1))","v":false},{"$f":"IF(Checklist4810[[#This Row],[SGUID]]=\"\",IF(Checklist4810[[#This Row],[SSGUID]]=\"\",IF(Checklist4810[[#This Row],[PIGUID]]=\"\",\"\",INDEX(PIs[[Column1]:[SS]],MATCH(Checklist4810[[#This Row],[PIGUID]],PIs[GUID],0),2)),INDEX(PIs[[Column1]:[SS]],MATCH(Checklist4810[[#This Row],[SSGUID]],PIs[SSGUID],0),18)),INDEX(PIs[[Column1]:[SS]],MATCH(Checklist4810[[#This Row],[SGUID]],PIs[SGUID],0),14))","v":"03.05"},{"$f":"IF(Checklist4810[[#This Row],[SGUID]]=\"\",IF(Checklist4810[[#This Row],[SSGUID]]=\"\",IF(Checklist4810[[#This Row],[PIGUID]]=\"\",\"\",INDEX(PIs[[Column1]:[SS]],MATCH(Checklist4810[[#This Row],[PIGUID]],PIs[GUID],0),4)),INDEX(PIs[[Column1]:[Ssbody]],MATCH(Checklist4810[[#This Row],[SSGUID]],PIs[SSGUID],0),19)),INDEX(PIs[[Column1]:[SS]],MATCH(Checklist4810[[#This Row],[SGUID]],PIs[SGUID],0),15))","v":"There are one or more well publicized places to file complaints, at least one of which should be independent of the supervisory staff."},{"$f":"IF(Checklist4810[[#This Row],[SGUID]]=\"\",IF(Checklist4810[[#This Row],[SSGUID]]=\"\",INDEX(PIs[[Column1]:[SS]],MATCH(Checklist4810[[#This Row],[PIGUID]],PIs[GUID],0),6),\"\"),\"\")","v":"The place(s) to file complaints can be a location on the farm, a person/persons appointed to receive the complaints, or the worker representation, that workers can use, talk to, or ask to file a complaint. Any place to file a complaint shall provide an option to file anonymously.\nIf workers are usually in the field with limited access to the farm buildings, one place to file a complaint shall be a designated person of the crew at the field.\nIf there is worker representation, it should be notified of any complaint received, without breaking the confidentiality requirements (not sharing details). \nThe term “well publicized” shall require that the information about the existence and functioning of the process is publicly available and accessible, including through channels aimed at those who may wish to use it. Also, it must be provided in the predominant language(s) of the workforce and/or pictograms (especially for workers who cannot read), e.g., farm sign boards, handouts given directly to workers/subcontractors (evidence of accessibility of handouts shall be presented). Workers shall be informed about at least one grievance channel independent of supervisory staff. For example, this could be the contact details of a governmental grievance mechanism, of a nongovernmental organization (NGO), or of another third-party organization that is known to support workers in the case of grievances.\nThe term “supervisory staff” shall refer to any staff member in contact with workers or with supervising duties at the production site (e.g., foreman, manager, crew supervisor, etc.). If the producer does not have such staff, the producer shall have knowledge of the regulations.\nThe term “independent of supervisory staff” shall indicate a place or a person/persons/organization independent from management (i.e., phone number of an authority, NGO, or third-party organization), so that individuals with a complaint cannot be intimidated as if the company representative were the only sole point of contact. Here, the worker may drop or file and drop complaints.\nIf there is worker representation, the producer shall inform the representative(s) of any complaints received or dropped, while maintaining the confidentiality of the process. \nExamples: On a site, a place out of sight of management staff at the farm eating/resting place. \nAs person(s), the worker representation. The producer can additionally include a community representative or organization as another place to file complaints."},{"$f":"IF(Checklist4810[[#This Row],[SSGUID]]=\"\",IF(Checklist4810[[#This Row],[PIGUID]]=\"\",\"\",INDEX(PIs[[Column1]:[SS]],MATCH(Checklist4810[[#This Row],[PIGUID]],PIs[GUID],0),8)),\"\")","v":"Major Must"},null,null,{"$f":"IF(Checklist4810[[#This Row],[ifna]]=\"NA\",\"\",IF(Checklist4810[[#This Row],[RelatedPQ]]=0,\"\",IF(Checklist4810[[#This Row],[RelatedPQ]]=\"\",\"\",IF((INDEX(S2PQ_relational[],MATCH(Checklist4810[[#This Row],[PIGUID&NO]],S2PQ_relational[PIGUID & \"NO\"],0),1))=Checklist4810[[#This Row],[PIGUID]],\"Not applicable\",\"\"))))","v":""},{"$f":"IF(Checklist4810[[#This Row],[N/A]]=\"Not Applicable\",INDEX(S2PQ[[Step 2  questions]:[Justification]],MATCH(Checklist4810[[#This Row],[RelatedPQ]],S2PQ[S2PQGUID],0),3),\"\")","v":""}]
[{"$nulls":3},{"$f":"IF(Checklist4810[[#This Row],[SGUID]]=\"\",IF(Checklist4810[[#This Row],[SSGUID]]=\"\",0,1),1)","v":0},"5zn5rvPKBMqVZFwtGJoNJG",{"$f":"_xlfn.IFNA(Checklist4810[[#This Row],[RelatedPQ]],\"NA\")","v":"NA"},{"$f":"IF(Checklist4810[[#This Row],[PIGUID]]=\"\",\"\",INDEX(S2PQ_relational[],MATCH(Checklist4810[[#This Row],[PIGUID&NO]],S2PQ_relational[PIGUID & \"NO\"],0),2))","v":{"$error":"#N/A"}},{"$f":"Checklist4810[[#This Row],[PIGUID]]&\"NO\"","v":"5zn5rvPKBMqVZFwtGJoNJGNO"},{"$f":"IF(Checklist4810[[#This Row],[PIGUID]]=\"\",\"\",INDEX(PIs[NA Exempt],MATCH(Checklist4810[[#This Row],[PIGUID]],PIs[GUID],0),1))","v":false},{"$f":"IF(Checklist4810[[#This Row],[SGUID]]=\"\",IF(Checklist4810[[#This Row],[SSGUID]]=\"\",IF(Checklist4810[[#This Row],[PIGUID]]=\"\",\"\",INDEX(PIs[[Column1]:[SS]],MATCH(Checklist4810[[#This Row],[PIGUID]],PIs[GUID],0),2)),INDEX(PIs[[Column1]:[SS]],MATCH(Checklist4810[[#This Row],[SSGUID]],PIs[SSGUID],0),18)),INDEX(PIs[[Column1]:[SS]],MATCH(Checklist4810[[#This Row],[SGUID]],PIs[SGUID],0),14))","v":"03.06"},{"$f":"IF(Checklist4810[[#This Row],[SGUID]]=\"\",IF(Checklist4810[[#This Row],[SSGUID]]=\"\",IF(Checklist4810[[#This Row],[PIGUID]]=\"\",\"\",INDEX(PIs[[Column1]:[SS]],MATCH(Checklist4810[[#This Row],[PIGUID]],PIs[GUID],0),4)),INDEX(PIs[[Column1]:[Ssbody]],MATCH(Checklist4810[[#This Row],[SSGUID]],PIs[SSGUID],0),19)),INDEX(PIs[[Column1]:[SS]],MATCH(Checklist4810[[#This Row],[SGUID]],PIs[SGUID],0),15))","v":"The producer shall endeavor to resolve a complaint while the worker is under their employment, in a timely manner and proportionately to the nature of the complaint made."},{"$f":"IF(Checklist4810[[#This Row],[SGUID]]=\"\",IF(Checklist4810[[#This Row],[SSGUID]]=\"\",INDEX(PIs[[Column1]:[SS]],MATCH(Checklist4810[[#This Row],[PIGUID]],PIs[GUID],0),6),\"\"),\"\")","v":"The term “resolved” shall indicate a positive or negative answer, or no resolution with explanation of why there was no resolution. This requirement includes the complaints from subcontracted labor within the scope of the commercial contract.\nWhen complaints are anonymous, the answer shall be included as a general notice posted on workers notice boards or places without reference to any worker/subcontracted worker.\nFor subcontracted labor complaints outside of the commercial contract (sole responsibility of the direct employer), the resolution shall provide the subcontracted worker with information on the legal and official resources for denouncing rights violations (e.g., minimum wage paid by subcontractor and not the producer).\nThe term “timely manner” shall require complaints to be resolved: For hired labor, in general at most 30 days after filing or before the last day of employment (if this is less than 30 days after filing). For subcontracted workers, 30 days after filing or before the last day of the contract (if this is less than 30 days after filing).\nIf a complaint cannot be resolved during the time indicated, the reason for late resolution and evidence of resolution notification shall be documented for assessor review. Examples of documentation include proof that the resolution was included with the last paycheck, mailed within 30 days, or that no resolution was possible and the worker was notified of this.\nIf there is worker representation, the producer shall notify the representative(s) about the complaints and outcomes.\n"},{"$f":"IF(Checklist4810[[#This Row],[SSGUID]]=\"\",IF(Checklist4810[[#This Row],[PIGUID]]=\"\",\"\",INDEX(PIs[[Column1]:[SS]],MATCH(Checklist4810[[#This Row],[PIGUID]],PIs[GUID],0),8)),\"\")","v":"Minor Must"},null,null,{"$f":"IF(Checklist4810[[#This Row],[ifna]]=\"NA\",\"\",IF(Checklist4810[[#This Row],[RelatedPQ]]=0,\"\",IF(Checklist4810[[#This Row],[RelatedPQ]]=\"\",\"\",IF((INDEX(S2PQ_relational[],MATCH(Checklist4810[[#This Row],[PIGUID&NO]],S2PQ_relational[PIGUID & \"NO\"],0),1))=Checklist4810[[#This Row],[PIGUID]],\"Not applicable\",\"\"))))","v":""},{"$f":"IF(Checklist4810[[#This Row],[N/A]]=\"Not Applicable\",INDEX(S2PQ[[Step 2  questions]:[Justification]],MATCH(Checklist4810[[#This Row],[RelatedPQ]],S2PQ[S2PQGUID],0),3),\"\")","v":""}]
[{"$nulls":3},{"$f":"IF(Checklist4810[[#This Row],[SGUID]]=\"\",IF(Checklist4810[[#This Row],[SSGUID]]=\"\",0,1),1)","v":0},"72vqg1gXC6oRBqiD9PPtAO",{"$f":"_xlfn.IFNA(Checklist4810[[#This Row],[RelatedPQ]],\"NA\")","v":"NA"},{"$f":"IF(Checklist4810[[#This Row],[PIGUID]]=\"\",\"\",INDEX(S2PQ_relational[],MATCH(Checklist4810[[#This Row],[PIGUID&NO]],S2PQ_relational[PIGUID & \"NO\"],0),2))","v":{"$error":"#N/A"}},{"$f":"Checklist4810[[#This Row],[PIGUID]]&\"NO\"","v":"72vqg1gXC6oRBqiD9PPtAONO"},{"$f":"IF(Checklist4810[[#This Row],[PIGUID]]=\"\",\"\",INDEX(PIs[NA Exempt],MATCH(Checklist4810[[#This Row],[PIGUID]],PIs[GUID],0),1))","v":false},{"$f":"IF(Checklist4810[[#This Row],[SGUID]]=\"\",IF(Checklist4810[[#This Row],[SSGUID]]=\"\",IF(Checklist4810[[#This Row],[PIGUID]]=\"\",\"\",INDEX(PIs[[Column1]:[SS]],MATCH(Checklist4810[[#This Row],[PIGUID]],PIs[GUID],0),2)),INDEX(PIs[[Column1]:[SS]],MATCH(Checklist4810[[#This Row],[SSGUID]],PIs[SSGUID],0),18)),INDEX(PIs[[Column1]:[SS]],MATCH(Checklist4810[[#This Row],[SGUID]],PIs[SGUID],0),14))","v":"03.07"},{"$f":"IF(Checklist4810[[#This Row],[SGUID]]=\"\",IF(Checklist4810[[#This Row],[SSGUID]]=\"\",IF(Checklist4810[[#This Row],[PIGUID]]=\"\",\"\",INDEX(PIs[[Column1]:[SS]],MATCH(Checklist4810[[#This Row],[PIGUID]],PIs[GUID],0),4)),INDEX(PIs[[Column1]:[Ssbody]],MATCH(Checklist4810[[#This Row],[SSGUID]],PIs[SSGUID],0),19)),INDEX(PIs[[Column1]:[SS]],MATCH(Checklist4810[[#This Row],[SGUID]],PIs[SGUID],0),15))","v":"A summary record of any complaint over the past 24 months is kept to show that they have been received and addressed."},{"$f":"IF(Checklist4810[[#This Row],[SGUID]]=\"\",IF(Checklist4810[[#This Row],[SSGUID]]=\"\",INDEX(PIs[[Column1]:[SS]],MATCH(Checklist4810[[#This Row],[PIGUID]],PIs[GUID],0),6),\"\"),\"\")","v":"The record shall include a summary report indicating which complaints were resolved, time of resolution, worker notification of the status, and final decision.\nIf there are verbally filed complaints that have been resolved right away, the report shall indicate at least the issue or topic and the person resolving the complaint."},{"$f":"IF(Checklist4810[[#This Row],[SSGUID]]=\"\",IF(Checklist4810[[#This Row],[PIGUID]]=\"\",\"\",INDEX(PIs[[Column1]:[SS]],MATCH(Checklist4810[[#This Row],[PIGUID]],PIs[GUID],0),8)),\"\")","v":"Minor Must"},null,null,{"$f":"IF(Checklist4810[[#This Row],[ifna]]=\"NA\",\"\",IF(Checklist4810[[#This Row],[RelatedPQ]]=0,\"\",IF(Checklist4810[[#This Row],[RelatedPQ]]=\"\",\"\",IF((INDEX(S2PQ_relational[],MATCH(Checklist4810[[#This Row],[PIGUID&NO]],S2PQ_relational[PIGUID & \"NO\"],0),1))=Checklist4810[[#This Row],[PIGUID]],\"Not applicable\",\"\"))))","v":""},{"$f":"IF(Checklist4810[[#This Row],[N/A]]=\"Not Applicable\",INDEX(S2PQ[[Step 2  questions]:[Justification]],MATCH(Checklist4810[[#This Row],[RelatedPQ]],S2PQ[S2PQGUID],0),3),\"\")","v":""}]
[null,"6fz1ZcgpxCeEz3mRGrevNc",null,{"$f":"IF(Checklist4810[[#This Row],[SGUID]]=\"\",IF(Checklist4810[[#This Row],[SSGUID]]=\"\",0,1),1)","v":1},null,{"$f":"_xlfn.IFNA(Checklist4810[[#This Row],[RelatedPQ]],\"NA\")","v":""},{"$f":"IF(Checklist4810[[#This Row],[PIGUID]]=\"\",\"\",INDEX(S2PQ_relational[],MATCH(Checklist4810[[#This Row],[PIGUID&NO]],S2PQ_relational[PIGUID & \"NO\"],0),2))","v":""},{"$f":"Checklist4810[[#This Row],[PIGUID]]&\"NO\"","v":"NO"},{"$f":"IF(Checklist4810[[#This Row],[PIGUID]]=\"\",\"\",INDEX(PIs[NA Exempt],MATCH(Checklist4810[[#This Row],[PIGUID]],PIs[GUID],0),1))","v":""},{"$f":"IF(Checklist4810[[#This Row],[SGUID]]=\"\",IF(Checklist4810[[#This Row],[SSGUID]]=\"\",IF(Checklist4810[[#This Row],[PIGUID]]=\"\",\"\",INDEX(PIs[[Column1]:[SS]],MATCH(Checklist4810[[#This Row],[PIGUID]],PIs[GUID],0),2)),INDEX(PIs[[Column1]:[SS]],MATCH(Checklist4810[[#This Row],[SSGUID]],PIs[SSGUID],0),18)),INDEX(PIs[[Column1]:[SS]],MATCH(Checklist4810[[#This Row],[SGUID]],PIs[SGUID],0),14))","v":"PRODUCER’S HUMAN RIGHTS POLICIES"},{"$f":"IF(Checklist4810[[#This Row],[SGUID]]=\"\",IF(Checklist4810[[#This Row],[SSGUID]]=\"\",IF(Checklist4810[[#This Row],[PIGUID]]=\"\",\"\",INDEX(PIs[[Column1]:[SS]],MATCH(Checklist4810[[#This Row],[PIGUID]],PIs[GUID],0),4)),INDEX(PIs[[Column1]:[Ssbody]],MATCH(Checklist4810[[#This Row],[SSGUID]],PIs[SSGUID],0),19)),INDEX(PIs[[Column1]:[SS]],MATCH(Checklist4810[[#This Row],[SGUID]],PIs[SGUID],0),15))","v":"-"},{"$f":"IF(Checklist4810[[#This Row],[SGUID]]=\"\",IF(Checklist4810[[#This Row],[SSGUID]]=\"\",INDEX(PIs[[Column1]:[SS]],MATCH(Checklist4810[[#This Row],[PIGUID]],PIs[GUID],0),6),\"\"),\"\")","v":""},{"$f":"IF(Checklist4810[[#This Row],[SSGUID]]=\"\",IF(Checklist4810[[#This Row],[PIGUID]]=\"\",\"\",INDEX(PIs[[Column1]:[SS]],MATCH(Checklist4810[[#This Row],[PIGUID]],PIs[GUID],0),8)),\"\")","v":""},null,null,{"$f":"IF(Checklist4810[[#This Row],[ifna]]=\"NA\",\"\",IF(Checklist4810[[#This Row],[RelatedPQ]]=0,\"\",IF(Checklist4810[[#This Row],[RelatedPQ]]=\"\",\"\",IF((INDEX(S2PQ_relational[],MATCH(Checklist4810[[#This Row],[PIGUID&NO]],S2PQ_relational[PIGUID & \"NO\"],0),1))=Checklist4810[[#This Row],[PIGUID]],\"Not applicable\",\"\"))))","v":""},{"$f":"IF(Checklist4810[[#This Row],[N/A]]=\"Not Applicable\",INDEX(S2PQ[[Step 2  questions]:[Justification]],MATCH(Checklist4810[[#This Row],[RelatedPQ]],S2PQ[S2PQGUID],0),3),\"\")","v":""}]
[null,null,"5TvyR0UgB0EOmnMkFaZftX",{"$f":"IF(Checklist4810[[#This Row],[SGUID]]=\"\",IF(Checklist4810[[#This Row],[SSGUID]]=\"\",0,1),1)","v":1},null,{"$f":"_xlfn.IFNA(Checklist4810[[#This Row],[RelatedPQ]],\"NA\")","v":""},{"$f":"IF(Checklist4810[[#This Row],[PIGUID]]=\"\",\"\",INDEX(S2PQ_relational[],MATCH(Checklist4810[[#This Row],[PIGUID&NO]],S2PQ_relational[PIGUID & \"NO\"],0),2))","v":""},{"$f":"Checklist4810[[#This Row],[PIGUID]]&\"NO\"","v":"NO"},{"$f":"IF(Checklist4810[[#This Row],[PIGUID]]=\"\",\"\",INDEX(PIs[NA Exempt],MATCH(Checklist4810[[#This Row],[PIGUID]],PIs[GUID],0),1))","v":""},{"$f":"IF(Checklist4810[[#This Row],[SGUID]]=\"\",IF(Checklist4810[[#This Row],[SSGUID]]=\"\",IF(Checklist4810[[#This Row],[PIGUID]]=\"\",\"\",INDEX(PIs[[Column1]:[SS]],MATCH(Checklist4810[[#This Row],[PIGUID]],PIs[GUID],0),2)),INDEX(PIs[[Column1]:[SS]],MATCH(Checklist4810[[#This Row],[SSGUID]],PIs[SSGUID],0),18)),INDEX(PIs[[Column1]:[SS]],MATCH(Checklist4810[[#This Row],[SGUID]],PIs[SGUID],0),14))","v":"-"},{"$f":"IF(Checklist4810[[#This Row],[SGUID]]=\"\",IF(Checklist4810[[#This Row],[SSGUID]]=\"\",IF(Checklist4810[[#This Row],[PIGUID]]=\"\",\"\",INDEX(PIs[[Column1]:[SS]],MATCH(Checklist4810[[#This Row],[PIGUID]],PIs[GUID],0),4)),INDEX(PIs[[Column1]:[Ssbody]],MATCH(Checklist4810[[#This Row],[SSGUID]],PIs[SSGUID],0),19)),INDEX(PIs[[Column1]:[SS]],MATCH(Checklist4810[[#This Row],[SGUID]],PIs[SGUID],0),15))","v":"-"},{"$f":"IF(Checklist4810[[#This Row],[SGUID]]=\"\",IF(Checklist4810[[#This Row],[SSGUID]]=\"\",INDEX(PIs[[Column1]:[SS]],MATCH(Checklist4810[[#This Row],[PIGUID]],PIs[GUID],0),6),\"\"),\"\")","v":""},{"$f":"IF(Checklist4810[[#This Row],[SSGUID]]=\"\",IF(Checklist4810[[#This Row],[PIGUID]]=\"\",\"\",INDEX(PIs[[Column1]:[SS]],MATCH(Checklist4810[[#This Row],[PIGUID]],PIs[GUID],0),8)),\"\")","v":""},null,null,{"$f":"IF(Checklist4810[[#This Row],[ifna]]=\"NA\",\"\",IF(Checklist4810[[#This Row],[RelatedPQ]]=0,\"\",IF(Checklist4810[[#This Row],[RelatedPQ]]=\"\",\"\",IF((INDEX(S2PQ_relational[],MATCH(Checklist4810[[#This Row],[PIGUID&NO]],S2PQ_relational[PIGUID & \"NO\"],0),1))=Checklist4810[[#This Row],[PIGUID]],\"Not applicable\",\"\"))))","v":""},{"$f":"IF(Checklist4810[[#This Row],[N/A]]=\"Not Applicable\",INDEX(S2PQ[[Step 2  questions]:[Justification]],MATCH(Checklist4810[[#This Row],[RelatedPQ]],S2PQ[S2PQGUID],0),3),\"\")","v":""}]
[{"$nulls":3},{"$f":"IF(Checklist4810[[#This Row],[SGUID]]=\"\",IF(Checklist4810[[#This Row],[SSGUID]]=\"\",0,1),1)","v":0},"5QYYzcS5RynnmhMFO3IxSb",{"$f":"_xlfn.IFNA(Checklist4810[[#This Row],[RelatedPQ]],\"NA\")","v":"NA"},{"$f":"IF(Checklist4810[[#This Row],[PIGUID]]=\"\",\"\",INDEX(S2PQ_relational[],MATCH(Checklist4810[[#This Row],[PIGUID&NO]],S2PQ_relational[PIGUID & \"NO\"],0),2))","v":{"$error":"#N/A"}},{"$f":"Checklist4810[[#This Row],[PIGUID]]&\"NO\"","v":"5QYYzcS5RynnmhMFO3IxSbNO"},{"$f":"IF(Checklist4810[[#This Row],[PIGUID]]=\"\",\"\",INDEX(PIs[NA Exempt],MATCH(Checklist4810[[#This Row],[PIGUID]],PIs[GUID],0),1))","v":false},{"$f":"IF(Checklist4810[[#This Row],[SGUID]]=\"\",IF(Checklist4810[[#This Row],[SSGUID]]=\"\",IF(Checklist4810[[#This Row],[PIGUID]]=\"\",\"\",INDEX(PIs[[Column1]:[SS]],MATCH(Checklist4810[[#This Row],[PIGUID]],PIs[GUID],0),2)),INDEX(PIs[[Column1]:[SS]],MATCH(Checklist4810[[#This Row],[SSGUID]],PIs[SSGUID],0),18)),INDEX(PIs[[Column1]:[SS]],MATCH(Checklist4810[[#This Row],[SGUID]],PIs[SGUID],0),14))","v":"04.01"},{"$f":"IF(Checklist4810[[#This Row],[SGUID]]=\"\",IF(Checklist4810[[#This Row],[SSGUID]]=\"\",IF(Checklist4810[[#This Row],[PIGUID]]=\"\",\"\",INDEX(PIs[[Column1]:[SS]],MATCH(Checklist4810[[#This Row],[PIGUID]],PIs[GUID],0),4)),INDEX(PIs[[Column1]:[Ssbody]],MATCH(Checklist4810[[#This Row],[SSGUID]],PIs[SSGUID],0),19)),INDEX(PIs[[Column1]:[SS]],MATCH(Checklist4810[[#This Row],[SGUID]],PIs[SGUID],0),15))","v":"The producer has and complies with a policy on the protection of human rights, acknowledging the rights in the ILO Core Labour Conventions and against any form of forced labor, corruption, corporal punishment, harassment or abuse, and discrimination and supporting good labor conditions, social practices, and human rights for all workers. "},{"$f":"IF(Checklist4810[[#This Row],[SGUID]]=\"\",IF(Checklist4810[[#This Row],[SSGUID]]=\"\",INDEX(PIs[[Column1]:[SS]],MATCH(Checklist4810[[#This Row],[PIGUID]],PIs[GUID],0),6),\"\"),\"\")","v":"The producer’s human rights policy shall indicate that, at minimum:\n1. The producer follows all local laws and regulations.\n2. The producer respects the workers’ rights included in the ILO Core Labour Conventions.\n3. The producer commits to respecting human rights as indicated in the UN Guiding Principles on Business and Human Rights.\n4. The producer avoids and does not engage in, support, or tolerate discrimination in employment practices.\n5. The producer does not support or tolerate the use of or threats of corporal punishment, mental or physical coercion, bullying, harassment, or abuse of any kind.\n6. The producer checks that no worker is held in debt bondage or forced to work for an employer, labor recruiter, or other entity to pay off debt.\n7. The producer prohibits any involvement in any act of corruption, extortion, embezzlement, as well as in any form of bribery, whether directly or indirectly.\nFor family farms without hired workers, “workers” shall refer to core family members working on the farm.\n- The policy’s acknowledgement of the rights included in the ILO Core Labour Conventions shall explicitly include the following conventions and their accompanying recommendations (even if they have not been ratified by the government): 29 and 105 and Recommendation 35 (Forced and Bonded Labor), 87 (Freedom of Association), 98 (Right to Organize and Collective Bargaining), 100 and 111 and Recommendations 90 and 111 (Equal Remuneration for Male and Female Workers for Work of Equal Value; Discrimination in Employment and Occupation), 138 and Recommendation 146 (Minimum Age), 182 and Recommendation 190 (Worst Forms of Child Labor), 81 (Labor Inspection), 122 (Employment Policy).\n- The policy shall demonstrate an understanding that the UN Guiding Principles on Business and Human Rights refer to dignity, fairness, equality, respect, and independence.\n- The policy shall entitle any worker to file complaints on any violation of this declaration using a confidential complaint process without fear of retaliation and have those complaints resolved in a timely manner.\n- After communicating this policy, the producer shall expect full compliance with the same commitments from any agriculture labor subcontractor while being a business partner.\n- The producer shall accept that if a GRASP assessment verification shows any violation of this policy, this shall be considered a non-compliance with this P&C."},{"$f":"IF(Checklist4810[[#This Row],[SSGUID]]=\"\",IF(Checklist4810[[#This Row],[PIGUID]]=\"\",\"\",INDEX(PIs[[Column1]:[SS]],MATCH(Checklist4810[[#This Row],[PIGUID]],PIs[GUID],0),8)),\"\")","v":"Major Must"},null,null,{"$f":"IF(Checklist4810[[#This Row],[ifna]]=\"NA\",\"\",IF(Checklist4810[[#This Row],[RelatedPQ]]=0,\"\",IF(Checklist4810[[#This Row],[RelatedPQ]]=\"\",\"\",IF((INDEX(S2PQ_relational[],MATCH(Checklist4810[[#This Row],[PIGUID&NO]],S2PQ_relational[PIGUID & \"NO\"],0),1))=Checklist4810[[#This Row],[PIGUID]],\"Not applicable\",\"\"))))","v":""},{"$f":"IF(Checklist4810[[#This Row],[N/A]]=\"Not Applicable\",INDEX(S2PQ[[Step 2  questions]:[Justification]],MATCH(Checklist4810[[#This Row],[RelatedPQ]],S2PQ[S2PQGUID],0),3),\"\")","v":""}]
[{"$nulls":3},{"$f":"IF(Checklist4810[[#This Row],[SGUID]]=\"\",IF(Checklist4810[[#This Row],[SSGUID]]=\"\",0,1),1)","v":0},"6Do8vAYP3N7Xv7Vfnwf97M",{"$f":"_xlfn.IFNA(Checklist4810[[#This Row],[RelatedPQ]],\"NA\")","v":"NA"},{"$f":"IF(Checklist4810[[#This Row],[PIGUID]]=\"\",\"\",INDEX(S2PQ_relational[],MATCH(Checklist4810[[#This Row],[PIGUID&NO]],S2PQ_relational[PIGUID & \"NO\"],0),2))","v":{"$error":"#N/A"}},{"$f":"Checklist4810[[#This Row],[PIGUID]]&\"NO\"","v":"6Do8vAYP3N7Xv7Vfnwf97MNO"},{"$f":"IF(Checklist4810[[#This Row],[PIGUID]]=\"\",\"\",INDEX(PIs[NA Exempt],MATCH(Checklist4810[[#This Row],[PIGUID]],PIs[GUID],0),1))","v":false},{"$f":"IF(Checklist4810[[#This Row],[SGUID]]=\"\",IF(Checklist4810[[#This Row],[SSGUID]]=\"\",IF(Checklist4810[[#This Row],[PIGUID]]=\"\",\"\",INDEX(PIs[[Column1]:[SS]],MATCH(Checklist4810[[#This Row],[PIGUID]],PIs[GUID],0),2)),INDEX(PIs[[Column1]:[SS]],MATCH(Checklist4810[[#This Row],[SSGUID]],PIs[SSGUID],0),18)),INDEX(PIs[[Column1]:[SS]],MATCH(Checklist4810[[#This Row],[SGUID]],PIs[SGUID],0),14))","v":"04.02"},{"$f":"IF(Checklist4810[[#This Row],[SGUID]]=\"\",IF(Checklist4810[[#This Row],[SSGUID]]=\"\",IF(Checklist4810[[#This Row],[PIGUID]]=\"\",\"\",INDEX(PIs[[Column1]:[SS]],MATCH(Checklist4810[[#This Row],[PIGUID]],PIs[GUID],0),4)),INDEX(PIs[[Column1]:[Ssbody]],MATCH(Checklist4810[[#This Row],[SSGUID]],PIs[SSGUID],0),19)),INDEX(PIs[[Column1]:[SS]],MATCH(Checklist4810[[#This Row],[SGUID]],PIs[SGUID],0),15))","v":"All workers are communicated the contents of the producer’s human rights policy. "},{"$f":"IF(Checklist4810[[#This Row],[SGUID]]=\"\",IF(Checklist4810[[#This Row],[SSGUID]]=\"\",INDEX(PIs[[Column1]:[SS]],MATCH(Checklist4810[[#This Row],[PIGUID]],PIs[GUID],0),6),\"\"),\"\")","v":"The term “communicated” shall require that information is always available in the predominant language(s) of the workforce and/or pictograms (especially for workers who cannot read), e.g., on farm sign boards, handouts given directly to workers/subcontractors (evidence of accessibility of handouts shall be presented).\nIf contents are displayed, they shall be in a common area available to all workers (e.g., resting, eating, or changing areas, etc.), and have an indication where to file complaints. \n"},{"$f":"IF(Checklist4810[[#This Row],[SSGUID]]=\"\",IF(Checklist4810[[#This Row],[PIGUID]]=\"\",\"\",INDEX(PIs[[Column1]:[SS]],MATCH(Checklist4810[[#This Row],[PIGUID]],PIs[GUID],0),8)),\"\")","v":"Major Must"},null,null,{"$f":"IF(Checklist4810[[#This Row],[ifna]]=\"NA\",\"\",IF(Checklist4810[[#This Row],[RelatedPQ]]=0,\"\",IF(Checklist4810[[#This Row],[RelatedPQ]]=\"\",\"\",IF((INDEX(S2PQ_relational[],MATCH(Checklist4810[[#This Row],[PIGUID&NO]],S2PQ_relational[PIGUID & \"NO\"],0),1))=Checklist4810[[#This Row],[PIGUID]],\"Not applicable\",\"\"))))","v":""},{"$f":"IF(Checklist4810[[#This Row],[N/A]]=\"Not Applicable\",INDEX(S2PQ[[Step 2  questions]:[Justification]],MATCH(Checklist4810[[#This Row],[RelatedPQ]],S2PQ[S2PQGUID],0),3),\"\")","v":""}]
[{"$nulls":3},{"$f":"IF(Checklist4810[[#This Row],[SGUID]]=\"\",IF(Checklist4810[[#This Row],[SSGUID]]=\"\",0,1),1)","v":0},"1I2lvoMa3TWCWbPOI8a06k",{"$f":"_xlfn.IFNA(Checklist4810[[#This Row],[RelatedPQ]],\"NA\")","v":"NA"},{"$f":"IF(Checklist4810[[#This Row],[PIGUID]]=\"\",\"\",INDEX(S2PQ_relational[],MATCH(Checklist4810[[#This Row],[PIGUID&NO]],S2PQ_relational[PIGUID & \"NO\"],0),2))","v":{"$error":"#N/A"}},{"$f":"Checklist4810[[#This Row],[PIGUID]]&\"NO\"","v":"1I2lvoMa3TWCWbPOI8a06kNO"},{"$f":"IF(Checklist4810[[#This Row],[PIGUID]]=\"\",\"\",INDEX(PIs[NA Exempt],MATCH(Checklist4810[[#This Row],[PIGUID]],PIs[GUID],0),1))","v":false},{"$f":"IF(Checklist4810[[#This Row],[SGUID]]=\"\",IF(Checklist4810[[#This Row],[SSGUID]]=\"\",IF(Checklist4810[[#This Row],[PIGUID]]=\"\",\"\",INDEX(PIs[[Column1]:[SS]],MATCH(Checklist4810[[#This Row],[PIGUID]],PIs[GUID],0),2)),INDEX(PIs[[Column1]:[SS]],MATCH(Checklist4810[[#This Row],[SSGUID]],PIs[SSGUID],0),18)),INDEX(PIs[[Column1]:[SS]],MATCH(Checklist4810[[#This Row],[SGUID]],PIs[SGUID],0),14))","v":"04.03"},{"$f":"IF(Checklist4810[[#This Row],[SGUID]]=\"\",IF(Checklist4810[[#This Row],[SSGUID]]=\"\",IF(Checklist4810[[#This Row],[PIGUID]]=\"\",\"\",INDEX(PIs[[Column1]:[SS]],MATCH(Checklist4810[[#This Row],[PIGUID]],PIs[GUID],0),4)),INDEX(PIs[[Column1]:[Ssbody]],MATCH(Checklist4810[[#This Row],[SSGUID]],PIs[SSGUID],0),19)),INDEX(PIs[[Column1]:[SS]],MATCH(Checklist4810[[#This Row],[SGUID]],PIs[SGUID],0),15))","v":"All supervisory staff is informed about the contents of the human rights policy."},{"$f":"IF(Checklist4810[[#This Row],[SGUID]]=\"\",IF(Checklist4810[[#This Row],[SSGUID]]=\"\",INDEX(PIs[[Column1]:[SS]],MATCH(Checklist4810[[#This Row],[PIGUID]],PIs[GUID],0),6),\"\"),\"\")","v":"The term “informed” shall require that, e.g., all management staff are provided with a copy of the producer’s human rights policy, or an explanation of the producer’s human rights policy is included in the induction process of any new management staff member.\nThe term “contents” shall involve, e.g., an explanation of the different rights included and an explanation of the complaint process to denounce any violation to those rights.\nThe term “supervisory staff” shall refer to any staff member in contact with workers or with supervising duties at the production site (i.e., foreman, manager, crew supervisor, etc.). If the producer does not have such staff, the producer shall have knowledge of the GRASP criteria on this topic. \nIf a producer operates only with subcontracted labor, a management GRASP liaison shall be informed. \n"},{"$f":"IF(Checklist4810[[#This Row],[SSGUID]]=\"\",IF(Checklist4810[[#This Row],[PIGUID]]=\"\",\"\",INDEX(PIs[[Column1]:[SS]],MATCH(Checklist4810[[#This Row],[PIGUID]],PIs[GUID],0),8)),\"\")","v":"Minor Must"},null,null,{"$f":"IF(Checklist4810[[#This Row],[ifna]]=\"NA\",\"\",IF(Checklist4810[[#This Row],[RelatedPQ]]=0,\"\",IF(Checklist4810[[#This Row],[RelatedPQ]]=\"\",\"\",IF((INDEX(S2PQ_relational[],MATCH(Checklist4810[[#This Row],[PIGUID&NO]],S2PQ_relational[PIGUID & \"NO\"],0),1))=Checklist4810[[#This Row],[PIGUID]],\"Not applicable\",\"\"))))","v":""},{"$f":"IF(Checklist4810[[#This Row],[N/A]]=\"Not Applicable\",INDEX(S2PQ[[Step 2  questions]:[Justification]],MATCH(Checklist4810[[#This Row],[RelatedPQ]],S2PQ[S2PQGUID],0),3),\"\")","v":""}]
[{"$nulls":3},{"$f":"IF(Checklist4810[[#This Row],[SGUID]]=\"\",IF(Checklist4810[[#This Row],[SSGUID]]=\"\",0,1),1)","v":0},"18hg0Wx3h9CUGZ5iIEVXGK",{"$f":"_xlfn.IFNA(Checklist4810[[#This Row],[RelatedPQ]],\"NA\")","v":"NA"},{"$f":"IF(Checklist4810[[#This Row],[PIGUID]]=\"\",\"\",INDEX(S2PQ_relational[],MATCH(Checklist4810[[#This Row],[PIGUID&NO]],S2PQ_relational[PIGUID & \"NO\"],0),2))","v":{"$error":"#N/A"}},{"$f":"Checklist4810[[#This Row],[PIGUID]]&\"NO\"","v":"18hg0Wx3h9CUGZ5iIEVXGKNO"},{"$f":"IF(Checklist4810[[#This Row],[PIGUID]]=\"\",\"\",INDEX(PIs[NA Exempt],MATCH(Checklist4810[[#This Row],[PIGUID]],PIs[GUID],0),1))","v":false},{"$f":"IF(Checklist4810[[#This Row],[SGUID]]=\"\",IF(Checklist4810[[#This Row],[SSGUID]]=\"\",IF(Checklist4810[[#This Row],[PIGUID]]=\"\",\"\",INDEX(PIs[[Column1]:[SS]],MATCH(Checklist4810[[#This Row],[PIGUID]],PIs[GUID],0),2)),INDEX(PIs[[Column1]:[SS]],MATCH(Checklist4810[[#This Row],[SSGUID]],PIs[SSGUID],0),18)),INDEX(PIs[[Column1]:[SS]],MATCH(Checklist4810[[#This Row],[SGUID]],PIs[SGUID],0),14))","v":"04.04"},{"$f":"IF(Checklist4810[[#This Row],[SGUID]]=\"\",IF(Checklist4810[[#This Row],[SSGUID]]=\"\",IF(Checklist4810[[#This Row],[PIGUID]]=\"\",\"\",INDEX(PIs[[Column1]:[SS]],MATCH(Checklist4810[[#This Row],[PIGUID]],PIs[GUID],0),4)),INDEX(PIs[[Column1]:[Ssbody]],MATCH(Checklist4810[[#This Row],[SSGUID]],PIs[SSGUID],0),19)),INDEX(PIs[[Column1]:[SS]],MATCH(Checklist4810[[#This Row],[SGUID]],PIs[SGUID],0),15))","v":"The producer communicates the producer’s human rights policy to any labor subcontractor. Other subcontractors and visitors are communicated when visiting the farm."},{"$f":"IF(Checklist4810[[#This Row],[SGUID]]=\"\",IF(Checklist4810[[#This Row],[SSGUID]]=\"\",INDEX(PIs[[Column1]:[SS]],MATCH(Checklist4810[[#This Row],[PIGUID]],PIs[GUID],0),6),\"\"),\"\")","v":"This communication shall occur before contracting with the business partner and shall be documented.\nFor Option 2, communication can be managed and communicated at quality management system (QMS) level but shall be documented at producer group member and subcontractor level. \nThere shall be documental evidence that the policy was communicated and that it was acknowledged. The assessor shall inspect this documental evidence (e.g., a signed document acknowledging policies, communication in contracts, etc.). \nFor subcontractors present at the production site (or subcontracted workers, if the subcontractor is not present), the producer shall provide a copy of its human rights policy explaining the possibility of filing complaints through the farm complaint process.\nFor visitors and other subcontractors visiting the producer´s site, the producer shall communicate its zero-tolerance policy with regards to non-compliances with its human rights policy and local laws while on the farm. Monitoring this is a duty of the producer."},{"$f":"IF(Checklist4810[[#This Row],[SSGUID]]=\"\",IF(Checklist4810[[#This Row],[PIGUID]]=\"\",\"\",INDEX(PIs[[Column1]:[SS]],MATCH(Checklist4810[[#This Row],[PIGUID]],PIs[GUID],0),8)),\"\")","v":"Major Must"},null,null,{"$f":"IF(Checklist4810[[#This Row],[ifna]]=\"NA\",\"\",IF(Checklist4810[[#This Row],[RelatedPQ]]=0,\"\",IF(Checklist4810[[#This Row],[RelatedPQ]]=\"\",\"\",IF((INDEX(S2PQ_relational[],MATCH(Checklist4810[[#This Row],[PIGUID&NO]],S2PQ_relational[PIGUID & \"NO\"],0),1))=Checklist4810[[#This Row],[PIGUID]],\"Not applicable\",\"\"))))","v":""},{"$f":"IF(Checklist4810[[#This Row],[N/A]]=\"Not Applicable\",INDEX(S2PQ[[Step 2  questions]:[Justification]],MATCH(Checklist4810[[#This Row],[RelatedPQ]],S2PQ[S2PQGUID],0),3),\"\")","v":""}]
[{"$nulls":3},{"$f":"IF(Checklist4810[[#This Row],[SGUID]]=\"\",IF(Checklist4810[[#This Row],[SSGUID]]=\"\",0,1),1)","v":0},"7geNs0j1gKJkrzJeivUc5B",{"$f":"_xlfn.IFNA(Checklist4810[[#This Row],[RelatedPQ]],\"NA\")","v":"NA"},{"$f":"IF(Checklist4810[[#This Row],[PIGUID]]=\"\",\"\",INDEX(S2PQ_relational[],MATCH(Checklist4810[[#This Row],[PIGUID&NO]],S2PQ_relational[PIGUID & \"NO\"],0),2))","v":{"$error":"#N/A"}},{"$f":"Checklist4810[[#This Row],[PIGUID]]&\"NO\"","v":"7geNs0j1gKJkrzJeivUc5BNO"},{"$f":"IF(Checklist4810[[#This Row],[PIGUID]]=\"\",\"\",INDEX(PIs[NA Exempt],MATCH(Checklist4810[[#This Row],[PIGUID]],PIs[GUID],0),1))","v":false},{"$f":"IF(Checklist4810[[#This Row],[SGUID]]=\"\",IF(Checklist4810[[#This Row],[SSGUID]]=\"\",IF(Checklist4810[[#This Row],[PIGUID]]=\"\",\"\",INDEX(PIs[[Column1]:[SS]],MATCH(Checklist4810[[#This Row],[PIGUID]],PIs[GUID],0),2)),INDEX(PIs[[Column1]:[SS]],MATCH(Checklist4810[[#This Row],[SSGUID]],PIs[SSGUID],0),18)),INDEX(PIs[[Column1]:[SS]],MATCH(Checklist4810[[#This Row],[SGUID]],PIs[SGUID],0),14))","v":"04.05"},{"$f":"IF(Checklist4810[[#This Row],[SGUID]]=\"\",IF(Checklist4810[[#This Row],[SSGUID]]=\"\",IF(Checklist4810[[#This Row],[PIGUID]]=\"\",\"\",INDEX(PIs[[Column1]:[SS]],MATCH(Checklist4810[[#This Row],[PIGUID]],PIs[GUID],0),4)),INDEX(PIs[[Column1]:[Ssbody]],MATCH(Checklist4810[[#This Row],[SSGUID]],PIs[SSGUID],0),19)),INDEX(PIs[[Column1]:[SS]],MATCH(Checklist4810[[#This Row],[SGUID]],PIs[SGUID],0),15))","v":"The human rights policy is reviewed every three years, or when there is a change to labor legislation, or a change in GRASP, whichever occurs soonest."},{"$f":"IF(Checklist4810[[#This Row],[SGUID]]=\"\",IF(Checklist4810[[#This Row],[SSGUID]]=\"\",INDEX(PIs[[Column1]:[SS]],MATCH(Checklist4810[[#This Row],[PIGUID]],PIs[GUID],0),6),\"\"),\"\")","v":"For review every three years, the assessor shall check if changes to the labor legislation regulating the policies in the producer’s human rights policy have occurred.\nFor revision after a GRASP NIG update, the assessor shall check for changes in the NIG that affect the producer’s human rights policies.\nFor Option 2 producer groups, the contents shall be reviewed at QMS level every three years, or earlier if necessary."},{"$f":"IF(Checklist4810[[#This Row],[SSGUID]]=\"\",IF(Checklist4810[[#This Row],[PIGUID]]=\"\",\"\",INDEX(PIs[[Column1]:[SS]],MATCH(Checklist4810[[#This Row],[PIGUID]],PIs[GUID],0),8)),\"\")","v":"Minor Must"},null,null,{"$f":"IF(Checklist4810[[#This Row],[ifna]]=\"NA\",\"\",IF(Checklist4810[[#This Row],[RelatedPQ]]=0,\"\",IF(Checklist4810[[#This Row],[RelatedPQ]]=\"\",\"\",IF((INDEX(S2PQ_relational[],MATCH(Checklist4810[[#This Row],[PIGUID&NO]],S2PQ_relational[PIGUID & \"NO\"],0),1))=Checklist4810[[#This Row],[PIGUID]],\"Not applicable\",\"\"))))","v":""},{"$f":"IF(Checklist4810[[#This Row],[N/A]]=\"Not Applicable\",INDEX(S2PQ[[Step 2  questions]:[Justification]],MATCH(Checklist4810[[#This Row],[RelatedPQ]],S2PQ[S2PQGUID],0),3),\"\")","v":""}]
[null,"seSMMRr8dVZQE1tIIM2oM",null,{"$f":"IF(Checklist4810[[#This Row],[SGUID]]=\"\",IF(Checklist4810[[#This Row],[SSGUID]]=\"\",0,1),1)","v":1},null,{"$f":"_xlfn.IFNA(Checklist4810[[#This Row],[RelatedPQ]],\"NA\")","v":""},{"$f":"IF(Checklist4810[[#This Row],[PIGUID]]=\"\",\"\",INDEX(S2PQ_relational[],MATCH(Checklist4810[[#This Row],[PIGUID&NO]],S2PQ_relational[PIGUID & \"NO\"],0),2))","v":""},{"$f":"Checklist4810[[#This Row],[PIGUID]]&\"NO\"","v":"NO"},{"$f":"IF(Checklist4810[[#This Row],[PIGUID]]=\"\",\"\",INDEX(PIs[NA Exempt],MATCH(Checklist4810[[#This Row],[PIGUID]],PIs[GUID],0),1))","v":""},{"$f":"IF(Checklist4810[[#This Row],[SGUID]]=\"\",IF(Checklist4810[[#This Row],[SSGUID]]=\"\",IF(Checklist4810[[#This Row],[PIGUID]]=\"\",\"\",INDEX(PIs[[Column1]:[SS]],MATCH(Checklist4810[[#This Row],[PIGUID]],PIs[GUID],0),2)),INDEX(PIs[[Column1]:[SS]],MATCH(Checklist4810[[#This Row],[SSGUID]],PIs[SSGUID],0),18)),INDEX(PIs[[Column1]:[SS]],MATCH(Checklist4810[[#This Row],[SGUID]],PIs[SGUID],0),14))","v":"ACCESS TO LABOR REGULATION INFORMATION"},{"$f":"IF(Checklist4810[[#This Row],[SGUID]]=\"\",IF(Checklist4810[[#This Row],[SSGUID]]=\"\",IF(Checklist4810[[#This Row],[PIGUID]]=\"\",\"\",INDEX(PIs[[Column1]:[SS]],MATCH(Checklist4810[[#This Row],[PIGUID]],PIs[GUID],0),4)),INDEX(PIs[[Column1]:[Ssbody]],MATCH(Checklist4810[[#This Row],[SSGUID]],PIs[SSGUID],0),19)),INDEX(PIs[[Column1]:[SS]],MATCH(Checklist4810[[#This Row],[SGUID]],PIs[SGUID],0),15))","v":"-"},{"$f":"IF(Checklist4810[[#This Row],[SGUID]]=\"\",IF(Checklist4810[[#This Row],[SSGUID]]=\"\",INDEX(PIs[[Column1]:[SS]],MATCH(Checklist4810[[#This Row],[PIGUID]],PIs[GUID],0),6),\"\"),\"\")","v":""},{"$f":"IF(Checklist4810[[#This Row],[SSGUID]]=\"\",IF(Checklist4810[[#This Row],[PIGUID]]=\"\",\"\",INDEX(PIs[[Column1]:[SS]],MATCH(Checklist4810[[#This Row],[PIGUID]],PIs[GUID],0),8)),\"\")","v":""},null,null,{"$f":"IF(Checklist4810[[#This Row],[ifna]]=\"NA\",\"\",IF(Checklist4810[[#This Row],[RelatedPQ]]=0,\"\",IF(Checklist4810[[#This Row],[RelatedPQ]]=\"\",\"\",IF((INDEX(S2PQ_relational[],MATCH(Checklist4810[[#This Row],[PIGUID&NO]],S2PQ_relational[PIGUID & \"NO\"],0),1))=Checklist4810[[#This Row],[PIGUID]],\"Not applicable\",\"\"))))","v":""},{"$f":"IF(Checklist4810[[#This Row],[N/A]]=\"Not Applicable\",INDEX(S2PQ[[Step 2  questions]:[Justification]],MATCH(Checklist4810[[#This Row],[RelatedPQ]],S2PQ[S2PQGUID],0),3),\"\")","v":""}]
[null,null,"5TvyR0UgB0EOmnMkFaZftX",{"$f":"IF(Checklist4810[[#This Row],[SGUID]]=\"\",IF(Checklist4810[[#This Row],[SSGUID]]=\"\",0,1),1)","v":1},null,{"$f":"_xlfn.IFNA(Checklist4810[[#This Row],[RelatedPQ]],\"NA\")","v":""},{"$f":"IF(Checklist4810[[#This Row],[PIGUID]]=\"\",\"\",INDEX(S2PQ_relational[],MATCH(Checklist4810[[#This Row],[PIGUID&NO]],S2PQ_relational[PIGUID & \"NO\"],0),2))","v":""},{"$f":"Checklist4810[[#This Row],[PIGUID]]&\"NO\"","v":"NO"},{"$f":"IF(Checklist4810[[#This Row],[PIGUID]]=\"\",\"\",INDEX(PIs[NA Exempt],MATCH(Checklist4810[[#This Row],[PIGUID]],PIs[GUID],0),1))","v":""},{"$f":"IF(Checklist4810[[#This Row],[SGUID]]=\"\",IF(Checklist4810[[#This Row],[SSGUID]]=\"\",IF(Checklist4810[[#This Row],[PIGUID]]=\"\",\"\",INDEX(PIs[[Column1]:[SS]],MATCH(Checklist4810[[#This Row],[PIGUID]],PIs[GUID],0),2)),INDEX(PIs[[Column1]:[SS]],MATCH(Checklist4810[[#This Row],[SSGUID]],PIs[SSGUID],0),18)),INDEX(PIs[[Column1]:[SS]],MATCH(Checklist4810[[#This Row],[SGUID]],PIs[SGUID],0),14))","v":"-"},{"$f":"IF(Checklist4810[[#This Row],[SGUID]]=\"\",IF(Checklist4810[[#This Row],[SSGUID]]=\"\",IF(Checklist4810[[#This Row],[PIGUID]]=\"\",\"\",INDEX(PIs[[Column1]:[SS]],MATCH(Checklist4810[[#This Row],[PIGUID]],PIs[GUID],0),4)),INDEX(PIs[[Column1]:[Ssbody]],MATCH(Checklist4810[[#This Row],[SSGUID]],PIs[SSGUID],0),19)),INDEX(PIs[[Column1]:[SS]],MATCH(Checklist4810[[#This Row],[SGUID]],PIs[SGUID],0),15))","v":"-"},{"$f":"IF(Checklist4810[[#This Row],[SGUID]]=\"\",IF(Checklist4810[[#This Row],[SSGUID]]=\"\",INDEX(PIs[[Column1]:[SS]],MATCH(Checklist4810[[#This Row],[PIGUID]],PIs[GUID],0),6),\"\"),\"\")","v":""},{"$f":"IF(Checklist4810[[#This Row],[SSGUID]]=\"\",IF(Checklist4810[[#This Row],[PIGUID]]=\"\",\"\",INDEX(PIs[[Column1]:[SS]],MATCH(Checklist4810[[#This Row],[PIGUID]],PIs[GUID],0),8)),\"\")","v":""},null,null,{"$f":"IF(Checklist4810[[#This Row],[ifna]]=\"NA\",\"\",IF(Checklist4810[[#This Row],[RelatedPQ]]=0,\"\",IF(Checklist4810[[#This Row],[RelatedPQ]]=\"\",\"\",IF((INDEX(S2PQ_relational[],MATCH(Checklist4810[[#This Row],[PIGUID&NO]],S2PQ_relational[PIGUID & \"NO\"],0),1))=Checklist4810[[#This Row],[PIGUID]],\"Not applicable\",\"\"))))","v":""},{"$f":"IF(Checklist4810[[#This Row],[N/A]]=\"Not Applicable\",INDEX(S2PQ[[Step 2  questions]:[Justification]],MATCH(Checklist4810[[#This Row],[RelatedPQ]],S2PQ[S2PQGUID],0),3),\"\")","v":""}]
[{"$nulls":3},{"$f":"IF(Checklist4810[[#This Row],[SGUID]]=\"\",IF(Checklist4810[[#This Row],[SSGUID]]=\"\",0,1),1)","v":0},"2eqj1B1ZG1aYK9JZ0Yoe4U",{"$f":"_xlfn.IFNA(Checklist4810[[#This Row],[RelatedPQ]],\"NA\")","v":"NA"},{"$f":"IF(Checklist4810[[#This Row],[PIGUID]]=\"\",\"\",INDEX(S2PQ_relational[],MATCH(Checklist4810[[#This Row],[PIGUID&NO]],S2PQ_relational[PIGUID & \"NO\"],0),2))","v":{"$error":"#N/A"}},{"$f":"Checklist4810[[#This Row],[PIGUID]]&\"NO\"","v":"2eqj1B1ZG1aYK9JZ0Yoe4UNO"},{"$f":"IF(Checklist4810[[#This Row],[PIGUID]]=\"\",\"\",INDEX(PIs[NA Exempt],MATCH(Checklist4810[[#This Row],[PIGUID]],PIs[GUID],0),1))","v":false},{"$f":"IF(Checklist4810[[#This Row],[SGUID]]=\"\",IF(Checklist4810[[#This Row],[SSGUID]]=\"\",IF(Checklist4810[[#This Row],[PIGUID]]=\"\",\"\",INDEX(PIs[[Column1]:[SS]],MATCH(Checklist4810[[#This Row],[PIGUID]],PIs[GUID],0),2)),INDEX(PIs[[Column1]:[SS]],MATCH(Checklist4810[[#This Row],[SSGUID]],PIs[SSGUID],0),18)),INDEX(PIs[[Column1]:[SS]],MATCH(Checklist4810[[#This Row],[SGUID]],PIs[SGUID],0),14))","v":"05.01"},{"$f":"IF(Checklist4810[[#This Row],[SGUID]]=\"\",IF(Checklist4810[[#This Row],[SSGUID]]=\"\",IF(Checklist4810[[#This Row],[PIGUID]]=\"\",\"\",INDEX(PIs[[Column1]:[SS]],MATCH(Checklist4810[[#This Row],[PIGUID]],PIs[GUID],0),4)),INDEX(PIs[[Column1]:[Ssbody]],MATCH(Checklist4810[[#This Row],[SSGUID]],PIs[SSGUID],0),19)),INDEX(PIs[[Column1]:[SS]],MATCH(Checklist4810[[#This Row],[SGUID]],PIs[SGUID],0),15))","v":"The workers and the worker representation are provided with easy-to-understand and up-to-date information on minimum wage, working hours, breaks, maternity and sick leave, harassment and discrimination, freedom of association, holidays, labor unions, and local labor authorities contacts."},{"$f":"IF(Checklist4810[[#This Row],[SGUID]]=\"\",IF(Checklist4810[[#This Row],[SSGUID]]=\"\",INDEX(PIs[[Column1]:[SS]],MATCH(Checklist4810[[#This Row],[PIGUID]],PIs[GUID],0),6),\"\"),\"\")","v":"The information shall also be available to all subcontracted labor.\nThe term “easy-to-understand” shall require that accessibility and instruction to access is provided if needed. E.g., if access is provided electronically, a device such as a computer shall be always connected and available, and workers shall have received instructions on how to operate the device. If written information such as NIGs or pictogram information is displayed, the information shall be available in the predominant language(s) of the workforce.\nThe term “up-to-date” shall require that information is from the latest valid and applicable regulation on the topics of the criteria.\n"},{"$f":"IF(Checklist4810[[#This Row],[SSGUID]]=\"\",IF(Checklist4810[[#This Row],[PIGUID]]=\"\",\"\",INDEX(PIs[[Column1]:[SS]],MATCH(Checklist4810[[#This Row],[PIGUID]],PIs[GUID],0),8)),\"\")","v":"Major Must"},null,null,{"$f":"IF(Checklist4810[[#This Row],[ifna]]=\"NA\",\"\",IF(Checklist4810[[#This Row],[RelatedPQ]]=0,\"\",IF(Checklist4810[[#This Row],[RelatedPQ]]=\"\",\"\",IF((INDEX(S2PQ_relational[],MATCH(Checklist4810[[#This Row],[PIGUID&NO]],S2PQ_relational[PIGUID & \"NO\"],0),1))=Checklist4810[[#This Row],[PIGUID]],\"Not applicable\",\"\"))))","v":""},{"$f":"IF(Checklist4810[[#This Row],[N/A]]=\"Not Applicable\",INDEX(S2PQ[[Step 2  questions]:[Justification]],MATCH(Checklist4810[[#This Row],[RelatedPQ]],S2PQ[S2PQGUID],0),3),\"\")","v":""}]
[{"$nulls":3},{"$f":"IF(Checklist4810[[#This Row],[SGUID]]=\"\",IF(Checklist4810[[#This Row],[SSGUID]]=\"\",0,1),1)","v":0},"79P2YlIaBbTYuLX5kn7gmT",{"$f":"_xlfn.IFNA(Checklist4810[[#This Row],[RelatedPQ]],\"NA\")","v":"NA"},{"$f":"IF(Checklist4810[[#This Row],[PIGUID]]=\"\",\"\",INDEX(S2PQ_relational[],MATCH(Checklist4810[[#This Row],[PIGUID&NO]],S2PQ_relational[PIGUID & \"NO\"],0),2))","v":{"$error":"#N/A"}},{"$f":"Checklist4810[[#This Row],[PIGUID]]&\"NO\"","v":"79P2YlIaBbTYuLX5kn7gmTNO"},{"$f":"IF(Checklist4810[[#This Row],[PIGUID]]=\"\",\"\",INDEX(PIs[NA Exempt],MATCH(Checklist4810[[#This Row],[PIGUID]],PIs[GUID],0),1))","v":false},{"$f":"IF(Checklist4810[[#This Row],[SGUID]]=\"\",IF(Checklist4810[[#This Row],[SSGUID]]=\"\",IF(Checklist4810[[#This Row],[PIGUID]]=\"\",\"\",INDEX(PIs[[Column1]:[SS]],MATCH(Checklist4810[[#This Row],[PIGUID]],PIs[GUID],0),2)),INDEX(PIs[[Column1]:[SS]],MATCH(Checklist4810[[#This Row],[SSGUID]],PIs[SSGUID],0),18)),INDEX(PIs[[Column1]:[SS]],MATCH(Checklist4810[[#This Row],[SGUID]],PIs[SGUID],0),14))","v":"05.02"},{"$f":"IF(Checklist4810[[#This Row],[SGUID]]=\"\",IF(Checklist4810[[#This Row],[SSGUID]]=\"\",IF(Checklist4810[[#This Row],[PIGUID]]=\"\",\"\",INDEX(PIs[[Column1]:[SS]],MATCH(Checklist4810[[#This Row],[PIGUID]],PIs[GUID],0),4)),INDEX(PIs[[Column1]:[Ssbody]],MATCH(Checklist4810[[#This Row],[SSGUID]],PIs[SSGUID],0),19)),INDEX(PIs[[Column1]:[SS]],MATCH(Checklist4810[[#This Row],[SGUID]],PIs[SGUID],0),15))","v":"Taking into consideration any differences between national and local legislation and GRASP, the producer always applies the higher level of protection to workers. "},{"$f":"IF(Checklist4810[[#This Row],[SGUID]]=\"\",IF(Checklist4810[[#This Row],[SSGUID]]=\"\",INDEX(PIs[[Column1]:[SS]],MATCH(Checklist4810[[#This Row],[PIGUID]],PIs[GUID],0),6),\"\"),\"\")","v":"The term “higher level of protection” shall refer to the regulation which provides better protection or benefits to the worker."},{"$f":"IF(Checklist4810[[#This Row],[SSGUID]]=\"\",IF(Checklist4810[[#This Row],[PIGUID]]=\"\",\"\",INDEX(PIs[[Column1]:[SS]],MATCH(Checklist4810[[#This Row],[PIGUID]],PIs[GUID],0),8)),\"\")","v":"Major Must"},null,null,{"$f":"IF(Checklist4810[[#This Row],[ifna]]=\"NA\",\"\",IF(Checklist4810[[#This Row],[RelatedPQ]]=0,\"\",IF(Checklist4810[[#This Row],[RelatedPQ]]=\"\",\"\",IF((INDEX(S2PQ_relational[],MATCH(Checklist4810[[#This Row],[PIGUID&NO]],S2PQ_relational[PIGUID & \"NO\"],0),1))=Checklist4810[[#This Row],[PIGUID]],\"Not applicable\",\"\"))))","v":""},{"$f":"IF(Checklist4810[[#This Row],[N/A]]=\"Not Applicable\",INDEX(S2PQ[[Step 2  questions]:[Justification]],MATCH(Checklist4810[[#This Row],[RelatedPQ]],S2PQ[S2PQGUID],0),3),\"\")","v":""}]
[null,"19R27icHjrePmOqhbMVB4F",null,{"$f":"IF(Checklist4810[[#This Row],[SGUID]]=\"\",IF(Checklist4810[[#This Row],[SSGUID]]=\"\",0,1),1)","v":1},null,{"$f":"_xlfn.IFNA(Checklist4810[[#This Row],[RelatedPQ]],\"NA\")","v":""},{"$f":"IF(Checklist4810[[#This Row],[PIGUID]]=\"\",\"\",INDEX(S2PQ_relational[],MATCH(Checklist4810[[#This Row],[PIGUID&NO]],S2PQ_relational[PIGUID & \"NO\"],0),2))","v":""},{"$f":"Checklist4810[[#This Row],[PIGUID]]&\"NO\"","v":"NO"},{"$f":"IF(Checklist4810[[#This Row],[PIGUID]]=\"\",\"\",INDEX(PIs[NA Exempt],MATCH(Checklist4810[[#This Row],[PIGUID]],PIs[GUID],0),1))","v":""},{"$f":"IF(Checklist4810[[#This Row],[SGUID]]=\"\",IF(Checklist4810[[#This Row],[SSGUID]]=\"\",IF(Checklist4810[[#This Row],[PIGUID]]=\"\",\"\",INDEX(PIs[[Column1]:[SS]],MATCH(Checklist4810[[#This Row],[PIGUID]],PIs[GUID],0),2)),INDEX(PIs[[Column1]:[SS]],MATCH(Checklist4810[[#This Row],[SSGUID]],PIs[SSGUID],0),18)),INDEX(PIs[[Column1]:[SS]],MATCH(Checklist4810[[#This Row],[SGUID]],PIs[SGUID],0),14))","v":"TERMS OF EMPLOYMENT DOCUMENTS AND FORCED LABOR INDICATORS"},{"$f":"IF(Checklist4810[[#This Row],[SGUID]]=\"\",IF(Checklist4810[[#This Row],[SSGUID]]=\"\",IF(Checklist4810[[#This Row],[PIGUID]]=\"\",\"\",INDEX(PIs[[Column1]:[SS]],MATCH(Checklist4810[[#This Row],[PIGUID]],PIs[GUID],0),4)),INDEX(PIs[[Column1]:[Ssbody]],MATCH(Checklist4810[[#This Row],[SSGUID]],PIs[SSGUID],0),19)),INDEX(PIs[[Column1]:[SS]],MATCH(Checklist4810[[#This Row],[SGUID]],PIs[SGUID],0),15))","v":"-"},{"$f":"IF(Checklist4810[[#This Row],[SGUID]]=\"\",IF(Checklist4810[[#This Row],[SSGUID]]=\"\",INDEX(PIs[[Column1]:[SS]],MATCH(Checklist4810[[#This Row],[PIGUID]],PIs[GUID],0),6),\"\"),\"\")","v":""},{"$f":"IF(Checklist4810[[#This Row],[SSGUID]]=\"\",IF(Checklist4810[[#This Row],[PIGUID]]=\"\",\"\",INDEX(PIs[[Column1]:[SS]],MATCH(Checklist4810[[#This Row],[PIGUID]],PIs[GUID],0),8)),\"\")","v":""},null,null,{"$f":"IF(Checklist4810[[#This Row],[ifna]]=\"NA\",\"\",IF(Checklist4810[[#This Row],[RelatedPQ]]=0,\"\",IF(Checklist4810[[#This Row],[RelatedPQ]]=\"\",\"\",IF((INDEX(S2PQ_relational[],MATCH(Checklist4810[[#This Row],[PIGUID&NO]],S2PQ_relational[PIGUID & \"NO\"],0),1))=Checklist4810[[#This Row],[PIGUID]],\"Not applicable\",\"\"))))","v":""},{"$f":"IF(Checklist4810[[#This Row],[N/A]]=\"Not Applicable\",INDEX(S2PQ[[Step 2  questions]:[Justification]],MATCH(Checklist4810[[#This Row],[RelatedPQ]],S2PQ[S2PQGUID],0),3),\"\")","v":""}]
[null,null,"5TvyR0UgB0EOmnMkFaZftX",{"$f":"IF(Checklist4810[[#This Row],[SGUID]]=\"\",IF(Checklist4810[[#This Row],[SSGUID]]=\"\",0,1),1)","v":1},null,{"$f":"_xlfn.IFNA(Checklist4810[[#This Row],[RelatedPQ]],\"NA\")","v":""},{"$f":"IF(Checklist4810[[#This Row],[PIGUID]]=\"\",\"\",INDEX(S2PQ_relational[],MATCH(Checklist4810[[#This Row],[PIGUID&NO]],S2PQ_relational[PIGUID & \"NO\"],0),2))","v":""},{"$f":"Checklist4810[[#This Row],[PIGUID]]&\"NO\"","v":"NO"},{"$f":"IF(Checklist4810[[#This Row],[PIGUID]]=\"\",\"\",INDEX(PIs[NA Exempt],MATCH(Checklist4810[[#This Row],[PIGUID]],PIs[GUID],0),1))","v":""},{"$f":"IF(Checklist4810[[#This Row],[SGUID]]=\"\",IF(Checklist4810[[#This Row],[SSGUID]]=\"\",IF(Checklist4810[[#This Row],[PIGUID]]=\"\",\"\",INDEX(PIs[[Column1]:[SS]],MATCH(Checklist4810[[#This Row],[PIGUID]],PIs[GUID],0),2)),INDEX(PIs[[Column1]:[SS]],MATCH(Checklist4810[[#This Row],[SSGUID]],PIs[SSGUID],0),18)),INDEX(PIs[[Column1]:[SS]],MATCH(Checklist4810[[#This Row],[SGUID]],PIs[SGUID],0),14))","v":"-"},{"$f":"IF(Checklist4810[[#This Row],[SGUID]]=\"\",IF(Checklist4810[[#This Row],[SSGUID]]=\"\",IF(Checklist4810[[#This Row],[PIGUID]]=\"\",\"\",INDEX(PIs[[Column1]:[SS]],MATCH(Checklist4810[[#This Row],[PIGUID]],PIs[GUID],0),4)),INDEX(PIs[[Column1]:[Ssbody]],MATCH(Checklist4810[[#This Row],[SSGUID]],PIs[SSGUID],0),19)),INDEX(PIs[[Column1]:[SS]],MATCH(Checklist4810[[#This Row],[SGUID]],PIs[SGUID],0),15))","v":"-"},{"$f":"IF(Checklist4810[[#This Row],[SGUID]]=\"\",IF(Checklist4810[[#This Row],[SSGUID]]=\"\",INDEX(PIs[[Column1]:[SS]],MATCH(Checklist4810[[#This Row],[PIGUID]],PIs[GUID],0),6),\"\"),\"\")","v":""},{"$f":"IF(Checklist4810[[#This Row],[SSGUID]]=\"\",IF(Checklist4810[[#This Row],[PIGUID]]=\"\",\"\",INDEX(PIs[[Column1]:[SS]],MATCH(Checklist4810[[#This Row],[PIGUID]],PIs[GUID],0),8)),\"\")","v":""},null,null,{"$f":"IF(Checklist4810[[#This Row],[ifna]]=\"NA\",\"\",IF(Checklist4810[[#This Row],[RelatedPQ]]=0,\"\",IF(Checklist4810[[#This Row],[RelatedPQ]]=\"\",\"\",IF((INDEX(S2PQ_relational[],MATCH(Checklist4810[[#This Row],[PIGUID&NO]],S2PQ_relational[PIGUID & \"NO\"],0),1))=Checklist4810[[#This Row],[PIGUID]],\"Not applicable\",\"\"))))","v":""},{"$f":"IF(Checklist4810[[#This Row],[N/A]]=\"Not Applicable\",INDEX(S2PQ[[Step 2  questions]:[Justification]],MATCH(Checklist4810[[#This Row],[RelatedPQ]],S2PQ[S2PQGUID],0),3),\"\")","v":""}]
[{"$nulls":3},{"$f":"IF(Checklist4810[[#This Row],[SGUID]]=\"\",IF(Checklist4810[[#This Row],[SSGUID]]=\"\",0,1),1)","v":0},"1UsFNQjqnI4NREyezoXBqD",{"$f":"_xlfn.IFNA(Checklist4810[[#This Row],[RelatedPQ]],\"NA\")","v":"NA"},{"$f":"IF(Checklist4810[[#This Row],[PIGUID]]=\"\",\"\",INDEX(S2PQ_relational[],MATCH(Checklist4810[[#This Row],[PIGUID&NO]],S2PQ_relational[PIGUID & \"NO\"],0),2))","v":{"$error":"#N/A"}},{"$f":"Checklist4810[[#This Row],[PIGUID]]&\"NO\"","v":"1UsFNQjqnI4NREyezoXBqDNO"},{"$f":"IF(Checklist4810[[#This Row],[PIGUID]]=\"\",\"\",INDEX(PIs[NA Exempt],MATCH(Checklist4810[[#This Row],[PIGUID]],PIs[GUID],0),1))","v":false},{"$f":"IF(Checklist4810[[#This Row],[SGUID]]=\"\",IF(Checklist4810[[#This Row],[SSGUID]]=\"\",IF(Checklist4810[[#This Row],[PIGUID]]=\"\",\"\",INDEX(PIs[[Column1]:[SS]],MATCH(Checklist4810[[#This Row],[PIGUID]],PIs[GUID],0),2)),INDEX(PIs[[Column1]:[SS]],MATCH(Checklist4810[[#This Row],[SSGUID]],PIs[SSGUID],0),18)),INDEX(PIs[[Column1]:[SS]],MATCH(Checklist4810[[#This Row],[SGUID]],PIs[SGUID],0),14))","v":"06.01"},{"$f":"IF(Checklist4810[[#This Row],[SGUID]]=\"\",IF(Checklist4810[[#This Row],[SSGUID]]=\"\",IF(Checklist4810[[#This Row],[PIGUID]]=\"\",\"\",INDEX(PIs[[Column1]:[SS]],MATCH(Checklist4810[[#This Row],[PIGUID]],PIs[GUID],0),4)),INDEX(PIs[[Column1]:[Ssbody]],MATCH(Checklist4810[[#This Row],[SSGUID]],PIs[SSGUID],0),19)),INDEX(PIs[[Column1]:[SS]],MATCH(Checklist4810[[#This Row],[SGUID]],PIs[SGUID],0),15))","v":"All workers are legally eligible to work at the production site and on the activities assigned.  "},{"$f":"IF(Checklist4810[[#This Row],[SGUID]]=\"\",IF(Checklist4810[[#This Row],[SSGUID]]=\"\",INDEX(PIs[[Column1]:[SS]],MATCH(Checklist4810[[#This Row],[PIGUID]],PIs[GUID],0),6),\"\"),\"\")","v":"For each worker, the producer shall have information on their legal eligibility to work and a verification process or method to assess this eligibility including, e.g., working permits (when required for nonnationals), legal minimum age of employment (for young workers), parental consent for workers at legal minimum age of employment (when required by law), residency permits, working cards, or other documents with relevant information.\nFor family farms without hired workers, “workers” shall refer to core family members working on the farm.\nAny ID, permit, or document to verify this condition shall always be returned to the worker immediately.\nFor subcontracted agricultural labor, the producer shall have requested a list of workers indicating that each worker’s eligibility was checked by the direct employer (e.g., by permit, by passport, by ID, etc.)."},{"$f":"IF(Checklist4810[[#This Row],[SSGUID]]=\"\",IF(Checklist4810[[#This Row],[PIGUID]]=\"\",\"\",INDEX(PIs[[Column1]:[SS]],MATCH(Checklist4810[[#This Row],[PIGUID]],PIs[GUID],0),8)),\"\")","v":"Major Must"},null,null,{"$f":"IF(Checklist4810[[#This Row],[ifna]]=\"NA\",\"\",IF(Checklist4810[[#This Row],[RelatedPQ]]=0,\"\",IF(Checklist4810[[#This Row],[RelatedPQ]]=\"\",\"\",IF((INDEX(S2PQ_relational[],MATCH(Checklist4810[[#This Row],[PIGUID&NO]],S2PQ_relational[PIGUID & \"NO\"],0),1))=Checklist4810[[#This Row],[PIGUID]],\"Not applicable\",\"\"))))","v":""},{"$f":"IF(Checklist4810[[#This Row],[N/A]]=\"Not Applicable\",INDEX(S2PQ[[Step 2  questions]:[Justification]],MATCH(Checklist4810[[#This Row],[RelatedPQ]],S2PQ[S2PQGUID],0),3),\"\")","v":""}]
[{"$nulls":3},{"$f":"IF(Checklist4810[[#This Row],[SGUID]]=\"\",IF(Checklist4810[[#This Row],[SSGUID]]=\"\",0,1),1)","v":0},"wBEPtgHvVdAw5AnSADfam",{"$f":"_xlfn.IFNA(Checklist4810[[#This Row],[RelatedPQ]],\"NA\")","v":"NA"},{"$f":"IF(Checklist4810[[#This Row],[PIGUID]]=\"\",\"\",INDEX(S2PQ_relational[],MATCH(Checklist4810[[#This Row],[PIGUID&NO]],S2PQ_relational[PIGUID & \"NO\"],0),2))","v":{"$error":"#N/A"}},{"$f":"Checklist4810[[#This Row],[PIGUID]]&\"NO\"","v":"wBEPtgHvVdAw5AnSADfamNO"},{"$f":"IF(Checklist4810[[#This Row],[PIGUID]]=\"\",\"\",INDEX(PIs[NA Exempt],MATCH(Checklist4810[[#This Row],[PIGUID]],PIs[GUID],0),1))","v":false},{"$f":"IF(Checklist4810[[#This Row],[SGUID]]=\"\",IF(Checklist4810[[#This Row],[SSGUID]]=\"\",IF(Checklist4810[[#This Row],[PIGUID]]=\"\",\"\",INDEX(PIs[[Column1]:[SS]],MATCH(Checklist4810[[#This Row],[PIGUID]],PIs[GUID],0),2)),INDEX(PIs[[Column1]:[SS]],MATCH(Checklist4810[[#This Row],[SSGUID]],PIs[SSGUID],0),18)),INDEX(PIs[[Column1]:[SS]],MATCH(Checklist4810[[#This Row],[SGUID]],PIs[SGUID],0),14))","v":"06.02"},{"$f":"IF(Checklist4810[[#This Row],[SGUID]]=\"\",IF(Checklist4810[[#This Row],[SSGUID]]=\"\",IF(Checklist4810[[#This Row],[PIGUID]]=\"\",\"\",INDEX(PIs[[Column1]:[SS]],MATCH(Checklist4810[[#This Row],[PIGUID]],PIs[GUID],0),4)),INDEX(PIs[[Column1]:[Ssbody]],MATCH(Checklist4810[[#This Row],[SSGUID]],PIs[SSGUID],0),19)),INDEX(PIs[[Column1]:[SS]],MATCH(Checklist4810[[#This Row],[SGUID]],PIs[SGUID],0),15))","v":"All workers have entered work voluntarily and freely: \n- Without being pressured, forced, or intimidated\n- Without being required to pay (directly or indirectly) a fee or related cost for being recruited, or making monetary deposits, financial guarantees, or deposits of personal possessions to be employed\n- Understanding and freely agreeing to the employment terms and conditions document"},{"$f":"IF(Checklist4810[[#This Row],[SGUID]]=\"\",IF(Checklist4810[[#This Row],[SSGUID]]=\"\",INDEX(PIs[[Column1]:[SS]],MATCH(Checklist4810[[#This Row],[PIGUID]],PIs[GUID],0),6),\"\"),\"\")","v":"Details of the hiring procedure (documental or verbal) at the production site shall be provided indicating when the acceptance of work happens and by whom. \nIf prison labor is used, there shall be evidence that all labor was performed voluntarily, i.e., each worker shall receive and sign a standardized consent form from the producer indicating that they agree to work. The form shall indicate the wages and conditions of work. The producer shall offer working conditions similar to working outside the prison.\nIf family members of the worker have been hired, the assessor shall check that the family members (worker’s spouse, children, or any other family members) have been separately and voluntarily contracted.\nThe term “debt bondage” shall refer to a debt which can never be paid due to the conditions, terms, and circumstances of the debt.\nIn the case of subcontracted labor, where legislation allows subcontractors to charge fees, these may not lead to situations of forced or compulsory labor (i.e., debt bondage or forced labor), and the producer shall request documental information directly from the direct employer and their subcontracted labor about this P&C. If non-compliance is found, the producer shall document each instance and the corrective actions taken.\n"},{"$f":"IF(Checklist4810[[#This Row],[SSGUID]]=\"\",IF(Checklist4810[[#This Row],[PIGUID]]=\"\",\"\",INDEX(PIs[[Column1]:[SS]],MATCH(Checklist4810[[#This Row],[PIGUID]],PIs[GUID],0),8)),\"\")","v":"Major Must"},null,null,{"$f":"IF(Checklist4810[[#This Row],[ifna]]=\"NA\",\"\",IF(Checklist4810[[#This Row],[RelatedPQ]]=0,\"\",IF(Checklist4810[[#This Row],[RelatedPQ]]=\"\",\"\",IF((INDEX(S2PQ_relational[],MATCH(Checklist4810[[#This Row],[PIGUID&NO]],S2PQ_relational[PIGUID & \"NO\"],0),1))=Checklist4810[[#This Row],[PIGUID]],\"Not applicable\",\"\"))))","v":""},{"$f":"IF(Checklist4810[[#This Row],[N/A]]=\"Not Applicable\",INDEX(S2PQ[[Step 2  questions]:[Justification]],MATCH(Checklist4810[[#This Row],[RelatedPQ]],S2PQ[S2PQGUID],0),3),\"\")","v":""}]
[{"$nulls":3},{"$f":"IF(Checklist4810[[#This Row],[SGUID]]=\"\",IF(Checklist4810[[#This Row],[SSGUID]]=\"\",0,1),1)","v":0},"1QXyVfdBIBo1vUMDJvmkto",{"$f":"_xlfn.IFNA(Checklist4810[[#This Row],[RelatedPQ]],\"NA\")","v":"NA"},{"$f":"IF(Checklist4810[[#This Row],[PIGUID]]=\"\",\"\",INDEX(S2PQ_relational[],MATCH(Checklist4810[[#This Row],[PIGUID&NO]],S2PQ_relational[PIGUID & \"NO\"],0),2))","v":{"$error":"#N/A"}},{"$f":"Checklist4810[[#This Row],[PIGUID]]&\"NO\"","v":"1QXyVfdBIBo1vUMDJvmktoNO"},{"$f":"IF(Checklist4810[[#This Row],[PIGUID]]=\"\",\"\",INDEX(PIs[NA Exempt],MATCH(Checklist4810[[#This Row],[PIGUID]],PIs[GUID],0),1))","v":false},{"$f":"IF(Checklist4810[[#This Row],[SGUID]]=\"\",IF(Checklist4810[[#This Row],[SSGUID]]=\"\",IF(Checklist4810[[#This Row],[PIGUID]]=\"\",\"\",INDEX(PIs[[Column1]:[SS]],MATCH(Checklist4810[[#This Row],[PIGUID]],PIs[GUID],0),2)),INDEX(PIs[[Column1]:[SS]],MATCH(Checklist4810[[#This Row],[SSGUID]],PIs[SSGUID],0),18)),INDEX(PIs[[Column1]:[SS]],MATCH(Checklist4810[[#This Row],[SGUID]],PIs[SGUID],0),14))","v":"06.03"},{"$f":"IF(Checklist4810[[#This Row],[SGUID]]=\"\",IF(Checklist4810[[#This Row],[SSGUID]]=\"\",IF(Checklist4810[[#This Row],[PIGUID]]=\"\",\"\",INDEX(PIs[[Column1]:[SS]],MATCH(Checklist4810[[#This Row],[PIGUID]],PIs[GUID],0),4)),INDEX(PIs[[Column1]:[Ssbody]],MATCH(Checklist4810[[#This Row],[SSGUID]],PIs[SSGUID],0),19)),INDEX(PIs[[Column1]:[SS]],MATCH(Checklist4810[[#This Row],[SGUID]],PIs[SGUID],0),15))","v":"All contracted employment agencies and labor subcontractors are legally authorized to operate and/or registered with labor authorities when such registration exists."},{"$f":"IF(Checklist4810[[#This Row],[SGUID]]=\"\",IF(Checklist4810[[#This Row],[SSGUID]]=\"\",INDEX(PIs[[Column1]:[SS]],MATCH(Checklist4810[[#This Row],[PIGUID]],PIs[GUID],0),6),\"\"),\"\")","v":"The term “contracted” shall include all organizations used by the producer during the year before (or since the last) assessment.\nThe term “registration” includes basic legal permits and official business registration from government authorities to operate as a legal entity, individual subcontractor, or business. The producer shall have in place a verification process or method for checking the registration of employment agencies and subcontractors used (e.g., checking the license, business registration, permits, and registration documents where available, etc.).\nThe producer shall keep copies of the verification resources (e.g., documents, copies, certification, etc.)."},{"$f":"IF(Checklist4810[[#This Row],[SSGUID]]=\"\",IF(Checklist4810[[#This Row],[PIGUID]]=\"\",\"\",INDEX(PIs[[Column1]:[SS]],MATCH(Checklist4810[[#This Row],[PIGUID]],PIs[GUID],0),8)),\"\")","v":"Major Must"},null,null,{"$f":"IF(Checklist4810[[#This Row],[ifna]]=\"NA\",\"\",IF(Checklist4810[[#This Row],[RelatedPQ]]=0,\"\",IF(Checklist4810[[#This Row],[RelatedPQ]]=\"\",\"\",IF((INDEX(S2PQ_relational[],MATCH(Checklist4810[[#This Row],[PIGUID&NO]],S2PQ_relational[PIGUID & \"NO\"],0),1))=Checklist4810[[#This Row],[PIGUID]],\"Not applicable\",\"\"))))","v":""},{"$f":"IF(Checklist4810[[#This Row],[N/A]]=\"Not Applicable\",INDEX(S2PQ[[Step 2  questions]:[Justification]],MATCH(Checklist4810[[#This Row],[RelatedPQ]],S2PQ[S2PQGUID],0),3),\"\")","v":""}]
[{"$nulls":3},{"$f":"IF(Checklist4810[[#This Row],[SGUID]]=\"\",IF(Checklist4810[[#This Row],[SSGUID]]=\"\",0,1),1)","v":0},"nLQp6Z2dA0ba8MNAiLJ6s",{"$f":"_xlfn.IFNA(Checklist4810[[#This Row],[RelatedPQ]],\"NA\")","v":"NA"},{"$f":"IF(Checklist4810[[#This Row],[PIGUID]]=\"\",\"\",INDEX(S2PQ_relational[],MATCH(Checklist4810[[#This Row],[PIGUID&NO]],S2PQ_relational[PIGUID & \"NO\"],0),2))","v":{"$error":"#N/A"}},{"$f":"Checklist4810[[#This Row],[PIGUID]]&\"NO\"","v":"nLQp6Z2dA0ba8MNAiLJ6sNO"},{"$f":"IF(Checklist4810[[#This Row],[PIGUID]]=\"\",\"\",INDEX(PIs[NA Exempt],MATCH(Checklist4810[[#This Row],[PIGUID]],PIs[GUID],0),1))","v":false},{"$f":"IF(Checklist4810[[#This Row],[SGUID]]=\"\",IF(Checklist4810[[#This Row],[SSGUID]]=\"\",IF(Checklist4810[[#This Row],[PIGUID]]=\"\",\"\",INDEX(PIs[[Column1]:[SS]],MATCH(Checklist4810[[#This Row],[PIGUID]],PIs[GUID],0),2)),INDEX(PIs[[Column1]:[SS]],MATCH(Checklist4810[[#This Row],[SSGUID]],PIs[SSGUID],0),18)),INDEX(PIs[[Column1]:[SS]],MATCH(Checklist4810[[#This Row],[SGUID]],PIs[SGUID],0),14))","v":"06.04"},{"$f":"IF(Checklist4810[[#This Row],[SGUID]]=\"\",IF(Checklist4810[[#This Row],[SSGUID]]=\"\",IF(Checklist4810[[#This Row],[PIGUID]]=\"\",\"\",INDEX(PIs[[Column1]:[SS]],MATCH(Checklist4810[[#This Row],[PIGUID]],PIs[GUID],0),4)),INDEX(PIs[[Column1]:[Ssbody]],MATCH(Checklist4810[[#This Row],[SSGUID]],PIs[SSGUID],0),19)),INDEX(PIs[[Column1]:[SS]],MATCH(Checklist4810[[#This Row],[SGUID]],PIs[SGUID],0),15))","v":"For each worker, a document with the employment terms and conditions is available and has existed from the moment the employment relationship started."},{"$f":"IF(Checklist4810[[#This Row],[SGUID]]=\"\",IF(Checklist4810[[#This Row],[SSGUID]]=\"\",INDEX(PIs[[Column1]:[SS]],MATCH(Checklist4810[[#This Row],[PIGUID]],PIs[GUID],0),6),\"\"),\"\")","v":"The term “document with the employment terms and conditions” shall indicate a record in writing, such as a contract, letter of employment, short agreements, or any other type of record that provides details of the employment term agreements. The evidence may consist of several documents with the information.\nFor compliance, it is required that:\n- Documents shall be understood by workers (i.e., available in the predominant language(s) of the workforce, or with proof showing that workers understood the document).\n- The worker shall have a copy and/or these documents shall be accessible.\n- Documents shall include a date of acceptance of the agreement and the employment starting date.\n- If written, the agreement shall be signed and dated by the worker.\nFor subcontracted labor, there shall be a document from the producer for subcontractors and/or employment agency workers instructing the subcontracted laborer about the scope and conditions of the work, detailing the (applicable) information. This document shall be available in the predominant language(s) of the subcontracted workforce and/or pictograms. \nThe direct employer (subcontractor) shall provide the producer with a summary (document) of the terms of employment used. Information considered confidential shall be described in general terms (e.g., wages or bonuses shall be described as hourly rates or at least indicating the minimum wage payment). \nThere shall be a terms and conditions document if prison labor is used.\nThere shall be separate terms and conditions documents when family members or workers are also hired."},{"$f":"IF(Checklist4810[[#This Row],[SSGUID]]=\"\",IF(Checklist4810[[#This Row],[PIGUID]]=\"\",\"\",INDEX(PIs[[Column1]:[SS]],MATCH(Checklist4810[[#This Row],[PIGUID]],PIs[GUID],0),8)),\"\")","v":"Major Must"},null,null,{"$f":"IF(Checklist4810[[#This Row],[ifna]]=\"NA\",\"\",IF(Checklist4810[[#This Row],[RelatedPQ]]=0,\"\",IF(Checklist4810[[#This Row],[RelatedPQ]]=\"\",\"\",IF((INDEX(S2PQ_relational[],MATCH(Checklist4810[[#This Row],[PIGUID&NO]],S2PQ_relational[PIGUID & \"NO\"],0),1))=Checklist4810[[#This Row],[PIGUID]],\"Not applicable\",\"\"))))","v":""},{"$f":"IF(Checklist4810[[#This Row],[N/A]]=\"Not Applicable\",INDEX(S2PQ[[Step 2  questions]:[Justification]],MATCH(Checklist4810[[#This Row],[RelatedPQ]],S2PQ[S2PQGUID],0),3),\"\")","v":""}]
[{"$nulls":3},{"$f":"IF(Checklist4810[[#This Row],[SGUID]]=\"\",IF(Checklist4810[[#This Row],[SSGUID]]=\"\",0,1),1)","v":0},"7vh4rzn69GDVBFTuIYGSFw",{"$f":"_xlfn.IFNA(Checklist4810[[#This Row],[RelatedPQ]],\"NA\")","v":"NA"},{"$f":"IF(Checklist4810[[#This Row],[PIGUID]]=\"\",\"\",INDEX(S2PQ_relational[],MATCH(Checklist4810[[#This Row],[PIGUID&NO]],S2PQ_relational[PIGUID & \"NO\"],0),2))","v":{"$error":"#N/A"}},{"$f":"Checklist4810[[#This Row],[PIGUID]]&\"NO\"","v":"7vh4rzn69GDVBFTuIYGSFwNO"},{"$f":"IF(Checklist4810[[#This Row],[PIGUID]]=\"\",\"\",INDEX(PIs[NA Exempt],MATCH(Checklist4810[[#This Row],[PIGUID]],PIs[GUID],0),1))","v":false},{"$f":"IF(Checklist4810[[#This Row],[SGUID]]=\"\",IF(Checklist4810[[#This Row],[SSGUID]]=\"\",IF(Checklist4810[[#This Row],[PIGUID]]=\"\",\"\",INDEX(PIs[[Column1]:[SS]],MATCH(Checklist4810[[#This Row],[PIGUID]],PIs[GUID],0),2)),INDEX(PIs[[Column1]:[SS]],MATCH(Checklist4810[[#This Row],[SSGUID]],PIs[SSGUID],0),18)),INDEX(PIs[[Column1]:[SS]],MATCH(Checklist4810[[#This Row],[SGUID]],PIs[SGUID],0),14))","v":"06.05"},{"$f":"IF(Checklist4810[[#This Row],[SGUID]]=\"\",IF(Checklist4810[[#This Row],[SSGUID]]=\"\",IF(Checklist4810[[#This Row],[PIGUID]]=\"\",\"\",INDEX(PIs[[Column1]:[SS]],MATCH(Checklist4810[[#This Row],[PIGUID]],PIs[GUID],0),4)),INDEX(PIs[[Column1]:[Ssbody]],MATCH(Checklist4810[[#This Row],[SSGUID]],PIs[SSGUID],0),19)),INDEX(PIs[[Column1]:[SS]],MATCH(Checklist4810[[#This Row],[SGUID]],PIs[SGUID],0),15))","v":"Information on the worker’s full name, nationality, and date of birth is verified by the employer before hiring and has been correctly included in the worker’s terms and conditions documents."},{"$f":"IF(Checklist4810[[#This Row],[SGUID]]=\"\",IF(Checklist4810[[#This Row],[SSGUID]]=\"\",INDEX(PIs[[Column1]:[SS]],MATCH(Checklist4810[[#This Row],[PIGUID]],PIs[GUID],0),6),\"\"),\"\")","v":"There shall be a verification process or method for the information included in the workers’ terms and conditions documents (e.g., check of worker ID, working permit, working registration card, trade union membership card, etc., with a copy kept on file) to verify the information for all workers, including very short-term workers. \nFor subcontracted labor, the information shall be included in the register (list of those working at the production site) provided to the assessor."},{"$f":"IF(Checklist4810[[#This Row],[SSGUID]]=\"\",IF(Checklist4810[[#This Row],[PIGUID]]=\"\",\"\",INDEX(PIs[[Column1]:[SS]],MATCH(Checklist4810[[#This Row],[PIGUID]],PIs[GUID],0),8)),\"\")","v":"Major Must"},null,null,{"$f":"IF(Checklist4810[[#This Row],[ifna]]=\"NA\",\"\",IF(Checklist4810[[#This Row],[RelatedPQ]]=0,\"\",IF(Checklist4810[[#This Row],[RelatedPQ]]=\"\",\"\",IF((INDEX(S2PQ_relational[],MATCH(Checklist4810[[#This Row],[PIGUID&NO]],S2PQ_relational[PIGUID & \"NO\"],0),1))=Checklist4810[[#This Row],[PIGUID]],\"Not applicable\",\"\"))))","v":""},{"$f":"IF(Checklist4810[[#This Row],[N/A]]=\"Not Applicable\",INDEX(S2PQ[[Step 2  questions]:[Justification]],MATCH(Checklist4810[[#This Row],[RelatedPQ]],S2PQ[S2PQGUID],0),3),\"\")","v":""}]
[{"$nulls":3},{"$f":"IF(Checklist4810[[#This Row],[SGUID]]=\"\",IF(Checklist4810[[#This Row],[SSGUID]]=\"\",0,1),1)","v":0},"5nVsN512P1ihIAlGnEShZx",{"$f":"_xlfn.IFNA(Checklist4810[[#This Row],[RelatedPQ]],\"NA\")","v":"NA"},{"$f":"IF(Checklist4810[[#This Row],[PIGUID]]=\"\",\"\",INDEX(S2PQ_relational[],MATCH(Checklist4810[[#This Row],[PIGUID&NO]],S2PQ_relational[PIGUID & \"NO\"],0),2))","v":{"$error":"#N/A"}},{"$f":"Checklist4810[[#This Row],[PIGUID]]&\"NO\"","v":"5nVsN512P1ihIAlGnEShZxNO"},{"$f":"IF(Checklist4810[[#This Row],[PIGUID]]=\"\",\"\",INDEX(PIs[NA Exempt],MATCH(Checklist4810[[#This Row],[PIGUID]],PIs[GUID],0),1))","v":false},{"$f":"IF(Checklist4810[[#This Row],[SGUID]]=\"\",IF(Checklist4810[[#This Row],[SSGUID]]=\"\",IF(Checklist4810[[#This Row],[PIGUID]]=\"\",\"\",INDEX(PIs[[Column1]:[SS]],MATCH(Checklist4810[[#This Row],[PIGUID]],PIs[GUID],0),2)),INDEX(PIs[[Column1]:[SS]],MATCH(Checklist4810[[#This Row],[SSGUID]],PIs[SSGUID],0),18)),INDEX(PIs[[Column1]:[SS]],MATCH(Checklist4810[[#This Row],[SGUID]],PIs[SGUID],0),14))","v":"06.06"},{"$f":"IF(Checklist4810[[#This Row],[SGUID]]=\"\",IF(Checklist4810[[#This Row],[SSGUID]]=\"\",IF(Checklist4810[[#This Row],[PIGUID]]=\"\",\"\",INDEX(PIs[[Column1]:[SS]],MATCH(Checklist4810[[#This Row],[PIGUID]],PIs[GUID],0),4)),INDEX(PIs[[Column1]:[Ssbody]],MATCH(Checklist4810[[#This Row],[SSGUID]],PIs[SSGUID],0),19)),INDEX(PIs[[Column1]:[SS]],MATCH(Checklist4810[[#This Row],[SGUID]],PIs[SGUID],0),15))","v":"The employment terms and conditions documents include up-to-date information on the period of employment, contract type, a basic job description, wages, payments, working hours, breaks, holidays, and information on maternity or sick leave applicable by law."},{"$f":"IF(Checklist4810[[#This Row],[SGUID]]=\"\",IF(Checklist4810[[#This Row],[SSGUID]]=\"\",INDEX(PIs[[Column1]:[SS]],MATCH(Checklist4810[[#This Row],[PIGUID]],PIs[GUID],0),6),\"\"),\"\")","v":"The term “up to date” shall require a record of employment changes (changes in hours, type of activity, wages, location, housing, transport, basic information on holidays and maternity leave rights or sick leave, etc.) that will apply.\nIf the worker lives in on-site housing arrangements, the document shall clearly indicate the weekly days off and/or weekly work shifts.\nThe term “contract type” shall refer to the distinction between permanent, seasonal, period or day laborer, or subcontracted employment.\nThe term “wages” shall require including a clear calculation of wages (i.e., inclusive of new forms of shift work, average of hours worked, flex-time arrangements, compressed work weeks, on-call work, along with extended or even 24/7 availability), and final rate to be paid shall also be included in the employment terms and conditions.\nFor subcontracted labor, the direct subcontractor employer shall provide a summary (document) of the terms of employment. Information considered confidential shall be described in general terms (i.e., wages or bonuses shall be described as hourly rates or at least indicating payment of the minimum wage). "},{"$f":"IF(Checklist4810[[#This Row],[SSGUID]]=\"\",IF(Checklist4810[[#This Row],[PIGUID]]=\"\",\"\",INDEX(PIs[[Column1]:[SS]],MATCH(Checklist4810[[#This Row],[PIGUID]],PIs[GUID],0),8)),\"\")","v":"Minor Must"},null,null,{"$f":"IF(Checklist4810[[#This Row],[ifna]]=\"NA\",\"\",IF(Checklist4810[[#This Row],[RelatedPQ]]=0,\"\",IF(Checklist4810[[#This Row],[RelatedPQ]]=\"\",\"\",IF((INDEX(S2PQ_relational[],MATCH(Checklist4810[[#This Row],[PIGUID&NO]],S2PQ_relational[PIGUID & \"NO\"],0),1))=Checklist4810[[#This Row],[PIGUID]],\"Not applicable\",\"\"))))","v":""},{"$f":"IF(Checklist4810[[#This Row],[N/A]]=\"Not Applicable\",INDEX(S2PQ[[Step 2  questions]:[Justification]],MATCH(Checklist4810[[#This Row],[RelatedPQ]],S2PQ[S2PQGUID],0),3),\"\")","v":""}]
[{"$nulls":3},{"$f":"IF(Checklist4810[[#This Row],[SGUID]]=\"\",IF(Checklist4810[[#This Row],[SSGUID]]=\"\",0,1),1)","v":0},"OUJXQZSzOeFdIhal7ZoXx",{"$f":"_xlfn.IFNA(Checklist4810[[#This Row],[RelatedPQ]],\"NA\")","v":"NA"},{"$f":"IF(Checklist4810[[#This Row],[PIGUID]]=\"\",\"\",INDEX(S2PQ_relational[],MATCH(Checklist4810[[#This Row],[PIGUID&NO]],S2PQ_relational[PIGUID & \"NO\"],0),2))","v":{"$error":"#N/A"}},{"$f":"Checklist4810[[#This Row],[PIGUID]]&\"NO\"","v":"OUJXQZSzOeFdIhal7ZoXxNO"},{"$f":"IF(Checklist4810[[#This Row],[PIGUID]]=\"\",\"\",INDEX(PIs[NA Exempt],MATCH(Checklist4810[[#This Row],[PIGUID]],PIs[GUID],0),1))","v":false},{"$f":"IF(Checklist4810[[#This Row],[SGUID]]=\"\",IF(Checklist4810[[#This Row],[SSGUID]]=\"\",IF(Checklist4810[[#This Row],[PIGUID]]=\"\",\"\",INDEX(PIs[[Column1]:[SS]],MATCH(Checklist4810[[#This Row],[PIGUID]],PIs[GUID],0),2)),INDEX(PIs[[Column1]:[SS]],MATCH(Checklist4810[[#This Row],[SSGUID]],PIs[SSGUID],0),18)),INDEX(PIs[[Column1]:[SS]],MATCH(Checklist4810[[#This Row],[SGUID]],PIs[SGUID],0),14))","v":"06.07"},{"$f":"IF(Checklist4810[[#This Row],[SGUID]]=\"\",IF(Checklist4810[[#This Row],[SSGUID]]=\"\",IF(Checklist4810[[#This Row],[PIGUID]]=\"\",\"\",INDEX(PIs[[Column1]:[SS]],MATCH(Checklist4810[[#This Row],[PIGUID]],PIs[GUID],0),4)),INDEX(PIs[[Column1]:[Ssbody]],MATCH(Checklist4810[[#This Row],[SSGUID]],PIs[SSGUID],0),19)),INDEX(PIs[[Column1]:[SS]],MATCH(Checklist4810[[#This Row],[SGUID]],PIs[SGUID],0),15))","v":"The employment terms and conditions in the document comply with national legislation and collective bargaining agreements."},{"$f":"IF(Checklist4810[[#This Row],[SGUID]]=\"\",IF(Checklist4810[[#This Row],[SSGUID]]=\"\",INDEX(PIs[[Column1]:[SS]],MATCH(Checklist4810[[#This Row],[PIGUID]],PIs[GUID],0),6),\"\"),\"\")","v":"For subcontractors, the direct employer terms and conditions shall comply with the national laws independent of the place of hiring or nationality of the workers, and the producer shall be provided with a summary of those terms to be checked.\n"},{"$f":"IF(Checklist4810[[#This Row],[SSGUID]]=\"\",IF(Checklist4810[[#This Row],[PIGUID]]=\"\",\"\",INDEX(PIs[[Column1]:[SS]],MATCH(Checklist4810[[#This Row],[PIGUID]],PIs[GUID],0),8)),\"\")","v":"Major Must"},null,null,{"$f":"IF(Checklist4810[[#This Row],[ifna]]=\"NA\",\"\",IF(Checklist4810[[#This Row],[RelatedPQ]]=0,\"\",IF(Checklist4810[[#This Row],[RelatedPQ]]=\"\",\"\",IF((INDEX(S2PQ_relational[],MATCH(Checklist4810[[#This Row],[PIGUID&NO]],S2PQ_relational[PIGUID & \"NO\"],0),1))=Checklist4810[[#This Row],[PIGUID]],\"Not applicable\",\"\"))))","v":""},{"$f":"IF(Checklist4810[[#This Row],[N/A]]=\"Not Applicable\",INDEX(S2PQ[[Step 2  questions]:[Justification]],MATCH(Checklist4810[[#This Row],[RelatedPQ]],S2PQ[S2PQGUID],0),3),\"\")","v":""}]
[{"$nulls":3},{"$f":"IF(Checklist4810[[#This Row],[SGUID]]=\"\",IF(Checklist4810[[#This Row],[SSGUID]]=\"\",0,1),1)","v":0},"2uY4AAajOUzuQYK0i5HEJS",{"$f":"_xlfn.IFNA(Checklist4810[[#This Row],[RelatedPQ]],\"NA\")","v":"NA"},{"$f":"IF(Checklist4810[[#This Row],[PIGUID]]=\"\",\"\",INDEX(S2PQ_relational[],MATCH(Checklist4810[[#This Row],[PIGUID&NO]],S2PQ_relational[PIGUID & \"NO\"],0),2))","v":{"$error":"#N/A"}},{"$f":"Checklist4810[[#This Row],[PIGUID]]&\"NO\"","v":"2uY4AAajOUzuQYK0i5HEJSNO"},{"$f":"IF(Checklist4810[[#This Row],[PIGUID]]=\"\",\"\",INDEX(PIs[NA Exempt],MATCH(Checklist4810[[#This Row],[PIGUID]],PIs[GUID],0),1))","v":false},{"$f":"IF(Checklist4810[[#This Row],[SGUID]]=\"\",IF(Checklist4810[[#This Row],[SSGUID]]=\"\",IF(Checklist4810[[#This Row],[PIGUID]]=\"\",\"\",INDEX(PIs[[Column1]:[SS]],MATCH(Checklist4810[[#This Row],[PIGUID]],PIs[GUID],0),2)),INDEX(PIs[[Column1]:[SS]],MATCH(Checklist4810[[#This Row],[SSGUID]],PIs[SSGUID],0),18)),INDEX(PIs[[Column1]:[SS]],MATCH(Checklist4810[[#This Row],[SGUID]],PIs[SGUID],0),14))","v":"06.08"},{"$f":"IF(Checklist4810[[#This Row],[SGUID]]=\"\",IF(Checklist4810[[#This Row],[SSGUID]]=\"\",IF(Checklist4810[[#This Row],[PIGUID]]=\"\",\"\",INDEX(PIs[[Column1]:[SS]],MATCH(Checklist4810[[#This Row],[PIGUID]],PIs[GUID],0),4)),INDEX(PIs[[Column1]:[Ssbody]],MATCH(Checklist4810[[#This Row],[SSGUID]],PIs[SSGUID],0),19)),INDEX(PIs[[Column1]:[SS]],MATCH(Checklist4810[[#This Row],[SGUID]],PIs[SGUID],0),15))","v":"Changes to the employment terms document have been recorded, communicated, and accepted by the worker. "},{"$f":"IF(Checklist4810[[#This Row],[SGUID]]=\"\",IF(Checklist4810[[#This Row],[SSGUID]]=\"\",INDEX(PIs[[Column1]:[SS]],MATCH(Checklist4810[[#This Row],[PIGUID]],PIs[GUID],0),6),\"\"),\"\")","v":"The term “changes” shall cover any modification to the original terms including period of employment, contract type (i.e., permanent, period or day laborer, etc.), wages, working hours, breaks, and the basic job description.\nThe term “communicated” shall require documental evidence of agreement to all changes, e.g., document change is signed and dated by the worker, annex with a summary of changes with dates and with the worker’s signature and date.\nThe term “recorded” shall require all changes to be included in the employment terms document or other documents accessible to the worker.\nFor subcontractors, the direct employer shall communicate any changes during the term of the commercial contract to the producer. If there is no communication of changes or if there is incomplete communication, these are considered non-compliances. If non-compliance is found by the producer, the producer shall document each instance including corrective steps taken.\nIf there is evidence of no changes from workers or subcontracted labor, compliance with this P&C has been achieved."},{"$f":"IF(Checklist4810[[#This Row],[SSGUID]]=\"\",IF(Checklist4810[[#This Row],[PIGUID]]=\"\",\"\",INDEX(PIs[[Column1]:[SS]],MATCH(Checklist4810[[#This Row],[PIGUID]],PIs[GUID],0),8)),\"\")","v":"Major Must"},null,null,{"$f":"IF(Checklist4810[[#This Row],[ifna]]=\"NA\",\"\",IF(Checklist4810[[#This Row],[RelatedPQ]]=0,\"\",IF(Checklist4810[[#This Row],[RelatedPQ]]=\"\",\"\",IF((INDEX(S2PQ_relational[],MATCH(Checklist4810[[#This Row],[PIGUID&NO]],S2PQ_relational[PIGUID & \"NO\"],0),1))=Checklist4810[[#This Row],[PIGUID]],\"Not applicable\",\"\"))))","v":""},{"$f":"IF(Checklist4810[[#This Row],[N/A]]=\"Not Applicable\",INDEX(S2PQ[[Step 2  questions]:[Justification]],MATCH(Checklist4810[[#This Row],[RelatedPQ]],S2PQ[S2PQGUID],0),3),\"\")","v":""}]
[{"$nulls":3},{"$f":"IF(Checklist4810[[#This Row],[SGUID]]=\"\",IF(Checklist4810[[#This Row],[SSGUID]]=\"\",0,1),1)","v":0},"71T3wYvAOGC3A8C3dBPDXd",{"$f":"_xlfn.IFNA(Checklist4810[[#This Row],[RelatedPQ]],\"NA\")","v":"NA"},{"$f":"IF(Checklist4810[[#This Row],[PIGUID]]=\"\",\"\",INDEX(S2PQ_relational[],MATCH(Checklist4810[[#This Row],[PIGUID&NO]],S2PQ_relational[PIGUID & \"NO\"],0),2))","v":{"$error":"#N/A"}},{"$f":"Checklist4810[[#This Row],[PIGUID]]&\"NO\"","v":"71T3wYvAOGC3A8C3dBPDXdNO"},{"$f":"IF(Checklist4810[[#This Row],[PIGUID]]=\"\",\"\",INDEX(PIs[NA Exempt],MATCH(Checklist4810[[#This Row],[PIGUID]],PIs[GUID],0),1))","v":false},{"$f":"IF(Checklist4810[[#This Row],[SGUID]]=\"\",IF(Checklist4810[[#This Row],[SSGUID]]=\"\",IF(Checklist4810[[#This Row],[PIGUID]]=\"\",\"\",INDEX(PIs[[Column1]:[SS]],MATCH(Checklist4810[[#This Row],[PIGUID]],PIs[GUID],0),2)),INDEX(PIs[[Column1]:[SS]],MATCH(Checklist4810[[#This Row],[SSGUID]],PIs[SSGUID],0),18)),INDEX(PIs[[Column1]:[SS]],MATCH(Checklist4810[[#This Row],[SGUID]],PIs[SGUID],0),14))","v":"06.09"},{"$f":"IF(Checklist4810[[#This Row],[SGUID]]=\"\",IF(Checklist4810[[#This Row],[SSGUID]]=\"\",IF(Checklist4810[[#This Row],[PIGUID]]=\"\",\"\",INDEX(PIs[[Column1]:[SS]],MATCH(Checklist4810[[#This Row],[PIGUID]],PIs[GUID],0),4)),INDEX(PIs[[Column1]:[Ssbody]],MATCH(Checklist4810[[#This Row],[SSGUID]],PIs[SSGUID],0),19)),INDEX(PIs[[Column1]:[SS]],MATCH(Checklist4810[[#This Row],[SGUID]],PIs[SGUID],0),15))","v":"The employment terms and conditions document together with other relevant documents of the workers hired during the previous and current production cycles are accessible to workers."},{"$f":"IF(Checklist4810[[#This Row],[SGUID]]=\"\",IF(Checklist4810[[#This Row],[SSGUID]]=\"\",INDEX(PIs[[Column1]:[SS]],MATCH(Checklist4810[[#This Row],[PIGUID]],PIs[GUID],0),6),\"\"),\"\")","v":"Compliance with this P&C shall require:\n- Availability of the copies at assessment\n- Access of the current workers to the information at any time during the work schedule\nFor subcontracted labor, the register of workers and the direct employer’s document declaring compliance with the producer’s human rights policy shall be available at the production site."},{"$f":"IF(Checklist4810[[#This Row],[SSGUID]]=\"\",IF(Checklist4810[[#This Row],[PIGUID]]=\"\",\"\",INDEX(PIs[[Column1]:[SS]],MATCH(Checklist4810[[#This Row],[PIGUID]],PIs[GUID],0),8)),\"\")","v":"Minor Must"},null,null,{"$f":"IF(Checklist4810[[#This Row],[ifna]]=\"NA\",\"\",IF(Checklist4810[[#This Row],[RelatedPQ]]=0,\"\",IF(Checklist4810[[#This Row],[RelatedPQ]]=\"\",\"\",IF((INDEX(S2PQ_relational[],MATCH(Checklist4810[[#This Row],[PIGUID&NO]],S2PQ_relational[PIGUID & \"NO\"],0),1))=Checklist4810[[#This Row],[PIGUID]],\"Not applicable\",\"\"))))","v":""},{"$f":"IF(Checklist4810[[#This Row],[N/A]]=\"Not Applicable\",INDEX(S2PQ[[Step 2  questions]:[Justification]],MATCH(Checklist4810[[#This Row],[RelatedPQ]],S2PQ[S2PQGUID],0),3),\"\")","v":""}]
[null,"bxrVXJ4xWVl7PtHasGENb",null,{"$f":"IF(Checklist4810[[#This Row],[SGUID]]=\"\",IF(Checklist4810[[#This Row],[SSGUID]]=\"\",0,1),1)","v":1},null,{"$f":"_xlfn.IFNA(Checklist4810[[#This Row],[RelatedPQ]],\"NA\")","v":""},{"$f":"IF(Checklist4810[[#This Row],[PIGUID]]=\"\",\"\",INDEX(S2PQ_relational[],MATCH(Checklist4810[[#This Row],[PIGUID&NO]],S2PQ_relational[PIGUID & \"NO\"],0),2))","v":""},{"$f":"Checklist4810[[#This Row],[PIGUID]]&\"NO\"","v":"NO"},{"$f":"IF(Checklist4810[[#This Row],[PIGUID]]=\"\",\"\",INDEX(PIs[NA Exempt],MATCH(Checklist4810[[#This Row],[PIGUID]],PIs[GUID],0),1))","v":""},{"$f":"IF(Checklist4810[[#This Row],[SGUID]]=\"\",IF(Checklist4810[[#This Row],[SSGUID]]=\"\",IF(Checklist4810[[#This Row],[PIGUID]]=\"\",\"\",INDEX(PIs[[Column1]:[SS]],MATCH(Checklist4810[[#This Row],[PIGUID]],PIs[GUID],0),2)),INDEX(PIs[[Column1]:[SS]],MATCH(Checklist4810[[#This Row],[SSGUID]],PIs[SSGUID],0),18)),INDEX(PIs[[Column1]:[SS]],MATCH(Checklist4810[[#This Row],[SGUID]],PIs[SGUID],0),14))","v":"PAYMENTS"},{"$f":"IF(Checklist4810[[#This Row],[SGUID]]=\"\",IF(Checklist4810[[#This Row],[SSGUID]]=\"\",IF(Checklist4810[[#This Row],[PIGUID]]=\"\",\"\",INDEX(PIs[[Column1]:[SS]],MATCH(Checklist4810[[#This Row],[PIGUID]],PIs[GUID],0),4)),INDEX(PIs[[Column1]:[Ssbody]],MATCH(Checklist4810[[#This Row],[SSGUID]],PIs[SSGUID],0),19)),INDEX(PIs[[Column1]:[SS]],MATCH(Checklist4810[[#This Row],[SGUID]],PIs[SGUID],0),15))","v":"-"},{"$f":"IF(Checklist4810[[#This Row],[SGUID]]=\"\",IF(Checklist4810[[#This Row],[SSGUID]]=\"\",INDEX(PIs[[Column1]:[SS]],MATCH(Checklist4810[[#This Row],[PIGUID]],PIs[GUID],0),6),\"\"),\"\")","v":""},{"$f":"IF(Checklist4810[[#This Row],[SSGUID]]=\"\",IF(Checklist4810[[#This Row],[PIGUID]]=\"\",\"\",INDEX(PIs[[Column1]:[SS]],MATCH(Checklist4810[[#This Row],[PIGUID]],PIs[GUID],0),8)),\"\")","v":""},null,null,{"$f":"IF(Checklist4810[[#This Row],[ifna]]=\"NA\",\"\",IF(Checklist4810[[#This Row],[RelatedPQ]]=0,\"\",IF(Checklist4810[[#This Row],[RelatedPQ]]=\"\",\"\",IF((INDEX(S2PQ_relational[],MATCH(Checklist4810[[#This Row],[PIGUID&NO]],S2PQ_relational[PIGUID & \"NO\"],0),1))=Checklist4810[[#This Row],[PIGUID]],\"Not applicable\",\"\"))))","v":""},{"$f":"IF(Checklist4810[[#This Row],[N/A]]=\"Not Applicable\",INDEX(S2PQ[[Step 2  questions]:[Justification]],MATCH(Checklist4810[[#This Row],[RelatedPQ]],S2PQ[S2PQGUID],0),3),\"\")","v":""}]
[null,null,"5TvyR0UgB0EOmnMkFaZftX",{"$f":"IF(Checklist4810[[#This Row],[SGUID]]=\"\",IF(Checklist4810[[#This Row],[SSGUID]]=\"\",0,1),1)","v":1},null,{"$f":"_xlfn.IFNA(Checklist4810[[#This Row],[RelatedPQ]],\"NA\")","v":""},{"$f":"IF(Checklist4810[[#This Row],[PIGUID]]=\"\",\"\",INDEX(S2PQ_relational[],MATCH(Checklist4810[[#This Row],[PIGUID&NO]],S2PQ_relational[PIGUID & \"NO\"],0),2))","v":""},{"$f":"Checklist4810[[#This Row],[PIGUID]]&\"NO\"","v":"NO"},{"$f":"IF(Checklist4810[[#This Row],[PIGUID]]=\"\",\"\",INDEX(PIs[NA Exempt],MATCH(Checklist4810[[#This Row],[PIGUID]],PIs[GUID],0),1))","v":""},{"$f":"IF(Checklist4810[[#This Row],[SGUID]]=\"\",IF(Checklist4810[[#This Row],[SSGUID]]=\"\",IF(Checklist4810[[#This Row],[PIGUID]]=\"\",\"\",INDEX(PIs[[Column1]:[SS]],MATCH(Checklist4810[[#This Row],[PIGUID]],PIs[GUID],0),2)),INDEX(PIs[[Column1]:[SS]],MATCH(Checklist4810[[#This Row],[SSGUID]],PIs[SSGUID],0),18)),INDEX(PIs[[Column1]:[SS]],MATCH(Checklist4810[[#This Row],[SGUID]],PIs[SGUID],0),14))","v":"-"},{"$f":"IF(Checklist4810[[#This Row],[SGUID]]=\"\",IF(Checklist4810[[#This Row],[SSGUID]]=\"\",IF(Checklist4810[[#This Row],[PIGUID]]=\"\",\"\",INDEX(PIs[[Column1]:[SS]],MATCH(Checklist4810[[#This Row],[PIGUID]],PIs[GUID],0),4)),INDEX(PIs[[Column1]:[Ssbody]],MATCH(Checklist4810[[#This Row],[SSGUID]],PIs[SSGUID],0),19)),INDEX(PIs[[Column1]:[SS]],MATCH(Checklist4810[[#This Row],[SGUID]],PIs[SGUID],0),15))","v":"-"},{"$f":"IF(Checklist4810[[#This Row],[SGUID]]=\"\",IF(Checklist4810[[#This Row],[SSGUID]]=\"\",INDEX(PIs[[Column1]:[SS]],MATCH(Checklist4810[[#This Row],[PIGUID]],PIs[GUID],0),6),\"\"),\"\")","v":""},{"$f":"IF(Checklist4810[[#This Row],[SSGUID]]=\"\",IF(Checklist4810[[#This Row],[PIGUID]]=\"\",\"\",INDEX(PIs[[Column1]:[SS]],MATCH(Checklist4810[[#This Row],[PIGUID]],PIs[GUID],0),8)),\"\")","v":""},null,null,{"$f":"IF(Checklist4810[[#This Row],[ifna]]=\"NA\",\"\",IF(Checklist4810[[#This Row],[RelatedPQ]]=0,\"\",IF(Checklist4810[[#This Row],[RelatedPQ]]=\"\",\"\",IF((INDEX(S2PQ_relational[],MATCH(Checklist4810[[#This Row],[PIGUID&NO]],S2PQ_relational[PIGUID & \"NO\"],0),1))=Checklist4810[[#This Row],[PIGUID]],\"Not applicable\",\"\"))))","v":""},{"$f":"IF(Checklist4810[[#This Row],[N/A]]=\"Not Applicable\",INDEX(S2PQ[[Step 2  questions]:[Justification]],MATCH(Checklist4810[[#This Row],[RelatedPQ]],S2PQ[S2PQGUID],0),3),\"\")","v":""}]
[{"$nulls":3},{"$f":"IF(Checklist4810[[#This Row],[SGUID]]=\"\",IF(Checklist4810[[#This Row],[SSGUID]]=\"\",0,1),1)","v":0},"5FB5ql1VFtEHzacW0dkEyh",{"$f":"_xlfn.IFNA(Checklist4810[[#This Row],[RelatedPQ]],\"NA\")","v":"NA"},{"$f":"IF(Checklist4810[[#This Row],[PIGUID]]=\"\",\"\",INDEX(S2PQ_relational[],MATCH(Checklist4810[[#This Row],[PIGUID&NO]],S2PQ_relational[PIGUID & \"NO\"],0),2))","v":{"$error":"#N/A"}},{"$f":"Checklist4810[[#This Row],[PIGUID]]&\"NO\"","v":"5FB5ql1VFtEHzacW0dkEyhNO"},{"$f":"IF(Checklist4810[[#This Row],[PIGUID]]=\"\",\"\",INDEX(PIs[NA Exempt],MATCH(Checklist4810[[#This Row],[PIGUID]],PIs[GUID],0),1))","v":false},{"$f":"IF(Checklist4810[[#This Row],[SGUID]]=\"\",IF(Checklist4810[[#This Row],[SSGUID]]=\"\",IF(Checklist4810[[#This Row],[PIGUID]]=\"\",\"\",INDEX(PIs[[Column1]:[SS]],MATCH(Checklist4810[[#This Row],[PIGUID]],PIs[GUID],0),2)),INDEX(PIs[[Column1]:[SS]],MATCH(Checklist4810[[#This Row],[SSGUID]],PIs[SSGUID],0),18)),INDEX(PIs[[Column1]:[SS]],MATCH(Checklist4810[[#This Row],[SGUID]],PIs[SGUID],0),14))","v":"07.01"},{"$f":"IF(Checklist4810[[#This Row],[SGUID]]=\"\",IF(Checklist4810[[#This Row],[SSGUID]]=\"\",IF(Checklist4810[[#This Row],[PIGUID]]=\"\",\"\",INDEX(PIs[[Column1]:[SS]],MATCH(Checklist4810[[#This Row],[PIGUID]],PIs[GUID],0),4)),INDEX(PIs[[Column1]:[Ssbody]],MATCH(Checklist4810[[#This Row],[SSGUID]],PIs[SSGUID],0),19)),INDEX(PIs[[Column1]:[SS]],MATCH(Checklist4810[[#This Row],[SGUID]],PIs[SGUID],0),15))","v":"Payments to workers are made in accordance with the worker terms and conditions documents."},{"$f":"IF(Checklist4810[[#This Row],[SGUID]]=\"\",IF(Checklist4810[[#This Row],[SSGUID]]=\"\",INDEX(PIs[[Column1]:[SS]],MATCH(Checklist4810[[#This Row],[PIGUID]],PIs[GUID],0),6),\"\"),\"\")","v":"Records of payments correspond with the terms of employment on:\n- Dates/Intervals of payments\n- Type of payment notification used (e.g., text message, email, announcement, etc.)\n- Amount of payments\n- Method of payments (e.g., bank transfer, cash, etc.)\nFor agencies or subcontracted labor, the worker’s commercial contract shall indicate summary information of subcontracted labor payment details.\n"},{"$f":"IF(Checklist4810[[#This Row],[SSGUID]]=\"\",IF(Checklist4810[[#This Row],[PIGUID]]=\"\",\"\",INDEX(PIs[[Column1]:[SS]],MATCH(Checklist4810[[#This Row],[PIGUID]],PIs[GUID],0),8)),\"\")","v":"Major Must"},null,null,{"$f":"IF(Checklist4810[[#This Row],[ifna]]=\"NA\",\"\",IF(Checklist4810[[#This Row],[RelatedPQ]]=0,\"\",IF(Checklist4810[[#This Row],[RelatedPQ]]=\"\",\"\",IF((INDEX(S2PQ_relational[],MATCH(Checklist4810[[#This Row],[PIGUID&NO]],S2PQ_relational[PIGUID & \"NO\"],0),1))=Checklist4810[[#This Row],[PIGUID]],\"Not applicable\",\"\"))))","v":""},{"$f":"IF(Checklist4810[[#This Row],[N/A]]=\"Not Applicable\",INDEX(S2PQ[[Step 2  questions]:[Justification]],MATCH(Checklist4810[[#This Row],[RelatedPQ]],S2PQ[S2PQGUID],0),3),\"\")","v":""}]
[{"$nulls":3},{"$f":"IF(Checklist4810[[#This Row],[SGUID]]=\"\",IF(Checklist4810[[#This Row],[SSGUID]]=\"\",0,1),1)","v":0},"7hjy92CxnhjoqfUf0sxpPm",{"$f":"_xlfn.IFNA(Checklist4810[[#This Row],[RelatedPQ]],\"NA\")","v":"NA"},{"$f":"IF(Checklist4810[[#This Row],[PIGUID]]=\"\",\"\",INDEX(S2PQ_relational[],MATCH(Checklist4810[[#This Row],[PIGUID&NO]],S2PQ_relational[PIGUID & \"NO\"],0),2))","v":{"$error":"#N/A"}},{"$f":"Checklist4810[[#This Row],[PIGUID]]&\"NO\"","v":"7hjy92CxnhjoqfUf0sxpPmNO"},{"$f":"IF(Checklist4810[[#This Row],[PIGUID]]=\"\",\"\",INDEX(PIs[NA Exempt],MATCH(Checklist4810[[#This Row],[PIGUID]],PIs[GUID],0),1))","v":false},{"$f":"IF(Checklist4810[[#This Row],[SGUID]]=\"\",IF(Checklist4810[[#This Row],[SSGUID]]=\"\",IF(Checklist4810[[#This Row],[PIGUID]]=\"\",\"\",INDEX(PIs[[Column1]:[SS]],MATCH(Checklist4810[[#This Row],[PIGUID]],PIs[GUID],0),2)),INDEX(PIs[[Column1]:[SS]],MATCH(Checklist4810[[#This Row],[SSGUID]],PIs[SSGUID],0),18)),INDEX(PIs[[Column1]:[SS]],MATCH(Checklist4810[[#This Row],[SGUID]],PIs[SGUID],0),14))","v":"07.02"},{"$f":"IF(Checklist4810[[#This Row],[SGUID]]=\"\",IF(Checklist4810[[#This Row],[SSGUID]]=\"\",IF(Checklist4810[[#This Row],[PIGUID]]=\"\",\"\",INDEX(PIs[[Column1]:[SS]],MATCH(Checklist4810[[#This Row],[PIGUID]],PIs[GUID],0),4)),INDEX(PIs[[Column1]:[Ssbody]],MATCH(Checklist4810[[#This Row],[SSGUID]],PIs[SSGUID],0),19)),INDEX(PIs[[Column1]:[SS]],MATCH(Checklist4810[[#This Row],[SGUID]],PIs[SGUID],0),15))","v":"The workers are notified about when payments are made."},{"$f":"IF(Checklist4810[[#This Row],[SGUID]]=\"\",IF(Checklist4810[[#This Row],[SSGUID]]=\"\",INDEX(PIs[[Column1]:[SS]],MATCH(Checklist4810[[#This Row],[PIGUID]],PIs[GUID],0),6),\"\"),\"\")","v":"The term “notified” shall include the producer making general announcements that payments will be made, and there shall be information in the common rest areas of workers, email, telephone messages, etc., in the predominant language(s) of the workforce and/or pictograms.\n"},{"$f":"IF(Checklist4810[[#This Row],[SSGUID]]=\"\",IF(Checklist4810[[#This Row],[PIGUID]]=\"\",\"\",INDEX(PIs[[Column1]:[SS]],MATCH(Checklist4810[[#This Row],[PIGUID]],PIs[GUID],0),8)),\"\")","v":"Minor Must"},null,null,{"$f":"IF(Checklist4810[[#This Row],[ifna]]=\"NA\",\"\",IF(Checklist4810[[#This Row],[RelatedPQ]]=0,\"\",IF(Checklist4810[[#This Row],[RelatedPQ]]=\"\",\"\",IF((INDEX(S2PQ_relational[],MATCH(Checklist4810[[#This Row],[PIGUID&NO]],S2PQ_relational[PIGUID & \"NO\"],0),1))=Checklist4810[[#This Row],[PIGUID]],\"Not applicable\",\"\"))))","v":""},{"$f":"IF(Checklist4810[[#This Row],[N/A]]=\"Not Applicable\",INDEX(S2PQ[[Step 2  questions]:[Justification]],MATCH(Checklist4810[[#This Row],[RelatedPQ]],S2PQ[S2PQGUID],0),3),\"\")","v":""}]
[{"$nulls":3},{"$f":"IF(Checklist4810[[#This Row],[SGUID]]=\"\",IF(Checklist4810[[#This Row],[SSGUID]]=\"\",0,1),1)","v":0},"7JadSCojAvDNLSHK26BiXc",{"$f":"_xlfn.IFNA(Checklist4810[[#This Row],[RelatedPQ]],\"NA\")","v":"NA"},{"$f":"IF(Checklist4810[[#This Row],[PIGUID]]=\"\",\"\",INDEX(S2PQ_relational[],MATCH(Checklist4810[[#This Row],[PIGUID&NO]],S2PQ_relational[PIGUID & \"NO\"],0),2))","v":{"$error":"#N/A"}},{"$f":"Checklist4810[[#This Row],[PIGUID]]&\"NO\"","v":"7JadSCojAvDNLSHK26BiXcNO"},{"$f":"IF(Checklist4810[[#This Row],[PIGUID]]=\"\",\"\",INDEX(PIs[NA Exempt],MATCH(Checklist4810[[#This Row],[PIGUID]],PIs[GUID],0),1))","v":false},{"$f":"IF(Checklist4810[[#This Row],[SGUID]]=\"\",IF(Checklist4810[[#This Row],[SSGUID]]=\"\",IF(Checklist4810[[#This Row],[PIGUID]]=\"\",\"\",INDEX(PIs[[Column1]:[SS]],MATCH(Checklist4810[[#This Row],[PIGUID]],PIs[GUID],0),2)),INDEX(PIs[[Column1]:[SS]],MATCH(Checklist4810[[#This Row],[SSGUID]],PIs[SSGUID],0),18)),INDEX(PIs[[Column1]:[SS]],MATCH(Checklist4810[[#This Row],[SGUID]],PIs[SGUID],0),14))","v":"07.03"},{"$f":"IF(Checklist4810[[#This Row],[SGUID]]=\"\",IF(Checklist4810[[#This Row],[SSGUID]]=\"\",IF(Checklist4810[[#This Row],[PIGUID]]=\"\",\"\",INDEX(PIs[[Column1]:[SS]],MATCH(Checklist4810[[#This Row],[PIGUID]],PIs[GUID],0),4)),INDEX(PIs[[Column1]:[Ssbody]],MATCH(Checklist4810[[#This Row],[SSGUID]],PIs[SSGUID],0),19)),INDEX(PIs[[Column1]:[SS]],MATCH(Checklist4810[[#This Row],[SGUID]],PIs[SGUID],0),15))","v":"The record of payment information is accessible to current workers and kept on file for at least 24 months."},{"$f":"IF(Checklist4810[[#This Row],[SGUID]]=\"\",IF(Checklist4810[[#This Row],[SSGUID]]=\"\",INDEX(PIs[[Column1]:[SS]],MATCH(Checklist4810[[#This Row],[PIGUID]],PIs[GUID],0),6),\"\"),\"\")","v":"The term “accessible” shall require that the worker can look at the personal payment information at the production site, or that it is provided by the producer when requested.\n"},{"$f":"IF(Checklist4810[[#This Row],[SSGUID]]=\"\",IF(Checklist4810[[#This Row],[PIGUID]]=\"\",\"\",INDEX(PIs[[Column1]:[SS]],MATCH(Checklist4810[[#This Row],[PIGUID]],PIs[GUID],0),8)),\"\")","v":"Minor Must"},null,null,{"$f":"IF(Checklist4810[[#This Row],[ifna]]=\"NA\",\"\",IF(Checklist4810[[#This Row],[RelatedPQ]]=0,\"\",IF(Checklist4810[[#This Row],[RelatedPQ]]=\"\",\"\",IF((INDEX(S2PQ_relational[],MATCH(Checklist4810[[#This Row],[PIGUID&NO]],S2PQ_relational[PIGUID & \"NO\"],0),1))=Checklist4810[[#This Row],[PIGUID]],\"Not applicable\",\"\"))))","v":""},{"$f":"IF(Checklist4810[[#This Row],[N/A]]=\"Not Applicable\",INDEX(S2PQ[[Step 2  questions]:[Justification]],MATCH(Checklist4810[[#This Row],[RelatedPQ]],S2PQ[S2PQGUID],0),3),\"\")","v":""}]
[null,"7w9H6anypUchjmMOZrr9fi",null,{"$f":"IF(Checklist4810[[#This Row],[SGUID]]=\"\",IF(Checklist4810[[#This Row],[SSGUID]]=\"\",0,1),1)","v":1},null,{"$f":"_xlfn.IFNA(Checklist4810[[#This Row],[RelatedPQ]],\"NA\")","v":""},{"$f":"IF(Checklist4810[[#This Row],[PIGUID]]=\"\",\"\",INDEX(S2PQ_relational[],MATCH(Checklist4810[[#This Row],[PIGUID&NO]],S2PQ_relational[PIGUID & \"NO\"],0),2))","v":""},{"$f":"Checklist4810[[#This Row],[PIGUID]]&\"NO\"","v":"NO"},{"$f":"IF(Checklist4810[[#This Row],[PIGUID]]=\"\",\"\",INDEX(PIs[NA Exempt],MATCH(Checklist4810[[#This Row],[PIGUID]],PIs[GUID],0),1))","v":""},{"$f":"IF(Checklist4810[[#This Row],[SGUID]]=\"\",IF(Checklist4810[[#This Row],[SSGUID]]=\"\",IF(Checklist4810[[#This Row],[PIGUID]]=\"\",\"\",INDEX(PIs[[Column1]:[SS]],MATCH(Checklist4810[[#This Row],[PIGUID]],PIs[GUID],0),2)),INDEX(PIs[[Column1]:[SS]],MATCH(Checklist4810[[#This Row],[SSGUID]],PIs[SSGUID],0),18)),INDEX(PIs[[Column1]:[SS]],MATCH(Checklist4810[[#This Row],[SGUID]],PIs[SGUID],0),14))","v":"WAGES"},{"$f":"IF(Checklist4810[[#This Row],[SGUID]]=\"\",IF(Checklist4810[[#This Row],[SSGUID]]=\"\",IF(Checklist4810[[#This Row],[PIGUID]]=\"\",\"\",INDEX(PIs[[Column1]:[SS]],MATCH(Checklist4810[[#This Row],[PIGUID]],PIs[GUID],0),4)),INDEX(PIs[[Column1]:[Ssbody]],MATCH(Checklist4810[[#This Row],[SSGUID]],PIs[SSGUID],0),19)),INDEX(PIs[[Column1]:[SS]],MATCH(Checklist4810[[#This Row],[SGUID]],PIs[SGUID],0),15))","v":"-"},{"$f":"IF(Checklist4810[[#This Row],[SGUID]]=\"\",IF(Checklist4810[[#This Row],[SSGUID]]=\"\",INDEX(PIs[[Column1]:[SS]],MATCH(Checklist4810[[#This Row],[PIGUID]],PIs[GUID],0),6),\"\"),\"\")","v":""},{"$f":"IF(Checklist4810[[#This Row],[SSGUID]]=\"\",IF(Checklist4810[[#This Row],[PIGUID]]=\"\",\"\",INDEX(PIs[[Column1]:[SS]],MATCH(Checklist4810[[#This Row],[PIGUID]],PIs[GUID],0),8)),\"\")","v":""},null,null,{"$f":"IF(Checklist4810[[#This Row],[ifna]]=\"NA\",\"\",IF(Checklist4810[[#This Row],[RelatedPQ]]=0,\"\",IF(Checklist4810[[#This Row],[RelatedPQ]]=\"\",\"\",IF((INDEX(S2PQ_relational[],MATCH(Checklist4810[[#This Row],[PIGUID&NO]],S2PQ_relational[PIGUID & \"NO\"],0),1))=Checklist4810[[#This Row],[PIGUID]],\"Not applicable\",\"\"))))","v":""},{"$f":"IF(Checklist4810[[#This Row],[N/A]]=\"Not Applicable\",INDEX(S2PQ[[Step 2  questions]:[Justification]],MATCH(Checklist4810[[#This Row],[RelatedPQ]],S2PQ[S2PQGUID],0),3),\"\")","v":""}]
[null,null,"5TvyR0UgB0EOmnMkFaZftX",{"$f":"IF(Checklist4810[[#This Row],[SGUID]]=\"\",IF(Checklist4810[[#This Row],[SSGUID]]=\"\",0,1),1)","v":1},null,{"$f":"_xlfn.IFNA(Checklist4810[[#This Row],[RelatedPQ]],\"NA\")","v":""},{"$f":"IF(Checklist4810[[#This Row],[PIGUID]]=\"\",\"\",INDEX(S2PQ_relational[],MATCH(Checklist4810[[#This Row],[PIGUID&NO]],S2PQ_relational[PIGUID & \"NO\"],0),2))","v":""},{"$f":"Checklist4810[[#This Row],[PIGUID]]&\"NO\"","v":"NO"},{"$f":"IF(Checklist4810[[#This Row],[PIGUID]]=\"\",\"\",INDEX(PIs[NA Exempt],MATCH(Checklist4810[[#This Row],[PIGUID]],PIs[GUID],0),1))","v":""},{"$f":"IF(Checklist4810[[#This Row],[SGUID]]=\"\",IF(Checklist4810[[#This Row],[SSGUID]]=\"\",IF(Checklist4810[[#This Row],[PIGUID]]=\"\",\"\",INDEX(PIs[[Column1]:[SS]],MATCH(Checklist4810[[#This Row],[PIGUID]],PIs[GUID],0),2)),INDEX(PIs[[Column1]:[SS]],MATCH(Checklist4810[[#This Row],[SSGUID]],PIs[SSGUID],0),18)),INDEX(PIs[[Column1]:[SS]],MATCH(Checklist4810[[#This Row],[SGUID]],PIs[SGUID],0),14))","v":"-"},{"$f":"IF(Checklist4810[[#This Row],[SGUID]]=\"\",IF(Checklist4810[[#This Row],[SSGUID]]=\"\",IF(Checklist4810[[#This Row],[PIGUID]]=\"\",\"\",INDEX(PIs[[Column1]:[SS]],MATCH(Checklist4810[[#This Row],[PIGUID]],PIs[GUID],0),4)),INDEX(PIs[[Column1]:[Ssbody]],MATCH(Checklist4810[[#This Row],[SSGUID]],PIs[SSGUID],0),19)),INDEX(PIs[[Column1]:[SS]],MATCH(Checklist4810[[#This Row],[SGUID]],PIs[SGUID],0),15))","v":"-"},{"$f":"IF(Checklist4810[[#This Row],[SGUID]]=\"\",IF(Checklist4810[[#This Row],[SSGUID]]=\"\",INDEX(PIs[[Column1]:[SS]],MATCH(Checklist4810[[#This Row],[PIGUID]],PIs[GUID],0),6),\"\"),\"\")","v":""},{"$f":"IF(Checklist4810[[#This Row],[SSGUID]]=\"\",IF(Checklist4810[[#This Row],[PIGUID]]=\"\",\"\",INDEX(PIs[[Column1]:[SS]],MATCH(Checklist4810[[#This Row],[PIGUID]],PIs[GUID],0),8)),\"\")","v":""},null,null,{"$f":"IF(Checklist4810[[#This Row],[ifna]]=\"NA\",\"\",IF(Checklist4810[[#This Row],[RelatedPQ]]=0,\"\",IF(Checklist4810[[#This Row],[RelatedPQ]]=\"\",\"\",IF((INDEX(S2PQ_relational[],MATCH(Checklist4810[[#This Row],[PIGUID&NO]],S2PQ_relational[PIGUID & \"NO\"],0),1))=Checklist4810[[#This Row],[PIGUID]],\"Not applicable\",\"\"))))","v":""},{"$f":"IF(Checklist4810[[#This Row],[N/A]]=\"Not Applicable\",INDEX(S2PQ[[Step 2  questions]:[Justification]],MATCH(Checklist4810[[#This Row],[RelatedPQ]],S2PQ[S2PQGUID],0),3),\"\")","v":""}]
[{"$nulls":3},{"$f":"IF(Checklist4810[[#This Row],[SGUID]]=\"\",IF(Checklist4810[[#This Row],[SSGUID]]=\"\",0,1),1)","v":0},"2AU0Rll1ZV8PPz420O78db",{"$f":"_xlfn.IFNA(Checklist4810[[#This Row],[RelatedPQ]],\"NA\")","v":"NA"},{"$f":"IF(Checklist4810[[#This Row],[PIGUID]]=\"\",\"\",INDEX(S2PQ_relational[],MATCH(Checklist4810[[#This Row],[PIGUID&NO]],S2PQ_relational[PIGUID & \"NO\"],0),2))","v":{"$error":"#N/A"}},{"$f":"Checklist4810[[#This Row],[PIGUID]]&\"NO\"","v":"2AU0Rll1ZV8PPz420O78dbNO"},{"$f":"IF(Checklist4810[[#This Row],[PIGUID]]=\"\",\"\",INDEX(PIs[NA Exempt],MATCH(Checklist4810[[#This Row],[PIGUID]],PIs[GUID],0),1))","v":false},{"$f":"IF(Checklist4810[[#This Row],[SGUID]]=\"\",IF(Checklist4810[[#This Row],[SSGUID]]=\"\",IF(Checklist4810[[#This Row],[PIGUID]]=\"\",\"\",INDEX(PIs[[Column1]:[SS]],MATCH(Checklist4810[[#This Row],[PIGUID]],PIs[GUID],0),2)),INDEX(PIs[[Column1]:[SS]],MATCH(Checklist4810[[#This Row],[SSGUID]],PIs[SSGUID],0),18)),INDEX(PIs[[Column1]:[SS]],MATCH(Checklist4810[[#This Row],[SGUID]],PIs[SGUID],0),14))","v":"08.01"},{"$f":"IF(Checklist4810[[#This Row],[SGUID]]=\"\",IF(Checklist4810[[#This Row],[SSGUID]]=\"\",IF(Checklist4810[[#This Row],[PIGUID]]=\"\",\"\",INDEX(PIs[[Column1]:[SS]],MATCH(Checklist4810[[#This Row],[PIGUID]],PIs[GUID],0),4)),INDEX(PIs[[Column1]:[Ssbody]],MATCH(Checklist4810[[#This Row],[SSGUID]],PIs[SSGUID],0),19)),INDEX(PIs[[Column1]:[SS]],MATCH(Checklist4810[[#This Row],[SGUID]],PIs[SGUID],0),15))","v":"Pay slips or registers show the amount of working time (including overtime) or harvest amount and the wages and/or overtime paid."},{"$f":"IF(Checklist4810[[#This Row],[SGUID]]=\"\",IF(Checklist4810[[#This Row],[SSGUID]]=\"\",INDEX(PIs[[Column1]:[SS]],MATCH(Checklist4810[[#This Row],[PIGUID]],PIs[GUID],0),6),\"\"),\"\")","v":"Compliance with this P&C shall require all of the following proven by evidence:\n1. Amount paid for regular time and overtime \n2. Regular working time/harvest amount/any other figure used for payment calculation\n3. Summary of overtime hours on top of regular working time\nWritten pay slips shall be maintained for all current workers and available upon request for the pay period concerned each time that workers are paid.\nFor agency or subcontracted workers, the direct employer shall provide the producer with a copy of a sample pay slip to be kept for assessment purposes."},{"$f":"IF(Checklist4810[[#This Row],[SSGUID]]=\"\",IF(Checklist4810[[#This Row],[PIGUID]]=\"\",\"\",INDEX(PIs[[Column1]:[SS]],MATCH(Checklist4810[[#This Row],[PIGUID]],PIs[GUID],0),8)),\"\")","v":"Minor Must"},null,null,{"$f":"IF(Checklist4810[[#This Row],[ifna]]=\"NA\",\"\",IF(Checklist4810[[#This Row],[RelatedPQ]]=0,\"\",IF(Checklist4810[[#This Row],[RelatedPQ]]=\"\",\"\",IF((INDEX(S2PQ_relational[],MATCH(Checklist4810[[#This Row],[PIGUID&NO]],S2PQ_relational[PIGUID & \"NO\"],0),1))=Checklist4810[[#This Row],[PIGUID]],\"Not applicable\",\"\"))))","v":""},{"$f":"IF(Checklist4810[[#This Row],[N/A]]=\"Not Applicable\",INDEX(S2PQ[[Step 2  questions]:[Justification]],MATCH(Checklist4810[[#This Row],[RelatedPQ]],S2PQ[S2PQGUID],0),3),\"\")","v":""}]
[{"$nulls":3},{"$f":"IF(Checklist4810[[#This Row],[SGUID]]=\"\",IF(Checklist4810[[#This Row],[SSGUID]]=\"\",0,1),1)","v":0},"7L9M3vUuHtx6WK7TuILq92",{"$f":"_xlfn.IFNA(Checklist4810[[#This Row],[RelatedPQ]],\"NA\")","v":"NA"},{"$f":"IF(Checklist4810[[#This Row],[PIGUID]]=\"\",\"\",INDEX(S2PQ_relational[],MATCH(Checklist4810[[#This Row],[PIGUID&NO]],S2PQ_relational[PIGUID & \"NO\"],0),2))","v":{"$error":"#N/A"}},{"$f":"Checklist4810[[#This Row],[PIGUID]]&\"NO\"","v":"7L9M3vUuHtx6WK7TuILq92NO"},{"$f":"IF(Checklist4810[[#This Row],[PIGUID]]=\"\",\"\",INDEX(PIs[NA Exempt],MATCH(Checklist4810[[#This Row],[PIGUID]],PIs[GUID],0),1))","v":false},{"$f":"IF(Checklist4810[[#This Row],[SGUID]]=\"\",IF(Checklist4810[[#This Row],[SSGUID]]=\"\",IF(Checklist4810[[#This Row],[PIGUID]]=\"\",\"\",INDEX(PIs[[Column1]:[SS]],MATCH(Checklist4810[[#This Row],[PIGUID]],PIs[GUID],0),2)),INDEX(PIs[[Column1]:[SS]],MATCH(Checklist4810[[#This Row],[SSGUID]],PIs[SSGUID],0),18)),INDEX(PIs[[Column1]:[SS]],MATCH(Checklist4810[[#This Row],[SGUID]],PIs[SGUID],0),14))","v":"08.02"},{"$f":"IF(Checklist4810[[#This Row],[SGUID]]=\"\",IF(Checklist4810[[#This Row],[SSGUID]]=\"\",IF(Checklist4810[[#This Row],[PIGUID]]=\"\",\"\",INDEX(PIs[[Column1]:[SS]],MATCH(Checklist4810[[#This Row],[PIGUID]],PIs[GUID],0),4)),INDEX(PIs[[Column1]:[Ssbody]],MATCH(Checklist4810[[#This Row],[SSGUID]],PIs[SSGUID],0),19)),INDEX(PIs[[Column1]:[SS]],MATCH(Checklist4810[[#This Row],[SGUID]],PIs[SGUID],0),15))","v":"Wages, payments, number of hours, government social security/pension contributions, and payroll taxes in the pay slip comply with the employment terms and conditions, with national labor regulations, and/or with collective bargaining agreements."},{"$f":"IF(Checklist4810[[#This Row],[SGUID]]=\"\",IF(Checklist4810[[#This Row],[SSGUID]]=\"\",INDEX(PIs[[Column1]:[SS]],MATCH(Checklist4810[[#This Row],[PIGUID]],PIs[GUID],0),6),\"\"),\"\")","v":"The assessor shall check the following information in the sample pay slips: \n1. Social security payments/Pension contributions\n2. Payroll taxes\n3. Wages/Payments (at least minimum wage)\nCompliance with this P&C shall require all items to be correct (verification in pay slips and agreement with terms documents and labor regulations) following the document sampling rules.\n"},{"$f":"IF(Checklist4810[[#This Row],[SSGUID]]=\"\",IF(Checklist4810[[#This Row],[PIGUID]]=\"\",\"\",INDEX(PIs[[Column1]:[SS]],MATCH(Checklist4810[[#This Row],[PIGUID]],PIs[GUID],0),8)),\"\")","v":"Major Must"},null,null,{"$f":"IF(Checklist4810[[#This Row],[ifna]]=\"NA\",\"\",IF(Checklist4810[[#This Row],[RelatedPQ]]=0,\"\",IF(Checklist4810[[#This Row],[RelatedPQ]]=\"\",\"\",IF((INDEX(S2PQ_relational[],MATCH(Checklist4810[[#This Row],[PIGUID&NO]],S2PQ_relational[PIGUID & \"NO\"],0),1))=Checklist4810[[#This Row],[PIGUID]],\"Not applicable\",\"\"))))","v":""},{"$f":"IF(Checklist4810[[#This Row],[N/A]]=\"Not Applicable\",INDEX(S2PQ[[Step 2  questions]:[Justification]],MATCH(Checklist4810[[#This Row],[RelatedPQ]],S2PQ[S2PQGUID],0),3),\"\")","v":""}]
[{"$nulls":3},{"$f":"IF(Checklist4810[[#This Row],[SGUID]]=\"\",IF(Checklist4810[[#This Row],[SSGUID]]=\"\",0,1),1)","v":0},"2ddM8JCAfgsJ6XIpNQ4YlB",{"$f":"_xlfn.IFNA(Checklist4810[[#This Row],[RelatedPQ]],\"NA\")","v":"NA"},{"$f":"IF(Checklist4810[[#This Row],[PIGUID]]=\"\",\"\",INDEX(S2PQ_relational[],MATCH(Checklist4810[[#This Row],[PIGUID&NO]],S2PQ_relational[PIGUID & \"NO\"],0),2))","v":{"$error":"#N/A"}},{"$f":"Checklist4810[[#This Row],[PIGUID]]&\"NO\"","v":"2ddM8JCAfgsJ6XIpNQ4YlBNO"},{"$f":"IF(Checklist4810[[#This Row],[PIGUID]]=\"\",\"\",INDEX(PIs[NA Exempt],MATCH(Checklist4810[[#This Row],[PIGUID]],PIs[GUID],0),1))","v":false},{"$f":"IF(Checklist4810[[#This Row],[SGUID]]=\"\",IF(Checklist4810[[#This Row],[SSGUID]]=\"\",IF(Checklist4810[[#This Row],[PIGUID]]=\"\",\"\",INDEX(PIs[[Column1]:[SS]],MATCH(Checklist4810[[#This Row],[PIGUID]],PIs[GUID],0),2)),INDEX(PIs[[Column1]:[SS]],MATCH(Checklist4810[[#This Row],[SSGUID]],PIs[SSGUID],0),18)),INDEX(PIs[[Column1]:[SS]],MATCH(Checklist4810[[#This Row],[SGUID]],PIs[SGUID],0),14))","v":"08.03"},{"$f":"IF(Checklist4810[[#This Row],[SGUID]]=\"\",IF(Checklist4810[[#This Row],[SSGUID]]=\"\",IF(Checklist4810[[#This Row],[PIGUID]]=\"\",\"\",INDEX(PIs[[Column1]:[SS]],MATCH(Checklist4810[[#This Row],[PIGUID]],PIs[GUID],0),4)),INDEX(PIs[[Column1]:[Ssbody]],MATCH(Checklist4810[[#This Row],[SSGUID]],PIs[SSGUID],0),19)),INDEX(PIs[[Column1]:[SS]],MATCH(Checklist4810[[#This Row],[SGUID]],PIs[SGUID],0),15))","v":"All workers earn at least the national minimum wage and/or the collective bargain agreement wage within regular working hours."},{"$f":"IF(Checklist4810[[#This Row],[SGUID]]=\"\",IF(Checklist4810[[#This Row],[SSGUID]]=\"\",INDEX(PIs[[Column1]:[SS]],MATCH(Checklist4810[[#This Row],[PIGUID]],PIs[GUID],0),6),\"\"),\"\")","v":"When worker wages are calculated per piece, quota, or unit, this system shall record that minimum wage and/or the collective bargaining agreement wage is obtained within regular working hours.\nAll workers, regardless of their gender, citizenship, or migrant status, shall receive the same remuneration for equal jobs and qualification even when remuneration is above minimum wage.\nThe assessor shall check the number of regular hours (not including overtime) and minimum wage.\nFor agency or subcontracted workers, the assessor shall verify information on terms of employment with workers, where possible. If non-compliance is found, the producer shall document each instance, including corrective steps taken.\n"},{"$f":"IF(Checklist4810[[#This Row],[SSGUID]]=\"\",IF(Checklist4810[[#This Row],[PIGUID]]=\"\",\"\",INDEX(PIs[[Column1]:[SS]],MATCH(Checklist4810[[#This Row],[PIGUID]],PIs[GUID],0),8)),\"\")","v":"Major Must"},null,null,{"$f":"IF(Checklist4810[[#This Row],[ifna]]=\"NA\",\"\",IF(Checklist4810[[#This Row],[RelatedPQ]]=0,\"\",IF(Checklist4810[[#This Row],[RelatedPQ]]=\"\",\"\",IF((INDEX(S2PQ_relational[],MATCH(Checklist4810[[#This Row],[PIGUID&NO]],S2PQ_relational[PIGUID & \"NO\"],0),1))=Checklist4810[[#This Row],[PIGUID]],\"Not applicable\",\"\"))))","v":""},{"$f":"IF(Checklist4810[[#This Row],[N/A]]=\"Not Applicable\",INDEX(S2PQ[[Step 2  questions]:[Justification]],MATCH(Checklist4810[[#This Row],[RelatedPQ]],S2PQ[S2PQGUID],0),3),\"\")","v":""}]
[{"$nulls":3},{"$f":"IF(Checklist4810[[#This Row],[SGUID]]=\"\",IF(Checklist4810[[#This Row],[SSGUID]]=\"\",0,1),1)","v":0},"47xPHO8UxslhAdrZpPtuo4",{"$f":"_xlfn.IFNA(Checklist4810[[#This Row],[RelatedPQ]],\"NA\")","v":"NA"},{"$f":"IF(Checklist4810[[#This Row],[PIGUID]]=\"\",\"\",INDEX(S2PQ_relational[],MATCH(Checklist4810[[#This Row],[PIGUID&NO]],S2PQ_relational[PIGUID & \"NO\"],0),2))","v":{"$error":"#N/A"}},{"$f":"Checklist4810[[#This Row],[PIGUID]]&\"NO\"","v":"47xPHO8UxslhAdrZpPtuo4NO"},{"$f":"IF(Checklist4810[[#This Row],[PIGUID]]=\"\",\"\",INDEX(PIs[NA Exempt],MATCH(Checklist4810[[#This Row],[PIGUID]],PIs[GUID],0),1))","v":false},{"$f":"IF(Checklist4810[[#This Row],[SGUID]]=\"\",IF(Checklist4810[[#This Row],[SSGUID]]=\"\",IF(Checklist4810[[#This Row],[PIGUID]]=\"\",\"\",INDEX(PIs[[Column1]:[SS]],MATCH(Checklist4810[[#This Row],[PIGUID]],PIs[GUID],0),2)),INDEX(PIs[[Column1]:[SS]],MATCH(Checklist4810[[#This Row],[SSGUID]],PIs[SSGUID],0),18)),INDEX(PIs[[Column1]:[SS]],MATCH(Checklist4810[[#This Row],[SGUID]],PIs[SGUID],0),14))","v":"08.04"},{"$f":"IF(Checklist4810[[#This Row],[SGUID]]=\"\",IF(Checklist4810[[#This Row],[SSGUID]]=\"\",IF(Checklist4810[[#This Row],[PIGUID]]=\"\",\"\",INDEX(PIs[[Column1]:[SS]],MATCH(Checklist4810[[#This Row],[PIGUID]],PIs[GUID],0),4)),INDEX(PIs[[Column1]:[Ssbody]],MATCH(Checklist4810[[#This Row],[SSGUID]],PIs[SSGUID],0),19)),INDEX(PIs[[Column1]:[SS]],MATCH(Checklist4810[[#This Row],[SGUID]],PIs[SGUID],0),15))","v":"Any deductions from salaries are included in the pay slip and are legally justified in writing, clearly explained, and accepted by the worker in files."},{"$f":"IF(Checklist4810[[#This Row],[SGUID]]=\"\",IF(Checklist4810[[#This Row],[SSGUID]]=\"\",INDEX(PIs[[Column1]:[SS]],MATCH(Checklist4810[[#This Row],[PIGUID]],PIs[GUID],0),6),\"\"),\"\")","v":"Pay slips shall include deduction information. There shall be records explaining the deductions. \nIn the case of prior loans and advances, deductions from wages made for their repayment shall not exceed the limits prescribed by national law. Workers shall be duly informed of the terms and conditions for granting and repayment of advances and loans.\nIn the case of recruitment fees, no fees or costs incurred in the recruitment process for workers to secure employment or placement shall be allowed, regardless of the manner, timing, or location in which such fees are imposed or collected, including up-front payments workers have had to make to their recruitment agency or their employer."},{"$f":"IF(Checklist4810[[#This Row],[SSGUID]]=\"\",IF(Checklist4810[[#This Row],[PIGUID]]=\"\",\"\",INDEX(PIs[[Column1]:[SS]],MATCH(Checklist4810[[#This Row],[PIGUID]],PIs[GUID],0),8)),\"\")","v":"Major Must"},null,null,{"$f":"IF(Checklist4810[[#This Row],[ifna]]=\"NA\",\"\",IF(Checklist4810[[#This Row],[RelatedPQ]]=0,\"\",IF(Checklist4810[[#This Row],[RelatedPQ]]=\"\",\"\",IF((INDEX(S2PQ_relational[],MATCH(Checklist4810[[#This Row],[PIGUID&NO]],S2PQ_relational[PIGUID & \"NO\"],0),1))=Checklist4810[[#This Row],[PIGUID]],\"Not applicable\",\"\"))))","v":""},{"$f":"IF(Checklist4810[[#This Row],[N/A]]=\"Not Applicable\",INDEX(S2PQ[[Step 2  questions]:[Justification]],MATCH(Checklist4810[[#This Row],[RelatedPQ]],S2PQ[S2PQGUID],0),3),\"\")","v":""}]
[null,"3Ff44zJMwGkTtn6xQrauV0",null,{"$f":"IF(Checklist4810[[#This Row],[SGUID]]=\"\",IF(Checklist4810[[#This Row],[SSGUID]]=\"\",0,1),1)","v":1},null,{"$f":"_xlfn.IFNA(Checklist4810[[#This Row],[RelatedPQ]],\"NA\")","v":""},{"$f":"IF(Checklist4810[[#This Row],[PIGUID]]=\"\",\"\",INDEX(S2PQ_relational[],MATCH(Checklist4810[[#This Row],[PIGUID&NO]],S2PQ_relational[PIGUID & \"NO\"],0),2))","v":""},{"$f":"Checklist4810[[#This Row],[PIGUID]]&\"NO\"","v":"NO"},{"$f":"IF(Checklist4810[[#This Row],[PIGUID]]=\"\",\"\",INDEX(PIs[NA Exempt],MATCH(Checklist4810[[#This Row],[PIGUID]],PIs[GUID],0),1))","v":""},{"$f":"IF(Checklist4810[[#This Row],[SGUID]]=\"\",IF(Checklist4810[[#This Row],[SSGUID]]=\"\",IF(Checklist4810[[#This Row],[PIGUID]]=\"\",\"\",INDEX(PIs[[Column1]:[SS]],MATCH(Checklist4810[[#This Row],[PIGUID]],PIs[GUID],0),2)),INDEX(PIs[[Column1]:[SS]],MATCH(Checklist4810[[#This Row],[SSGUID]],PIs[SSGUID],0),18)),INDEX(PIs[[Column1]:[SS]],MATCH(Checklist4810[[#This Row],[SGUID]],PIs[SGUID],0),14))","v":"WORKING AGE, CHILD LABOR, AND YOUNG WORKERS"},{"$f":"IF(Checklist4810[[#This Row],[SGUID]]=\"\",IF(Checklist4810[[#This Row],[SSGUID]]=\"\",IF(Checklist4810[[#This Row],[PIGUID]]=\"\",\"\",INDEX(PIs[[Column1]:[SS]],MATCH(Checklist4810[[#This Row],[PIGUID]],PIs[GUID],0),4)),INDEX(PIs[[Column1]:[Ssbody]],MATCH(Checklist4810[[#This Row],[SSGUID]],PIs[SSGUID],0),19)),INDEX(PIs[[Column1]:[SS]],MATCH(Checklist4810[[#This Row],[SGUID]],PIs[SGUID],0),15))","v":"-"},{"$f":"IF(Checklist4810[[#This Row],[SGUID]]=\"\",IF(Checklist4810[[#This Row],[SSGUID]]=\"\",INDEX(PIs[[Column1]:[SS]],MATCH(Checklist4810[[#This Row],[PIGUID]],PIs[GUID],0),6),\"\"),\"\")","v":""},{"$f":"IF(Checklist4810[[#This Row],[SSGUID]]=\"\",IF(Checklist4810[[#This Row],[PIGUID]]=\"\",\"\",INDEX(PIs[[Column1]:[SS]],MATCH(Checklist4810[[#This Row],[PIGUID]],PIs[GUID],0),8)),\"\")","v":""},null,null,{"$f":"IF(Checklist4810[[#This Row],[ifna]]=\"NA\",\"\",IF(Checklist4810[[#This Row],[RelatedPQ]]=0,\"\",IF(Checklist4810[[#This Row],[RelatedPQ]]=\"\",\"\",IF((INDEX(S2PQ_relational[],MATCH(Checklist4810[[#This Row],[PIGUID&NO]],S2PQ_relational[PIGUID & \"NO\"],0),1))=Checklist4810[[#This Row],[PIGUID]],\"Not applicable\",\"\"))))","v":""},{"$f":"IF(Checklist4810[[#This Row],[N/A]]=\"Not Applicable\",INDEX(S2PQ[[Step 2  questions]:[Justification]],MATCH(Checklist4810[[#This Row],[RelatedPQ]],S2PQ[S2PQGUID],0),3),\"\")","v":""}]
[null,null,"5TvyR0UgB0EOmnMkFaZftX",{"$f":"IF(Checklist4810[[#This Row],[SGUID]]=\"\",IF(Checklist4810[[#This Row],[SSGUID]]=\"\",0,1),1)","v":1},null,{"$f":"_xlfn.IFNA(Checklist4810[[#This Row],[RelatedPQ]],\"NA\")","v":""},{"$f":"IF(Checklist4810[[#This Row],[PIGUID]]=\"\",\"\",INDEX(S2PQ_relational[],MATCH(Checklist4810[[#This Row],[PIGUID&NO]],S2PQ_relational[PIGUID & \"NO\"],0),2))","v":""},{"$f":"Checklist4810[[#This Row],[PIGUID]]&\"NO\"","v":"NO"},{"$f":"IF(Checklist4810[[#This Row],[PIGUID]]=\"\",\"\",INDEX(PIs[NA Exempt],MATCH(Checklist4810[[#This Row],[PIGUID]],PIs[GUID],0),1))","v":""},{"$f":"IF(Checklist4810[[#This Row],[SGUID]]=\"\",IF(Checklist4810[[#This Row],[SSGUID]]=\"\",IF(Checklist4810[[#This Row],[PIGUID]]=\"\",\"\",INDEX(PIs[[Column1]:[SS]],MATCH(Checklist4810[[#This Row],[PIGUID]],PIs[GUID],0),2)),INDEX(PIs[[Column1]:[SS]],MATCH(Checklist4810[[#This Row],[SSGUID]],PIs[SSGUID],0),18)),INDEX(PIs[[Column1]:[SS]],MATCH(Checklist4810[[#This Row],[SGUID]],PIs[SGUID],0),14))","v":"-"},{"$f":"IF(Checklist4810[[#This Row],[SGUID]]=\"\",IF(Checklist4810[[#This Row],[SSGUID]]=\"\",IF(Checklist4810[[#This Row],[PIGUID]]=\"\",\"\",INDEX(PIs[[Column1]:[SS]],MATCH(Checklist4810[[#This Row],[PIGUID]],PIs[GUID],0),4)),INDEX(PIs[[Column1]:[Ssbody]],MATCH(Checklist4810[[#This Row],[SSGUID]],PIs[SSGUID],0),19)),INDEX(PIs[[Column1]:[SS]],MATCH(Checklist4810[[#This Row],[SGUID]],PIs[SGUID],0),15))","v":"-"},{"$f":"IF(Checklist4810[[#This Row],[SGUID]]=\"\",IF(Checklist4810[[#This Row],[SSGUID]]=\"\",INDEX(PIs[[Column1]:[SS]],MATCH(Checklist4810[[#This Row],[PIGUID]],PIs[GUID],0),6),\"\"),\"\")","v":""},{"$f":"IF(Checklist4810[[#This Row],[SSGUID]]=\"\",IF(Checklist4810[[#This Row],[PIGUID]]=\"\",\"\",INDEX(PIs[[Column1]:[SS]],MATCH(Checklist4810[[#This Row],[PIGUID]],PIs[GUID],0),8)),\"\")","v":""},null,null,{"$f":"IF(Checklist4810[[#This Row],[ifna]]=\"NA\",\"\",IF(Checklist4810[[#This Row],[RelatedPQ]]=0,\"\",IF(Checklist4810[[#This Row],[RelatedPQ]]=\"\",\"\",IF((INDEX(S2PQ_relational[],MATCH(Checklist4810[[#This Row],[PIGUID&NO]],S2PQ_relational[PIGUID & \"NO\"],0),1))=Checklist4810[[#This Row],[PIGUID]],\"Not applicable\",\"\"))))","v":""},{"$f":"IF(Checklist4810[[#This Row],[N/A]]=\"Not Applicable\",INDEX(S2PQ[[Step 2  questions]:[Justification]],MATCH(Checklist4810[[#This Row],[RelatedPQ]],S2PQ[S2PQGUID],0),3),\"\")","v":""}]
[{"$nulls":3},{"$f":"IF(Checklist4810[[#This Row],[SGUID]]=\"\",IF(Checklist4810[[#This Row],[SSGUID]]=\"\",0,1),1)","v":0},"4MXkUbBzWPBDeLgWkf1Nrz",{"$f":"_xlfn.IFNA(Checklist4810[[#This Row],[RelatedPQ]],\"NA\")","v":"NA"},{"$f":"IF(Checklist4810[[#This Row],[PIGUID]]=\"\",\"\",INDEX(S2PQ_relational[],MATCH(Checklist4810[[#This Row],[PIGUID&NO]],S2PQ_relational[PIGUID & \"NO\"],0),2))","v":{"$error":"#N/A"}},{"$f":"Checklist4810[[#This Row],[PIGUID]]&\"NO\"","v":"4MXkUbBzWPBDeLgWkf1NrzNO"},{"$f":"IF(Checklist4810[[#This Row],[PIGUID]]=\"\",\"\",INDEX(PIs[NA Exempt],MATCH(Checklist4810[[#This Row],[PIGUID]],PIs[GUID],0),1))","v":false},{"$f":"IF(Checklist4810[[#This Row],[SGUID]]=\"\",IF(Checklist4810[[#This Row],[SSGUID]]=\"\",IF(Checklist4810[[#This Row],[PIGUID]]=\"\",\"\",INDEX(PIs[[Column1]:[SS]],MATCH(Checklist4810[[#This Row],[PIGUID]],PIs[GUID],0),2)),INDEX(PIs[[Column1]:[SS]],MATCH(Checklist4810[[#This Row],[SSGUID]],PIs[SSGUID],0),18)),INDEX(PIs[[Column1]:[SS]],MATCH(Checklist4810[[#This Row],[SGUID]],PIs[SGUID],0),14))","v":"09.01"},{"$f":"IF(Checklist4810[[#This Row],[SGUID]]=\"\",IF(Checklist4810[[#This Row],[SSGUID]]=\"\",IF(Checklist4810[[#This Row],[PIGUID]]=\"\",\"\",INDEX(PIs[[Column1]:[SS]],MATCH(Checklist4810[[#This Row],[PIGUID]],PIs[GUID],0),4)),INDEX(PIs[[Column1]:[Ssbody]],MATCH(Checklist4810[[#This Row],[SSGUID]],PIs[SSGUID],0),19)),INDEX(PIs[[Column1]:[SS]],MATCH(Checklist4810[[#This Row],[SGUID]],PIs[SGUID],0),15))","v":"The producer verifies that no worker below the legal minimum age of employment or the age of completion of compulsory education (whichever provides the highest protection) is working at the production sites.  \n\nThe minimum age of employment shall not be less than 15 years and 13 for light work. For countries exempt from ILO Convention 138, the minimum age of employment shall not be less than 14 and 12 for light work. "},{"$f":"IF(Checklist4810[[#This Row],[SGUID]]=\"\",IF(Checklist4810[[#This Row],[SSGUID]]=\"\",INDEX(PIs[[Column1]:[SS]],MATCH(Checklist4810[[#This Row],[PIGUID]],PIs[GUID],0),6),\"\"),\"\")","v":"The term “verifies” requires that the producer shall have a verification process or method for checking this information about the workers, including employment agency/subcontracted workers (e.g., checking worker ID, working permit, working registration card, trade union membership card, etc.) and filing a copy. A verbal explanation of the verification process or method shall be sufficient together with documental evidence. \nFor family farms without hired workers, “workers” shall refer to core family members working on the farm.\nThe “production site” shall include any site within the scope of the GRASP assessment and IFA or equivalent standard audit.\nFor service providers or short-term visitors providing production-related activities as defined by IFA, the producer shall verify company ID, personal ID, working permit, working registration card, picture ID when available, etc. \nThe producer shall apply the verification procedure to any person providing work, services, or any activity related to production at the production site or subcontracted sites. The absence of a terms of employment document does not eliminate the obligation to comply with this P&C. In these cases, the producer shall ensure that no persons below the legal minimum age of employment are involved in any working activity unless those allowed to family members in family core business farms.\n“Light work”: age-appropriate tasks that are of lower risk and do not interfere with a child’s schooling and leisure time and do not adversely impact health, safety, and development of the minor.\nIf the age of completion of compulsory education is higher than the legal minimum age of employment, the assessor shall check that the work tasks do not interfere with schooling (e.g., minors are enrolled in and attend school, work schedules allow getting to school, teachers are available at the farm, etc.).\nAny official school/university, government, industry, or trade union program that supervises development of apprenticeships (e.g., traineeship, internship, workplace learning, etc.) shall be documented. Documentation shall include at least the participants’ names, ages, conditions, hours, and parental consents.\n"},{"$f":"IF(Checklist4810[[#This Row],[SSGUID]]=\"\",IF(Checklist4810[[#This Row],[PIGUID]]=\"\",\"\",INDEX(PIs[[Column1]:[SS]],MATCH(Checklist4810[[#This Row],[PIGUID]],PIs[GUID],0),8)),\"\")","v":"Major Must"},null,null,{"$f":"IF(Checklist4810[[#This Row],[ifna]]=\"NA\",\"\",IF(Checklist4810[[#This Row],[RelatedPQ]]=0,\"\",IF(Checklist4810[[#This Row],[RelatedPQ]]=\"\",\"\",IF((INDEX(S2PQ_relational[],MATCH(Checklist4810[[#This Row],[PIGUID&NO]],S2PQ_relational[PIGUID & \"NO\"],0),1))=Checklist4810[[#This Row],[PIGUID]],\"Not applicable\",\"\"))))","v":""},{"$f":"IF(Checklist4810[[#This Row],[N/A]]=\"Not Applicable\",INDEX(S2PQ[[Step 2  questions]:[Justification]],MATCH(Checklist4810[[#This Row],[RelatedPQ]],S2PQ[S2PQGUID],0),3),\"\")","v":""}]
[{"$nulls":3},{"$f":"IF(Checklist4810[[#This Row],[SGUID]]=\"\",IF(Checklist4810[[#This Row],[SSGUID]]=\"\",0,1),1)","v":0},"48Kfoa4PqmcfqhOmRGtnxL",{"$f":"_xlfn.IFNA(Checklist4810[[#This Row],[RelatedPQ]],\"NA\")","v":"NA"},{"$f":"IF(Checklist4810[[#This Row],[PIGUID]]=\"\",\"\",INDEX(S2PQ_relational[],MATCH(Checklist4810[[#This Row],[PIGUID&NO]],S2PQ_relational[PIGUID & \"NO\"],0),2))","v":{"$error":"#N/A"}},{"$f":"Checklist4810[[#This Row],[PIGUID]]&\"NO\"","v":"48Kfoa4PqmcfqhOmRGtnxLNO"},{"$f":"IF(Checklist4810[[#This Row],[PIGUID]]=\"\",\"\",INDEX(PIs[NA Exempt],MATCH(Checklist4810[[#This Row],[PIGUID]],PIs[GUID],0),1))","v":false},{"$f":"IF(Checklist4810[[#This Row],[SGUID]]=\"\",IF(Checklist4810[[#This Row],[SSGUID]]=\"\",IF(Checklist4810[[#This Row],[PIGUID]]=\"\",\"\",INDEX(PIs[[Column1]:[SS]],MATCH(Checklist4810[[#This Row],[PIGUID]],PIs[GUID],0),2)),INDEX(PIs[[Column1]:[SS]],MATCH(Checklist4810[[#This Row],[SSGUID]],PIs[SSGUID],0),18)),INDEX(PIs[[Column1]:[SS]],MATCH(Checklist4810[[#This Row],[SGUID]],PIs[SGUID],0),14))","v":"09.02"},{"$f":"IF(Checklist4810[[#This Row],[SGUID]]=\"\",IF(Checklist4810[[#This Row],[SSGUID]]=\"\",IF(Checklist4810[[#This Row],[PIGUID]]=\"\",\"\",INDEX(PIs[[Column1]:[SS]],MATCH(Checklist4810[[#This Row],[PIGUID]],PIs[GUID],0),4)),INDEX(PIs[[Column1]:[Ssbody]],MATCH(Checklist4810[[#This Row],[SSGUID]],PIs[SSGUID],0),19)),INDEX(PIs[[Column1]:[SS]],MATCH(Checklist4810[[#This Row],[SGUID]],PIs[SGUID],0),15))","v":"The producer checks that no worker under the age of 18 is engaged in night work or tasks that are hazardous in nature in any production site."},{"$f":"IF(Checklist4810[[#This Row],[SGUID]]=\"\",IF(Checklist4810[[#This Row],[SSGUID]]=\"\",INDEX(PIs[[Column1]:[SS]],MATCH(Checklist4810[[#This Row],[PIGUID]],PIs[GUID],0),6),\"\"),\"\")","v":"The term “checks” requires that the producer shall identify all workers below the age of 18 and verify that their tasks are not performed at night and are not of a hazardous nature. \nFor family farms without hired workers, “workers” shall refer to core family members working on the farm.\n“Light work”: age-appropriate tasks that are of lower risk and do not interfere with a child’s schooling and leisure time and do not adversely impact health, safety, and development of the minor.\nThe assessor shall check the age of completion of compulsory education."},{"$f":"IF(Checklist4810[[#This Row],[SSGUID]]=\"\",IF(Checklist4810[[#This Row],[PIGUID]]=\"\",\"\",INDEX(PIs[[Column1]:[SS]],MATCH(Checklist4810[[#This Row],[PIGUID]],PIs[GUID],0),8)),\"\")","v":"Major Must"},null,null,{"$f":"IF(Checklist4810[[#This Row],[ifna]]=\"NA\",\"\",IF(Checklist4810[[#This Row],[RelatedPQ]]=0,\"\",IF(Checklist4810[[#This Row],[RelatedPQ]]=\"\",\"\",IF((INDEX(S2PQ_relational[],MATCH(Checklist4810[[#This Row],[PIGUID&NO]],S2PQ_relational[PIGUID & \"NO\"],0),1))=Checklist4810[[#This Row],[PIGUID]],\"Not applicable\",\"\"))))","v":""},{"$f":"IF(Checklist4810[[#This Row],[N/A]]=\"Not Applicable\",INDEX(S2PQ[[Step 2  questions]:[Justification]],MATCH(Checklist4810[[#This Row],[RelatedPQ]],S2PQ[S2PQGUID],0),3),\"\")","v":""}]
[{"$nulls":3},{"$f":"IF(Checklist4810[[#This Row],[SGUID]]=\"\",IF(Checklist4810[[#This Row],[SSGUID]]=\"\",0,1),1)","v":0},"2qCBkbLsGCA2vaZfEo70jl",{"$f":"_xlfn.IFNA(Checklist4810[[#This Row],[RelatedPQ]],\"NA\")","v":"NA"},{"$f":"IF(Checklist4810[[#This Row],[PIGUID]]=\"\",\"\",INDEX(S2PQ_relational[],MATCH(Checklist4810[[#This Row],[PIGUID&NO]],S2PQ_relational[PIGUID & \"NO\"],0),2))","v":{"$error":"#N/A"}},{"$f":"Checklist4810[[#This Row],[PIGUID]]&\"NO\"","v":"2qCBkbLsGCA2vaZfEo70jlNO"},{"$f":"IF(Checklist4810[[#This Row],[PIGUID]]=\"\",\"\",INDEX(PIs[NA Exempt],MATCH(Checklist4810[[#This Row],[PIGUID]],PIs[GUID],0),1))","v":false},{"$f":"IF(Checklist4810[[#This Row],[SGUID]]=\"\",IF(Checklist4810[[#This Row],[SSGUID]]=\"\",IF(Checklist4810[[#This Row],[PIGUID]]=\"\",\"\",INDEX(PIs[[Column1]:[SS]],MATCH(Checklist4810[[#This Row],[PIGUID]],PIs[GUID],0),2)),INDEX(PIs[[Column1]:[SS]],MATCH(Checklist4810[[#This Row],[SSGUID]],PIs[SSGUID],0),18)),INDEX(PIs[[Column1]:[SS]],MATCH(Checklist4810[[#This Row],[SGUID]],PIs[SGUID],0),14))","v":"09.03"},{"$f":"IF(Checklist4810[[#This Row],[SGUID]]=\"\",IF(Checklist4810[[#This Row],[SSGUID]]=\"\",IF(Checklist4810[[#This Row],[PIGUID]]=\"\",\"\",INDEX(PIs[[Column1]:[SS]],MATCH(Checklist4810[[#This Row],[PIGUID]],PIs[GUID],0),4)),INDEX(PIs[[Column1]:[Ssbody]],MATCH(Checklist4810[[#This Row],[SSGUID]],PIs[SSGUID],0),19)),INDEX(PIs[[Column1]:[SS]],MATCH(Checklist4810[[#This Row],[SGUID]],PIs[SGUID],0),15))","v":"Children on family farms shall be employed only by their core family under conditions that support their protection, right to education, and safety. "},{"$f":"IF(Checklist4810[[#This Row],[SGUID]]=\"\",IF(Checklist4810[[#This Row],[SSGUID]]=\"\",INDEX(PIs[[Column1]:[SS]],MATCH(Checklist4810[[#This Row],[PIGUID]],PIs[GUID],0),6),\"\"),\"\")","v":"The term “conditions that support their protection, right to education, and safety” is defined as follows: \nPersons below the legal minimum age of employment working on their family’s farm, shall at least work under the following conditions: \n1. The minors are under direct supervision of their parents or guardians. \n2. Their work is done on their own family farms.\n3. The work tasks do not interfere with schooling (i.e., minors are enrolled in and attend school).\n4. The work is not at night or hazardous in nature.\n5. The work consists of age-appropriate tasks that are of lower risk.\n6. The hours of work are monitored (reported) to be less than those of workers at or above the legal working age, including hours spent in household chores (e.g., cleaning, cooking, childcare, collecting water and firewood).\n7. Parents or guardians declare these conditions in a written self-statement, which is kept on file by the producer and that must be reviewed and cross-checked on site during GRASP assessment."},{"$f":"IF(Checklist4810[[#This Row],[SSGUID]]=\"\",IF(Checklist4810[[#This Row],[PIGUID]]=\"\",\"\",INDEX(PIs[[Column1]:[SS]],MATCH(Checklist4810[[#This Row],[PIGUID]],PIs[GUID],0),8)),\"\")","v":"Major Must"},null,null,{"$f":"IF(Checklist4810[[#This Row],[ifna]]=\"NA\",\"\",IF(Checklist4810[[#This Row],[RelatedPQ]]=0,\"\",IF(Checklist4810[[#This Row],[RelatedPQ]]=\"\",\"\",IF((INDEX(S2PQ_relational[],MATCH(Checklist4810[[#This Row],[PIGUID&NO]],S2PQ_relational[PIGUID & \"NO\"],0),1))=Checklist4810[[#This Row],[PIGUID]],\"Not applicable\",\"\"))))","v":""},{"$f":"IF(Checklist4810[[#This Row],[N/A]]=\"Not Applicable\",INDEX(S2PQ[[Step 2  questions]:[Justification]],MATCH(Checklist4810[[#This Row],[RelatedPQ]],S2PQ[S2PQGUID],0),3),\"\")","v":""}]
[{"$nulls":3},{"$f":"IF(Checklist4810[[#This Row],[SGUID]]=\"\",IF(Checklist4810[[#This Row],[SSGUID]]=\"\",0,1),1)","v":0},"2j6Ket1Nb7Mbvw9lA7fb04",{"$f":"_xlfn.IFNA(Checklist4810[[#This Row],[RelatedPQ]],\"NA\")","v":"NA"},{"$f":"IF(Checklist4810[[#This Row],[PIGUID]]=\"\",\"\",INDEX(S2PQ_relational[],MATCH(Checklist4810[[#This Row],[PIGUID&NO]],S2PQ_relational[PIGUID & \"NO\"],0),2))","v":{"$error":"#N/A"}},{"$f":"Checklist4810[[#This Row],[PIGUID]]&\"NO\"","v":"2j6Ket1Nb7Mbvw9lA7fb04NO"},{"$f":"IF(Checklist4810[[#This Row],[PIGUID]]=\"\",\"\",INDEX(PIs[NA Exempt],MATCH(Checklist4810[[#This Row],[PIGUID]],PIs[GUID],0),1))","v":false},{"$f":"IF(Checklist4810[[#This Row],[SGUID]]=\"\",IF(Checklist4810[[#This Row],[SSGUID]]=\"\",IF(Checklist4810[[#This Row],[PIGUID]]=\"\",\"\",INDEX(PIs[[Column1]:[SS]],MATCH(Checklist4810[[#This Row],[PIGUID]],PIs[GUID],0),2)),INDEX(PIs[[Column1]:[SS]],MATCH(Checklist4810[[#This Row],[SSGUID]],PIs[SSGUID],0),18)),INDEX(PIs[[Column1]:[SS]],MATCH(Checklist4810[[#This Row],[SGUID]],PIs[SGUID],0),14))","v":"09.04"},{"$f":"IF(Checklist4810[[#This Row],[SGUID]]=\"\",IF(Checklist4810[[#This Row],[SSGUID]]=\"\",IF(Checklist4810[[#This Row],[PIGUID]]=\"\",\"\",INDEX(PIs[[Column1]:[SS]],MATCH(Checklist4810[[#This Row],[PIGUID]],PIs[GUID],0),4)),INDEX(PIs[[Column1]:[Ssbody]],MATCH(Checklist4810[[#This Row],[SSGUID]],PIs[SSGUID],0),19)),INDEX(PIs[[Column1]:[SS]],MATCH(Checklist4810[[#This Row],[SGUID]],PIs[SGUID],0),15))","v":"Supervisory staff has been informed of the legal requirements on working age and of the effective remediation plan (when workers under the age 18 are found working in non-compliance). "},{"$f":"IF(Checklist4810[[#This Row],[SGUID]]=\"\",IF(Checklist4810[[#This Row],[SSGUID]]=\"\",INDEX(PIs[[Column1]:[SS]],MATCH(Checklist4810[[#This Row],[PIGUID]],PIs[GUID],0),6),\"\"),\"\")","v":"The term “supervisory staff” shall refer to any staff member in contact with workers or with supervising duties at the production site (e.g., foreman, manager, crew supervisor, etc.). If the producer does not have such staff, the producer shall have knowledge of the GRASP criteria on this topic and shall have a remediation plan.\nThere shall be a documented remediation plan for potential non-compliances of all the P&Cs in this section. Compliance without a remediation plan shall be possible only if no workers are under the age of 18. For Option 2 producer groups, compliance without a remediation plan shall be possible only if there are no family farms among the producer group members and/or none of the producer group members have workers under the age of 18.\nFor family farms without hired workers, “workers” shall refer to core family members working on the farm.\nThe remediation plan shall, at minimum, include written details on how the children will be removed from the workplace and replaced and how the organization is preventing every individual child from entering worse forms of child labor (including hazardous work, slavery-like practices, recruitment into armed conflict, sex work, labor trafficking, and/or illicit activities).\nIn case of non-compliances with P&Cs under this section, immediate remedy for children or young workers shall be provided (i.e., removal from situation). For young workers, in addition to the removal, there shall be assurance of future remediation actions (included in the plan) securing access to adequate work and wages (if applicable). This shall be applicable to family farms accordingly."},{"$f":"IF(Checklist4810[[#This Row],[SSGUID]]=\"\",IF(Checklist4810[[#This Row],[PIGUID]]=\"\",\"\",INDEX(PIs[[Column1]:[SS]],MATCH(Checklist4810[[#This Row],[PIGUID]],PIs[GUID],0),8)),\"\")","v":"Minor Must"},null,null,{"$f":"IF(Checklist4810[[#This Row],[ifna]]=\"NA\",\"\",IF(Checklist4810[[#This Row],[RelatedPQ]]=0,\"\",IF(Checklist4810[[#This Row],[RelatedPQ]]=\"\",\"\",IF((INDEX(S2PQ_relational[],MATCH(Checklist4810[[#This Row],[PIGUID&NO]],S2PQ_relational[PIGUID & \"NO\"],0),1))=Checklist4810[[#This Row],[PIGUID]],\"Not applicable\",\"\"))))","v":""},{"$f":"IF(Checklist4810[[#This Row],[N/A]]=\"Not Applicable\",INDEX(S2PQ[[Step 2  questions]:[Justification]],MATCH(Checklist4810[[#This Row],[RelatedPQ]],S2PQ[S2PQGUID],0),3),\"\")","v":""}]
[null,"LIlGAXC7dgnKPjxv0CHy9",null,{"$f":"IF(Checklist4810[[#This Row],[SGUID]]=\"\",IF(Checklist4810[[#This Row],[SSGUID]]=\"\",0,1),1)","v":1},null,{"$f":"_xlfn.IFNA(Checklist4810[[#This Row],[RelatedPQ]],\"NA\")","v":""},{"$f":"IF(Checklist4810[[#This Row],[PIGUID]]=\"\",\"\",INDEX(S2PQ_relational[],MATCH(Checklist4810[[#This Row],[PIGUID&NO]],S2PQ_relational[PIGUID & \"NO\"],0),2))","v":""},{"$f":"Checklist4810[[#This Row],[PIGUID]]&\"NO\"","v":"NO"},{"$f":"IF(Checklist4810[[#This Row],[PIGUID]]=\"\",\"\",INDEX(PIs[NA Exempt],MATCH(Checklist4810[[#This Row],[PIGUID]],PIs[GUID],0),1))","v":""},{"$f":"IF(Checklist4810[[#This Row],[SGUID]]=\"\",IF(Checklist4810[[#This Row],[SSGUID]]=\"\",IF(Checklist4810[[#This Row],[PIGUID]]=\"\",\"\",INDEX(PIs[[Column1]:[SS]],MATCH(Checklist4810[[#This Row],[PIGUID]],PIs[GUID],0),2)),INDEX(PIs[[Column1]:[SS]],MATCH(Checklist4810[[#This Row],[SSGUID]],PIs[SSGUID],0),18)),INDEX(PIs[[Column1]:[SS]],MATCH(Checklist4810[[#This Row],[SGUID]],PIs[SGUID],0),14))","v":"COMPULSORY SCHOOL AGE AND SCHOOL ACCESS"},{"$f":"IF(Checklist4810[[#This Row],[SGUID]]=\"\",IF(Checklist4810[[#This Row],[SSGUID]]=\"\",IF(Checklist4810[[#This Row],[PIGUID]]=\"\",\"\",INDEX(PIs[[Column1]:[SS]],MATCH(Checklist4810[[#This Row],[PIGUID]],PIs[GUID],0),4)),INDEX(PIs[[Column1]:[Ssbody]],MATCH(Checklist4810[[#This Row],[SSGUID]],PIs[SSGUID],0),19)),INDEX(PIs[[Column1]:[SS]],MATCH(Checklist4810[[#This Row],[SGUID]],PIs[SGUID],0),15))","v":"-"},{"$f":"IF(Checklist4810[[#This Row],[SGUID]]=\"\",IF(Checklist4810[[#This Row],[SSGUID]]=\"\",INDEX(PIs[[Column1]:[SS]],MATCH(Checklist4810[[#This Row],[PIGUID]],PIs[GUID],0),6),\"\"),\"\")","v":""},{"$f":"IF(Checklist4810[[#This Row],[SSGUID]]=\"\",IF(Checklist4810[[#This Row],[PIGUID]]=\"\",\"\",INDEX(PIs[[Column1]:[SS]],MATCH(Checklist4810[[#This Row],[PIGUID]],PIs[GUID],0),8)),\"\")","v":""},null,null,{"$f":"IF(Checklist4810[[#This Row],[ifna]]=\"NA\",\"\",IF(Checklist4810[[#This Row],[RelatedPQ]]=0,\"\",IF(Checklist4810[[#This Row],[RelatedPQ]]=\"\",\"\",IF((INDEX(S2PQ_relational[],MATCH(Checklist4810[[#This Row],[PIGUID&NO]],S2PQ_relational[PIGUID & \"NO\"],0),1))=Checklist4810[[#This Row],[PIGUID]],\"Not applicable\",\"\"))))","v":""},{"$f":"IF(Checklist4810[[#This Row],[N/A]]=\"Not Applicable\",INDEX(S2PQ[[Step 2  questions]:[Justification]],MATCH(Checklist4810[[#This Row],[RelatedPQ]],S2PQ[S2PQGUID],0),3),\"\")","v":""}]
[null,null,"5TvyR0UgB0EOmnMkFaZftX",{"$f":"IF(Checklist4810[[#This Row],[SGUID]]=\"\",IF(Checklist4810[[#This Row],[SSGUID]]=\"\",0,1),1)","v":1},null,{"$f":"_xlfn.IFNA(Checklist4810[[#This Row],[RelatedPQ]],\"NA\")","v":""},{"$f":"IF(Checklist4810[[#This Row],[PIGUID]]=\"\",\"\",INDEX(S2PQ_relational[],MATCH(Checklist4810[[#This Row],[PIGUID&NO]],S2PQ_relational[PIGUID & \"NO\"],0),2))","v":""},{"$f":"Checklist4810[[#This Row],[PIGUID]]&\"NO\"","v":"NO"},{"$f":"IF(Checklist4810[[#This Row],[PIGUID]]=\"\",\"\",INDEX(PIs[NA Exempt],MATCH(Checklist4810[[#This Row],[PIGUID]],PIs[GUID],0),1))","v":""},{"$f":"IF(Checklist4810[[#This Row],[SGUID]]=\"\",IF(Checklist4810[[#This Row],[SSGUID]]=\"\",IF(Checklist4810[[#This Row],[PIGUID]]=\"\",\"\",INDEX(PIs[[Column1]:[SS]],MATCH(Checklist4810[[#This Row],[PIGUID]],PIs[GUID],0),2)),INDEX(PIs[[Column1]:[SS]],MATCH(Checklist4810[[#This Row],[SSGUID]],PIs[SSGUID],0),18)),INDEX(PIs[[Column1]:[SS]],MATCH(Checklist4810[[#This Row],[SGUID]],PIs[SGUID],0),14))","v":"-"},{"$f":"IF(Checklist4810[[#This Row],[SGUID]]=\"\",IF(Checklist4810[[#This Row],[SSGUID]]=\"\",IF(Checklist4810[[#This Row],[PIGUID]]=\"\",\"\",INDEX(PIs[[Column1]:[SS]],MATCH(Checklist4810[[#This Row],[PIGUID]],PIs[GUID],0),4)),INDEX(PIs[[Column1]:[Ssbody]],MATCH(Checklist4810[[#This Row],[SSGUID]],PIs[SSGUID],0),19)),INDEX(PIs[[Column1]:[SS]],MATCH(Checklist4810[[#This Row],[SGUID]],PIs[SGUID],0),15))","v":"-"},{"$f":"IF(Checklist4810[[#This Row],[SGUID]]=\"\",IF(Checklist4810[[#This Row],[SSGUID]]=\"\",INDEX(PIs[[Column1]:[SS]],MATCH(Checklist4810[[#This Row],[PIGUID]],PIs[GUID],0),6),\"\"),\"\")","v":""},{"$f":"IF(Checklist4810[[#This Row],[SSGUID]]=\"\",IF(Checklist4810[[#This Row],[PIGUID]]=\"\",\"\",INDEX(PIs[[Column1]:[SS]],MATCH(Checklist4810[[#This Row],[PIGUID]],PIs[GUID],0),8)),\"\")","v":""},null,null,{"$f":"IF(Checklist4810[[#This Row],[ifna]]=\"NA\",\"\",IF(Checklist4810[[#This Row],[RelatedPQ]]=0,\"\",IF(Checklist4810[[#This Row],[RelatedPQ]]=\"\",\"\",IF((INDEX(S2PQ_relational[],MATCH(Checklist4810[[#This Row],[PIGUID&NO]],S2PQ_relational[PIGUID & \"NO\"],0),1))=Checklist4810[[#This Row],[PIGUID]],\"Not applicable\",\"\"))))","v":""},{"$f":"IF(Checklist4810[[#This Row],[N/A]]=\"Not Applicable\",INDEX(S2PQ[[Step 2  questions]:[Justification]],MATCH(Checklist4810[[#This Row],[RelatedPQ]],S2PQ[S2PQGUID],0),3),\"\")","v":""}]
[{"$nulls":3},{"$f":"IF(Checklist4810[[#This Row],[SGUID]]=\"\",IF(Checklist4810[[#This Row],[SSGUID]]=\"\",0,1),1)","v":0},"11vbwwY7FDR5ijFG54HRRX",{"$f":"_xlfn.IFNA(Checklist4810[[#This Row],[RelatedPQ]],\"NA\")","v":"NA"},{"$f":"IF(Checklist4810[[#This Row],[PIGUID]]=\"\",\"\",INDEX(S2PQ_relational[],MATCH(Checklist4810[[#This Row],[PIGUID&NO]],S2PQ_relational[PIGUID & \"NO\"],0),2))","v":{"$error":"#N/A"}},{"$f":"Checklist4810[[#This Row],[PIGUID]]&\"NO\"","v":"11vbwwY7FDR5ijFG54HRRXNO"},{"$f":"IF(Checklist4810[[#This Row],[PIGUID]]=\"\",\"\",INDEX(PIs[NA Exempt],MATCH(Checklist4810[[#This Row],[PIGUID]],PIs[GUID],0),1))","v":false},{"$f":"IF(Checklist4810[[#This Row],[SGUID]]=\"\",IF(Checklist4810[[#This Row],[SSGUID]]=\"\",IF(Checklist4810[[#This Row],[PIGUID]]=\"\",\"\",INDEX(PIs[[Column1]:[SS]],MATCH(Checklist4810[[#This Row],[PIGUID]],PIs[GUID],0),2)),INDEX(PIs[[Column1]:[SS]],MATCH(Checklist4810[[#This Row],[SSGUID]],PIs[SSGUID],0),18)),INDEX(PIs[[Column1]:[SS]],MATCH(Checklist4810[[#This Row],[SGUID]],PIs[SGUID],0),14))","v":"10.01"},{"$f":"IF(Checklist4810[[#This Row],[SGUID]]=\"\",IF(Checklist4810[[#This Row],[SSGUID]]=\"\",IF(Checklist4810[[#This Row],[PIGUID]]=\"\",\"\",INDEX(PIs[[Column1]:[SS]],MATCH(Checklist4810[[#This Row],[PIGUID]],PIs[GUID],0),4)),INDEX(PIs[[Column1]:[Ssbody]],MATCH(Checklist4810[[#This Row],[SSGUID]],PIs[SSGUID],0),19)),INDEX(PIs[[Column1]:[SS]],MATCH(Checklist4810[[#This Row],[SGUID]],PIs[SGUID],0),15))","v":"Any children at compulsory school age living or working on any production sites shall have access to school education. "},{"$f":"IF(Checklist4810[[#This Row],[SGUID]]=\"\",IF(Checklist4810[[#This Row],[SSGUID]]=\"\",INDEX(PIs[[Column1]:[SS]],MATCH(Checklist4810[[#This Row],[PIGUID]],PIs[GUID],0),6),\"\"),\"\")","v":"The term “any children” shall include children legally working (i.e., children on family farms, children at legal age of employment, etc.), children of workers and of supervisory staff (including the owner, operator, etc.).\nIf the age of compulsory school completion is higher than the set legal minimum age of employment and children below the age of compulsory school completion are hired, the producer shall guarantee that any worker below the age of completion of compulsory school shall have access to school education.\nThe term “access to school education” shall require that children have the possibility to enroll in and attend school (i.e., school is reachable within a reasonable distance, school route is safe, etc.).\nThe producer shall instruct workers who are parents or guardians of children living at the production site or of employed children below the age of completion of compulsory school about the possibilities of access to school education in the area. It is understood that parents/guardians are responsible for enforcing attendance at school. This shall be applicable to family farms accordingly. \n"},{"$f":"IF(Checklist4810[[#This Row],[SSGUID]]=\"\",IF(Checklist4810[[#This Row],[PIGUID]]=\"\",\"\",INDEX(PIs[[Column1]:[SS]],MATCH(Checklist4810[[#This Row],[PIGUID]],PIs[GUID],0),8)),\"\")","v":"Major Must"},null,null,{"$f":"IF(Checklist4810[[#This Row],[ifna]]=\"NA\",\"\",IF(Checklist4810[[#This Row],[RelatedPQ]]=0,\"\",IF(Checklist4810[[#This Row],[RelatedPQ]]=\"\",\"\",IF((INDEX(S2PQ_relational[],MATCH(Checklist4810[[#This Row],[PIGUID&NO]],S2PQ_relational[PIGUID & \"NO\"],0),1))=Checklist4810[[#This Row],[PIGUID]],\"Not applicable\",\"\"))))","v":""},{"$f":"IF(Checklist4810[[#This Row],[N/A]]=\"Not Applicable\",INDEX(S2PQ[[Step 2  questions]:[Justification]],MATCH(Checklist4810[[#This Row],[RelatedPQ]],S2PQ[S2PQGUID],0),3),\"\")","v":""}]
[{"$nulls":3},{"$f":"IF(Checklist4810[[#This Row],[SGUID]]=\"\",IF(Checklist4810[[#This Row],[SSGUID]]=\"\",0,1),1)","v":0},"2q3Qew96xppHm4YhdowKe6",{"$f":"_xlfn.IFNA(Checklist4810[[#This Row],[RelatedPQ]],\"NA\")","v":"NA"},{"$f":"IF(Checklist4810[[#This Row],[PIGUID]]=\"\",\"\",INDEX(S2PQ_relational[],MATCH(Checklist4810[[#This Row],[PIGUID&NO]],S2PQ_relational[PIGUID & \"NO\"],0),2))","v":{"$error":"#N/A"}},{"$f":"Checklist4810[[#This Row],[PIGUID]]&\"NO\"","v":"2q3Qew96xppHm4YhdowKe6NO"},{"$f":"IF(Checklist4810[[#This Row],[PIGUID]]=\"\",\"\",INDEX(PIs[NA Exempt],MATCH(Checklist4810[[#This Row],[PIGUID]],PIs[GUID],0),1))","v":false},{"$f":"IF(Checklist4810[[#This Row],[SGUID]]=\"\",IF(Checklist4810[[#This Row],[SSGUID]]=\"\",IF(Checklist4810[[#This Row],[PIGUID]]=\"\",\"\",INDEX(PIs[[Column1]:[SS]],MATCH(Checklist4810[[#This Row],[PIGUID]],PIs[GUID],0),2)),INDEX(PIs[[Column1]:[SS]],MATCH(Checklist4810[[#This Row],[SSGUID]],PIs[SSGUID],0),18)),INDEX(PIs[[Column1]:[SS]],MATCH(Checklist4810[[#This Row],[SGUID]],PIs[SGUID],0),14))","v":"10.02"},{"$f":"IF(Checklist4810[[#This Row],[SGUID]]=\"\",IF(Checklist4810[[#This Row],[SSGUID]]=\"\",IF(Checklist4810[[#This Row],[PIGUID]]=\"\",\"\",INDEX(PIs[[Column1]:[SS]],MATCH(Checklist4810[[#This Row],[PIGUID]],PIs[GUID],0),4)),INDEX(PIs[[Column1]:[Ssbody]],MATCH(Checklist4810[[#This Row],[SSGUID]],PIs[SSGUID],0),19)),INDEX(PIs[[Column1]:[SS]],MATCH(Checklist4810[[#This Row],[SGUID]],PIs[SGUID],0),15))","v":"The producer verifies and keeps records with the full name, name of parents, and date of birth of all children at the production sites who are below the age of completion of compulsory schooling. "},{"$f":"IF(Checklist4810[[#This Row],[SGUID]]=\"\",IF(Checklist4810[[#This Row],[SSGUID]]=\"\",INDEX(PIs[[Column1]:[SS]],MATCH(Checklist4810[[#This Row],[PIGUID]],PIs[GUID],0),6),\"\"),\"\")","v":"The term “verifies and keeps records” requires that the producer shall have a verification process or method (e.g., checking worker ID, working permit, working registration card, trade union membership card, etc., and keeping a copy on file) to verify the information. This shall be applicable to family farms accordingly. "},{"$f":"IF(Checklist4810[[#This Row],[SSGUID]]=\"\",IF(Checklist4810[[#This Row],[PIGUID]]=\"\",\"\",INDEX(PIs[[Column1]:[SS]],MATCH(Checklist4810[[#This Row],[PIGUID]],PIs[GUID],0),8)),\"\")","v":"Minor Must"},null,null,{"$f":"IF(Checklist4810[[#This Row],[ifna]]=\"NA\",\"\",IF(Checklist4810[[#This Row],[RelatedPQ]]=0,\"\",IF(Checklist4810[[#This Row],[RelatedPQ]]=\"\",\"\",IF((INDEX(S2PQ_relational[],MATCH(Checklist4810[[#This Row],[PIGUID&NO]],S2PQ_relational[PIGUID & \"NO\"],0),1))=Checklist4810[[#This Row],[PIGUID]],\"Not applicable\",\"\"))))","v":""},{"$f":"IF(Checklist4810[[#This Row],[N/A]]=\"Not Applicable\",INDEX(S2PQ[[Step 2  questions]:[Justification]],MATCH(Checklist4810[[#This Row],[RelatedPQ]],S2PQ[S2PQGUID],0),3),\"\")","v":""}]
[{"$nulls":3},{"$f":"IF(Checklist4810[[#This Row],[SGUID]]=\"\",IF(Checklist4810[[#This Row],[SSGUID]]=\"\",0,1),1)","v":0},"7bILznBt63q1KynGvuuyg3",{"$f":"_xlfn.IFNA(Checklist4810[[#This Row],[RelatedPQ]],\"NA\")","v":"NA"},{"$f":"IF(Checklist4810[[#This Row],[PIGUID]]=\"\",\"\",INDEX(S2PQ_relational[],MATCH(Checklist4810[[#This Row],[PIGUID&NO]],S2PQ_relational[PIGUID & \"NO\"],0),2))","v":{"$error":"#N/A"}},{"$f":"Checklist4810[[#This Row],[PIGUID]]&\"NO\"","v":"7bILznBt63q1KynGvuuyg3NO"},{"$f":"IF(Checklist4810[[#This Row],[PIGUID]]=\"\",\"\",INDEX(PIs[NA Exempt],MATCH(Checklist4810[[#This Row],[PIGUID]],PIs[GUID],0),1))","v":false},{"$f":"IF(Checklist4810[[#This Row],[SGUID]]=\"\",IF(Checklist4810[[#This Row],[SSGUID]]=\"\",IF(Checklist4810[[#This Row],[PIGUID]]=\"\",\"\",INDEX(PIs[[Column1]:[SS]],MATCH(Checklist4810[[#This Row],[PIGUID]],PIs[GUID],0),2)),INDEX(PIs[[Column1]:[SS]],MATCH(Checklist4810[[#This Row],[SSGUID]],PIs[SSGUID],0),18)),INDEX(PIs[[Column1]:[SS]],MATCH(Checklist4810[[#This Row],[SGUID]],PIs[SGUID],0),14))","v":"10.03"},{"$f":"IF(Checklist4810[[#This Row],[SGUID]]=\"\",IF(Checklist4810[[#This Row],[SSGUID]]=\"\",IF(Checklist4810[[#This Row],[PIGUID]]=\"\",\"\",INDEX(PIs[[Column1]:[SS]],MATCH(Checklist4810[[#This Row],[PIGUID]],PIs[GUID],0),4)),INDEX(PIs[[Column1]:[Ssbody]],MATCH(Checklist4810[[#This Row],[SSGUID]],PIs[SSGUID],0),19)),INDEX(PIs[[Column1]:[SS]],MATCH(Checklist4810[[#This Row],[SGUID]],PIs[SGUID],0),15))","v":"If access to a school is not possible, the producer facilitates transport for children below the age of completion of compulsory schooling. "},{"$f":"IF(Checklist4810[[#This Row],[SGUID]]=\"\",IF(Checklist4810[[#This Row],[SSGUID]]=\"\",INDEX(PIs[[Column1]:[SS]],MATCH(Checklist4810[[#This Row],[PIGUID]],PIs[GUID],0),6),\"\"),\"\")","v":"The term “access to a school is not possible” shall cover situations in which children have no possibility to enroll in and cannot attend school (e.g., school is not reachable by walking an age-appropriate distance without compromising the children’ health or safety, the school route is not safe, etc.).\nThe term “facilitates transport” shall require the producer to request public transport from local authorities, provide private transportation, or subsidize transportation as necessary to ensure that children can easily get to school. This shall be applicable to family farms accordingly. For family farms without hired workers, family income limitations may be considered by the assessor when assessing compliance with these criteria."},{"$f":"IF(Checklist4810[[#This Row],[SSGUID]]=\"\",IF(Checklist4810[[#This Row],[PIGUID]]=\"\",\"\",INDEX(PIs[[Column1]:[SS]],MATCH(Checklist4810[[#This Row],[PIGUID]],PIs[GUID],0),8)),\"\")","v":"Major Must"},null,null,{"$f":"IF(Checklist4810[[#This Row],[ifna]]=\"NA\",\"\",IF(Checklist4810[[#This Row],[RelatedPQ]]=0,\"\",IF(Checklist4810[[#This Row],[RelatedPQ]]=\"\",\"\",IF((INDEX(S2PQ_relational[],MATCH(Checklist4810[[#This Row],[PIGUID&NO]],S2PQ_relational[PIGUID & \"NO\"],0),1))=Checklist4810[[#This Row],[PIGUID]],\"Not applicable\",\"\"))))","v":""},{"$f":"IF(Checklist4810[[#This Row],[N/A]]=\"Not Applicable\",INDEX(S2PQ[[Step 2  questions]:[Justification]],MATCH(Checklist4810[[#This Row],[RelatedPQ]],S2PQ[S2PQGUID],0),3),\"\")","v":""}]
[{"$nulls":3},{"$f":"IF(Checklist4810[[#This Row],[SGUID]]=\"\",IF(Checklist4810[[#This Row],[SSGUID]]=\"\",0,1),1)","v":0},"1yYGn2OV22MAusoIFctqCZ",{"$f":"_xlfn.IFNA(Checklist4810[[#This Row],[RelatedPQ]],\"NA\")","v":"NA"},{"$f":"IF(Checklist4810[[#This Row],[PIGUID]]=\"\",\"\",INDEX(S2PQ_relational[],MATCH(Checklist4810[[#This Row],[PIGUID&NO]],S2PQ_relational[PIGUID & \"NO\"],0),2))","v":{"$error":"#N/A"}},{"$f":"Checklist4810[[#This Row],[PIGUID]]&\"NO\"","v":"1yYGn2OV22MAusoIFctqCZNO"},{"$f":"IF(Checklist4810[[#This Row],[PIGUID]]=\"\",\"\",INDEX(PIs[NA Exempt],MATCH(Checklist4810[[#This Row],[PIGUID]],PIs[GUID],0),1))","v":false},{"$f":"IF(Checklist4810[[#This Row],[SGUID]]=\"\",IF(Checklist4810[[#This Row],[SSGUID]]=\"\",IF(Checklist4810[[#This Row],[PIGUID]]=\"\",\"\",INDEX(PIs[[Column1]:[SS]],MATCH(Checklist4810[[#This Row],[PIGUID]],PIs[GUID],0),2)),INDEX(PIs[[Column1]:[SS]],MATCH(Checklist4810[[#This Row],[SSGUID]],PIs[SSGUID],0),18)),INDEX(PIs[[Column1]:[SS]],MATCH(Checklist4810[[#This Row],[SGUID]],PIs[SGUID],0),14))","v":"10.04"},{"$f":"IF(Checklist4810[[#This Row],[SGUID]]=\"\",IF(Checklist4810[[#This Row],[SSGUID]]=\"\",IF(Checklist4810[[#This Row],[PIGUID]]=\"\",\"\",INDEX(PIs[[Column1]:[SS]],MATCH(Checklist4810[[#This Row],[PIGUID]],PIs[GUID],0),4)),INDEX(PIs[[Column1]:[Ssbody]],MATCH(Checklist4810[[#This Row],[SSGUID]],PIs[SSGUID],0),19)),INDEX(PIs[[Column1]:[SS]],MATCH(Checklist4810[[#This Row],[SGUID]],PIs[SGUID],0),15))","v":"If schools are not available for children living and/or employed on the production sites who are below the age of compulsory school completion, the producer facilitates on-site schooling."},{"$f":"IF(Checklist4810[[#This Row],[SGUID]]=\"\",IF(Checklist4810[[#This Row],[SSGUID]]=\"\",INDEX(PIs[[Column1]:[SS]],MATCH(Checklist4810[[#This Row],[PIGUID]],PIs[GUID],0),6),\"\"),\"\")","v":"The term “facilitates on-site schooling” shall include, e.g., requests to local authorities for teachers to come onto the production site, providing possibilities for teachers to come onto the production site, subsidizing teachers to come onto the production site, etc. This shall be applicable to family farms accordingly.\n"},{"$f":"IF(Checklist4810[[#This Row],[SSGUID]]=\"\",IF(Checklist4810[[#This Row],[PIGUID]]=\"\",\"\",INDEX(PIs[[Column1]:[SS]],MATCH(Checklist4810[[#This Row],[PIGUID]],PIs[GUID],0),8)),\"\")","v":"Major Must"},null,null,{"$f":"IF(Checklist4810[[#This Row],[ifna]]=\"NA\",\"\",IF(Checklist4810[[#This Row],[RelatedPQ]]=0,\"\",IF(Checklist4810[[#This Row],[RelatedPQ]]=\"\",\"\",IF((INDEX(S2PQ_relational[],MATCH(Checklist4810[[#This Row],[PIGUID&NO]],S2PQ_relational[PIGUID & \"NO\"],0),1))=Checklist4810[[#This Row],[PIGUID]],\"Not applicable\",\"\"))))","v":""},{"$f":"IF(Checklist4810[[#This Row],[N/A]]=\"Not Applicable\",INDEX(S2PQ[[Step 2  questions]:[Justification]],MATCH(Checklist4810[[#This Row],[RelatedPQ]],S2PQ[S2PQGUID],0),3),\"\")","v":""}]
[null,"3J24Glrer1437lwsauUMDz",null,{"$f":"IF(Checklist4810[[#This Row],[SGUID]]=\"\",IF(Checklist4810[[#This Row],[SSGUID]]=\"\",0,1),1)","v":1},null,{"$f":"_xlfn.IFNA(Checklist4810[[#This Row],[RelatedPQ]],\"NA\")","v":""},{"$f":"IF(Checklist4810[[#This Row],[PIGUID]]=\"\",\"\",INDEX(S2PQ_relational[],MATCH(Checklist4810[[#This Row],[PIGUID&NO]],S2PQ_relational[PIGUID & \"NO\"],0),2))","v":""},{"$f":"Checklist4810[[#This Row],[PIGUID]]&\"NO\"","v":"NO"},{"$f":"IF(Checklist4810[[#This Row],[PIGUID]]=\"\",\"\",INDEX(PIs[NA Exempt],MATCH(Checklist4810[[#This Row],[PIGUID]],PIs[GUID],0),1))","v":""},{"$f":"IF(Checklist4810[[#This Row],[SGUID]]=\"\",IF(Checklist4810[[#This Row],[SSGUID]]=\"\",IF(Checklist4810[[#This Row],[PIGUID]]=\"\",\"\",INDEX(PIs[[Column1]:[SS]],MATCH(Checklist4810[[#This Row],[PIGUID]],PIs[GUID],0),2)),INDEX(PIs[[Column1]:[SS]],MATCH(Checklist4810[[#This Row],[SSGUID]],PIs[SSGUID],0),18)),INDEX(PIs[[Column1]:[SS]],MATCH(Checklist4810[[#This Row],[SGUID]],PIs[SGUID],0),14))","v":"TIME RECORDING SYSTEMS"},{"$f":"IF(Checklist4810[[#This Row],[SGUID]]=\"\",IF(Checklist4810[[#This Row],[SSGUID]]=\"\",IF(Checklist4810[[#This Row],[PIGUID]]=\"\",\"\",INDEX(PIs[[Column1]:[SS]],MATCH(Checklist4810[[#This Row],[PIGUID]],PIs[GUID],0),4)),INDEX(PIs[[Column1]:[Ssbody]],MATCH(Checklist4810[[#This Row],[SSGUID]],PIs[SSGUID],0),19)),INDEX(PIs[[Column1]:[SS]],MATCH(Checklist4810[[#This Row],[SGUID]],PIs[SGUID],0),15))","v":"-"},{"$f":"IF(Checklist4810[[#This Row],[SGUID]]=\"\",IF(Checklist4810[[#This Row],[SSGUID]]=\"\",INDEX(PIs[[Column1]:[SS]],MATCH(Checklist4810[[#This Row],[PIGUID]],PIs[GUID],0),6),\"\"),\"\")","v":""},{"$f":"IF(Checklist4810[[#This Row],[SSGUID]]=\"\",IF(Checklist4810[[#This Row],[PIGUID]]=\"\",\"\",INDEX(PIs[[Column1]:[SS]],MATCH(Checklist4810[[#This Row],[PIGUID]],PIs[GUID],0),8)),\"\")","v":""},null,null,{"$f":"IF(Checklist4810[[#This Row],[ifna]]=\"NA\",\"\",IF(Checklist4810[[#This Row],[RelatedPQ]]=0,\"\",IF(Checklist4810[[#This Row],[RelatedPQ]]=\"\",\"\",IF((INDEX(S2PQ_relational[],MATCH(Checklist4810[[#This Row],[PIGUID&NO]],S2PQ_relational[PIGUID & \"NO\"],0),1))=Checklist4810[[#This Row],[PIGUID]],\"Not applicable\",\"\"))))","v":""},{"$f":"IF(Checklist4810[[#This Row],[N/A]]=\"Not Applicable\",INDEX(S2PQ[[Step 2  questions]:[Justification]],MATCH(Checklist4810[[#This Row],[RelatedPQ]],S2PQ[S2PQGUID],0),3),\"\")","v":""}]
[null,null,"5TvyR0UgB0EOmnMkFaZftX",{"$f":"IF(Checklist4810[[#This Row],[SGUID]]=\"\",IF(Checklist4810[[#This Row],[SSGUID]]=\"\",0,1),1)","v":1},null,{"$f":"_xlfn.IFNA(Checklist4810[[#This Row],[RelatedPQ]],\"NA\")","v":""},{"$f":"IF(Checklist4810[[#This Row],[PIGUID]]=\"\",\"\",INDEX(S2PQ_relational[],MATCH(Checklist4810[[#This Row],[PIGUID&NO]],S2PQ_relational[PIGUID & \"NO\"],0),2))","v":""},{"$f":"Checklist4810[[#This Row],[PIGUID]]&\"NO\"","v":"NO"},{"$f":"IF(Checklist4810[[#This Row],[PIGUID]]=\"\",\"\",INDEX(PIs[NA Exempt],MATCH(Checklist4810[[#This Row],[PIGUID]],PIs[GUID],0),1))","v":""},{"$f":"IF(Checklist4810[[#This Row],[SGUID]]=\"\",IF(Checklist4810[[#This Row],[SSGUID]]=\"\",IF(Checklist4810[[#This Row],[PIGUID]]=\"\",\"\",INDEX(PIs[[Column1]:[SS]],MATCH(Checklist4810[[#This Row],[PIGUID]],PIs[GUID],0),2)),INDEX(PIs[[Column1]:[SS]],MATCH(Checklist4810[[#This Row],[SSGUID]],PIs[SSGUID],0),18)),INDEX(PIs[[Column1]:[SS]],MATCH(Checklist4810[[#This Row],[SGUID]],PIs[SGUID],0),14))","v":"-"},{"$f":"IF(Checklist4810[[#This Row],[SGUID]]=\"\",IF(Checklist4810[[#This Row],[SSGUID]]=\"\",IF(Checklist4810[[#This Row],[PIGUID]]=\"\",\"\",INDEX(PIs[[Column1]:[SS]],MATCH(Checklist4810[[#This Row],[PIGUID]],PIs[GUID],0),4)),INDEX(PIs[[Column1]:[Ssbody]],MATCH(Checklist4810[[#This Row],[SSGUID]],PIs[SSGUID],0),19)),INDEX(PIs[[Column1]:[SS]],MATCH(Checklist4810[[#This Row],[SGUID]],PIs[SGUID],0),15))","v":"-"},{"$f":"IF(Checklist4810[[#This Row],[SGUID]]=\"\",IF(Checklist4810[[#This Row],[SSGUID]]=\"\",INDEX(PIs[[Column1]:[SS]],MATCH(Checklist4810[[#This Row],[PIGUID]],PIs[GUID],0),6),\"\"),\"\")","v":""},{"$f":"IF(Checklist4810[[#This Row],[SSGUID]]=\"\",IF(Checklist4810[[#This Row],[PIGUID]]=\"\",\"\",INDEX(PIs[[Column1]:[SS]],MATCH(Checklist4810[[#This Row],[PIGUID]],PIs[GUID],0),8)),\"\")","v":""},null,null,{"$f":"IF(Checklist4810[[#This Row],[ifna]]=\"NA\",\"\",IF(Checklist4810[[#This Row],[RelatedPQ]]=0,\"\",IF(Checklist4810[[#This Row],[RelatedPQ]]=\"\",\"\",IF((INDEX(S2PQ_relational[],MATCH(Checklist4810[[#This Row],[PIGUID&NO]],S2PQ_relational[PIGUID & \"NO\"],0),1))=Checklist4810[[#This Row],[PIGUID]],\"Not applicable\",\"\"))))","v":""},{"$f":"IF(Checklist4810[[#This Row],[N/A]]=\"Not Applicable\",INDEX(S2PQ[[Step 2  questions]:[Justification]],MATCH(Checklist4810[[#This Row],[RelatedPQ]],S2PQ[S2PQGUID],0),3),\"\")","v":""}]
[{"$nulls":3},{"$f":"IF(Checklist4810[[#This Row],[SGUID]]=\"\",IF(Checklist4810[[#This Row],[SSGUID]]=\"\",0,1),1)","v":0},"4ZnVuDviK4rbgaIDxYJc1E",{"$f":"_xlfn.IFNA(Checklist4810[[#This Row],[RelatedPQ]],\"NA\")","v":"NA"},{"$f":"IF(Checklist4810[[#This Row],[PIGUID]]=\"\",\"\",INDEX(S2PQ_relational[],MATCH(Checklist4810[[#This Row],[PIGUID&NO]],S2PQ_relational[PIGUID & \"NO\"],0),2))","v":{"$error":"#N/A"}},{"$f":"Checklist4810[[#This Row],[PIGUID]]&\"NO\"","v":"4ZnVuDviK4rbgaIDxYJc1ENO"},{"$f":"IF(Checklist4810[[#This Row],[PIGUID]]=\"\",\"\",INDEX(PIs[NA Exempt],MATCH(Checklist4810[[#This Row],[PIGUID]],PIs[GUID],0),1))","v":false},{"$f":"IF(Checklist4810[[#This Row],[SGUID]]=\"\",IF(Checklist4810[[#This Row],[SSGUID]]=\"\",IF(Checklist4810[[#This Row],[PIGUID]]=\"\",\"\",INDEX(PIs[[Column1]:[SS]],MATCH(Checklist4810[[#This Row],[PIGUID]],PIs[GUID],0),2)),INDEX(PIs[[Column1]:[SS]],MATCH(Checklist4810[[#This Row],[SSGUID]],PIs[SSGUID],0),18)),INDEX(PIs[[Column1]:[SS]],MATCH(Checklist4810[[#This Row],[SGUID]],PIs[SGUID],0),14))","v":"11.01"},{"$f":"IF(Checklist4810[[#This Row],[SGUID]]=\"\",IF(Checklist4810[[#This Row],[SSGUID]]=\"\",IF(Checklist4810[[#This Row],[PIGUID]]=\"\",\"\",INDEX(PIs[[Column1]:[SS]],MATCH(Checklist4810[[#This Row],[PIGUID]],PIs[GUID],0),4)),INDEX(PIs[[Column1]:[Ssbody]],MATCH(Checklist4810[[#This Row],[SSGUID]],PIs[SSGUID],0),19)),INDEX(PIs[[Column1]:[SS]],MATCH(Checklist4810[[#This Row],[SGUID]],PIs[SGUID],0),15))","v":"A time recording system is in place and suitable for the type and the size of the producing/handling site. "},{"$f":"IF(Checklist4810[[#This Row],[SGUID]]=\"\",IF(Checklist4810[[#This Row],[SSGUID]]=\"\",INDEX(PIs[[Column1]:[SS]],MATCH(Checklist4810[[#This Row],[PIGUID]],PIs[GUID],0),6),\"\"),\"\")","v":"The system shall provide management and all workers with information on the number of hours worked. For each worker, the system shall provide the exact in and out times for each day for the easy verification and confirmation by the workers. Examples of suitable systems include a time record sheet, a check clock, electronic cards, etc.\nFor subcontracted labor, where the system is the responsibility of the direct employer, a sample of the record shall be provided. If the producer is responsible, the assessor shall check the producer system. For family farms, the system indicates at least the name, time in and out of work of the family member per day."},{"$f":"IF(Checklist4810[[#This Row],[SSGUID]]=\"\",IF(Checklist4810[[#This Row],[PIGUID]]=\"\",\"\",INDEX(PIs[[Column1]:[SS]],MATCH(Checklist4810[[#This Row],[PIGUID]],PIs[GUID],0),8)),\"\")","v":"Major Must"},null,null,{"$f":"IF(Checklist4810[[#This Row],[ifna]]=\"NA\",\"\",IF(Checklist4810[[#This Row],[RelatedPQ]]=0,\"\",IF(Checklist4810[[#This Row],[RelatedPQ]]=\"\",\"\",IF((INDEX(S2PQ_relational[],MATCH(Checklist4810[[#This Row],[PIGUID&NO]],S2PQ_relational[PIGUID & \"NO\"],0),1))=Checklist4810[[#This Row],[PIGUID]],\"Not applicable\",\"\"))))","v":""},{"$f":"IF(Checklist4810[[#This Row],[N/A]]=\"Not Applicable\",INDEX(S2PQ[[Step 2  questions]:[Justification]],MATCH(Checklist4810[[#This Row],[RelatedPQ]],S2PQ[S2PQGUID],0),3),\"\")","v":""}]
[{"$nulls":3},{"$f":"IF(Checklist4810[[#This Row],[SGUID]]=\"\",IF(Checklist4810[[#This Row],[SSGUID]]=\"\",0,1),1)","v":0},"7Lm3bvisDzLLgtTWDSeVP4",{"$f":"_xlfn.IFNA(Checklist4810[[#This Row],[RelatedPQ]],\"NA\")","v":"NA"},{"$f":"IF(Checklist4810[[#This Row],[PIGUID]]=\"\",\"\",INDEX(S2PQ_relational[],MATCH(Checklist4810[[#This Row],[PIGUID&NO]],S2PQ_relational[PIGUID & \"NO\"],0),2))","v":{"$error":"#N/A"}},{"$f":"Checklist4810[[#This Row],[PIGUID]]&\"NO\"","v":"7Lm3bvisDzLLgtTWDSeVP4NO"},{"$f":"IF(Checklist4810[[#This Row],[PIGUID]]=\"\",\"\",INDEX(PIs[NA Exempt],MATCH(Checklist4810[[#This Row],[PIGUID]],PIs[GUID],0),1))","v":false},{"$f":"IF(Checklist4810[[#This Row],[SGUID]]=\"\",IF(Checklist4810[[#This Row],[SSGUID]]=\"\",IF(Checklist4810[[#This Row],[PIGUID]]=\"\",\"\",INDEX(PIs[[Column1]:[SS]],MATCH(Checklist4810[[#This Row],[PIGUID]],PIs[GUID],0),2)),INDEX(PIs[[Column1]:[SS]],MATCH(Checklist4810[[#This Row],[SSGUID]],PIs[SSGUID],0),18)),INDEX(PIs[[Column1]:[SS]],MATCH(Checklist4810[[#This Row],[SGUID]],PIs[SGUID],0),14))","v":"11.02"},{"$f":"IF(Checklist4810[[#This Row],[SGUID]]=\"\",IF(Checklist4810[[#This Row],[SSGUID]]=\"\",IF(Checklist4810[[#This Row],[PIGUID]]=\"\",\"\",INDEX(PIs[[Column1]:[SS]],MATCH(Checklist4810[[#This Row],[PIGUID]],PIs[GUID],0),4)),INDEX(PIs[[Column1]:[Ssbody]],MATCH(Checklist4810[[#This Row],[SSGUID]],PIs[SSGUID],0),19)),INDEX(PIs[[Column1]:[SS]],MATCH(Checklist4810[[#This Row],[SGUID]],PIs[SGUID],0),15))","v":"The system provides a record of the regular working hours and overtime hours for each worker."},{"$f":"IF(Checklist4810[[#This Row],[SGUID]]=\"\",IF(Checklist4810[[#This Row],[SSGUID]]=\"\",INDEX(PIs[[Column1]:[SS]],MATCH(Checklist4810[[#This Row],[PIGUID]],PIs[GUID],0),6),\"\"),\"\")","v":"The record shall include a description of the calculation of working hours (i.e., new forms of shift work, average number of hours worked, flex-time arrangements, compressed work weeks, on-call work, along with extended or even 24/7 availability shall be reflected in the producer’s time recording system).\nFor subcontracted labor, where the system is the responsibility of the direct employer, a sample of the record shall be provided. If the producer is responsible, the assessor shall check the producer system.\nFor family farms, they shall document at least the working times of the family members per day."},{"$f":"IF(Checklist4810[[#This Row],[SSGUID]]=\"\",IF(Checklist4810[[#This Row],[PIGUID]]=\"\",\"\",INDEX(PIs[[Column1]:[SS]],MATCH(Checklist4810[[#This Row],[PIGUID]],PIs[GUID],0),8)),\"\")","v":"Major Must"},null,null,{"$f":"IF(Checklist4810[[#This Row],[ifna]]=\"NA\",\"\",IF(Checklist4810[[#This Row],[RelatedPQ]]=0,\"\",IF(Checklist4810[[#This Row],[RelatedPQ]]=\"\",\"\",IF((INDEX(S2PQ_relational[],MATCH(Checklist4810[[#This Row],[PIGUID&NO]],S2PQ_relational[PIGUID & \"NO\"],0),1))=Checklist4810[[#This Row],[PIGUID]],\"Not applicable\",\"\"))))","v":""},{"$f":"IF(Checklist4810[[#This Row],[N/A]]=\"Not Applicable\",INDEX(S2PQ[[Step 2  questions]:[Justification]],MATCH(Checklist4810[[#This Row],[RelatedPQ]],S2PQ[S2PQGUID],0),3),\"\")","v":""}]
[{"$nulls":3},{"$f":"IF(Checklist4810[[#This Row],[SGUID]]=\"\",IF(Checklist4810[[#This Row],[SSGUID]]=\"\",0,1),1)","v":0},"1L3M3Av0uLACImNgJFAzjv",{"$f":"_xlfn.IFNA(Checklist4810[[#This Row],[RelatedPQ]],\"NA\")","v":"NA"},{"$f":"IF(Checklist4810[[#This Row],[PIGUID]]=\"\",\"\",INDEX(S2PQ_relational[],MATCH(Checklist4810[[#This Row],[PIGUID&NO]],S2PQ_relational[PIGUID & \"NO\"],0),2))","v":{"$error":"#N/A"}},{"$f":"Checklist4810[[#This Row],[PIGUID]]&\"NO\"","v":"1L3M3Av0uLACImNgJFAzjvNO"},{"$f":"IF(Checklist4810[[#This Row],[PIGUID]]=\"\",\"\",INDEX(PIs[NA Exempt],MATCH(Checklist4810[[#This Row],[PIGUID]],PIs[GUID],0),1))","v":false},{"$f":"IF(Checklist4810[[#This Row],[SGUID]]=\"\",IF(Checklist4810[[#This Row],[SSGUID]]=\"\",IF(Checklist4810[[#This Row],[PIGUID]]=\"\",\"\",INDEX(PIs[[Column1]:[SS]],MATCH(Checklist4810[[#This Row],[PIGUID]],PIs[GUID],0),2)),INDEX(PIs[[Column1]:[SS]],MATCH(Checklist4810[[#This Row],[SSGUID]],PIs[SSGUID],0),18)),INDEX(PIs[[Column1]:[SS]],MATCH(Checklist4810[[#This Row],[SGUID]],PIs[SGUID],0),14))","v":"11.03"},{"$f":"IF(Checklist4810[[#This Row],[SGUID]]=\"\",IF(Checklist4810[[#This Row],[SSGUID]]=\"\",IF(Checklist4810[[#This Row],[PIGUID]]=\"\",\"\",INDEX(PIs[[Column1]:[SS]],MATCH(Checklist4810[[#This Row],[PIGUID]],PIs[GUID],0),4)),INDEX(PIs[[Column1]:[Ssbody]],MATCH(Checklist4810[[#This Row],[SSGUID]],PIs[SSGUID],0),19)),INDEX(PIs[[Column1]:[SS]],MATCH(Checklist4810[[#This Row],[SGUID]],PIs[SGUID],0),15))","v":"The system provides a record of the effective daily breaks, weekly breaks, and holidays for each worker."},{"$f":"IF(Checklist4810[[#This Row],[SGUID]]=\"\",IF(Checklist4810[[#This Row],[SSGUID]]=\"\",INDEX(PIs[[Column1]:[SS]],MATCH(Checklist4810[[#This Row],[PIGUID]],PIs[GUID],0),6),\"\"),\"\")","v":"In countries where the legislation and/or collective bargaining agreements allow for flexible working hours, compensation of break hours, schedule changes due to weather, day accumulation or compensation, and other similar forms of wage calculation, the system shall provide a record of how these forms of calculation are applied.\nFor subcontracted labor, where the system is the responsibility of the direct employer, a sample of the record shall be provided. If the producer is responsible, the assessor shall check the producer system.\nFor family farms, they shall indicate at least the time of daily breaks and days of weekly breaks, if any.  "},{"$f":"IF(Checklist4810[[#This Row],[SSGUID]]=\"\",IF(Checklist4810[[#This Row],[PIGUID]]=\"\",\"\",INDEX(PIs[[Column1]:[SS]],MATCH(Checklist4810[[#This Row],[PIGUID]],PIs[GUID],0),8)),\"\")","v":"Major Must"},null,null,{"$f":"IF(Checklist4810[[#This Row],[ifna]]=\"NA\",\"\",IF(Checklist4810[[#This Row],[RelatedPQ]]=0,\"\",IF(Checklist4810[[#This Row],[RelatedPQ]]=\"\",\"\",IF((INDEX(S2PQ_relational[],MATCH(Checklist4810[[#This Row],[PIGUID&NO]],S2PQ_relational[PIGUID & \"NO\"],0),1))=Checklist4810[[#This Row],[PIGUID]],\"Not applicable\",\"\"))))","v":""},{"$f":"IF(Checklist4810[[#This Row],[N/A]]=\"Not Applicable\",INDEX(S2PQ[[Step 2  questions]:[Justification]],MATCH(Checklist4810[[#This Row],[RelatedPQ]],S2PQ[S2PQGUID],0),3),\"\")","v":""}]
[{"$nulls":3},{"$f":"IF(Checklist4810[[#This Row],[SGUID]]=\"\",IF(Checklist4810[[#This Row],[SSGUID]]=\"\",0,1),1)","v":0},"5ad0ksbR0rX5JdFNTO3BmZ",{"$f":"_xlfn.IFNA(Checklist4810[[#This Row],[RelatedPQ]],\"NA\")","v":"NA"},{"$f":"IF(Checklist4810[[#This Row],[PIGUID]]=\"\",\"\",INDEX(S2PQ_relational[],MATCH(Checklist4810[[#This Row],[PIGUID&NO]],S2PQ_relational[PIGUID & \"NO\"],0),2))","v":{"$error":"#N/A"}},{"$f":"Checklist4810[[#This Row],[PIGUID]]&\"NO\"","v":"5ad0ksbR0rX5JdFNTO3BmZNO"},{"$f":"IF(Checklist4810[[#This Row],[PIGUID]]=\"\",\"\",INDEX(PIs[NA Exempt],MATCH(Checklist4810[[#This Row],[PIGUID]],PIs[GUID],0),1))","v":false},{"$f":"IF(Checklist4810[[#This Row],[SGUID]]=\"\",IF(Checklist4810[[#This Row],[SSGUID]]=\"\",IF(Checklist4810[[#This Row],[PIGUID]]=\"\",\"\",INDEX(PIs[[Column1]:[SS]],MATCH(Checklist4810[[#This Row],[PIGUID]],PIs[GUID],0),2)),INDEX(PIs[[Column1]:[SS]],MATCH(Checklist4810[[#This Row],[SSGUID]],PIs[SSGUID],0),18)),INDEX(PIs[[Column1]:[SS]],MATCH(Checklist4810[[#This Row],[SGUID]],PIs[SGUID],0),14))","v":"11.04"},{"$f":"IF(Checklist4810[[#This Row],[SGUID]]=\"\",IF(Checklist4810[[#This Row],[SSGUID]]=\"\",IF(Checklist4810[[#This Row],[PIGUID]]=\"\",\"\",INDEX(PIs[[Column1]:[SS]],MATCH(Checklist4810[[#This Row],[PIGUID]],PIs[GUID],0),4)),INDEX(PIs[[Column1]:[Ssbody]],MATCH(Checklist4810[[#This Row],[SSGUID]],PIs[SSGUID],0),19)),INDEX(PIs[[Column1]:[SS]],MATCH(Checklist4810[[#This Row],[SGUID]],PIs[SGUID],0),15))","v":"All workers are instructed on the time recording system and on checking the system."},{"$f":"IF(Checklist4810[[#This Row],[SGUID]]=\"\",IF(Checklist4810[[#This Row],[SSGUID]]=\"\",INDEX(PIs[[Column1]:[SS]],MATCH(Checklist4810[[#This Row],[PIGUID]],PIs[GUID],0),6),\"\"),\"\")","v":"The term “instructed” requires that the producer shall communicate to the workers how and where to check the information (e.g., providing information in a meeting, communicating it when hiring combined with signs or board announcements at payday schedule, maintaining a daily signed record sheet, checking clock report, providing a summary with code of each worker to maintain confidentiality, etc.). This information shall be explained to all new workers. For very short-term workers, this information shall be provided in the first meeting of working instructions.\n"},{"$f":"IF(Checklist4810[[#This Row],[SSGUID]]=\"\",IF(Checklist4810[[#This Row],[PIGUID]]=\"\",\"\",INDEX(PIs[[Column1]:[SS]],MATCH(Checklist4810[[#This Row],[PIGUID]],PIs[GUID],0),8)),\"\")","v":"Minor Must"},null,null,{"$f":"IF(Checklist4810[[#This Row],[ifna]]=\"NA\",\"\",IF(Checklist4810[[#This Row],[RelatedPQ]]=0,\"\",IF(Checklist4810[[#This Row],[RelatedPQ]]=\"\",\"\",IF((INDEX(S2PQ_relational[],MATCH(Checklist4810[[#This Row],[PIGUID&NO]],S2PQ_relational[PIGUID & \"NO\"],0),1))=Checklist4810[[#This Row],[PIGUID]],\"Not applicable\",\"\"))))","v":""},{"$f":"IF(Checklist4810[[#This Row],[N/A]]=\"Not Applicable\",INDEX(S2PQ[[Step 2  questions]:[Justification]],MATCH(Checklist4810[[#This Row],[RelatedPQ]],S2PQ[S2PQGUID],0),3),\"\")","v":""}]
[{"$nulls":3},{"$f":"IF(Checklist4810[[#This Row],[SGUID]]=\"\",IF(Checklist4810[[#This Row],[SSGUID]]=\"\",0,1),1)","v":0},"3oyPXv9JByXBhykT7U5La4",{"$f":"_xlfn.IFNA(Checklist4810[[#This Row],[RelatedPQ]],\"NA\")","v":"NA"},{"$f":"IF(Checklist4810[[#This Row],[PIGUID]]=\"\",\"\",INDEX(S2PQ_relational[],MATCH(Checklist4810[[#This Row],[PIGUID&NO]],S2PQ_relational[PIGUID & \"NO\"],0),2))","v":{"$error":"#N/A"}},{"$f":"Checklist4810[[#This Row],[PIGUID]]&\"NO\"","v":"3oyPXv9JByXBhykT7U5La4NO"},{"$f":"IF(Checklist4810[[#This Row],[PIGUID]]=\"\",\"\",INDEX(PIs[NA Exempt],MATCH(Checklist4810[[#This Row],[PIGUID]],PIs[GUID],0),1))","v":false},{"$f":"IF(Checklist4810[[#This Row],[SGUID]]=\"\",IF(Checklist4810[[#This Row],[SSGUID]]=\"\",IF(Checklist4810[[#This Row],[PIGUID]]=\"\",\"\",INDEX(PIs[[Column1]:[SS]],MATCH(Checklist4810[[#This Row],[PIGUID]],PIs[GUID],0),2)),INDEX(PIs[[Column1]:[SS]],MATCH(Checklist4810[[#This Row],[SSGUID]],PIs[SSGUID],0),18)),INDEX(PIs[[Column1]:[SS]],MATCH(Checklist4810[[#This Row],[SGUID]],PIs[SGUID],0),14))","v":"11.05"},{"$f":"IF(Checklist4810[[#This Row],[SGUID]]=\"\",IF(Checklist4810[[#This Row],[SSGUID]]=\"\",IF(Checklist4810[[#This Row],[PIGUID]]=\"\",\"\",INDEX(PIs[[Column1]:[SS]],MATCH(Checklist4810[[#This Row],[PIGUID]],PIs[GUID],0),4)),INDEX(PIs[[Column1]:[Ssbody]],MATCH(Checklist4810[[#This Row],[SSGUID]],PIs[SSGUID],0),19)),INDEX(PIs[[Column1]:[SS]],MATCH(Checklist4810[[#This Row],[SGUID]],PIs[SGUID],0),15))","v":"Each worker has access to a summary of the system records before or at the moment of wage payment in at least the worker’s working instruction language or in the predominant language(s) of the workforce."},{"$f":"IF(Checklist4810[[#This Row],[SGUID]]=\"\",IF(Checklist4810[[#This Row],[SSGUID]]=\"\",INDEX(PIs[[Column1]:[SS]],MATCH(Checklist4810[[#This Row],[PIGUID]],PIs[GUID],0),6),\"\"),\"\")","v":"The term “access” shall require that every worker has the possibility to check their record of hours before payment and the possibility to file a complaint using that information.\nThe information shall be written in such a way as to be easily understood by the workers."},{"$f":"IF(Checklist4810[[#This Row],[SSGUID]]=\"\",IF(Checklist4810[[#This Row],[PIGUID]]=\"\",\"\",INDEX(PIs[[Column1]:[SS]],MATCH(Checklist4810[[#This Row],[PIGUID]],PIs[GUID],0),8)),\"\")","v":"Minor Must"},null,null,{"$f":"IF(Checklist4810[[#This Row],[ifna]]=\"NA\",\"\",IF(Checklist4810[[#This Row],[RelatedPQ]]=0,\"\",IF(Checklist4810[[#This Row],[RelatedPQ]]=\"\",\"\",IF((INDEX(S2PQ_relational[],MATCH(Checklist4810[[#This Row],[PIGUID&NO]],S2PQ_relational[PIGUID & \"NO\"],0),1))=Checklist4810[[#This Row],[PIGUID]],\"Not applicable\",\"\"))))","v":""},{"$f":"IF(Checklist4810[[#This Row],[N/A]]=\"Not Applicable\",INDEX(S2PQ[[Step 2  questions]:[Justification]],MATCH(Checklist4810[[#This Row],[RelatedPQ]],S2PQ[S2PQGUID],0),3),\"\")","v":""}]
[null,"3REBipJjMBilm8fOUb7AAk",null,{"$f":"IF(Checklist4810[[#This Row],[SGUID]]=\"\",IF(Checklist4810[[#This Row],[SSGUID]]=\"\",0,1),1)","v":1},null,{"$f":"_xlfn.IFNA(Checklist4810[[#This Row],[RelatedPQ]],\"NA\")","v":""},{"$f":"IF(Checklist4810[[#This Row],[PIGUID]]=\"\",\"\",INDEX(S2PQ_relational[],MATCH(Checklist4810[[#This Row],[PIGUID&NO]],S2PQ_relational[PIGUID & \"NO\"],0),2))","v":""},{"$f":"Checklist4810[[#This Row],[PIGUID]]&\"NO\"","v":"NO"},{"$f":"IF(Checklist4810[[#This Row],[PIGUID]]=\"\",\"\",INDEX(PIs[NA Exempt],MATCH(Checklist4810[[#This Row],[PIGUID]],PIs[GUID],0),1))","v":""},{"$f":"IF(Checklist4810[[#This Row],[SGUID]]=\"\",IF(Checklist4810[[#This Row],[SSGUID]]=\"\",IF(Checklist4810[[#This Row],[PIGUID]]=\"\",\"\",INDEX(PIs[[Column1]:[SS]],MATCH(Checklist4810[[#This Row],[PIGUID]],PIs[GUID],0),2)),INDEX(PIs[[Column1]:[SS]],MATCH(Checklist4810[[#This Row],[SSGUID]],PIs[SSGUID],0),18)),INDEX(PIs[[Column1]:[SS]],MATCH(Checklist4810[[#This Row],[SGUID]],PIs[SGUID],0),14))","v":"WORKING HOURS"},{"$f":"IF(Checklist4810[[#This Row],[SGUID]]=\"\",IF(Checklist4810[[#This Row],[SSGUID]]=\"\",IF(Checklist4810[[#This Row],[PIGUID]]=\"\",\"\",INDEX(PIs[[Column1]:[SS]],MATCH(Checklist4810[[#This Row],[PIGUID]],PIs[GUID],0),4)),INDEX(PIs[[Column1]:[Ssbody]],MATCH(Checklist4810[[#This Row],[SSGUID]],PIs[SSGUID],0),19)),INDEX(PIs[[Column1]:[SS]],MATCH(Checklist4810[[#This Row],[SGUID]],PIs[SGUID],0),15))","v":"-"},{"$f":"IF(Checklist4810[[#This Row],[SGUID]]=\"\",IF(Checklist4810[[#This Row],[SSGUID]]=\"\",INDEX(PIs[[Column1]:[SS]],MATCH(Checklist4810[[#This Row],[PIGUID]],PIs[GUID],0),6),\"\"),\"\")","v":""},{"$f":"IF(Checklist4810[[#This Row],[SSGUID]]=\"\",IF(Checklist4810[[#This Row],[PIGUID]]=\"\",\"\",INDEX(PIs[[Column1]:[SS]],MATCH(Checklist4810[[#This Row],[PIGUID]],PIs[GUID],0),8)),\"\")","v":""},null,null,{"$f":"IF(Checklist4810[[#This Row],[ifna]]=\"NA\",\"\",IF(Checklist4810[[#This Row],[RelatedPQ]]=0,\"\",IF(Checklist4810[[#This Row],[RelatedPQ]]=\"\",\"\",IF((INDEX(S2PQ_relational[],MATCH(Checklist4810[[#This Row],[PIGUID&NO]],S2PQ_relational[PIGUID & \"NO\"],0),1))=Checklist4810[[#This Row],[PIGUID]],\"Not applicable\",\"\"))))","v":""},{"$f":"IF(Checklist4810[[#This Row],[N/A]]=\"Not Applicable\",INDEX(S2PQ[[Step 2  questions]:[Justification]],MATCH(Checklist4810[[#This Row],[RelatedPQ]],S2PQ[S2PQGUID],0),3),\"\")","v":""}]
[null,null,"5TvyR0UgB0EOmnMkFaZftX",{"$f":"IF(Checklist4810[[#This Row],[SGUID]]=\"\",IF(Checklist4810[[#This Row],[SSGUID]]=\"\",0,1),1)","v":1},null,{"$f":"_xlfn.IFNA(Checklist4810[[#This Row],[RelatedPQ]],\"NA\")","v":""},{"$f":"IF(Checklist4810[[#This Row],[PIGUID]]=\"\",\"\",INDEX(S2PQ_relational[],MATCH(Checklist4810[[#This Row],[PIGUID&NO]],S2PQ_relational[PIGUID & \"NO\"],0),2))","v":""},{"$f":"Checklist4810[[#This Row],[PIGUID]]&\"NO\"","v":"NO"},{"$f":"IF(Checklist4810[[#This Row],[PIGUID]]=\"\",\"\",INDEX(PIs[NA Exempt],MATCH(Checklist4810[[#This Row],[PIGUID]],PIs[GUID],0),1))","v":""},{"$f":"IF(Checklist4810[[#This Row],[SGUID]]=\"\",IF(Checklist4810[[#This Row],[SSGUID]]=\"\",IF(Checklist4810[[#This Row],[PIGUID]]=\"\",\"\",INDEX(PIs[[Column1]:[SS]],MATCH(Checklist4810[[#This Row],[PIGUID]],PIs[GUID],0),2)),INDEX(PIs[[Column1]:[SS]],MATCH(Checklist4810[[#This Row],[SSGUID]],PIs[SSGUID],0),18)),INDEX(PIs[[Column1]:[SS]],MATCH(Checklist4810[[#This Row],[SGUID]],PIs[SGUID],0),14))","v":"-"},{"$f":"IF(Checklist4810[[#This Row],[SGUID]]=\"\",IF(Checklist4810[[#This Row],[SSGUID]]=\"\",IF(Checklist4810[[#This Row],[PIGUID]]=\"\",\"\",INDEX(PIs[[Column1]:[SS]],MATCH(Checklist4810[[#This Row],[PIGUID]],PIs[GUID],0),4)),INDEX(PIs[[Column1]:[Ssbody]],MATCH(Checklist4810[[#This Row],[SSGUID]],PIs[SSGUID],0),19)),INDEX(PIs[[Column1]:[SS]],MATCH(Checklist4810[[#This Row],[SGUID]],PIs[SGUID],0),15))","v":"-"},{"$f":"IF(Checklist4810[[#This Row],[SGUID]]=\"\",IF(Checklist4810[[#This Row],[SSGUID]]=\"\",INDEX(PIs[[Column1]:[SS]],MATCH(Checklist4810[[#This Row],[PIGUID]],PIs[GUID],0),6),\"\"),\"\")","v":""},{"$f":"IF(Checklist4810[[#This Row],[SSGUID]]=\"\",IF(Checklist4810[[#This Row],[PIGUID]]=\"\",\"\",INDEX(PIs[[Column1]:[SS]],MATCH(Checklist4810[[#This Row],[PIGUID]],PIs[GUID],0),8)),\"\")","v":""},null,null,{"$f":"IF(Checklist4810[[#This Row],[ifna]]=\"NA\",\"\",IF(Checklist4810[[#This Row],[RelatedPQ]]=0,\"\",IF(Checklist4810[[#This Row],[RelatedPQ]]=\"\",\"\",IF((INDEX(S2PQ_relational[],MATCH(Checklist4810[[#This Row],[PIGUID&NO]],S2PQ_relational[PIGUID & \"NO\"],0),1))=Checklist4810[[#This Row],[PIGUID]],\"Not applicable\",\"\"))))","v":""},{"$f":"IF(Checklist4810[[#This Row],[N/A]]=\"Not Applicable\",INDEX(S2PQ[[Step 2  questions]:[Justification]],MATCH(Checklist4810[[#This Row],[RelatedPQ]],S2PQ[S2PQGUID],0),3),\"\")","v":""}]
[{"$nulls":3},{"$f":"IF(Checklist4810[[#This Row],[SGUID]]=\"\",IF(Checklist4810[[#This Row],[SSGUID]]=\"\",0,1),1)","v":0},"6XhgtadoxKw3XWIYF3Seuf",{"$f":"_xlfn.IFNA(Checklist4810[[#This Row],[RelatedPQ]],\"NA\")","v":"NA"},{"$f":"IF(Checklist4810[[#This Row],[PIGUID]]=\"\",\"\",INDEX(S2PQ_relational[],MATCH(Checklist4810[[#This Row],[PIGUID&NO]],S2PQ_relational[PIGUID & \"NO\"],0),2))","v":{"$error":"#N/A"}},{"$f":"Checklist4810[[#This Row],[PIGUID]]&\"NO\"","v":"6XhgtadoxKw3XWIYF3SeufNO"},{"$f":"IF(Checklist4810[[#This Row],[PIGUID]]=\"\",\"\",INDEX(PIs[NA Exempt],MATCH(Checklist4810[[#This Row],[PIGUID]],PIs[GUID],0),1))","v":false},{"$f":"IF(Checklist4810[[#This Row],[SGUID]]=\"\",IF(Checklist4810[[#This Row],[SSGUID]]=\"\",IF(Checklist4810[[#This Row],[PIGUID]]=\"\",\"\",INDEX(PIs[[Column1]:[SS]],MATCH(Checklist4810[[#This Row],[PIGUID]],PIs[GUID],0),2)),INDEX(PIs[[Column1]:[SS]],MATCH(Checklist4810[[#This Row],[SSGUID]],PIs[SSGUID],0),18)),INDEX(PIs[[Column1]:[SS]],MATCH(Checklist4810[[#This Row],[SGUID]],PIs[SGUID],0),14))","v":"12.01"},{"$f":"IF(Checklist4810[[#This Row],[SGUID]]=\"\",IF(Checklist4810[[#This Row],[SSGUID]]=\"\",IF(Checklist4810[[#This Row],[PIGUID]]=\"\",\"\",INDEX(PIs[[Column1]:[SS]],MATCH(Checklist4810[[#This Row],[PIGUID]],PIs[GUID],0),4)),INDEX(PIs[[Column1]:[Ssbody]],MATCH(Checklist4810[[#This Row],[SSGUID]],PIs[SSGUID],0),19)),INDEX(PIs[[Column1]:[SS]],MATCH(Checklist4810[[#This Row],[SGUID]],PIs[SGUID],0),15))","v":"Working hours (including overtime, night work, and rest days/breaks) with indication of peak/harvesting season are shown in the records. "},{"$f":"IF(Checklist4810[[#This Row],[SGUID]]=\"\",IF(Checklist4810[[#This Row],[SSGUID]]=\"\",INDEX(PIs[[Column1]:[SS]],MATCH(Checklist4810[[#This Row],[PIGUID]],PIs[GUID],0),6),\"\"),\"\")","v":"Records on working hours, overtime, night work instructions, and breaks shall be available.\nFor subcontracted labor, the producer shall check compliance. If non-compliance is found, the producer shall document each instance and include corrective steps taken. For family farms this shall be checked with the working conditions for children and young workers. \n"},{"$f":"IF(Checklist4810[[#This Row],[SSGUID]]=\"\",IF(Checklist4810[[#This Row],[PIGUID]]=\"\",\"\",INDEX(PIs[[Column1]:[SS]],MATCH(Checklist4810[[#This Row],[PIGUID]],PIs[GUID],0),8)),\"\")","v":"Major Must"},null,null,{"$f":"IF(Checklist4810[[#This Row],[ifna]]=\"NA\",\"\",IF(Checklist4810[[#This Row],[RelatedPQ]]=0,\"\",IF(Checklist4810[[#This Row],[RelatedPQ]]=\"\",\"\",IF((INDEX(S2PQ_relational[],MATCH(Checklist4810[[#This Row],[PIGUID&NO]],S2PQ_relational[PIGUID & \"NO\"],0),1))=Checklist4810[[#This Row],[PIGUID]],\"Not applicable\",\"\"))))","v":""},{"$f":"IF(Checklist4810[[#This Row],[N/A]]=\"Not Applicable\",INDEX(S2PQ[[Step 2  questions]:[Justification]],MATCH(Checklist4810[[#This Row],[RelatedPQ]],S2PQ[S2PQGUID],0),3),\"\")","v":""}]
[{"$nulls":3},{"$f":"IF(Checklist4810[[#This Row],[SGUID]]=\"\",IF(Checklist4810[[#This Row],[SSGUID]]=\"\",0,1),1)","v":0},"568aLgrkve2v8UDFWOTM6Q",{"$f":"_xlfn.IFNA(Checklist4810[[#This Row],[RelatedPQ]],\"NA\")","v":"NA"},{"$f":"IF(Checklist4810[[#This Row],[PIGUID]]=\"\",\"\",INDEX(S2PQ_relational[],MATCH(Checklist4810[[#This Row],[PIGUID&NO]],S2PQ_relational[PIGUID & \"NO\"],0),2))","v":{"$error":"#N/A"}},{"$f":"Checklist4810[[#This Row],[PIGUID]]&\"NO\"","v":"568aLgrkve2v8UDFWOTM6QNO"},{"$f":"IF(Checklist4810[[#This Row],[PIGUID]]=\"\",\"\",INDEX(PIs[NA Exempt],MATCH(Checklist4810[[#This Row],[PIGUID]],PIs[GUID],0),1))","v":false},{"$f":"IF(Checklist4810[[#This Row],[SGUID]]=\"\",IF(Checklist4810[[#This Row],[SSGUID]]=\"\",IF(Checklist4810[[#This Row],[PIGUID]]=\"\",\"\",INDEX(PIs[[Column1]:[SS]],MATCH(Checklist4810[[#This Row],[PIGUID]],PIs[GUID],0),2)),INDEX(PIs[[Column1]:[SS]],MATCH(Checklist4810[[#This Row],[SSGUID]],PIs[SSGUID],0),18)),INDEX(PIs[[Column1]:[SS]],MATCH(Checklist4810[[#This Row],[SGUID]],PIs[SGUID],0),14))","v":"12.02"},{"$f":"IF(Checklist4810[[#This Row],[SGUID]]=\"\",IF(Checklist4810[[#This Row],[SSGUID]]=\"\",IF(Checklist4810[[#This Row],[PIGUID]]=\"\",\"\",INDEX(PIs[[Column1]:[SS]],MATCH(Checklist4810[[#This Row],[PIGUID]],PIs[GUID],0),4)),INDEX(PIs[[Column1]:[Ssbody]],MATCH(Checklist4810[[#This Row],[SSGUID]],PIs[SSGUID],0),19)),INDEX(PIs[[Column1]:[SS]],MATCH(Checklist4810[[#This Row],[SGUID]],PIs[SGUID],0),15))","v":"All overtime hours are voluntary, if not regulated otherwise in the national law or collective bargain agreement."},{"$f":"IF(Checklist4810[[#This Row],[SGUID]]=\"\",IF(Checklist4810[[#This Row],[SSGUID]]=\"\",INDEX(PIs[[Column1]:[SS]],MATCH(Checklist4810[[#This Row],[PIGUID]],PIs[GUID],0),6),\"\"),\"\")","v":"All overtime shall be documented in the records.\nThe term “voluntary” shall require that overtime is not mandatory but an agreement between worker and employer for an exceptional cause. Overtime shall not result in forced labor or potential labor abuses (e.g., no leaving premises of the farm, retention of documents, lack of breaks or limited breaks, etc.).\nFor subcontracted labor, the producer shall check compliance. If non-compliance is found, the producer shall document each instance and include corrective steps taken."},{"$f":"IF(Checklist4810[[#This Row],[SSGUID]]=\"\",IF(Checklist4810[[#This Row],[PIGUID]]=\"\",\"\",INDEX(PIs[[Column1]:[SS]],MATCH(Checklist4810[[#This Row],[PIGUID]],PIs[GUID],0),8)),\"\")","v":"Major Must"},null,null,{"$f":"IF(Checklist4810[[#This Row],[ifna]]=\"NA\",\"\",IF(Checklist4810[[#This Row],[RelatedPQ]]=0,\"\",IF(Checklist4810[[#This Row],[RelatedPQ]]=\"\",\"\",IF((INDEX(S2PQ_relational[],MATCH(Checklist4810[[#This Row],[PIGUID&NO]],S2PQ_relational[PIGUID & \"NO\"],0),1))=Checklist4810[[#This Row],[PIGUID]],\"Not applicable\",\"\"))))","v":""},{"$f":"IF(Checklist4810[[#This Row],[N/A]]=\"Not Applicable\",INDEX(S2PQ[[Step 2  questions]:[Justification]],MATCH(Checklist4810[[#This Row],[RelatedPQ]],S2PQ[S2PQGUID],0),3),\"\")","v":""}]
[{"$nulls":3},{"$f":"IF(Checklist4810[[#This Row],[SGUID]]=\"\",IF(Checklist4810[[#This Row],[SSGUID]]=\"\",0,1),1)","v":0},"54Q9UUuTd5dTSdyekKgQzO",{"$f":"_xlfn.IFNA(Checklist4810[[#This Row],[RelatedPQ]],\"NA\")","v":"NA"},{"$f":"IF(Checklist4810[[#This Row],[PIGUID]]=\"\",\"\",INDEX(S2PQ_relational[],MATCH(Checklist4810[[#This Row],[PIGUID&NO]],S2PQ_relational[PIGUID & \"NO\"],0),2))","v":{"$error":"#N/A"}},{"$f":"Checklist4810[[#This Row],[PIGUID]]&\"NO\"","v":"54Q9UUuTd5dTSdyekKgQzONO"},{"$f":"IF(Checklist4810[[#This Row],[PIGUID]]=\"\",\"\",INDEX(PIs[NA Exempt],MATCH(Checklist4810[[#This Row],[PIGUID]],PIs[GUID],0),1))","v":false},{"$f":"IF(Checklist4810[[#This Row],[SGUID]]=\"\",IF(Checklist4810[[#This Row],[SSGUID]]=\"\",IF(Checklist4810[[#This Row],[PIGUID]]=\"\",\"\",INDEX(PIs[[Column1]:[SS]],MATCH(Checklist4810[[#This Row],[PIGUID]],PIs[GUID],0),2)),INDEX(PIs[[Column1]:[SS]],MATCH(Checklist4810[[#This Row],[SSGUID]],PIs[SSGUID],0),18)),INDEX(PIs[[Column1]:[SS]],MATCH(Checklist4810[[#This Row],[SGUID]],PIs[SGUID],0),14))","v":"12.03"},{"$f":"IF(Checklist4810[[#This Row],[SGUID]]=\"\",IF(Checklist4810[[#This Row],[SSGUID]]=\"\",IF(Checklist4810[[#This Row],[PIGUID]]=\"\",\"\",INDEX(PIs[[Column1]:[SS]],MATCH(Checklist4810[[#This Row],[PIGUID]],PIs[GUID],0),4)),INDEX(PIs[[Column1]:[Ssbody]],MATCH(Checklist4810[[#This Row],[SSGUID]],PIs[SSGUID],0),19)),INDEX(PIs[[Column1]:[SS]],MATCH(Checklist4810[[#This Row],[SGUID]],PIs[SGUID],0),15))","v":"Overtime shall not be requested on regular basis in a production cycle/year and as indicated by law."},{"$f":"IF(Checklist4810[[#This Row],[SGUID]]=\"\",IF(Checklist4810[[#This Row],[SSGUID]]=\"\",INDEX(PIs[[Column1]:[SS]],MATCH(Checklist4810[[#This Row],[PIGUID]],PIs[GUID],0),6),\"\"),\"\")","v":"The term “not on a regular basis” shall require that overtime is exceptional due to special circumstances needed in the farm beyond normal planning. \nIn contrast, work done on a “regular basis” is not due to special circumstances and arises repeatedly: Once a week, once a month, or outside of peak/harvesting season.\nHarvesting/peak seasons are considered special circumstances in a production cycle/year.\nFor subcontracted labor, the producer shall check compliance. If non-compliance is found, the producer shall document each instance and include corrective steps taken."},{"$f":"IF(Checklist4810[[#This Row],[SSGUID]]=\"\",IF(Checklist4810[[#This Row],[PIGUID]]=\"\",\"\",INDEX(PIs[[Column1]:[SS]],MATCH(Checklist4810[[#This Row],[PIGUID]],PIs[GUID],0),8)),\"\")","v":"Major Must"},null,null,{"$f":"IF(Checklist4810[[#This Row],[ifna]]=\"NA\",\"\",IF(Checklist4810[[#This Row],[RelatedPQ]]=0,\"\",IF(Checklist4810[[#This Row],[RelatedPQ]]=\"\",\"\",IF((INDEX(S2PQ_relational[],MATCH(Checklist4810[[#This Row],[PIGUID&NO]],S2PQ_relational[PIGUID & \"NO\"],0),1))=Checklist4810[[#This Row],[PIGUID]],\"Not applicable\",\"\"))))","v":""},{"$f":"IF(Checklist4810[[#This Row],[N/A]]=\"Not Applicable\",INDEX(S2PQ[[Step 2  questions]:[Justification]],MATCH(Checklist4810[[#This Row],[RelatedPQ]],S2PQ[S2PQGUID],0),3),\"\")","v":""}]
[{"$nulls":3},{"$f":"IF(Checklist4810[[#This Row],[SGUID]]=\"\",IF(Checklist4810[[#This Row],[SSGUID]]=\"\",0,1),1)","v":0},"6XNxMXF6QWhjOijgpoalYG",{"$f":"_xlfn.IFNA(Checklist4810[[#This Row],[RelatedPQ]],\"NA\")","v":"NA"},{"$f":"IF(Checklist4810[[#This Row],[PIGUID]]=\"\",\"\",INDEX(S2PQ_relational[],MATCH(Checklist4810[[#This Row],[PIGUID&NO]],S2PQ_relational[PIGUID & \"NO\"],0),2))","v":{"$error":"#N/A"}},{"$f":"Checklist4810[[#This Row],[PIGUID]]&\"NO\"","v":"6XNxMXF6QWhjOijgpoalYGNO"},{"$f":"IF(Checklist4810[[#This Row],[PIGUID]]=\"\",\"\",INDEX(PIs[NA Exempt],MATCH(Checklist4810[[#This Row],[PIGUID]],PIs[GUID],0),1))","v":false},{"$f":"IF(Checklist4810[[#This Row],[SGUID]]=\"\",IF(Checklist4810[[#This Row],[SSGUID]]=\"\",IF(Checklist4810[[#This Row],[PIGUID]]=\"\",\"\",INDEX(PIs[[Column1]:[SS]],MATCH(Checklist4810[[#This Row],[PIGUID]],PIs[GUID],0),2)),INDEX(PIs[[Column1]:[SS]],MATCH(Checklist4810[[#This Row],[SSGUID]],PIs[SSGUID],0),18)),INDEX(PIs[[Column1]:[SS]],MATCH(Checklist4810[[#This Row],[SGUID]],PIs[SGUID],0),14))","v":"12.04"},{"$f":"IF(Checklist4810[[#This Row],[SGUID]]=\"\",IF(Checklist4810[[#This Row],[SSGUID]]=\"\",IF(Checklist4810[[#This Row],[PIGUID]]=\"\",\"\",INDEX(PIs[[Column1]:[SS]],MATCH(Checklist4810[[#This Row],[PIGUID]],PIs[GUID],0),4)),INDEX(PIs[[Column1]:[Ssbody]],MATCH(Checklist4810[[#This Row],[SSGUID]],PIs[SSGUID],0),19)),INDEX(PIs[[Column1]:[SS]],MATCH(Checklist4810[[#This Row],[SGUID]],PIs[SGUID],0),15))","v":"Working time does not exceed 48 hours weekly (excluding overtime) unless indicated by law or collective bargaining agreement. The employer reports the total hours worked, and if they exceed 48 hours, the appropriate safeguards are in place to protect the workers’ health and safety.\n\nIf national legislation and collective bargaining agreements set lower weekly working hours (excluding overtime), these lower limits shall prevail."},{"$f":"IF(Checklist4810[[#This Row],[SGUID]]=\"\",IF(Checklist4810[[#This Row],[SSGUID]]=\"\",INDEX(PIs[[Column1]:[SS]],MATCH(Checklist4810[[#This Row],[PIGUID]],PIs[GUID],0),6),\"\"),\"\")","v":"If national legislation or bargaining agreements include averaging arrangements, this method can be used in calculations. The assessor shall check the calculation methods.\nThe term “indicated by law” shall cover, e.g., the possibility to average hours across a period or compensate hours, new forms of shift work, average number of hours worked, flex-time arrangements, compressed work weeks, on-call work, along with extended or even 24/7 availability. These exceptions give flexibility to the limit of daily hours as well as weekly hours. However, average working hours shall not exceed 48 hours per week within a period of three months or less.\nSafeguards shall be in place to protect the workers’ health and safety, including a strategy to balance hours with breaks and monitoring the health and levels of productivity of the worker.\nSafeguards can include, e.g., providing preventive breaks, monitoring increases in work accidents caused by fatigue, shift systems designed to minimize fatigue accumulation, risk assessment of the nature of work considered so that workload does not increase risk to safety and health. \nFor subcontracted labor, the producer shall check compliance. If non-compliance is found, the producer shall document each instance and include corrective steps taken."},{"$f":"IF(Checklist4810[[#This Row],[SSGUID]]=\"\",IF(Checklist4810[[#This Row],[PIGUID]]=\"\",\"\",INDEX(PIs[[Column1]:[SS]],MATCH(Checklist4810[[#This Row],[PIGUID]],PIs[GUID],0),8)),\"\")","v":"Major Must"},null,null,{"$f":"IF(Checklist4810[[#This Row],[ifna]]=\"NA\",\"\",IF(Checklist4810[[#This Row],[RelatedPQ]]=0,\"\",IF(Checklist4810[[#This Row],[RelatedPQ]]=\"\",\"\",IF((INDEX(S2PQ_relational[],MATCH(Checklist4810[[#This Row],[PIGUID&NO]],S2PQ_relational[PIGUID & \"NO\"],0),1))=Checklist4810[[#This Row],[PIGUID]],\"Not applicable\",\"\"))))","v":""},{"$f":"IF(Checklist4810[[#This Row],[N/A]]=\"Not Applicable\",INDEX(S2PQ[[Step 2  questions]:[Justification]],MATCH(Checklist4810[[#This Row],[RelatedPQ]],S2PQ[S2PQGUID],0),3),\"\")","v":""}]
[{"$nulls":3},{"$f":"IF(Checklist4810[[#This Row],[SGUID]]=\"\",IF(Checklist4810[[#This Row],[SSGUID]]=\"\",0,1),1)","v":0},"hG77himehSgHeDDOlDNBX",{"$f":"_xlfn.IFNA(Checklist4810[[#This Row],[RelatedPQ]],\"NA\")","v":"NA"},{"$f":"IF(Checklist4810[[#This Row],[PIGUID]]=\"\",\"\",INDEX(S2PQ_relational[],MATCH(Checklist4810[[#This Row],[PIGUID&NO]],S2PQ_relational[PIGUID & \"NO\"],0),2))","v":{"$error":"#N/A"}},{"$f":"Checklist4810[[#This Row],[PIGUID]]&\"NO\"","v":"hG77himehSgHeDDOlDNBXNO"},{"$f":"IF(Checklist4810[[#This Row],[PIGUID]]=\"\",\"\",INDEX(PIs[NA Exempt],MATCH(Checklist4810[[#This Row],[PIGUID]],PIs[GUID],0),1))","v":false},{"$f":"IF(Checklist4810[[#This Row],[SGUID]]=\"\",IF(Checklist4810[[#This Row],[SSGUID]]=\"\",IF(Checklist4810[[#This Row],[PIGUID]]=\"\",\"\",INDEX(PIs[[Column1]:[SS]],MATCH(Checklist4810[[#This Row],[PIGUID]],PIs[GUID],0),2)),INDEX(PIs[[Column1]:[SS]],MATCH(Checklist4810[[#This Row],[SSGUID]],PIs[SSGUID],0),18)),INDEX(PIs[[Column1]:[SS]],MATCH(Checklist4810[[#This Row],[SGUID]],PIs[SGUID],0),14))","v":"12.05"},{"$f":"IF(Checklist4810[[#This Row],[SGUID]]=\"\",IF(Checklist4810[[#This Row],[SSGUID]]=\"\",IF(Checklist4810[[#This Row],[PIGUID]]=\"\",\"\",INDEX(PIs[[Column1]:[SS]],MATCH(Checklist4810[[#This Row],[PIGUID]],PIs[GUID],0),4)),INDEX(PIs[[Column1]:[Ssbody]],MATCH(Checklist4810[[#This Row],[SSGUID]],PIs[SSGUID],0),19)),INDEX(PIs[[Column1]:[SS]],MATCH(Checklist4810[[#This Row],[SGUID]],PIs[SGUID],0),15))","v":"Rest breaks/days as shown in the records indicate compliance with national regulations and/or collective bargaining agreements.\nIf not specifically regulated for agriculture by local laws or collective bargaining agreements, the rest/breaks include, at least: \n(a) Short breaks during working hours\n(b) Sufficient breaks for meals\n(c) Daily or nightly rest of not less than 8 hours within a 24-hour period\n(d) Rest of at least a full calendar day within a week"},{"$f":"IF(Checklist4810[[#This Row],[SGUID]]=\"\",IF(Checklist4810[[#This Row],[SSGUID]]=\"\",INDEX(PIs[[Column1]:[SS]],MATCH(Checklist4810[[#This Row],[PIGUID]],PIs[GUID],0),6),\"\"),\"\")","v":"For subcontracted labor, the producer shall check compliance. If non-compliance is found, the producer shall document each instance and include corrective steps taken."},{"$f":"IF(Checklist4810[[#This Row],[SSGUID]]=\"\",IF(Checklist4810[[#This Row],[PIGUID]]=\"\",\"\",INDEX(PIs[[Column1]:[SS]],MATCH(Checklist4810[[#This Row],[PIGUID]],PIs[GUID],0),8)),\"\")","v":"Major Must"},null,null,{"$f":"IF(Checklist4810[[#This Row],[ifna]]=\"NA\",\"\",IF(Checklist4810[[#This Row],[RelatedPQ]]=0,\"\",IF(Checklist4810[[#This Row],[RelatedPQ]]=\"\",\"\",IF((INDEX(S2PQ_relational[],MATCH(Checklist4810[[#This Row],[PIGUID&NO]],S2PQ_relational[PIGUID & \"NO\"],0),1))=Checklist4810[[#This Row],[PIGUID]],\"Not applicable\",\"\"))))","v":""},{"$f":"IF(Checklist4810[[#This Row],[N/A]]=\"Not Applicable\",INDEX(S2PQ[[Step 2  questions]:[Justification]],MATCH(Checklist4810[[#This Row],[RelatedPQ]],S2PQ[S2PQGUID],0),3),\"\")","v":""}]
[{"$nulls":3},{"$f":"IF(Checklist4810[[#This Row],[SGUID]]=\"\",IF(Checklist4810[[#This Row],[SSGUID]]=\"\",0,1),1)","v":0},"5OmbGwMJDvjKYXu5ogpQUl",{"$f":"_xlfn.IFNA(Checklist4810[[#This Row],[RelatedPQ]],\"NA\")","v":"NA"},{"$f":"IF(Checklist4810[[#This Row],[PIGUID]]=\"\",\"\",INDEX(S2PQ_relational[],MATCH(Checklist4810[[#This Row],[PIGUID&NO]],S2PQ_relational[PIGUID & \"NO\"],0),2))","v":{"$error":"#N/A"}},{"$f":"Checklist4810[[#This Row],[PIGUID]]&\"NO\"","v":"5OmbGwMJDvjKYXu5ogpQUlNO"},{"$f":"IF(Checklist4810[[#This Row],[PIGUID]]=\"\",\"\",INDEX(PIs[NA Exempt],MATCH(Checklist4810[[#This Row],[PIGUID]],PIs[GUID],0),1))","v":false},{"$f":"IF(Checklist4810[[#This Row],[SGUID]]=\"\",IF(Checklist4810[[#This Row],[SSGUID]]=\"\",IF(Checklist4810[[#This Row],[PIGUID]]=\"\",\"\",INDEX(PIs[[Column1]:[SS]],MATCH(Checklist4810[[#This Row],[PIGUID]],PIs[GUID],0),2)),INDEX(PIs[[Column1]:[SS]],MATCH(Checklist4810[[#This Row],[SSGUID]],PIs[SSGUID],0),18)),INDEX(PIs[[Column1]:[SS]],MATCH(Checklist4810[[#This Row],[SGUID]],PIs[SGUID],0),14))","v":"12.06"},{"$f":"IF(Checklist4810[[#This Row],[SGUID]]=\"\",IF(Checklist4810[[#This Row],[SSGUID]]=\"\",IF(Checklist4810[[#This Row],[PIGUID]]=\"\",\"\",INDEX(PIs[[Column1]:[SS]],MATCH(Checklist4810[[#This Row],[PIGUID]],PIs[GUID],0),4)),INDEX(PIs[[Column1]:[Ssbody]],MATCH(Checklist4810[[#This Row],[SSGUID]],PIs[SSGUID],0),19)),INDEX(PIs[[Column1]:[SS]],MATCH(Checklist4810[[#This Row],[SGUID]],PIs[SGUID],0),15))","v":"Total weekly working hours (including overtime) as shown in the records indicate compliance with national legislation and collective bargaining agreements.\n\nIf national legislation sets total weekly working hour limits higher than 60 hours (including overtime) in peak season and/or agricultural workers are exempt from overtime limitations, the employer reports the total weekly hours worked and which appropriate safeguards are in place to protect the workers’ health and safety."},{"$f":"IF(Checklist4810[[#This Row],[SGUID]]=\"\",IF(Checklist4810[[#This Row],[SSGUID]]=\"\",INDEX(PIs[[Column1]:[SS]],MATCH(Checklist4810[[#This Row],[PIGUID]],PIs[GUID],0),6),\"\"),\"\")","v":"If national legislation or bargaining agreements include averaging arrangements, this method can be used in calculations. The assessor shall check that the calculation methods are a) clearly defined and b) in line with national legal requirements.\nIf the total number of weekly hours worked (including overtime) exceeds 60 hours, the assessor shall check that conditions set up by law are applicable to this situation and check any industry-related collective bargaining agreement.\nSafeguards shall be in place to protect the workers’ health and safety, including a strategy to balance hours with breaks and monitoring the health and levels of productivity of the worker. Safeguards can include, e.g., providing preventive breaks, monitoring increases in work accidents caused by fatigue, shift systems designed to minimize fatigue accumulation, and/or risk assessment of the nature of work considered so that workload does not increase risk to safety and health.\nFor subcontracted labor, the producer shall check compliance. If non-compliance is found, the producer shall document each instance and include corrective steps taken."},{"$f":"IF(Checklist4810[[#This Row],[SSGUID]]=\"\",IF(Checklist4810[[#This Row],[PIGUID]]=\"\",\"\",INDEX(PIs[[Column1]:[SS]],MATCH(Checklist4810[[#This Row],[PIGUID]],PIs[GUID],0),8)),\"\")","v":"Major Must"},null,null,{"$f":"IF(Checklist4810[[#This Row],[ifna]]=\"NA\",\"\",IF(Checklist4810[[#This Row],[RelatedPQ]]=0,\"\",IF(Checklist4810[[#This Row],[RelatedPQ]]=\"\",\"\",IF((INDEX(S2PQ_relational[],MATCH(Checklist4810[[#This Row],[PIGUID&NO]],S2PQ_relational[PIGUID & \"NO\"],0),1))=Checklist4810[[#This Row],[PIGUID]],\"Not applicable\",\"\"))))","v":""},{"$f":"IF(Checklist4810[[#This Row],[N/A]]=\"Not Applicable\",INDEX(S2PQ[[Step 2  questions]:[Justification]],MATCH(Checklist4810[[#This Row],[RelatedPQ]],S2PQ[S2PQGUID],0),3),\"\")","v":""}]
[{"$nulls":3},{"$f":"IF(Checklist4810[[#This Row],[SGUID]]=\"\",IF(Checklist4810[[#This Row],[SSGUID]]=\"\",0,1),1)","v":0},"6r6UKO6tVO1cFOEq0mi9aq",{"$f":"_xlfn.IFNA(Checklist4810[[#This Row],[RelatedPQ]],\"NA\")","v":"NA"},{"$f":"IF(Checklist4810[[#This Row],[PIGUID]]=\"\",\"\",INDEX(S2PQ_relational[],MATCH(Checklist4810[[#This Row],[PIGUID&NO]],S2PQ_relational[PIGUID & \"NO\"],0),2))","v":{"$error":"#N/A"}},{"$f":"Checklist4810[[#This Row],[PIGUID]]&\"NO\"","v":"6r6UKO6tVO1cFOEq0mi9aqNO"},{"$f":"IF(Checklist4810[[#This Row],[PIGUID]]=\"\",\"\",INDEX(PIs[NA Exempt],MATCH(Checklist4810[[#This Row],[PIGUID]],PIs[GUID],0),1))","v":false},{"$f":"IF(Checklist4810[[#This Row],[SGUID]]=\"\",IF(Checklist4810[[#This Row],[SSGUID]]=\"\",IF(Checklist4810[[#This Row],[PIGUID]]=\"\",\"\",INDEX(PIs[[Column1]:[SS]],MATCH(Checklist4810[[#This Row],[PIGUID]],PIs[GUID],0),2)),INDEX(PIs[[Column1]:[SS]],MATCH(Checklist4810[[#This Row],[SSGUID]],PIs[SSGUID],0),18)),INDEX(PIs[[Column1]:[SS]],MATCH(Checklist4810[[#This Row],[SGUID]],PIs[SGUID],0),14))","v":"12.07"},{"$f":"IF(Checklist4810[[#This Row],[SGUID]]=\"\",IF(Checklist4810[[#This Row],[SSGUID]]=\"\",IF(Checklist4810[[#This Row],[PIGUID]]=\"\",\"\",INDEX(PIs[[Column1]:[SS]],MATCH(Checklist4810[[#This Row],[PIGUID]],PIs[GUID],0),4)),INDEX(PIs[[Column1]:[Ssbody]],MATCH(Checklist4810[[#This Row],[SSGUID]],PIs[SSGUID],0),19)),INDEX(PIs[[Column1]:[SS]],MATCH(Checklist4810[[#This Row],[SGUID]],PIs[SGUID],0),15))","v":"Supervisory staff is instructed about the safeguards in place to protect the workers’ health and safety when working over the regular weekly working time and/or over the peak season weekly working time."},{"$f":"IF(Checklist4810[[#This Row],[SGUID]]=\"\",IF(Checklist4810[[#This Row],[SSGUID]]=\"\",INDEX(PIs[[Column1]:[SS]],MATCH(Checklist4810[[#This Row],[PIGUID]],PIs[GUID],0),6),\"\"),\"\")","v":"The term “supervisory staff” shall refer to any staff member in contact with workers or with supervising duties at the production site (i.e., foreman, manager, crew supervisor, etc.). If the producer does not have such staff, the producer shall have knowledge of the GRASP criteria on this topic and shall have safeguards in place.\nThere shall be a record of the safeguards in place to protect the workers’ health and safety. \nFor subcontracted labor, the producer shall check compliance. If non-compliance is found, the producer shall document each instance and include corrective steps taken."},{"$f":"IF(Checklist4810[[#This Row],[SSGUID]]=\"\",IF(Checklist4810[[#This Row],[PIGUID]]=\"\",\"\",INDEX(PIs[[Column1]:[SS]],MATCH(Checklist4810[[#This Row],[PIGUID]],PIs[GUID],0),8)),\"\")","v":"Minor Must"},null,null,{"$f":"IF(Checklist4810[[#This Row],[ifna]]=\"NA\",\"\",IF(Checklist4810[[#This Row],[RelatedPQ]]=0,\"\",IF(Checklist4810[[#This Row],[RelatedPQ]]=\"\",\"\",IF((INDEX(S2PQ_relational[],MATCH(Checklist4810[[#This Row],[PIGUID&NO]],S2PQ_relational[PIGUID & \"NO\"],0),1))=Checklist4810[[#This Row],[PIGUID]],\"Not applicable\",\"\"))))","v":""},{"$f":"IF(Checklist4810[[#This Row],[N/A]]=\"Not Applicable\",INDEX(S2PQ[[Step 2  questions]:[Justification]],MATCH(Checklist4810[[#This Row],[RelatedPQ]],S2PQ[S2PQGUID],0),3),\"\")","v":""}]
[{"$nulls":3},{"$f":"IF(Checklist4810[[#This Row],[SGUID]]=\"\",IF(Checklist4810[[#This Row],[SSGUID]]=\"\",0,1),1)","v":0},"2LTDXoG3x1dvJEtrFOwold",{"$f":"_xlfn.IFNA(Checklist4810[[#This Row],[RelatedPQ]],\"NA\")","v":"NA"},{"$f":"IF(Checklist4810[[#This Row],[PIGUID]]=\"\",\"\",INDEX(S2PQ_relational[],MATCH(Checklist4810[[#This Row],[PIGUID&NO]],S2PQ_relational[PIGUID & \"NO\"],0),2))","v":{"$error":"#N/A"}},{"$f":"Checklist4810[[#This Row],[PIGUID]]&\"NO\"","v":"2LTDXoG3x1dvJEtrFOwoldNO"},{"$f":"IF(Checklist4810[[#This Row],[PIGUID]]=\"\",\"\",INDEX(PIs[NA Exempt],MATCH(Checklist4810[[#This Row],[PIGUID]],PIs[GUID],0),1))","v":false},{"$f":"IF(Checklist4810[[#This Row],[SGUID]]=\"\",IF(Checklist4810[[#This Row],[SSGUID]]=\"\",IF(Checklist4810[[#This Row],[PIGUID]]=\"\",\"\",INDEX(PIs[[Column1]:[SS]],MATCH(Checklist4810[[#This Row],[PIGUID]],PIs[GUID],0),2)),INDEX(PIs[[Column1]:[SS]],MATCH(Checklist4810[[#This Row],[SSGUID]],PIs[SSGUID],0),18)),INDEX(PIs[[Column1]:[SS]],MATCH(Checklist4810[[#This Row],[SGUID]],PIs[SGUID],0),14))","v":"12.08"},{"$f":"IF(Checklist4810[[#This Row],[SGUID]]=\"\",IF(Checklist4810[[#This Row],[SSGUID]]=\"\",IF(Checklist4810[[#This Row],[PIGUID]]=\"\",\"\",INDEX(PIs[[Column1]:[SS]],MATCH(Checklist4810[[#This Row],[PIGUID]],PIs[GUID],0),4)),INDEX(PIs[[Column1]:[Ssbody]],MATCH(Checklist4810[[#This Row],[SSGUID]],PIs[SSGUID],0),19)),INDEX(PIs[[Column1]:[SS]],MATCH(Checklist4810[[#This Row],[SGUID]],PIs[SGUID],0),15))","v":"Workers are communicated to effectively use the rest breaks/days during peak season."},{"$f":"IF(Checklist4810[[#This Row],[SGUID]]=\"\",IF(Checklist4810[[#This Row],[SSGUID]]=\"\",INDEX(PIs[[Column1]:[SS]],MATCH(Checklist4810[[#This Row],[PIGUID]],PIs[GUID],0),6),\"\"),\"\")","v":"The term “communicate” shall require providing information during the weekly schedule or in the working instructions given during the day.\nFor subcontracted labor, the producer shall check compliance. If non-compliance is found, the producer shall document each instance and include corrective steps taken."},{"$f":"IF(Checklist4810[[#This Row],[SSGUID]]=\"\",IF(Checklist4810[[#This Row],[PIGUID]]=\"\",\"\",INDEX(PIs[[Column1]:[SS]],MATCH(Checklist4810[[#This Row],[PIGUID]],PIs[GUID],0),8)),\"\")","v":"Minor Must"},null,null,{"$f":"IF(Checklist4810[[#This Row],[ifna]]=\"NA\",\"\",IF(Checklist4810[[#This Row],[RelatedPQ]]=0,\"\",IF(Checklist4810[[#This Row],[RelatedPQ]]=\"\",\"\",IF((INDEX(S2PQ_relational[],MATCH(Checklist4810[[#This Row],[PIGUID&NO]],S2PQ_relational[PIGUID & \"NO\"],0),1))=Checklist4810[[#This Row],[PIGUID]],\"Not applicable\",\"\"))))","v":""},{"$f":"IF(Checklist4810[[#This Row],[N/A]]=\"Not Applicable\",INDEX(S2PQ[[Step 2  questions]:[Justification]],MATCH(Checklist4810[[#This Row],[RelatedPQ]],S2PQ[S2PQGUID],0),3),\"\")","v":""}]
[null,"5QcqRKjyugITtX9F5mWxJx",null,{"$f":"IF(Checklist4810[[#This Row],[SGUID]]=\"\",IF(Checklist4810[[#This Row],[SSGUID]]=\"\",0,1),1)","v":1},null,{"$f":"_xlfn.IFNA(Checklist4810[[#This Row],[RelatedPQ]],\"NA\")","v":""},{"$f":"IF(Checklist4810[[#This Row],[PIGUID]]=\"\",\"\",INDEX(S2PQ_relational[],MATCH(Checklist4810[[#This Row],[PIGUID&NO]],S2PQ_relational[PIGUID & \"NO\"],0),2))","v":""},{"$f":"Checklist4810[[#This Row],[PIGUID]]&\"NO\"","v":"NO"},{"$f":"IF(Checklist4810[[#This Row],[PIGUID]]=\"\",\"\",INDEX(PIs[NA Exempt],MATCH(Checklist4810[[#This Row],[PIGUID]],PIs[GUID],0),1))","v":""},{"$f":"IF(Checklist4810[[#This Row],[SGUID]]=\"\",IF(Checklist4810[[#This Row],[SSGUID]]=\"\",IF(Checklist4810[[#This Row],[PIGUID]]=\"\",\"\",INDEX(PIs[[Column1]:[SS]],MATCH(Checklist4810[[#This Row],[PIGUID]],PIs[GUID],0),2)),INDEX(PIs[[Column1]:[SS]],MATCH(Checklist4810[[#This Row],[SSGUID]],PIs[SSGUID],0),18)),INDEX(PIs[[Column1]:[SS]],MATCH(Checklist4810[[#This Row],[SGUID]],PIs[SGUID],0),14))","v":"DISCIPLINARY PROCEDURES"},{"$f":"IF(Checklist4810[[#This Row],[SGUID]]=\"\",IF(Checklist4810[[#This Row],[SSGUID]]=\"\",IF(Checklist4810[[#This Row],[PIGUID]]=\"\",\"\",INDEX(PIs[[Column1]:[SS]],MATCH(Checklist4810[[#This Row],[PIGUID]],PIs[GUID],0),4)),INDEX(PIs[[Column1]:[Ssbody]],MATCH(Checklist4810[[#This Row],[SSGUID]],PIs[SSGUID],0),19)),INDEX(PIs[[Column1]:[SS]],MATCH(Checklist4810[[#This Row],[SGUID]],PIs[SGUID],0),15))","v":"-"},{"$f":"IF(Checklist4810[[#This Row],[SGUID]]=\"\",IF(Checklist4810[[#This Row],[SSGUID]]=\"\",INDEX(PIs[[Column1]:[SS]],MATCH(Checklist4810[[#This Row],[PIGUID]],PIs[GUID],0),6),\"\"),\"\")","v":""},{"$f":"IF(Checklist4810[[#This Row],[SSGUID]]=\"\",IF(Checklist4810[[#This Row],[PIGUID]]=\"\",\"\",INDEX(PIs[[Column1]:[SS]],MATCH(Checklist4810[[#This Row],[PIGUID]],PIs[GUID],0),8)),\"\")","v":""},null,null,{"$f":"IF(Checklist4810[[#This Row],[ifna]]=\"NA\",\"\",IF(Checklist4810[[#This Row],[RelatedPQ]]=0,\"\",IF(Checklist4810[[#This Row],[RelatedPQ]]=\"\",\"\",IF((INDEX(S2PQ_relational[],MATCH(Checklist4810[[#This Row],[PIGUID&NO]],S2PQ_relational[PIGUID & \"NO\"],0),1))=Checklist4810[[#This Row],[PIGUID]],\"Not applicable\",\"\"))))","v":""},{"$f":"IF(Checklist4810[[#This Row],[N/A]]=\"Not Applicable\",INDEX(S2PQ[[Step 2  questions]:[Justification]],MATCH(Checklist4810[[#This Row],[RelatedPQ]],S2PQ[S2PQGUID],0),3),\"\")","v":""}]
[null,null,"5TvyR0UgB0EOmnMkFaZftX",{"$f":"IF(Checklist4810[[#This Row],[SGUID]]=\"\",IF(Checklist4810[[#This Row],[SSGUID]]=\"\",0,1),1)","v":1},null,{"$f":"_xlfn.IFNA(Checklist4810[[#This Row],[RelatedPQ]],\"NA\")","v":""},{"$f":"IF(Checklist4810[[#This Row],[PIGUID]]=\"\",\"\",INDEX(S2PQ_relational[],MATCH(Checklist4810[[#This Row],[PIGUID&NO]],S2PQ_relational[PIGUID & \"NO\"],0),2))","v":""},{"$f":"Checklist4810[[#This Row],[PIGUID]]&\"NO\"","v":"NO"},{"$f":"IF(Checklist4810[[#This Row],[PIGUID]]=\"\",\"\",INDEX(PIs[NA Exempt],MATCH(Checklist4810[[#This Row],[PIGUID]],PIs[GUID],0),1))","v":""},{"$f":"IF(Checklist4810[[#This Row],[SGUID]]=\"\",IF(Checklist4810[[#This Row],[SSGUID]]=\"\",IF(Checklist4810[[#This Row],[PIGUID]]=\"\",\"\",INDEX(PIs[[Column1]:[SS]],MATCH(Checklist4810[[#This Row],[PIGUID]],PIs[GUID],0),2)),INDEX(PIs[[Column1]:[SS]],MATCH(Checklist4810[[#This Row],[SSGUID]],PIs[SSGUID],0),18)),INDEX(PIs[[Column1]:[SS]],MATCH(Checklist4810[[#This Row],[SGUID]],PIs[SGUID],0),14))","v":"-"},{"$f":"IF(Checklist4810[[#This Row],[SGUID]]=\"\",IF(Checklist4810[[#This Row],[SSGUID]]=\"\",IF(Checklist4810[[#This Row],[PIGUID]]=\"\",\"\",INDEX(PIs[[Column1]:[SS]],MATCH(Checklist4810[[#This Row],[PIGUID]],PIs[GUID],0),4)),INDEX(PIs[[Column1]:[Ssbody]],MATCH(Checklist4810[[#This Row],[SSGUID]],PIs[SSGUID],0),19)),INDEX(PIs[[Column1]:[SS]],MATCH(Checklist4810[[#This Row],[SGUID]],PIs[SGUID],0),15))","v":"-"},{"$f":"IF(Checklist4810[[#This Row],[SGUID]]=\"\",IF(Checklist4810[[#This Row],[SSGUID]]=\"\",INDEX(PIs[[Column1]:[SS]],MATCH(Checklist4810[[#This Row],[PIGUID]],PIs[GUID],0),6),\"\"),\"\")","v":""},{"$f":"IF(Checklist4810[[#This Row],[SSGUID]]=\"\",IF(Checklist4810[[#This Row],[PIGUID]]=\"\",\"\",INDEX(PIs[[Column1]:[SS]],MATCH(Checklist4810[[#This Row],[PIGUID]],PIs[GUID],0),8)),\"\")","v":""},null,null,{"$f":"IF(Checklist4810[[#This Row],[ifna]]=\"NA\",\"\",IF(Checklist4810[[#This Row],[RelatedPQ]]=0,\"\",IF(Checklist4810[[#This Row],[RelatedPQ]]=\"\",\"\",IF((INDEX(S2PQ_relational[],MATCH(Checklist4810[[#This Row],[PIGUID&NO]],S2PQ_relational[PIGUID & \"NO\"],0),1))=Checklist4810[[#This Row],[PIGUID]],\"Not applicable\",\"\"))))","v":""},{"$f":"IF(Checklist4810[[#This Row],[N/A]]=\"Not Applicable\",INDEX(S2PQ[[Step 2  questions]:[Justification]],MATCH(Checklist4810[[#This Row],[RelatedPQ]],S2PQ[S2PQGUID],0),3),\"\")","v":""}]
[{"$nulls":3},{"$f":"IF(Checklist4810[[#This Row],[SGUID]]=\"\",IF(Checklist4810[[#This Row],[SSGUID]]=\"\",0,1),1)","v":0},"1QeEsrc8UuyqWR1lPTaf0U",{"$f":"_xlfn.IFNA(Checklist4810[[#This Row],[RelatedPQ]],\"NA\")","v":"NA"},{"$f":"IF(Checklist4810[[#This Row],[PIGUID]]=\"\",\"\",INDEX(S2PQ_relational[],MATCH(Checklist4810[[#This Row],[PIGUID&NO]],S2PQ_relational[PIGUID & \"NO\"],0),2))","v":{"$error":"#N/A"}},{"$f":"Checklist4810[[#This Row],[PIGUID]]&\"NO\"","v":"1QeEsrc8UuyqWR1lPTaf0UNO"},{"$f":"IF(Checklist4810[[#This Row],[PIGUID]]=\"\",\"\",INDEX(PIs[NA Exempt],MATCH(Checklist4810[[#This Row],[PIGUID]],PIs[GUID],0),1))","v":false},{"$f":"IF(Checklist4810[[#This Row],[SGUID]]=\"\",IF(Checklist4810[[#This Row],[SSGUID]]=\"\",IF(Checklist4810[[#This Row],[PIGUID]]=\"\",\"\",INDEX(PIs[[Column1]:[SS]],MATCH(Checklist4810[[#This Row],[PIGUID]],PIs[GUID],0),2)),INDEX(PIs[[Column1]:[SS]],MATCH(Checklist4810[[#This Row],[SSGUID]],PIs[SSGUID],0),18)),INDEX(PIs[[Column1]:[SS]],MATCH(Checklist4810[[#This Row],[SGUID]],PIs[SGUID],0),14))","v":"13.01"},{"$f":"IF(Checklist4810[[#This Row],[SGUID]]=\"\",IF(Checklist4810[[#This Row],[SSGUID]]=\"\",IF(Checklist4810[[#This Row],[PIGUID]]=\"\",\"\",INDEX(PIs[[Column1]:[SS]],MATCH(Checklist4810[[#This Row],[PIGUID]],PIs[GUID],0),4)),INDEX(PIs[[Column1]:[Ssbody]],MATCH(Checklist4810[[#This Row],[SSGUID]],PIs[SSGUID],0),19)),INDEX(PIs[[Column1]:[SS]],MATCH(Checklist4810[[#This Row],[SGUID]],PIs[SGUID],0),15))","v":"A written disciplinary procedure is available."},{"$f":"IF(Checklist4810[[#This Row],[SGUID]]=\"\",IF(Checklist4810[[#This Row],[SSGUID]]=\"\",INDEX(PIs[[Column1]:[SS]],MATCH(Checklist4810[[#This Row],[PIGUID]],PIs[GUID],0),6),\"\"),\"\")","v":"The process shall be simple and available to all workers hired, including subcontracted labor.\nThe written disciplinary procedure shall at least include and explain these steps:\n1. Hearing\n2. Decision\n3. Appeal or revision \n4. Final decision (corrective measures)\nThe process shall be available in the predominant language(s) of the workforce and/or pictograms."},{"$f":"IF(Checklist4810[[#This Row],[SSGUID]]=\"\",IF(Checklist4810[[#This Row],[PIGUID]]=\"\",\"\",INDEX(PIs[[Column1]:[SS]],MATCH(Checklist4810[[#This Row],[PIGUID]],PIs[GUID],0),8)),\"\")","v":"Major Must"},null,null,{"$f":"IF(Checklist4810[[#This Row],[ifna]]=\"NA\",\"\",IF(Checklist4810[[#This Row],[RelatedPQ]]=0,\"\",IF(Checklist4810[[#This Row],[RelatedPQ]]=\"\",\"\",IF((INDEX(S2PQ_relational[],MATCH(Checklist4810[[#This Row],[PIGUID&NO]],S2PQ_relational[PIGUID & \"NO\"],0),1))=Checklist4810[[#This Row],[PIGUID]],\"Not applicable\",\"\"))))","v":""},{"$f":"IF(Checklist4810[[#This Row],[N/A]]=\"Not Applicable\",INDEX(S2PQ[[Step 2  questions]:[Justification]],MATCH(Checklist4810[[#This Row],[RelatedPQ]],S2PQ[S2PQGUID],0),3),\"\")","v":""}]
[{"$nulls":3},{"$f":"IF(Checklist4810[[#This Row],[SGUID]]=\"\",IF(Checklist4810[[#This Row],[SSGUID]]=\"\",0,1),1)","v":0},"4KnqFWr7YBL2OuIMD72y2c",{"$f":"_xlfn.IFNA(Checklist4810[[#This Row],[RelatedPQ]],\"NA\")","v":"NA"},{"$f":"IF(Checklist4810[[#This Row],[PIGUID]]=\"\",\"\",INDEX(S2PQ_relational[],MATCH(Checklist4810[[#This Row],[PIGUID&NO]],S2PQ_relational[PIGUID & \"NO\"],0),2))","v":{"$error":"#N/A"}},{"$f":"Checklist4810[[#This Row],[PIGUID]]&\"NO\"","v":"4KnqFWr7YBL2OuIMD72y2cNO"},{"$f":"IF(Checklist4810[[#This Row],[PIGUID]]=\"\",\"\",INDEX(PIs[NA Exempt],MATCH(Checklist4810[[#This Row],[PIGUID]],PIs[GUID],0),1))","v":false},{"$f":"IF(Checklist4810[[#This Row],[SGUID]]=\"\",IF(Checklist4810[[#This Row],[SSGUID]]=\"\",IF(Checklist4810[[#This Row],[PIGUID]]=\"\",\"\",INDEX(PIs[[Column1]:[SS]],MATCH(Checklist4810[[#This Row],[PIGUID]],PIs[GUID],0),2)),INDEX(PIs[[Column1]:[SS]],MATCH(Checklist4810[[#This Row],[SSGUID]],PIs[SSGUID],0),18)),INDEX(PIs[[Column1]:[SS]],MATCH(Checklist4810[[#This Row],[SGUID]],PIs[SGUID],0),14))","v":"13.02"},{"$f":"IF(Checklist4810[[#This Row],[SGUID]]=\"\",IF(Checklist4810[[#This Row],[SSGUID]]=\"\",IF(Checklist4810[[#This Row],[PIGUID]]=\"\",\"\",INDEX(PIs[[Column1]:[SS]],MATCH(Checklist4810[[#This Row],[PIGUID]],PIs[GUID],0),4)),INDEX(PIs[[Column1]:[Ssbody]],MATCH(Checklist4810[[#This Row],[SSGUID]],PIs[SSGUID],0),19)),INDEX(PIs[[Column1]:[SS]],MATCH(Checklist4810[[#This Row],[SGUID]],PIs[SGUID],0),15))","v":"Workers are informed about the terms of the disciplinary procedure, including that any deduction from wages as a disciplinary measure is prohibited."},{"$f":"IF(Checklist4810[[#This Row],[SGUID]]=\"\",IF(Checklist4810[[#This Row],[SSGUID]]=\"\",INDEX(PIs[[Column1]:[SS]],MATCH(Checklist4810[[#This Row],[PIGUID]],PIs[GUID],0),6),\"\"),\"\")","v":"The assessor shall check that all workers are informed of the procedures. Special attention shall be paid to workers with very short-term contracts. \nCompliance with this P&C shall require that:\n1. The procedure is explained to workers.\n2. The written procedure is available to workers.\nSubcontracted agricultural labor shall be instructed on these procedures in the scope of their work at the production site and the requirements to perform activities at the production site of the producer. \nInformation on the procedures shall be available in the predominant language(s) of the workforce and/or pictograms (especially for workers who cannot read), e.g., farm sign boards, handouts given directly to workers/subcontractors (evidence of accessibility of handouts shall be presented)."},{"$f":"IF(Checklist4810[[#This Row],[SSGUID]]=\"\",IF(Checklist4810[[#This Row],[PIGUID]]=\"\",\"\",INDEX(PIs[[Column1]:[SS]],MATCH(Checklist4810[[#This Row],[PIGUID]],PIs[GUID],0),8)),\"\")","v":"Minor Must"},null,null,{"$f":"IF(Checklist4810[[#This Row],[ifna]]=\"NA\",\"\",IF(Checklist4810[[#This Row],[RelatedPQ]]=0,\"\",IF(Checklist4810[[#This Row],[RelatedPQ]]=\"\",\"\",IF((INDEX(S2PQ_relational[],MATCH(Checklist4810[[#This Row],[PIGUID&NO]],S2PQ_relational[PIGUID & \"NO\"],0),1))=Checklist4810[[#This Row],[PIGUID]],\"Not applicable\",\"\"))))","v":""},{"$f":"IF(Checklist4810[[#This Row],[N/A]]=\"Not Applicable\",INDEX(S2PQ[[Step 2  questions]:[Justification]],MATCH(Checklist4810[[#This Row],[RelatedPQ]],S2PQ[S2PQGUID],0),3),\"\")","v":""}]
[{"$nulls":3},{"$f":"IF(Checklist4810[[#This Row],[SGUID]]=\"\",IF(Checklist4810[[#This Row],[SSGUID]]=\"\",0,1),1)","v":0},"6jbxivO9VjbvgCgxcNnDK5",{"$f":"_xlfn.IFNA(Checklist4810[[#This Row],[RelatedPQ]],\"NA\")","v":"NA"},{"$f":"IF(Checklist4810[[#This Row],[PIGUID]]=\"\",\"\",INDEX(S2PQ_relational[],MATCH(Checklist4810[[#This Row],[PIGUID&NO]],S2PQ_relational[PIGUID & \"NO\"],0),2))","v":{"$error":"#N/A"}},{"$f":"Checklist4810[[#This Row],[PIGUID]]&\"NO\"","v":"6jbxivO9VjbvgCgxcNnDK5NO"},{"$f":"IF(Checklist4810[[#This Row],[PIGUID]]=\"\",\"\",INDEX(PIs[NA Exempt],MATCH(Checklist4810[[#This Row],[PIGUID]],PIs[GUID],0),1))","v":false},{"$f":"IF(Checklist4810[[#This Row],[SGUID]]=\"\",IF(Checklist4810[[#This Row],[SSGUID]]=\"\",IF(Checklist4810[[#This Row],[PIGUID]]=\"\",\"\",INDEX(PIs[[Column1]:[SS]],MATCH(Checklist4810[[#This Row],[PIGUID]],PIs[GUID],0),2)),INDEX(PIs[[Column1]:[SS]],MATCH(Checklist4810[[#This Row],[SSGUID]],PIs[SSGUID],0),18)),INDEX(PIs[[Column1]:[SS]],MATCH(Checklist4810[[#This Row],[SGUID]],PIs[SGUID],0),14))","v":"13.03"},{"$f":"IF(Checklist4810[[#This Row],[SGUID]]=\"\",IF(Checklist4810[[#This Row],[SSGUID]]=\"\",IF(Checklist4810[[#This Row],[PIGUID]]=\"\",\"\",INDEX(PIs[[Column1]:[SS]],MATCH(Checklist4810[[#This Row],[PIGUID]],PIs[GUID],0),4)),INDEX(PIs[[Column1]:[Ssbody]],MATCH(Checklist4810[[#This Row],[SSGUID]],PIs[SSGUID],0),19)),INDEX(PIs[[Column1]:[SS]],MATCH(Checklist4810[[#This Row],[SGUID]],PIs[SGUID],0),15))","v":"Records are kept of any disciplinary actions taken during the last 24 months."},{"$f":"IF(Checklist4810[[#This Row],[SGUID]]=\"\",IF(Checklist4810[[#This Row],[SSGUID]]=\"\",INDEX(PIs[[Column1]:[SS]],MATCH(Checklist4810[[#This Row],[PIGUID]],PIs[GUID],0),6),\"\"),\"\")","v":"Records shall include information on the name of the worker, disciplinary situation and resolution, and start and end date of procedure. \n"},{"$f":"IF(Checklist4810[[#This Row],[SSGUID]]=\"\",IF(Checklist4810[[#This Row],[PIGUID]]=\"\",\"\",INDEX(PIs[[Column1]:[SS]],MATCH(Checklist4810[[#This Row],[PIGUID]],PIs[GUID],0),8)),\"\")","v":"Minor Must"},null,null,{"$f":"IF(Checklist4810[[#This Row],[ifna]]=\"NA\",\"\",IF(Checklist4810[[#This Row],[RelatedPQ]]=0,\"\",IF(Checklist4810[[#This Row],[RelatedPQ]]=\"\",\"\",IF((INDEX(S2PQ_relational[],MATCH(Checklist4810[[#This Row],[PIGUID&NO]],S2PQ_relational[PIGUID & \"NO\"],0),1))=Checklist4810[[#This Row],[PIGUID]],\"Not applicable\",\"\"))))","v":""},{"$f":"IF(Checklist4810[[#This Row],[N/A]]=\"Not Applicable\",INDEX(S2PQ[[Step 2  questions]:[Justification]],MATCH(Checklist4810[[#This Row],[RelatedPQ]],S2PQ[S2PQGUID],0),3),\"\")","v":""}]